{"text_format":"1","workbook":"xlsx","n_sheets":10,"sheets":["New Gantt","Gantt","Everest Example","Tools","Dashboard","TranslationTable","HideValues","2007","Start","Introduction"],"not_rendered":{"charts":4,"images":45,"macros":1,"external_links":0,"defined_names":480,"comments":1,"pivot_tables":2},"unopened":[],"bounds":{"document_bytes":16777216,"sheet_cells":100000,"rows_first":2000,"rows_last":500,"rows_between":2000,"halvings":0,"cell_chars":16384,"cell_head_chars":4096},"cells_cut":0,"cells_raw":0,"read":"whole","date_system":"1900"}

{"sheet":"New Gantt","index":0,"n_rows":45,"n_cols":559,"rows_kept":45,"cut":false,"hidden":true,"merged":[[6,41,6,46],[6,47,6,50],[6,52,6,57],[6,58,6,61],[6,62,6,64],[6,65,6,66],[6,86,6,89],[6,91,6,94],[6,95,6,98],[6,100,6,105],[6,106,6,109],[6,110,6,112],[6,67,6,69],[6,70,6,71],[6,72,6,74],[6,75,6,76],[6,77,6,78],[6,80,6,85],[6,128,6,133],[6,134,6,137],[6,138,6,139],[6,140,6,141],[6,142,6,143],[6,145,6,150],[6,113,6,114],[6,115,6,117],[6,118,6,119],[6,120,6,122],[6,123,6,124],[6,125,6,126],[6,171,6,173],[6,175,6,177],[6,179,6,184],[6,188,6,192],[6,194,6,195],[6,197,6,201],[6,151,6,154],[6,155,6,156],[6,157,6,158],[6,159,6,160],[6,162,6,167],[6,168,6,170],[6,301,6,306],[6,310,6,313],[6,317,6,320],[6,324,6,327],[6,331,6,334],[6,337,6,342],[6,205,6,207],[6,211,6,213],[6,216,6,218],[6,219,6,221],[6,229,6,233],[6,282,6,289],[6,401,6,404],[6,420,6,430],[6,431,6,433],[6,438,6,441],[6,475,6,478],[6,350,6,355],[6,359,6,364],[6,368,6,373],[6,377,6,382],[6,386,6,389],[6,393,6,396],[9,41,12,41],[9,42,12,42],[9,43,12,43],[9,44,12,44],[9,45,12,45],[9,46,12,46],[9,35,12,35],[9,36,12,36],[9,37,12,37],[9,38,12,38],[9,39,12,39],[9,40,12,40],[9,53,12,53],[9,54,12,54],[9,55,12,55],[9,56,12,56],[9,57,12,57],[9,58,12,58],[9,47,12,47],[9,48,12,48],[9,49,12,49],[9,50,12,50],[9,51,12,51],[9,52,12,52],[9,65,12,65],[9,66,12,66],[9,67,12,67],[9,68,12,68],[9,69,12,69],[9,70,12,70],[9,59,12,59],[9,60,12,60],[9,61,12,61],[9,62,12,62],[9,63,12,63],[9,64,12,64],[9,77,12,77],[9,78,12,78],[9,79,12,79],[9,80,12,80],[9,81,12,81],[9,82,12,82],[9,71,12,71],[9,72,12,72],[9,73,12,73],[9,74,12,74],[9,75,12,75],[9,76,12,76],[9,89,12,89],[9,90,12,90],[9,91,12,91],[9,92,12,92],[9,93,12,93],[9,94,12,94],[9,83,12,83],[9,84,12,84],[9,85,12,85],[9,86,12,86],[9,87,12,87],[9,88,12,88],[9,101,12,101],[9,102,12,102],[9,103,12,103],[9,104,12,104],[9,105,12,105],[9,106,12,106],[9,95,12,95],[9,96,12,96],[9,97,12,97],[9,98,12,98],[9,99,12,99],[9,100,12,100],[9,113,12,113],[9,114,12,114],[9,115,12,115],[9,116,12,116],[9,117,12,117],[9,118,12,118],[9,107,12,107],[9,108,12,108],[9,109,12,109],[9,110,12,110],[9,111,12,111],[9,112,12,112],[9,125,12,125],[9,126,12,126],[9,127,12,127],[9,128,12,128],[9,129,12,129],[9,130,12,130],[9,119,12,119],[9,120,12,120],[9,121,12,121],[9,122,12,122],[9,123,12,123],[9,124,12,124],[9,137,12,137],[9,138,12,138],[9,139,12,139],[9,140,12,140],[9,141,12,141],[9,142,12,142],[9,131,12,131],[9,132,12,132],[9,133,12,133],[9,134,12,134],[9,135,12,135],[9,136,12,136],[9,149,12,149],[9,150,12,150],[9,151,12,151],[9,152,12,152],[9,153,12,153],[9,154,12,154],[9,143,12,143],[9,144,12,144],[9,145,12,145],[9,146,12,146],[9,147,12,147],[9,148,12,148],[9,161,12,161],[9,162,12,162],[9,163,12,163],[9,164,12,164],[9,165,12,165],[9,166,12,166],[9,155,12,155],[9,156,12,156],[9,157,12,157],[9,158,12,158],[9,159,12,159],[9,160,12,160],[9,173,12,173],[9,174,12,174],[9,175,12,175],[9,176,12,176],[9,177,12,177],[9,178,12,178],[9,167,12,167],[9,168,12,168],[9,169,12,169],[9,170,12,170],[9,171,12,171],[9,172,12,172],[9,185,12,185],[9,186,12,186],[9,187,12,187],[9,188,12,188],[9,189,12,189],[9,190,12,190],[9,179,12,179],[9,180,12,180],[9,181,12,181],[9,182,12,182],[9,183,12,183],[9,184,12,184],[9,197,12,197],[9,198,12,198],[9,199,12,199],[9,200,12,200],[9,201,12,201],[9,202,12,202],[9,191,12,191],[9,192,12,192],[9,193,12,193],[9,194,12,194],[9,195,12,195],[9,196,12,196],[9,209,12,209],[9,210,12,210],[9,211,12,211],[9,212,12,212],[9,213,12,213],[9,214,12,214],[9,203,12,203],[9,204,12,204],[9,205,12,205],[9,206,12,206],[9,207,12,207],[9,208,12,208],[9,221,12,221],[9,222,12,222],[9,223,12,223],[9,224,12,224],[9,225,12,225],[9,226,12,226],[9,215,12,215],[9,216,12,216],[9,217,12,217],[9,218,12,218],[9,219,12,219],[9,220,12,220],[9,233,12,233],[9,234,12,234],[9,235,12,235],[9,236,12,236],[9,237,12,237],[9,238,12,238],[9,227,12,227],[9,228,12,228],[9,229,12,229],[9,230,12,230],[9,231,12,231],[9,232,12,232],[9,245,12,245],[9,246,12,246],[9,247,12,247],[9,248,12,248],[9,249,12,249],[9,250,12,250],[9,239,12,239],[9,240,12,240],[9,241,12,241],[9,242,12,242],[9,243,12,243],[9,244,12,244],[9,257,12,257],[9,258,12,258],[9,259,12,259],[9,260,12,260],[9,261,12,261],[9,262,12,262],[9,251,12,251],[9,252,12,252],[9,253,12,253],[9,254,12,254],[9,255,12,255],[9,256,12,256],[9,269,12,269],[9,270,12,270],[9,271,12,271],[9,272,12,272],[9,273,12,273],[9,274,12,274],[9,263,12,263],[9,264,12,264],[9,265,12,265],[9,266,12,266],[9,267,12,267],[9,268,12,268],[9,281,12,281],[9,282,12,282],[9,283,12,283],[9,284,12,284],[9,285,12,285],[9,286,12,286],[9,275,12,275],[9,276,12,276],[9,277,12,277],[9,278,12,278],[9,279,12,279],[9,280,12,280],[9,293,12,293],[9,294,12,294],[9,295,12,295],[9,296,12,296],[9,297,12,297],[9,298,12,298],[9,287,12,287],[9,288,12,288],[9,289,12,289],[9,290,12,290],[9,291,12,291],[9,292,12,292],[9,305,12,305],[9,306,12,306],[9,307,12,307],[9,308,12,308],[9,309,12,309],[9,310,12,310],[9,299,12,299],[9,300,12,300],[9,301,12,301],[9,302,12,302],[9,303,12,303],[9,304,12,304],[9,317,12,317],[9,318,12,318],[9,319,12,319],[9,320,12,320],[9,321,12,321],[9,322,12,322],[9,311,12,311],[9,312,12,312],[9,313,12,313],[9,314,12,314],[9,315,12,315],[9,316,12,316],[9,329,12,329],[9,330,12,330],[9,331,12,331],[9,332,12,332],[9,333,12,333],[9,334,12,334],[9,323,12,323],[9,324,12,324],[9,325,12,325],[9,326,12,326],[9,327,12,327],[9,328,12,328],[9,341,12,341],[9,342,12,342],[9,343,12,343],[9,344,12,344],[9,345,12,345],[9,346,12,346],[9,335,12,335],[9,336,12,336],[9,337,12,337],[9,338,12,338],[9,339,12,339],[9,340,12,340],[9,353,12,353],[9,354,12,354],[9,355,12,355],[9,356,12,356],[9,357,12,357],[9,358,12,358],[9,347,12,347],[9,348,12,348],[9,349,12,349],[9,350,12,350],[9,351,12,351],[9,352,12,352],[9,365,12,365],[9,366,12,366],[9,367,12,367],[9,368,12,368],[9,369,12,369],[9,370,12,370],[9,359,12,359],[9,360,12,360],[9,361,12,361],[9,362,12,362],[9,363,12,363],[9,364,12,364],[9,377,12,377],[9,378,12,378],[9,379,12,379],[9,380,12,380],[9,381,12,381],[9,382,12,382],[9,371,12,371],[9,372,12,372],[9,373,12,373],[9,374,12,374],[9,375,12,375],[9,376,12,376],[9,389,12,389],[9,390,12,390],[9,391,12,391],[9,392,12,392],[9,393,12,393],[9,394,12,394],[9,383,12,383],[9,384,12,384],[9,385,12,385],[9,386,12,386],[9,387,12,387],[9,388,12,388],[9,401,12,401],[9,402,12,402],[9,403,12,403],[9,404,12,404],[9,405,12,405],[9,406,12,406],[9,395,12,395],[9,396,12,396],[9,397,12,397],[9,398,12,398],[9,399,12,399],[9,400,12,400],[9,413,12,413],[9,414,12,414],[9,415,12,415],[9,416,12,416],[9,417,12,417],[9,418,12,418],[9,407,12,407],[9,408,12,408],[9,409,12,409],[9,410,12,410],[9,411,12,411],[9,412,12,412],[9,425,12,425],[9,426,12,426],[9,427,12,427],[9,428,12,428],[9,429,12,429],[9,430,12,430],[9,419,12,419],[9,420,12,420],[9,421,12,421],[9,422,12,422],[9,423,12,423],[9,424,12,424],[9,437,12,437],[9,438,12,438],[9,439,12,439],[9,440,12,440],[9,441,12,441],[9,442,12,442],[9,431,12,431],[9,432,12,432],[9,433,12,433],[9,434,12,434],[9,435,12,435],[9,436,12,436],[9,449,12,449],[9,450,12,450],[9,451,12,451],[9,452,12,452],[9,453,12,453],[9,454,12,454],[9,443,12,443],[9,444,12,444],[9,445,12,445],[9,446,12,446],[9,447,12,447],[9,448,12,448],[9,461,12,461],[9,462,12,462],[9,463,12,463],[9,464,12,464],[9,465,12,465],[9,466,12,466],[9,455,12,455],[9,456,12,456],[9,457,12,457],[9,458,12,458],[9,459,12,459],[9,460,12,460],[9,473,12,473],[9,474,12,474],[9,475,12,475],[9,476,12,476],[9,477,12,477],[9,478,12,478],[9,467,12,467],[9,468,12,468],[9,469,12,469],[9,470,12,470],[9,471,12,471],[9,472,12,472],[9,485,12,485],[9,486,12,486],[9,487,12,487],[9,488,12,488],[9,489,12,489],[9,490,12,490],[9,479,12,479],[9,480,12,480],[9,481,12,481],[9,482,12,482],[9,483,12,483],[9,484,12,484],[9,497,12,497],[9,498,12,498],[9,499,12,499],[9,500,12,500],[9,501,12,501],[9,502,12,502],[9,491,12,491],[9,492,12,492],[9,493,12,493],[9,494,12,494],[9,495,12,495],[9,496,12,496],[9,509,12,509],[9,510,12,510],[9,511,12,511],[9,512,12,512],[9,513,12,513],[9,514,12,514],[9,503,12,503],[9,504,12,504],[9,505,12,505],[9,506,12,506],[9,507,12,507],[9,508,12,508],[9,521,12,521],[9,522,12,522],[9,523,12,523],[9,524,12,524],[9,525,12,525],[9,526,12,526],[9,515,12,515],[9,516,12,516],[9,517,12,517],[9,518,12,518],[9,519,12,519],[9,520,12,520],[9,533,12,533],[9,534,12,534],[9,535,12,535],[9,536,12,536],[9,537,12,537],[9,538,12,538],[9,527,12,527],[9,528,12,528],[9,529,12,529],[9,530,12,530],[9,531,12,531],[9,532,12,532],[9,547,12,547],[9,548,12,548],[9,549,12,549],[9,550,12,550],[9,539,12,539],[9,540,12,540],[9,541,12,541],[9,542,12,542],[9,543,12,543],[9,544,12,544],[14,77,14,83],[14,84,14,90],[14,91,14,97],[14,98,14,104],[14,105,14,111],[14,112,14,118],[9,557,12,557],[9,558,12,558],[13,32,13,33],[14,32,14,33],[14,35,14,41],[14,42,14,48],[14,49,14,55],[14,56,14,62],[14,63,14,69],[14,70,14,76],[9,551,12,551],[9,552,12,552],[9,553,12,553],[9,554,12,554],[9,555,12,555],[9,556,12,556],[9,545,12,545],[9,546,12,546],[14,161,14,167],[14,168,14,174],[14,175,14,181],[14,182,14,188],[14,189,14,195],[14,196,14,202],[14,119,14,125],[14,126,14,132],[14,133,14,139],[14,140,14,146],[14,147,14,153],[14,154,14,160],[14,245,14,251],[14,252,14,258],[14,259,14,265],[14,266,14,272],[14,273,14,279],[14,280,14,286],[14,203,14,209],[14,210,14,216],[14,217,14,223],[14,224,14,230],[14,231,14,237],[14,238,14,244],[14,329,14,335],[14,336,14,342],[14,343,14,349],[14,350,14,356],[14,357,14,363],[14,364,14,370],[14,287,14,293],[14,294,14,300],[14,301,14,307],[14,308,14,314],[14,315,14,321],[14,322,14,328],[14,413,14,419],[14,420,14,426],[14,427,14,433],[14,434,14,440],[14,441,14,447],[14,448,14,454],[14,371,14,377],[14,378,14,384],[14,385,14,391],[14,392,14,398],[14,399,14,405],[14,406,14,412],[17,12,17,14],[17,32,17,33],[18,12,18,14],[19,12,19,14],[20,12,20,14],[21,12,21,14],[14,539,14,545],[14,546,14,552],[14,553,14,558],[16,16,16,29],[16,30,16,33],[16,34,17,34],[14,497,14,503],[14,504,14,510],[14,511,14,517],[14,518,14,524],[14,525,14,531],[14,532,14,538],[14,455,14,461],[14,462,14,468],[14,469,14,475],[14,476,14,482],[14,483,14,489],[14,490,14,496],[28,12,28,14],[29,12,29,14],[30,12,30,14],[31,12,31,14],[32,12,32,14],[33,12,33,14],[22,12,22,14],[23,12,23,14],[24,12,24,14],[25,12,25,14],[26,12,26,14],[27,12,27,14],[41,12,41,14],[42,12,42,14],[43,12,43,14],[44,12,44,14],[34,12,34,14],[35,12,35,14],[36,12,36,14],[37,12,37,14],[38,12,38,14],[39,12,39,14],[40,12,40,14]]}
[]
[]
[]
[]
[]
[]
[null,null,null,null,null,null,null,null,null,null,null,null,null,null,null,null,null,null,null,null,null,null,null,null,null,null,null,null,null,null,null,null,null,null,null,null,null,null,null,null,null,"Start Date (Fusion)",null,null,null,null,null,{"$f":"IF(CR7=\"Weekly\",CN7*1,BG7*1)","v":"2016-10-31"},null,8,null,null,"Start Date (Daily)",null,null,null,null,null,{"$f":"DATE(BZ7,BS7,BN7)","v":"2016-10-31"},null,8,null,"Day",null,26,31,26,"Month",null,10,10,10,"Year",null,7,7,7,{"$f":"BX7+2009","v":2016},null,null,"Start Date (Weekly)",null,7,null,null,null,{"$f":"BG7","v":"2016-10-31"},null,8,null,{"$f":"WEEKDAY(CI7,2)","v":1},{"$f":"CI7-CM7+1","v":"2016-10-31"},null,8,null,"Daily",null,null,null,null,"Red Bookmark",null,null,null,null,null,{"$f":"DATE(DV7,DO7,DJ7)","v":"2016-11-11"},null,8,null,"Day",null,7,11,7,"Month",null,11,11,11,"Year",null,7,7,7,{"$f":"DT7+2009","v":2016},null,null,"First Day Today",null,7,null,null,null,{"$f":"TODAY()","v":"2017-06-06"},null,8,null,{"$f":"DAY(EE7)","v":6},null,{"$f":"MONTH(EE7)","v":6},null,{"$f":"YEAR(EE7)","v":2017},null,null,"First Day Lowest",null,null,null,null,null,"2016-10-31",null,8,null,{"$f":"DAY(EV7)","v":31},null,{"$f":"MONTH(EV7)","v":10},null,{"$f":"YEAR(EV7)","v":2016},null,null,"Options Add Tasks",null,null,null,null,null,"Below",null,null,false,null,null,1,true,null,null,null,"Work Days Only",null,null,null,null,1,2,{"$f":"IF(GD7=1,1,0)","v":0},null,"Weeks Name",null,null,null,1,2,{"$f":"OFFSET(HideValues!B51,GL7-1,0)","v":"W"},null,null,"First day week",null,null,1,1,1,{"$f":"OFFSET(HideValues!$J$45,GU7-1,0)","v":21},null,"WE days",null,1,1,{"$f":"OFFSET(HideValues!F45,HA7-1,0)","v":1},null,"Budget",null,null,false,null,"Comment",null,null,false,null,null,null,null,null,null,null,null,null,"Leader's List",null,null,null,null,{"$f":"IF(Tools!D11<>\"\",Tools!D11,\"\")","v":"Gibs"},{"$f":"IF(Tools!D12<>\"\",Tools!D12,\"\")","v":"Sara"},{"$f":"IF(Tools!D13<>\"\",Tools!D13,\"\")","v":"Mary"},{"$f":"IF(Tools!D14<>\"\",Tools!D14,\"\")","v":"Jade"},{"$f":"IF(Tools!D15<>\"\",Tools!D15,\"\")","v":"Reda"},{"$f":"IF(Tools!D16<>\"\",Tools!D16,\"\")","v":"Mike"},{"$f":"IF(Tools!D17<>\"\",Tools!D17,\"\")","v":"Rony"},{"$f":"IF(Tools!D18<>\"\",Tools!D18,\"\")","v":"Leo"},{"$f":"IF(Tools!D19<>\"\",Tools!D19,\"\")","v":""},{"$f":"IF(Tools!D20<>\"\",Tools!D20,\"\")","v":""},{"$f":"IF(Tools!D21<>\"\",Tools!D21,\"\")","v":""},{"$f":"IF(Tools!D22<>\"\",Tools!D22,\"\")","v":""},{"$f":"IF(Tools!D23<>\"\",Tools!D23,\"\")","v":""},{"$f":"IF(Tools!D24<>\"\",Tools!D24,\"\")","v":""},{"$f":"IF(Tools!D25<>\"\",Tools!D25,\"\")","v":""},{"$f":"IF(Tools!D26<>\"\",Tools!D26,\"\")","v":""},{"$f":"IF(Tools!D27<>\"\",Tools!D27,\"\")","v":""},{"$f":"IF(Tools!D28<>\"\",Tools!D28,\"\")","v":""},{"$f":"IF(Tools!D29<>\"\",Tools!D29,\"\")","v":""},{"$f":"IF(Tools!D30<>\"\",Tools!D30,\"\")","v":""},{"$f":"IF(Tools!D31<>\"\",Tools!D31,\"\")","v":""},{"$f":"IF(Tools!D32<>\"\",Tools!D32,\"\")","v":""},{"$f":"IF(Tools!D33<>\"\",Tools!D33,\"\")","v":""},{"$f":"IF(Tools!D34<>\"\",Tools!D34,\"\")","v":""},{"$f":"IF(Tools!D35<>\"\",Tools!D35,\"\")","v":""},{"$f":"IF(Tools!D36<>\"\",Tools!D36,\"\")","v":""},{"$f":"IF(Tools!D37<>\"\",Tools!D37,\"\")","v":""},{"$f":"IF(Tools!D38<>\"\",Tools!D38,\"\")","v":""},{"$f":"IF(Tools!D39<>\"\",Tools!D39,\"\")","v":""},{"$f":"IF(Tools!D40<>\"\",Tools!D40,\"\")","v":""},{"$f":"IF(Tools!D41<>\"\",Tools!D41,\"\")","v":""},{"$f":"IF(Tools!D42<>\"\",Tools!D42,\"\")","v":""},{"$f":"IF(Tools!D43<>\"\",Tools!D43,\"\")","v":""},{"$f":"IF(Tools!D44<>\"\",Tools!D44,\"\")","v":""},{"$f":"IF(Tools!D45<>\"\",Tools!D45,\"\")","v":""},{"$f":"IF(Tools!D46<>\"\",Tools!D46,\"\")","v":""},{"$f":"IF(Tools!D47<>\"\",Tools!D47,\"\")","v":""},{"$f":"IF(Tools!D48<>\"\",Tools!D48,\"\")","v":""},{"$f":"IF(Tools!D49<>\"\",Tools!D49,\"\")","v":""},{"$f":"IF(Tools!D50<>\"\",Tools!D50,\"\")","v":""},{"$f":"IF(Tools!D51<>\"\",Tools!D51,\"\")","v":""},{"$f":"IF(Tools!D52<>\"\",Tools!D52,\"\")","v":""},{"$f":"IF(Tools!D53<>\"\",Tools!D53,\"\")","v":""},{"$f":"IF(Tools!D54<>\"\",Tools!D54,\"\")","v":""},{"$f":"IF(Tools!D55<>\"\",Tools!D55,\"\")","v":""},{"$f":"IF(Tools!D56<>\"\",Tools!D56,\"\")","v":""},{"$f":"IF(Tools!D57<>\"\",Tools!D57,\"\")","v":""},null,"Drop List Start Date",null,null,null,null,null,null,null,{"$f":"IF(HideValues!A83<>\"\",HideValues!A83,\"\")","v":""},{"$f":"IF(HideValues!B83<>\"\",HideValues!B83,\"\")","v":""},{"$f":"IF(HideValues!C83<>\"\",HideValues!C83,\"\")","v":""},{"$f":"IF(HideValues!D83<>\"\",HideValues!D83,\"\")","v":""},{"$f":"IF(HideValues!E83<>\"\",HideValues!E83,\"\")","v":""},{"$f":"IF(HideValues!F83<>\"\",HideValues!F83,\"\")","v":""},{"$f":"IF(HideValues!G83<>\"\",HideValues!G83,\"\")","v":""},{"$f":"IF(HideValues!H83<>\"\",HideValues!H83,\"\")","v":""},{"$f":"IF(HideValues!I83<>\"\",HideValues!I83,\"\")","v":""},{"$f":"IF(HideValues!J83<>\"\",HideValues!J83,\"\")","v":""},null,"CF Gantt Engine 1",null,null,null,null,null,null,null,null,"CF Budget",null,null,null,null,null,null,"CF Round F",null,null,null,null,null,null,"CF Flags",null,null,null,null,null,null,"CF Type",null,null,1,1,1,"CF Gantt Engine 6",null,null,null,null,null,null,null,null,null,null,null,null,"CF Gantt Engine 2",null,null,null,null,null,null,null,null,"CF Gantt Engine 3",null,null,null,null,null,null,null,null,"CF Gantt Engine 4",null,null,null,null,null,null,null,null,"CF Gantt Engine 5",null,null,null,null,null,null,null,null,"CF Start",null,null,null,null,null,null,"CF Duration",null,null,null,null,null,null,null,"CF Dur. Type",null,null,null,null,null,null,null,null,null,null,null,null,null,null,null,null,null,null,"Target Cell Date Picker User Form",null,null,null,null,null,null,null,null,null,null,"Start_Date",null,null,null,null,null,null,"Filter",null,null,null,false,false,false,false,false,false,false,false,false,false,false,false,false,false,false,false,false,false,false,null,null,null,null,null,null,null,null,null,null,null,null,null,null,"Task Trans.",null,null,null,"Tache","Sous-tache","Jalon"]
[null,null,null,null,null,null,null,null,null,null,null,null,null,null,null,null,null,null,null,null,null,null,null,null," ¶¶¶ Please Hide these rows. Do not delete. ¶¶¶",null,null,null,null,null,null,null,null,null,"Week-End Flag",{"$f":"IF(Work_D_Only_Bool,NETWORKDAYS.INTL(AJ9,AJ9,WE_Days,Tools!$B$10:$B$55),1)","v":1},{"$f":"IF(Work_D_Only_Bool,NETWORKDAYS.INTL(AK9,AK9,WE_Days,Tools!$B$10:$B$55),1)","v":1},{"$f":"IF(Work_D_Only_Bool,NETWORKDAYS.INTL(AL9,AL9,WE_Days,Tools!$B$10:$B$55),1)","v":1},{"$f":"IF(Work_D_Only_Bool,NETWORKDAYS.INTL(AM9,AM9,WE_Days,Tools!$B$10:$B$55),1)","v":1},{"$f":"IF(Work_D_Only_Bool,NETWORKDAYS.INTL(AN9,AN9,WE_Days,Tools!$B$10:$B$55),1)","v":1},{"$f":"IF(Work_D_Only_Bool,NETWORKDAYS.INTL(AO9,AO9,WE_Days,Tools!$B$10:$B$55),1)","v":1},{"$f":"IF(Work_D_Only_Bool,NETWORKDAYS.INTL(AP9,AP9,WE_Days,Tools!$B$10:$B$55),1)","v":1},{"$f":"IF(Work_D_Only_Bool,NETWORKDAYS.INTL(AQ9,AQ9,WE_Days,Tools!$B$10:$B$55),1)","v":1},{"$f":"IF(Work_D_Only_Bool,NETWORKDAYS.INTL(AR9,AR9,WE_Days,Tools!$B$10:$B$55),1)","v":1},{"$f":"IF(Work_D_Only_Bool,NETWORKDAYS.INTL(AS9,AS9,WE_Days,Tools!$B$10:$B$55),1)","v":1},{"$f":"IF(Work_D_Only_Bool,NETWORKDAYS.INTL(AT9,AT9,WE_Days,Tools!$B$10:$B$55),1)","v":1},{"$f":"IF(Work_D_Only_Bool,NETWORKDAYS.INTL(AU9,AU9,WE_Days,Tools!$B$10:$B$55),1)","v":1},{"$f":"IF(Work_D_Only_Bool,NETWORKDAYS.INTL(AV9,AV9,WE_Days,Tools!$B$10:$B$55),1)","v":1},{"$f":"IF(Work_D_Only_Bool,NETWORKDAYS.INTL(AW9,AW9,WE_Days,Tools!$B$10:$B$55),1)","v":1},{"$f":"IF(Work_D_Only_Bool,NETWORKDAYS.INTL(AX9,AX9,WE_Days,Tools!$B$10:$B$55),1)","v":1},{"$f":"IF(Work_D_Only_Bool,NETWORKDAYS.INTL(AY9,AY9,WE_Days,Tools!$B$10:$B$55),1)","v":1},{"$f":"IF(Work_D_Only_Bool,NETWORKDAYS.INTL(AZ9,AZ9,WE_Days,Tools!$B$10:$B$55),1)","v":1},{"$f":"IF(Work_D_Only_Bool,NETWORKDAYS.INTL(BA9,BA9,WE_Days,Tools!$B$10:$B$55),1)","v":1},{"$f":"IF(Work_D_Only_Bool,NETWORKDAYS.INTL(BB9,BB9,WE_Days,Tools!$B$10:$B$55),1)","v":1},{"$f":"IF(Work_D_Only_Bool,NETWORKDAYS.INTL(BC9,BC9,WE_Days,Tools!$B$10:$B$55),1)","v":1},{"$f":"IF(Work_D_Only_Bool,NETWORKDAYS.INTL(BD9,BD9,WE_Days,Tools!$B$10:$B$55),1)","v":1},{"$f":"IF(Work_D_Only_Bool,NETWORKDAYS.INTL(BE9,BE9,WE_Days,Tools!$B$10:$B$55),1)","v":1},{"$f":"IF(Work_D_Only_Bool,NETWORKDAYS.INTL(BF9,BF9,WE_Days,Tools!$B$10:$B$55),1)","v":1},{"$f":"IF(Work_D_Only_Bool,NETWORKDAYS.INTL(BG9,BG9,WE_Days,Tools!$B$10:$B$55),1)","v":1},{"$f":"IF(Work_D_Only_Bool,NETWORKDAYS.INTL(BH9,BH9,WE_Days,Tools!$B$10:$B$55),1)","v":1},{"$f":"IF(Work_D_Only_Bool,NETWORKDAYS.INTL(BI9,BI9,WE_Days,Tools!$B$10:$B$55),1)","v":1},{"$f":"IF(Work_D_Only_Bool,NETWORKDAYS.INTL(BJ9,BJ9,WE_Days,Tools!$B$10:$B$55),1)","v":1},{"$f":"IF(Work_D_Only_Bool,NETWORKDAYS.INTL(BK9,BK9,WE_Days,Tools!$B$10:$B$55),1)","v":1},{"$f":"IF(Work_D_Only_Bool,NETWORKDAYS.INTL(BL9,BL9,WE_Days,Tools!$B$10:$B$55),1)","v":1},{"$f":"IF(Work_D_Only_Bool,NETWORKDAYS.INTL(BM9,BM9,WE_Days,Tools!$B$10:$B$55),1)","v":1},{"$f":"IF(Work_D_Only_Bool,NETWORKDAYS.INTL(BN9,BN9,WE_Days,Tools!$B$10:$B$55),1)","v":1},{"$f":"IF(Work_D_Only_Bool,NETWORKDAYS.INTL(BO9,BO9,WE_Days,Tools!$B$10:$B$55),1)","v":1},{"$f":"IF(Work_D_Only_Bool,NETWORKDAYS.INTL(BP9,BP9,WE_Days,Tools!$B$10:$B$55),1)","v":1},{"$f":"IF(Work_D_Only_Bool,NETWORKDAYS.INTL(BQ9,BQ9,WE_Days,Tools!$B$10:$B$55),1)","v":1},{"$f":"IF(Work_D_Only_Bool,NETWORKDAYS.INTL(BR9,BR9,WE_Days,Tools!$B$10:$B$55),1)","v":1},{"$f":"IF(Work_D_Only_Bool,NETWORKDAYS.INTL(BS9,BS9,WE_Days,Tools!$B$10:$B$55),1)","v":1},{"$f":"IF(Work_D_Only_Bool,NETWORKDAYS.INTL(BT9,BT9,WE_Days,Tools!$B$10:$B$55),1)","v":1},{"$f":"IF(Work_D_Only_Bool,NETWORKDAYS.INTL(BU9,BU9,WE_Days,Tools!$B$10:$B$55),1)","v":1},{"$f":"IF(Work_D_Only_Bool,NETWORKDAYS.INTL(BV9,BV9,WE_Days,Tools!$B$10:$B$55),1)","v":1},{"$f":"IF(Work_D_Only_Bool,NETWORKDAYS.INTL(BW9,BW9,WE_Days,Tools!$B$10:$B$55),1)","v":1},{"$f":"IF(Work_D_Only_Bool,NETWORKDAYS.INTL(BX9,BX9,WE_Days,Tools!$B$10:$B$55),1)","v":1},{"$f":"IF(Work_D_Only_Bool,NETWORKDAYS.INTL(BY9,BY9,WE_Days,Tools!$B$10:$B$55),1)","v":1},{"$f":"IF(Work_D_Only_Bool,NETWORKDAYS.INTL(BZ9,BZ9,WE_Days,Tools!$B$10:$B$55),1)","v":1},{"$f":"IF(Work_D_Only_Bool,NETWORKDAYS.INTL(CA9,CA9,WE_Days,Tools!$B$10:$B$55),1)","v":1},{"$f":"IF(Work_D_Only_Bool,NETWORKDAYS.INTL(CB9,CB9,WE_Days,Tools!$B$10:$B$55),1)","v":1},{"$f":"IF(Work_D_Only_Bool,NETWORKDAYS.INTL(CC9,CC9,WE_Days,Tools!$B$10:$B$55),1)","v":1},{"$f":"IF(Work_D_Only_Bool,NETWORKDAYS.INTL(CD9,CD9,WE_Days,Tools!$B$10:$B$55),1)","v":1},{"$f":"IF(Work_D_Only_Bool,NETWORKDAYS.INTL(CE9,CE9,WE_Days,Tools!$B$10:$B$55),1)","v":1},{"$f":"IF(Work_D_Only_Bool,NETWORKDAYS.INTL(CF9,CF9,WE_Days,Tools!$B$10:$B$55),1)","v":1},{"$f":"IF(Work_D_Only_Bool,NETWORKDAYS.INTL(CG9,CG9,WE_Days,Tools!$B$10:$B$55),1)","v":1},{"$f":"IF(Work_D_Only_Bool,NETWORKDAYS.INTL(CH9,CH9,WE_Days,Tools!$B$10:$B$55),1)","v":1},{"$f":"IF(Work_D_Only_Bool,NETWORKDAYS.INTL(CI9,CI9,WE_Days,Tools!$B$10:$B$55),1)","v":1},{"$f":"IF(Work_D_Only_Bool,NETWORKDAYS.INTL(CJ9,CJ9,WE_Days,Tools!$B$10:$B$55),1)","v":1},{"$f":"IF(Work_D_Only_Bool,NETWORKDAYS.INTL(CK9,CK9,WE_Days,Tools!$B$10:$B$55),1)","v":1},{"$f":"IF(Work_D_Only_Bool,NETWORKDAYS.INTL(CL9,CL9,WE_Days,Tools!$B$10:$B$55),1)","v":1},{"$f":"IF(Work_D_Only_Bool,NETWORKDAYS.INTL(CM9,CM9,WE_Days,Tools!$B$10:$B$55),1)","v":1},{"$f":"IF(Work_D_Only_Bool,NETWORKDAYS.INTL(CN9,CN9,WE_Days,Tools!$B$10:$B$55),1)","v":1},{"$f":"IF(Work_D_Only_Bool,NETWORKDAYS.INTL(CO9,CO9,WE_Days,Tools!$B$10:$B$55),1)","v":1},{"$f":"IF(Work_D_Only_Bool,NETWORKDAYS.INTL(CP9,CP9,WE_Days,Tools!$B$10:$B$55),1)","v":1},{"$f":"IF(Work_D_Only_Bool,NETWORKDAYS.INTL(CQ9,CQ9,WE_Days,Tools!$B$10:$B$55),1)","v":1},{"$f":"IF(Work_D_Only_Bool,NETWORKDAYS.INTL(CR9,CR9,WE_Days,Tools!$B$10:$B$55),1)","v":1},{"$f":"IF(Work_D_Only_Bool,NETWORKDAYS.INTL(CS9,CS9,WE_Days,Tools!$B$10:$B$55),1)","v":1},{"$f":"IF(Work_D_Only_Bool,NETWORKDAYS.INTL(CT9,CT9,WE_Days,Tools!$B$10:$B$55),1)","v":1},{"$f":"IF(Work_D_Only_Bool,NETWORKDAYS.INTL(CU9,CU9,WE_Days,Tools!$B$10:$B$55),1)","v":1},{"$f":"IF(Work_D_Only_Bool,NETWORKDAYS.INTL(CV9,CV9,WE_Days,Tools!$B$10:$B$55),1)","v":1},{"$f":"IF(Work_D_Only_Bool,NETWORKDAYS.INTL(CW9,CW9,WE_Days,Tools!$B$10:$B$55),1)","v":1},{"$f":"IF(Work_D_Only_Bool,NETWORKDAYS.INTL(CX9,CX9,WE_Days,Tools!$B$10:$B$55),1)","v":1},{"$f":"IF(Work_D_Only_Bool,NETWORKDAYS.INTL(CY9,CY9,WE_Days,Tools!$B$10:$B$55),1)","v":1},{"$f":"IF(Work_D_Only_Bool,NETWORKDAYS.INTL(CZ9,CZ9,WE_Days,Tools!$B$10:$B$55),1)","v":1},{"$f":"IF(Work_D_Only_Bool,NETWORKDAYS.INTL(DA9,DA9,WE_Days,Tools!$B$10:$B$55),1)","v":1},{"$f":"IF(Work_D_Only_Bool,NETWORKDAYS.INTL(DB9,DB9,WE_Days,Tools!$B$10:$B$55),1)","v":1},{"$f":"IF(Work_D_Only_Bool,NETWORKDAYS.INTL(DC9,DC9,WE_Days,Tools!$B$10:$B$55),1)","v":1},{"$f":"IF(Work_D_Only_Bool,NETWORKDAYS.INTL(DD9,DD9,WE_Days,Tools!$B$10:$B$55),1)","v":1},{"$f":"IF(Work_D_Only_Bool,NETWORKDAYS.INTL(DE9,DE9,WE_Days,Tools!$B$10:$B$55),1)","v":1},{"$f":"IF(Work_D_Only_Bool,NETWORKDAYS.INTL(DF9,DF9,WE_Days,Tools!$B$10:$B$55),1)","v":1},{"$f":"IF(Work_D_Only_Bool,NETWORKDAYS.INTL(DG9,DG9,WE_Days,Tools!$B$10:$B$55),1)","v":1},{"$f":"IF(Work_D_Only_Bool,NETWORKDAYS.INTL(DH9,DH9,WE_Days,Tools!$B$10:$B$55),1)","v":1},{"$f":"IF(Work_D_Only_Bool,NETWORKDAYS.INTL(DI9,DI9,WE_Days,Tools!$B$10:$B$55),1)","v":1},{"$f":"IF(Work_D_Only_Bool,NETWORKDAYS.INTL(DJ9,DJ9,WE_Days,Tools!$B$10:$B$55),1)","v":1},{"$f":"IF(Work_D_Only_Bool,NETWORKDAYS.INTL(DK9,DK9,WE_Days,Tools!$B$10:$B$55),1)","v":1},{"$f":"IF(Work_D_Only_Bool,NETWORKDAYS.INTL(DL9,DL9,WE_Days,Tools!$B$10:$B$55),1)","v":1},{"$f":"IF(Work_D_Only_Bool,NETWORKDAYS.INTL(DM9,DM9,WE_Days,Tools!$B$10:$B$55),1)","v":1},{"$f":"IF(Work_D_Only_Bool,NETWORKDAYS.INTL(DN9,DN9,WE_Days,Tools!$B$10:$B$55),1)","v":1},{"$f":"IF(Work_D_Only_Bool,NETWORKDAYS.INTL(DO9,DO9,WE_Days,Tools!$B$10:$B$55),1)","v":1},{"$f":"IF(Work_D_Only_Bool,NETWORKDAYS.INTL(DP9,DP9,WE_Days,Tools!$B$10:$B$55),1)","v":1},{"$f":"IF(Work_D_Only_Bool,NETWORKDAYS.INTL(DQ9,DQ9,WE_Days,Tools!$B$10:$B$55),1)","v":1},{"$f":"IF(Work_D_Only_Bool,NETWORKDAYS.INTL(DR9,DR9,WE_Days,Tools!$B$10:$B$55),1)","v":1},{"$f":"IF(Work_D_Only_Bool,NETWORKDAYS.INTL(DS9,DS9,WE_Days,Tools!$B$10:$B$55),1)","v":1},{"$f":"IF(Work_D_Only_Bool,NETWORKDAYS.INTL(DT9,DT9,WE_Days,Tools!$B$10:$B$55),1)","v":1},{"$f":"IF(Work_D_Only_Bool,NETWORKDAYS.INTL(DU9,DU9,WE_Days,Tools!$B$10:$B$55),1)","v":1},{"$f":"IF(Work_D_Only_Bool,NETWORKDAYS.INTL(DV9,DV9,WE_Days,Tools!$B$10:$B$55),1)","v":1},{"$f":"IF(Work_D_Only_Bool,NETWORKDAYS.INTL(DW9,DW9,WE_Days,Tools!$B$10:$B$55),1)","v":1},{"$f":"IF(Work_D_Only_Bool,NETWORKDAYS.INTL(DX9,DX9,WE_Days,Tools!$B$10:$B$55),1)","v":1},{"$f":"IF(Work_D_Only_Bool,NETWORKDAYS.INTL(DY9,DY9,WE_Days,Tools!$B$10:$B$55),1)","v":1},{"$f":"IF(Work_D_Only_Bool,NETWORKDAYS.INTL(DZ9,DZ9,WE_Days,Tools!$B$10:$B$55),1)","v":1},{"$f":"IF(Work_D_Only_Bool,NETWORKDAYS.INTL(EA9,EA9,WE_Days,Tools!$B$10:$B$55),1)","v":1},{"$f":"IF(Work_D_Only_Bool,NETWORKDAYS.INTL(EB9,EB9,WE_Days,Tools!$B$10:$B$55),1)","v":1},{"$f":"IF(Work_D_Only_Bool,NETWORKDAYS.INTL(EC9,EC9,WE_Days,Tools!$B$10:$B$55),1)","v":1},{"$f":"IF(Work_D_Only_Bool,NETWORKDAYS.INTL(ED9,ED9,WE_Days,Tools!$B$10:$B$55),1)","v":1},{"$f":"IF(Work_D_Only_Bool,NETWORKDAYS.INTL(EE9,EE9,WE_Days,Tools!$B$10:$B$55),1)","v":1},{"$f":"IF(Work_D_Only_Bool,NETWORKDAYS.INTL(EF9,EF9,WE_Days,Tools!$B$10:$B$55),1)","v":1},{"$f":"IF(Work_D_Only_Bool,NETWORKDAYS.INTL(EG9,EG9,WE_Days,Tools!$B$10:$B$55),1)","v":1},{"$f":"IF(Work_D_Only_Bool,NETWORKDAYS.INTL(EH9,EH9,WE_Days,Tools!$B$10:$B$55),1)","v":1},{"$f":"IF(Work_D_Only_Bool,NETWORKDAYS.INTL(EI9,EI9,WE_Days,Tools!$B$10:$B$55),1)","v":1},{"$f":"IF(Work_D_Only_Bool,NETWORKDAYS.INTL(EJ9,EJ9,WE_Days,Tools!$B$10:$B$55),1)","v":1},{"$f":"IF(Work_D_Only_Bool,NETWORKDAYS.INTL(EK9,EK9,WE_Days,Tools!$B$10:$B$55),1)","v":1},{"$f":"IF(Work_D_Only_Bool,NETWORKDAYS.INTL(EL9,EL9,WE_Days,Tools!$B$10:$B$55),1)","v":1},{"$f":"IF(Work_D_Only_Bool,NETWORKDAYS.INTL(EM9,EM9,WE_Days,Tools!$B$10:$B$55),1)","v":1},{"$f":"IF(Work_D_Only_Bool,NETWORKDAYS.INTL(EN9,EN9,WE_Days,Tools!$B$10:$B$55),1)","v":1},{"$f":"IF(Work_D_Only_Bool,NETWORKDAYS.INTL(EO9,EO9,WE_Days,Tools!$B$10:$B$55),1)","v":1},{"$f":"IF(Work_D_Only_Bool,NETWORKDAYS.INTL(EP9,EP9,WE_Days,Tools!$B$10:$B$55),1)","v":1},{"$f":"IF(Work_D_Only_Bool,NETWORKDAYS.INTL(EQ9,EQ9,WE_Days,Tools!$B$10:$B$55),1)","v":1},{"$f":"IF(Work_D_Only_Bool,NETWORKDAYS.INTL(ER9,ER9,WE_Days,Tools!$B$10:$B$55),1)","v":1},{"$f":"IF(Work_D_Only_Bool,NETWORKDAYS.INTL(ES9,ES9,WE_Days,Tools!$B$10:$B$55),1)","v":1},{"$f":"IF(Work_D_Only_Bool,NETWORKDAYS.INTL(ET9,ET9,WE_Days,Tools!$B$10:$B$55),1)","v":1},{"$f":"IF(Work_D_Only_Bool,NETWORKDAYS.INTL(EU9,EU9,WE_Days,Tools!$B$10:$B$55),1)","v":1},{"$f":"IF(Work_D_Only_Bool,NETWORKDAYS.INTL(EV9,EV9,WE_Days,Tools!$B$10:$B$55),1)","v":1},{"$f":"IF(Work_D_Only_Bool,NETWORKDAYS.INTL(EW9,EW9,WE_Days,Tools!$B$10:$B$55),1)","v":1},{"$f":"IF(Work_D_Only_Bool,NETWORKDAYS.INTL(EX9,EX9,WE_Days,Tools!$B$10:$B$55),1)","v":1},{"$f":"IF(Work_D_Only_Bool,NETWORKDAYS.INTL(EY9,EY9,WE_Days,Tools!$B$10:$B$55),1)","v":1},{"$f":"IF(Work_D_Only_Bool,NETWORKDAYS.INTL(EZ9,EZ9,WE_Days,Tools!$B$10:$B$55),1)","v":1},{"$f":"IF(Work_D_Only_Bool,NETWORKDAYS.INTL(FA9,FA9,WE_Days,Tools!$B$10:$B$55),1)","v":1},{"$f":"IF(Work_D_Only_Bool,NETWORKDAYS.INTL(FB9,FB9,WE_Days,Tools!$B$10:$B$55),1)","v":1},{"$f":"IF(Work_D_Only_Bool,NETWORKDAYS.INTL(FC9,FC9,WE_Days,Tools!$B$10:$B$55),1)","v":1},{"$f":"IF(Work_D_Only_Bool,NETWORKDAYS.INTL(FD9,FD9,WE_Days,Tools!$B$10:$B$55),1)","v":1},{"$f":"IF(Work_D_Only_Bool,NETWORKDAYS.INTL(FE9,FE9,WE_Days,Tools!$B$10:$B$55),1)","v":1},{"$f":"IF(Work_D_Only_Bool,NETWORKDAYS.INTL(FF9,FF9,WE_Days,Tools!$B$10:$B$55),1)","v":1},{"$f":"IF(Work_D_Only_Bool,NETWORKDAYS.INTL(FG9,FG9,WE_Days,Tools!$B$10:$B$55),1)","v":1},{"$f":"IF(Work_D_Only_Bool,NETWORKDAYS.INTL(FH9,FH9,WE_Days,Tools!$B$10:$B$55),1)","v":1},{"$f":"IF(Work_D_Only_Bool,NETWORKDAYS.INTL(FI9,FI9,WE_Days,Tools!$B$10:$B$55),1)","v":1},{"$f":"IF(Work_D_Only_Bool,NETWORKDAYS.INTL(FJ9,FJ9,WE_Days,Tools!$B$10:$B$55),1)","v":1},{"$f":"IF(Work_D_Only_Bool,NETWORKDAYS.INTL(FK9,FK9,WE_Days,Tools!$B$10:$B$55),1)","v":1},{"$f":"IF(Work_D_Only_Bool,NETWORKDAYS.INTL(FL9,FL9,WE_Days,Tools!$B$10:$B$55),1)","v":1},{"$f":"IF(Work_D_Only_Bool,NETWORKDAYS.INTL(FM9,FM9,WE_Days,Tools!$B$10:$B$55),1)","v":1},{"$f":"IF(Work_D_Only_Bool,NETWORKDAYS.INTL(FN9,FN9,WE_Days,Tools!$B$10:$B$55),1)","v":1},{"$f":"IF(Work_D_Only_Bool,NETWORKDAYS.INTL(FO9,FO9,WE_Days,Tools!$B$10:$B$55),1)","v":1},{"$f":"IF(Work_D_Only_Bool,NETWORKDAYS.INTL(FP9,FP9,WE_Days,Tools!$B$10:$B$55),1)","v":1},{"$f":"IF(Work_D_Only_Bool,NETWORKDAYS.INTL(FQ9,FQ9,WE_Days,Tools!$B$10:$B$55),1)","v":1},{"$f":"IF(Work_D_Only_Bool,NETWORKDAYS.INTL(FR9,FR9,WE_Days,Tools!$B$10:$B$55),1)","v":1},{"$f":"IF(Work_D_Only_Bool,NETWORKDAYS.INTL(FS9,FS9,WE_Days,Tools!$B$10:$B$55),1)","v":1},{"$f":"IF(Work_D_Only_Bool,NETWORKDAYS.INTL(FT9,FT9,WE_Days,Tools!$B$10:$B$55),1)","v":1},{"$f":"IF(Work_D_Only_Bool,NETWORKDAYS.INTL(FU9,FU9,WE_Days,Tools!$B$10:$B$55),1)","v":1},{"$f":"IF(Work_D_Only_Bool,NETWORKDAYS.INTL(FV9,FV9,WE_Days,Tools!$B$10:$B$55),1)","v":1},{"$f":"IF(Work_D_Only_Bool,NETWORKDAYS.INTL(FW9,FW9,WE_Days,Tools!$B$10:$B$55),1)","v":1},{"$f":"IF(Work_D_Only_Bool,NETWORKDAYS.INTL(FX9,FX9,WE_Days,Tools!$B$10:$B$55),1)","v":1},{"$f":"IF(Work_D_Only_Bool,NETWORKDAYS.INTL(FY9,FY9,WE_Days,Tools!$B$10:$B$55),1)","v":1},{"$f":"IF(Work_D_Only_Bool,NETWORKDAYS.INTL(FZ9,FZ9,WE_Days,Tools!$B$10:$B$55),1)","v":1},{"$f":"IF(Work_D_Only_Bool,NETWORKDAYS.INTL(GA9,GA9,WE_Days,Tools!$B$10:$B$55),1)","v":1},{"$f":"IF(Work_D_Only_Bool,NETWORKDAYS.INTL(GB9,GB9,WE_Days,Tools!$B$10:$B$55),1)","v":1},{"$f":"IF(Work_D_Only_Bool,NETWORKDAYS.INTL(GC9,GC9,WE_Days,Tools!$B$10:$B$55),1)","v":1},{"$f":"IF(Work_D_Only_Bool,NETWORKDAYS.INTL(GD9,GD9,WE_Days,Tools!$B$10:$B$55),1)","v":1},{"$f":"IF(Work_D_Only_Bool,NETWORKDAYS.INTL(GE9,GE9,WE_Days,Tools!$B$10:$B$55),1)","v":1},{"$f":"IF(Work_D_Only_Bool,NETWORKDAYS.INTL(GF9,GF9,WE_Days,Tools!$B$10:$B$55),1)","v":1},{"$f":"IF(Work_D_Only_Bool,NETWORKDAYS.INTL(GG9,GG9,WE_Days,Tools!$B$10:$B$55),1)","v":1},{"$f":"IF(Work_D_Only_Bool,NETWORKDAYS.INTL(GH9,GH9,WE_Days,Tools!$B$10:$B$55),1)","v":1},{"$f":"IF(Work_D_Only_Bool,NETWORKDAYS.INTL(GI9,GI9,WE_Days,Tools!$B$10:$B$55),1)","v":1},{"$f":"IF(Work_D_Only_Bool,NETWORKDAYS.INTL(GJ9,GJ9,WE_Days,Tools!$B$10:$B$55),1)","v":1},{"$f":"IF(Work_D_Only_Bool,NETWORKDAYS.INTL(GK9,GK9,WE_Days,Tools!$B$10:$B$55),1)","v":1},{"$f":"IF(Work_D_Only_Bool,NETWORKDAYS.INTL(GL9,GL9,WE_Days,Tools!$B$10:$B$55),1)","v":1},{"$f":"IF(Work_D_Only_Bool,NETWORKDAYS.INTL(GM9,GM9,WE_Days,Tools!$B$10:$B$55),1)","v":1},{"$f":"IF(Work_D_Only_Bool,NETWORKDAYS.INTL(GN9,GN9,WE_Days,Tools!$B$10:$B$55),1)","v":1},{"$f":"IF(Work_D_Only_Bool,NETWORKDAYS.INTL(GO9,GO9,WE_Days,Tools!$B$10:$B$55),1)","v":1},{"$f":"IF(Work_D_Only_Bool,NETWORKDAYS.INTL(GP9,GP9,WE_Days,Tools!$B$10:$B$55),1)","v":1},{"$f":"IF(Work_D_Only_Bool,NETWORKDAYS.INTL(GQ9,GQ9,WE_Days,Tools!$B$10:$B$55),1)","v":1},{"$f":"IF(Work_D_Only_Bool,NETWORKDAYS.INTL(GR9,GR9,WE_Days,Tools!$B$10:$B$55),1)","v":1},{"$f":"IF(Work_D_Only_Bool,NETWORKDAYS.INTL(GS9,GS9,WE_Days,Tools!$B$10:$B$55),1)","v":1},{"$f":"IF(Work_D_Only_Bool,NETWORKDAYS.INTL(GT9,GT9,WE_Days,Tools!$B$10:$B$55),1)","v":1},{"$f":"IF(Work_D_Only_Bool,NETWORKDAYS.INTL(GU9,GU9,WE_Days,Tools!$B$10:$B$55),1)","v":1},{"$f":"IF(Work_D_Only_Bool,NETWORKDAYS.INTL(GV9,GV9,WE_Days,Tools!$B$10:$B$55),1)","v":1},{"$f":"IF(Work_D_Only_Bool,NETWORKDAYS.INTL(GW9,GW9,WE_Days,Tools!$B$10:$B$55),1)","v":1},{"$f":"IF(Work_D_Only_Bool,NETWORKDAYS.INTL(GX9,GX9,WE_Days,Tools!$B$10:$B$55),1)","v":1},{"$f":"IF(Work_D_Only_Bool,NETWORKDAYS.INTL(GY9,GY9,WE_Days,Tools!$B$10:$B$55),1)","v":1},{"$f":"IF(Work_D_Only_Bool,NETWORKDAYS.INTL(GZ9,GZ9,WE_Days,Tools!$B$10:$B$55),1)","v":1},{"$f":"IF(Work_D_Only_Bool,NETWORKDAYS.INTL(HA9,HA9,WE_Days,Tools!$B$10:$B$55),1)","v":1},{"$f":"IF(Work_D_Only_Bool,NETWORKDAYS.INTL(HB9,HB9,WE_Days,Tools!$B$10:$B$55),1)","v":1},{"$f":"IF(Work_D_Only_Bool,NETWORKDAYS.INTL(HC9,HC9,WE_Days,Tools!$B$10:$B$55),1)","v":1},{"$f":"IF(Work_D_Only_Bool,NETWORKDAYS.INTL(HD9,HD9,WE_Days,Tools!$B$10:$B$55),1)","v":1},{"$f":"IF(Work_D_Only_Bool,NETWORKDAYS.INTL(HE9,HE9,WE_Days,Tools!$B$10:$B$55),1)","v":1},{"$f":"IF(Work_D_Only_Bool,NETWORKDAYS.INTL(HF9,HF9,WE_Days,Tools!$B$10:$B$55),1)","v":1},{"$f":"IF(Work_D_Only_Bool,NETWORKDAYS.INTL(HG9,HG9,WE_Days,Tools!$B$10:$B$55),1)","v":1},{"$f":"IF(Work_D_Only_Bool,NETWORKDAYS.INTL(HH9,HH9,WE_Days,Tools!$B$10:$B$55),1)","v":1},{"$f":"IF(Work_D_Only_Bool,NETWORKDAYS.INTL(HI9,HI9,WE_Days,Tools!$B$10:$B$55),1)","v":1},{"$f":"IF(Work_D_Only_Bool,NETWORKDAYS.INTL(HJ9,HJ9,WE_Days,Tools!$B$10:$B$55),1)","v":1},{"$f":"IF(Work_D_Only_Bool,NETWORKDAYS.INTL(HK9,HK9,WE_Days,Tools!$B$10:$B$55),1)","v":1},{"$f":"IF(Work_D_Only_Bool,NETWORKDAYS.INTL(HL9,HL9,WE_Days,Tools!$B$10:$B$55),1)","v":1},{"$f":"IF(Work_D_Only_Bool,NETWORKDAYS.INTL(HM9,HM9,WE_Days,Tools!$B$10:$B$55),1)","v":1},{"$f":"IF(Work_D_Only_Bool,NETWORKDAYS.INTL(HN9,HN9,WE_Days,Tools!$B$10:$B$55),1)","v":1},{"$f":"IF(Work_D_Only_Bool,NETWORKDAYS.INTL(HO9,HO9,WE_Days,Tools!$B$10:$B$55),1)","v":1},{"$f":"IF(Work_D_Only_Bool,NETWORKDAYS.INTL(HP9,HP9,WE_Days,Tools!$B$10:$B$55),1)","v":1},{"$f":"IF(Work_D_Only_Bool,NETWORKDAYS.INTL(HQ9,HQ9,WE_Days,Tools!$B$10:$B$55),1)","v":1},{"$f":"IF(Work_D_Only_Bool,NETWORKDAYS.INTL(HR9,HR9,WE_Days,Tools!$B$10:$B$55),1)","v":1},{"$f":"IF(Work_D_Only_Bool,NETWORKDAYS.INTL(HS9,HS9,WE_Days,Tools!$B$10:$B$55),1)","v":1},{"$f":"IF(Work_D_Only_Bool,NETWORKDAYS.INTL(HT9,HT9,WE_Days,Tools!$B$10:$B$55),1)","v":1},{"$f":"IF(Work_D_Only_Bool,NETWORKDAYS.INTL(HU9,HU9,WE_Days,Tools!$B$10:$B$55),1)","v":1},{"$f":"IF(Work_D_Only_Bool,NETWORKDAYS.INTL(HV9,HV9,WE_Days,Tools!$B$10:$B$55),1)","v":1},{"$f":"IF(Work_D_Only_Bool,NETWORKDAYS.INTL(HW9,HW9,WE_Days,Tools!$B$10:$B$55),1)","v":1},{"$f":"IF(Work_D_Only_Bool,NETWORKDAYS.INTL(HX9,HX9,WE_Days,Tools!$B$10:$B$55),1)","v":1},{"$f":"IF(Work_D_Only_Bool,NETWORKDAYS.INTL(HY9,HY9,WE_Days,Tools!$B$10:$B$55),1)","v":1},{"$f":"IF(Work_D_Only_Bool,NETWORKDAYS.INTL(HZ9,HZ9,WE_Days,Tools!$B$10:$B$55),1)","v":1},{"$f":"IF(Work_D_Only_Bool,NETWORKDAYS.INTL(IA9,IA9,WE_Days,Tools!$B$10:$B$55),1)","v":1},{"$f":"IF(Work_D_Only_Bool,NETWORKDAYS.INTL(IB9,IB9,WE_Days,Tools!$B$10:$B$55),1)","v":1},{"$f":"IF(Work_D_Only_Bool,NETWORKDAYS.INTL(IC9,IC9,WE_Days,Tools!$B$10:$B$55),1)","v":1},{"$f":"IF(Work_D_Only_Bool,NETWORKDAYS.INTL(ID9,ID9,WE_Days,Tools!$B$10:$B$55),1)","v":1},{"$f":"IF(Work_D_Only_Bool,NETWORKDAYS.INTL(IE9,IE9,WE_Days,Tools!$B$10:$B$55),1)","v":1},{"$f":"IF(Work_D_Only_Bool,NETWORKDAYS.INTL(IF9,IF9,WE_Days,Tools!$B$10:$B$55),1)","v":1},{"$f":"IF(Work_D_Only_Bool,NETWORKDAYS.INTL(IG9,IG9,WE_Days,Tools!$B$10:$B$55),1)","v":1},{"$f":"IF(Work_D_Only_Bool,NETWORKDAYS.INTL(IH9,IH9,WE_Days,Tools!$B$10:$B$55),1)","v":1},{"$f":"IF(Work_D_Only_Bool,NETWORKDAYS.INTL(II9,II9,WE_Days,Tools!$B$10:$B$55),1)","v":1},{"$f":"IF(Work_D_Only_Bool,NETWORKDAYS.INTL(IJ9,IJ9,WE_Days,Tools!$B$10:$B$55),1)","v":1},{"$f":"IF(Work_D_Only_Bool,NETWORKDAYS.INTL(IK9,IK9,WE_Days,Tools!$B$10:$B$55),1)","v":1},{"$f":"IF(Work_D_Only_Bool,NETWORKDAYS.INTL(IL9,IL9,WE_Days,Tools!$B$10:$B$55),1)","v":1},{"$f":"IF(Work_D_Only_Bool,NETWORKDAYS.INTL(IM9,IM9,WE_Days,Tools!$B$10:$B$55),1)","v":1},{"$f":"IF(Work_D_Only_Bool,NETWORKDAYS.INTL(IN9,IN9,WE_Days,Tools!$B$10:$B$55),1)","v":1},{"$f":"IF(Work_D_Only_Bool,NETWORKDAYS.INTL(IO9,IO9,WE_Days,Tools!$B$10:$B$55),1)","v":1},{"$f":"IF(Work_D_Only_Bool,NETWORKDAYS.INTL(IP9,IP9,WE_Days,Tools!$B$10:$B$55),1)","v":1},{"$f":"IF(Work_D_Only_Bool,NETWORKDAYS.INTL(IQ9,IQ9,WE_Days,Tools!$B$10:$B$55),1)","v":1},{"$f":"IF(Work_D_Only_Bool,NETWORKDAYS.INTL(IR9,IR9,WE_Days,Tools!$B$10:$B$55),1)","v":1},{"$f":"IF(Work_D_Only_Bool,NETWORKDAYS.INTL(IS9,IS9,WE_Days,Tools!$B$10:$B$55),1)","v":1},{"$f":"IF(Work_D_Only_Bool,NETWORKDAYS.INTL(IT9,IT9,WE_Days,Tools!$B$10:$B$55),1)","v":1},{"$f":"IF(Work_D_Only_Bool,NETWORKDAYS.INTL(IU9,IU9,WE_Days,Tools!$B$10:$B$55),1)","v":1},{"$f":"IF(Work_D_Only_Bool,NETWORKDAYS.INTL(IV9,IV9,WE_Days,Tools!$B$10:$B$55),1)","v":1},{"$f":"IF(Work_D_Only_Bool,NETWORKDAYS.INTL(IW9,IW9,WE_Days,Tools!$B$10:$B$55),1)","v":1},{"$f":"IF(Work_D_Only_Bool,NETWORKDAYS.INTL(IX9,IX9,WE_Days,Tools!$B$10:$B$55),1)","v":1},{"$f":"IF(Work_D_Only_Bool,NETWORKDAYS.INTL(IY9,IY9,WE_Days,Tools!$B$10:$B$55),1)","v":1},{"$f":"IF(Work_D_Only_Bool,NETWORKDAYS.INTL(IZ9,IZ9,WE_Days,Tools!$B$10:$B$55),1)","v":1},{"$f":"IF(Work_D_Only_Bool,NETWORKDAYS.INTL(JA9,JA9,WE_Days,Tools!$B$10:$B$55),1)","v":1},{"$f":"IF(Work_D_Only_Bool,NETWORKDAYS.INTL(JB9,JB9,WE_Days,Tools!$B$10:$B$55),1)","v":1},{"$f":"IF(Work_D_Only_Bool,NETWORKDAYS.INTL(JC9,JC9,WE_Days,Tools!$B$10:$B$55),1)","v":1},{"$f":"IF(Work_D_Only_Bool,NETWORKDAYS.INTL(JD9,JD9,WE_Days,Tools!$B$10:$B$55),1)","v":1},{"$f":"IF(Work_D_Only_Bool,NETWORKDAYS.INTL(JE9,JE9,WE_Days,Tools!$B$10:$B$55),1)","v":1},{"$f":"IF(Work_D_Only_Bool,NETWORKDAYS.INTL(JF9,JF9,WE_Days,Tools!$B$10:$B$55),1)","v":1},{"$f":"IF(Work_D_Only_Bool,NETWORKDAYS.INTL(JG9,JG9,WE_Days,Tools!$B$10:$B$55),1)","v":1},{"$f":"IF(Work_D_Only_Bool,NETWORKDAYS.INTL(JH9,JH9,WE_Days,Tools!$B$10:$B$55),1)","v":1},{"$f":"IF(Work_D_Only_Bool,NETWORKDAYS.INTL(JI9,JI9,WE_Days,Tools!$B$10:$B$55),1)","v":1},{"$f":"IF(Work_D_Only_Bool,NETWORKDAYS.INTL(JJ9,JJ9,WE_Days,Tools!$B$10:$B$55),1)","v":1},{"$f":"IF(Work_D_Only_Bool,NETWORKDAYS.INTL(JK9,JK9,WE_Days,Tools!$B$10:$B$55),1)","v":1},{"$f":"IF(Work_D_Only_Bool,NETWORKDAYS.INTL(JL9,JL9,WE_Days,Tools!$B$10:$B$55),1)","v":1},{"$f":"IF(Work_D_Only_Bool,NETWORKDAYS.INTL(JM9,JM9,WE_Days,Tools!$B$10:$B$55),1)","v":1},{"$f":"IF(Work_D_Only_Bool,NETWORKDAYS.INTL(JN9,JN9,WE_Days,Tools!$B$10:$B$55),1)","v":1},{"$f":"IF(Work_D_Only_Bool,NETWORKDAYS.INTL(JO9,JO9,WE_Days,Tools!$B$10:$B$55),1)","v":1},{"$f":"IF(Work_D_Only_Bool,NETWORKDAYS.INTL(JP9,JP9,WE_Days,Tools!$B$10:$B$55),1)","v":1},{"$f":"IF(Work_D_Only_Bool,NETWORKDAYS.INTL(JQ9,JQ9,WE_Days,Tools!$B$10:$B$55),1)","v":1},{"$f":"IF(Work_D_Only_Bool,NETWORKDAYS.INTL(JR9,JR9,WE_Days,Tools!$B$10:$B$55),1)","v":1},{"$f":"IF(Work_D_Only_Bool,NETWORKDAYS.INTL(JS9,JS9,WE_Days,Tools!$B$10:$B$55),1)","v":1},{"$f":"IF(Work_D_Only_Bool,NETWORKDAYS.INTL(JT9,JT9,WE_Days,Tools!$B$10:$B$55),1)","v":1},{"$f":"IF(Work_D_Only_Bool,NETWORKDAYS.INTL(JU9,JU9,WE_Days,Tools!$B$10:$B$55),1)","v":1},{"$f":"IF(Work_D_Only_Bool,NETWORKDAYS.INTL(JV9,JV9,WE_Days,Tools!$B$10:$B$55),1)","v":1},{"$f":"IF(Work_D_Only_Bool,NETWORKDAYS.INTL(JW9,JW9,WE_Days,Tools!$B$10:$B$55),1)","v":1},{"$f":"IF(Work_D_Only_Bool,NETWORKDAYS.INTL(JX9,JX9,WE_Days,Tools!$B$10:$B$55),1)","v":1},{"$f":"IF(Work_D_Only_Bool,NETWORKDAYS.INTL(JY9,JY9,WE_Days,Tools!$B$10:$B$55),1)","v":1},{"$f":"IF(Work_D_Only_Bool,NETWORKDAYS.INTL(JZ9,JZ9,WE_Days,Tools!$B$10:$B$55),1)","v":1},{"$f":"IF(Work_D_Only_Bool,NETWORKDAYS.INTL(KA9,KA9,WE_Days,Tools!$B$10:$B$55),1)","v":1},{"$f":"IF(Work_D_Only_Bool,NETWORKDAYS.INTL(KB9,KB9,WE_Days,Tools!$B$10:$B$55),1)","v":1},{"$f":"IF(Work_D_Only_Bool,NETWORKDAYS.INTL(KC9,KC9,WE_Days,Tools!$B$10:$B$55),1)","v":1},{"$f":"IF(Work_D_Only_Bool,NETWORKDAYS.INTL(KD9,KD9,WE_Days,Tools!$B$10:$B$55),1)","v":1},{"$f":"IF(Work_D_Only_Bool,NETWORKDAYS.INTL(KE9,KE9,WE_Days,Tools!$B$10:$B$55),1)","v":1},{"$f":"IF(Work_D_Only_Bool,NETWORKDAYS.INTL(KF9,KF9,WE_Days,Tools!$B$10:$B$55),1)","v":1},{"$f":"IF(Work_D_Only_Bool,NETWORKDAYS.INTL(KG9,KG9,WE_Days,Tools!$B$10:$B$55),1)","v":1},{"$f":"IF(Work_D_Only_Bool,NETWORKDAYS.INTL(KH9,KH9,WE_Days,Tools!$B$10:$B$55),1)","v":1},{"$f":"IF(Work_D_Only_Bool,NETWORKDAYS.INTL(KI9,KI9,WE_Days,Tools!$B$10:$B$55),1)","v":1},{"$f":"IF(Work_D_Only_Bool,NETWORKDAYS.INTL(KJ9,KJ9,WE_Days,Tools!$B$10:$B$55),1)","v":1},{"$f":"IF(Work_D_Only_Bool,NETWORKDAYS.INTL(KK9,KK9,WE_Days,Tools!$B$10:$B$55),1)","v":1},{"$f":"IF(Work_D_Only_Bool,NETWORKDAYS.INTL(KL9,KL9,WE_Days,Tools!$B$10:$B$55),1)","v":1},{"$f":"IF(Work_D_Only_Bool,NETWORKDAYS.INTL(KM9,KM9,WE_Days,Tools!$B$10:$B$55),1)","v":1},{"$f":"IF(Work_D_Only_Bool,NETWORKDAYS.INTL(KN9,KN9,WE_Days,Tools!$B$10:$B$55),1)","v":1},{"$f":"IF(Work_D_Only_Bool,NETWORKDAYS.INTL(KO9,KO9,WE_Days,Tools!$B$10:$B$55),1)","v":1},{"$f":"IF(Work_D_Only_Bool,NETWORKDAYS.INTL(KP9,KP9,WE_Days,Tools!$B$10:$B$55),1)","v":1},{"$f":"IF(Work_D_Only_Bool,NETWORKDAYS.INTL(KQ9,KQ9,WE_Days,Tools!$B$10:$B$55),1)","v":1},{"$f":"IF(Work_D_Only_Bool,NETWORKDAYS.INTL(KR9,KR9,WE_Days,Tools!$B$10:$B$55),1)","v":1},{"$f":"IF(Work_D_Only_Bool,NETWORKDAYS.INTL(KS9,KS9,WE_Days,Tools!$B$10:$B$55),1)","v":1},{"$f":"IF(Work_D_Only_Bool,NETWORKDAYS.INTL(KT9,KT9,WE_Days,Tools!$B$10:$B$55),1)","v":1},{"$f":"IF(Work_D_Only_Bool,NETWORKDAYS.INTL(KU9,KU9,WE_Days,Tools!$B$10:$B$55),1)","v":1},{"$f":"IF(Work_D_Only_Bool,NETWORKDAYS.INTL(KV9,KV9,WE_Days,Tools!$B$10:$B$55),1)","v":1},{"$f":"IF(Work_D_Only_Bool,NETWORKDAYS.INTL(KW9,KW9,WE_Days,Tools!$B$10:$B$55),1)","v":1},{"$f":"IF(Work_D_Only_Bool,NETWORKDAYS.INTL(KX9,KX9,WE_Days,Tools!$B$10:$B$55),1)","v":1},{"$f":"IF(Work_D_Only_Bool,NETWORKDAYS.INTL(KY9,KY9,WE_Days,Tools!$B$10:$B$55),1)","v":1},{"$f":"IF(Work_D_Only_Bool,NETWORKDAYS.INTL(KZ9,KZ9,WE_Days,Tools!$B$10:$B$55),1)","v":1},{"$f":"IF(Work_D_Only_Bool,NETWORKDAYS.INTL(LA9,LA9,WE_Days,Tools!$B$10:$B$55),1)","v":1},{"$f":"IF(Work_D_Only_Bool,NETWORKDAYS.INTL(LB9,LB9,WE_Days,Tools!$B$10:$B$55),1)","v":1},{"$f":"IF(Work_D_Only_Bool,NETWORKDAYS.INTL(LC9,LC9,WE_Days,Tools!$B$10:$B$55),1)","v":1},{"$f":"IF(Work_D_Only_Bool,NETWORKDAYS.INTL(LD9,LD9,WE_Days,Tools!$B$10:$B$55),1)","v":1},{"$f":"IF(Work_D_Only_Bool,NETWORKDAYS.INTL(LE9,LE9,WE_Days,Tools!$B$10:$B$55),1)","v":1},{"$f":"IF(Work_D_Only_Bool,NETWORKDAYS.INTL(LF9,LF9,WE_Days,Tools!$B$10:$B$55),1)","v":1},{"$f":"IF(Work_D_Only_Bool,NETWORKDAYS.INTL(LG9,LG9,WE_Days,Tools!$B$10:$B$55),1)","v":1},{"$f":"IF(Work_D_Only_Bool,NETWORKDAYS.INTL(LH9,LH9,WE_Days,Tools!$B$10:$B$55),1)","v":1},{"$f":"IF(Work_D_Only_Bool,NETWORKDAYS.INTL(LI9,LI9,WE_Days,Tools!$B$10:$B$55),1)","v":1},{"$f":"IF(Work_D_Only_Bool,NETWORKDAYS.INTL(LJ9,LJ9,WE_Days,Tools!$B$10:$B$55),1)","v":1},{"$f":"IF(Work_D_Only_Bool,NETWORKDAYS.INTL(LK9,LK9,WE_Days,Tools!$B$10:$B$55),1)","v":1},{"$f":"IF(Work_D_Only_Bool,NETWORKDAYS.INTL(LL9,LL9,WE_Days,Tools!$B$10:$B$55),1)","v":1},{"$f":"IF(Work_D_Only_Bool,NETWORKDAYS.INTL(LM9,LM9,WE_Days,Tools!$B$10:$B$55),1)","v":1},{"$f":"IF(Work_D_Only_Bool,NETWORKDAYS.INTL(LN9,LN9,WE_Days,Tools!$B$10:$B$55),1)","v":1},{"$f":"IF(Work_D_Only_Bool,NETWORKDAYS.INTL(LO9,LO9,WE_Days,Tools!$B$10:$B$55),1)","v":1},{"$f":"IF(Work_D_Only_Bool,NETWORKDAYS.INTL(LP9,LP9,WE_Days,Tools!$B$10:$B$55),1)","v":1},{"$f":"IF(Work_D_Only_Bool,NETWORKDAYS.INTL(LQ9,LQ9,WE_Days,Tools!$B$10:$B$55),1)","v":1},{"$f":"IF(Work_D_Only_Bool,NETWORKDAYS.INTL(LR9,LR9,WE_Days,Tools!$B$10:$B$55),1)","v":1},{"$f":"IF(Work_D_Only_Bool,NETWORKDAYS.INTL(LS9,LS9,WE_Days,Tools!$B$10:$B$55),1)","v":1},{"$f":"IF(Work_D_Only_Bool,NETWORKDAYS.INTL(LT9,LT9,WE_Days,Tools!$B$10:$B$55),1)","v":1},{"$f":"IF(Work_D_Only_Bool,NETWORKDAYS.INTL(LU9,LU9,WE_Days,Tools!$B$10:$B$55),1)","v":1},{"$f":"IF(Work_D_Only_Bool,NETWORKDAYS.INTL(LV9,LV9,WE_Days,Tools!$B$10:$B$55),1)","v":1},{"$f":"IF(Work_D_Only_Bool,NETWORKDAYS.INTL(LW9,LW9,WE_Days,Tools!$B$10:$B$55),1)","v":1},{"$f":"IF(Work_D_Only_Bool,NETWORKDAYS.INTL(LX9,LX9,WE_Days,Tools!$B$10:$B$55),1)","v":1},{"$f":"IF(Work_D_Only_Bool,NETWORKDAYS.INTL(LY9,LY9,WE_Days,Tools!$B$10:$B$55),1)","v":1},{"$f":"IF(Work_D_Only_Bool,NETWORKDAYS.INTL(LZ9,LZ9,WE_Days,Tools!$B$10:$B$55),1)","v":1},{"$f":"IF(Work_D_Only_Bool,NETWORKDAYS.INTL(MA9,MA9,WE_Days,Tools!$B$10:$B$55),1)","v":1},{"$f":"IF(Work_D_Only_Bool,NETWORKDAYS.INTL(MB9,MB9,WE_Days,Tools!$B$10:$B$55),1)","v":1},{"$f":"IF(Work_D_Only_Bool,NETWORKDAYS.INTL(MC9,MC9,WE_Days,Tools!$B$10:$B$55),1)","v":1},{"$f":"IF(Work_D_Only_Bool,NETWORKDAYS.INTL(MD9,MD9,WE_Days,Tools!$B$10:$B$55),1)","v":1},{"$f":"IF(Work_D_Only_Bool,NETWORKDAYS.INTL(ME9,ME9,WE_Days,Tools!$B$10:$B$55),1)","v":1},{"$f":"IF(Work_D_Only_Bool,NETWORKDAYS.INTL(MF9,MF9,WE_Days,Tools!$B$10:$B$55),1)","v":1},{"$f":"IF(Work_D_Only_Bool,NETWORKDAYS.INTL(MG9,MG9,WE_Days,Tools!$B$10:$B$55),1)","v":1},{"$f":"IF(Work_D_Only_Bool,NETWORKDAYS.INTL(MH9,MH9,WE_Days,Tools!$B$10:$B$55),1)","v":1},{"$f":"IF(Work_D_Only_Bool,NETWORKDAYS.INTL(MI9,MI9,WE_Days,Tools!$B$10:$B$55),1)","v":1},{"$f":"IF(Work_D_Only_Bool,NETWORKDAYS.INTL(MJ9,MJ9,WE_Days,Tools!$B$10:$B$55),1)","v":1},{"$f":"IF(Work_D_Only_Bool,NETWORKDAYS.INTL(MK9,MK9,WE_Days,Tools!$B$10:$B$55),1)","v":1},{"$f":"IF(Work_D_Only_Bool,NETWORKDAYS.INTL(ML9,ML9,WE_Days,Tools!$B$10:$B$55),1)","v":1},{"$f":"IF(Work_D_Only_Bool,NETWORKDAYS.INTL(MM9,MM9,WE_Days,Tools!$B$10:$B$55),1)","v":1},{"$f":"IF(Work_D_Only_Bool,NETWORKDAYS.INTL(MN9,MN9,WE_Days,Tools!$B$10:$B$55),1)","v":1},{"$f":"IF(Work_D_Only_Bool,NETWORKDAYS.INTL(MO9,MO9,WE_Days,Tools!$B$10:$B$55),1)","v":1},{"$f":"IF(Work_D_Only_Bool,NETWORKDAYS.INTL(MP9,MP9,WE_Days,Tools!$B$10:$B$55),1)","v":1},{"$f":"IF(Work_D_Only_Bool,NETWORKDAYS.INTL(MQ9,MQ9,WE_Days,Tools!$B$10:$B$55),1)","v":1},{"$f":"IF(Work_D_Only_Bool,NETWORKDAYS.INTL(MR9,MR9,WE_Days,Tools!$B$10:$B$55),1)","v":1},{"$f":"IF(Work_D_Only_Bool,NETWORKDAYS.INTL(MS9,MS9,WE_Days,Tools!$B$10:$B$55),1)","v":1},{"$f":"IF(Work_D_Only_Bool,NETWORKDAYS.INTL(MT9,MT9,WE_Days,Tools!$B$10:$B$55),1)","v":1},{"$f":"IF(Work_D_Only_Bool,NETWORKDAYS.INTL(MU9,MU9,WE_Days,Tools!$B$10:$B$55),1)","v":1},{"$f":"IF(Work_D_Only_Bool,NETWORKDAYS.INTL(MV9,MV9,WE_Days,Tools!$B$10:$B$55),1)","v":1},{"$f":"IF(Work_D_Only_Bool,NETWORKDAYS.INTL(MW9,MW9,WE_Days,Tools!$B$10:$B$55),1)","v":1},{"$f":"IF(Work_D_Only_Bool,NETWORKDAYS.INTL(MX9,MX9,WE_Days,Tools!$B$10:$B$55),1)","v":1},{"$f":"IF(Work_D_Only_Bool,NETWORKDAYS.INTL(MY9,MY9,WE_Days,Tools!$B$10:$B$55),1)","v":1},{"$f":"IF(Work_D_Only_Bool,NETWORKDAYS.INTL(MZ9,MZ9,WE_Days,Tools!$B$10:$B$55),1)","v":1},{"$f":"IF(Work_D_Only_Bool,NETWORKDAYS.INTL(NA9,NA9,WE_Days,Tools!$B$10:$B$55),1)","v":1},{"$f":"IF(Work_D_Only_Bool,NETWORKDAYS.INTL(NB9,NB9,WE_Days,Tools!$B$10:$B$55),1)","v":1},{"$f":"IF(Work_D_Only_Bool,NETWORKDAYS.INTL(NC9,NC9,WE_Days,Tools!$B$10:$B$55),1)","v":1},{"$f":"IF(Work_D_Only_Bool,NETWORKDAYS.INTL(ND9,ND9,WE_Days,Tools!$B$10:$B$55),1)","v":1},{"$f":"IF(Work_D_Only_Bool,NETWORKDAYS.INTL(NE9,NE9,WE_Days,Tools!$B$10:$B$55),1)","v":1},{"$f":"IF(Work_D_Only_Bool,NETWORKDAYS.INTL(NF9,NF9,WE_Days,Tools!$B$10:$B$55),1)","v":1},{"$f":"IF(Work_D_Only_Bool,NETWORKDAYS.INTL(NG9,NG9,WE_Days,Tools!$B$10:$B$55),1)","v":1},{"$f":"IF(Work_D_Only_Bool,NETWORKDAYS.INTL(NH9,NH9,WE_Days,Tools!$B$10:$B$55),1)","v":1},{"$f":"IF(Work_D_Only_Bool,NETWORKDAYS.INTL(NI9,NI9,WE_Days,Tools!$B$10:$B$55),1)","v":1},{"$f":"IF(Work_D_Only_Bool,NETWORKDAYS.INTL(NJ9,NJ9,WE_Days,Tools!$B$10:$B$55),1)","v":1},{"$f":"IF(Work_D_Only_Bool,NETWORKDAYS.INTL(NK9,NK9,WE_Days,Tools!$B$10:$B$55),1)","v":1},{"$f":"IF(Work_D_Only_Bool,NETWORKDAYS.INTL(NL9,NL9,WE_Days,Tools!$B$10:$B$55),1)","v":1},{"$f":"IF(Work_D_Only_Bool,NETWORKDAYS.INTL(NM9,NM9,WE_Days,Tools!$B$10:$B$55),1)","v":1},{"$f":"IF(Work_D_Only_Bool,NETWORKDAYS.INTL(NN9,NN9,WE_Days,Tools!$B$10:$B$55),1)","v":1},{"$f":"IF(Work_D_Only_Bool,NETWORKDAYS.INTL(NO9,NO9,WE_Days,Tools!$B$10:$B$55),1)","v":1},{"$f":"IF(Work_D_Only_Bool,NETWORKDAYS.INTL(NP9,NP9,WE_Days,Tools!$B$10:$B$55),1)","v":1},{"$f":"IF(Work_D_Only_Bool,NETWORKDAYS.INTL(NQ9,NQ9,WE_Days,Tools!$B$10:$B$55),1)","v":1},{"$f":"IF(Work_D_Only_Bool,NETWORKDAYS.INTL(NR9,NR9,WE_Days,Tools!$B$10:$B$55),1)","v":1},{"$f":"IF(Work_D_Only_Bool,NETWORKDAYS.INTL(NS9,NS9,WE_Days,Tools!$B$10:$B$55),1)","v":1},{"$f":"IF(Work_D_Only_Bool,NETWORKDAYS.INTL(NT9,NT9,WE_Days,Tools!$B$10:$B$55),1)","v":1},{"$f":"IF(Work_D_Only_Bool,NETWORKDAYS.INTL(NU9,NU9,WE_Days,Tools!$B$10:$B$55),1)","v":1},{"$f":"IF(Work_D_Only_Bool,NETWORKDAYS.INTL(NV9,NV9,WE_Days,Tools!$B$10:$B$55),1)","v":1},{"$f":"IF(Work_D_Only_Bool,NETWORKDAYS.INTL(NW9,NW9,WE_Days,Tools!$B$10:$B$55),1)","v":1},{"$f":"IF(Work_D_Only_Bool,NETWORKDAYS.INTL(NX9,NX9,WE_Days,Tools!$B$10:$B$55),1)","v":1},{"$f":"IF(Work_D_Only_Bool,NETWORKDAYS.INTL(NY9,NY9,WE_Days,Tools!$B$10:$B$55),1)","v":1},{"$f":"IF(Work_D_Only_Bool,NETWORKDAYS.INTL(NZ9,NZ9,WE_Days,Tools!$B$10:$B$55),1)","v":1},{"$f":"IF(Work_D_Only_Bool,NETWORKDAYS.INTL(OA9,OA9,WE_Days,Tools!$B$10:$B$55),1)","v":1},{"$f":"IF(Work_D_Only_Bool,NETWORKDAYS.INTL(OB9,OB9,WE_Days,Tools!$B$10:$B$55),1)","v":1},{"$f":"IF(Work_D_Only_Bool,NETWORKDAYS.INTL(OC9,OC9,WE_Days,Tools!$B$10:$B$55),1)","v":1},{"$f":"IF(Work_D_Only_Bool,NETWORKDAYS.INTL(OD9,OD9,WE_Days,Tools!$B$10:$B$55),1)","v":1},{"$f":"IF(Work_D_Only_Bool,NETWORKDAYS.INTL(OE9,OE9,WE_Days,Tools!$B$10:$B$55),1)","v":1},{"$f":"IF(Work_D_Only_Bool,NETWORKDAYS.INTL(OF9,OF9,WE_Days,Tools!$B$10:$B$55),1)","v":1},{"$f":"IF(Work_D_Only_Bool,NETWORKDAYS.INTL(OG9,OG9,WE_Days,Tools!$B$10:$B$55),1)","v":1},{"$f":"IF(Work_D_Only_Bool,NETWORKDAYS.INTL(OH9,OH9,WE_Days,Tools!$B$10:$B$55),1)","v":1},{"$f":"IF(Work_D_Only_Bool,NETWORKDAYS.INTL(OI9,OI9,WE_Days,Tools!$B$10:$B$55),1)","v":1},{"$f":"IF(Work_D_Only_Bool,NETWORKDAYS.INTL(OJ9,OJ9,WE_Days,Tools!$B$10:$B$55),1)","v":1},{"$f":"IF(Work_D_Only_Bool,NETWORKDAYS.INTL(OK9,OK9,WE_Days,Tools!$B$10:$B$55),1)","v":1},{"$f":"IF(Work_D_Only_Bool,NETWORKDAYS.INTL(OL9,OL9,WE_Days,Tools!$B$10:$B$55),1)","v":1},{"$f":"IF(Work_D_Only_Bool,NETWORKDAYS.INTL(OM9,OM9,WE_Days,Tools!$B$10:$B$55),1)","v":1},{"$f":"IF(Work_D_Only_Bool,NETWORKDAYS.INTL(ON9,ON9,WE_Days,Tools!$B$10:$B$55),1)","v":1},{"$f":"IF(Work_D_Only_Bool,NETWORKDAYS.INTL(OO9,OO9,WE_Days,Tools!$B$10:$B$55),1)","v":1},{"$f":"IF(Work_D_Only_Bool,NETWORKDAYS.INTL(OP9,OP9,WE_Days,Tools!$B$10:$B$55),1)","v":1},{"$f":"IF(Work_D_Only_Bool,NETWORKDAYS.INTL(OQ9,OQ9,WE_Days,Tools!$B$10:$B$55),1)","v":1},{"$f":"IF(Work_D_Only_Bool,NETWORKDAYS.INTL(OR9,OR9,WE_Days,Tools!$B$10:$B$55),1)","v":1},{"$f":"IF(Work_D_Only_Bool,NETWORKDAYS.INTL(OS9,OS9,WE_Days,Tools!$B$10:$B$55),1)","v":1},{"$f":"IF(Work_D_Only_Bool,NETWORKDAYS.INTL(OT9,OT9,WE_Days,Tools!$B$10:$B$55),1)","v":1},{"$f":"IF(Work_D_Only_Bool,NETWORKDAYS.INTL(OU9,OU9,WE_Days,Tools!$B$10:$B$55),1)","v":1},{"$f":"IF(Work_D_Only_Bool,NETWORKDAYS.INTL(OV9,OV9,WE_Days,Tools!$B$10:$B$55),1)","v":1},{"$f":"IF(Work_D_Only_Bool,NETWORKDAYS.INTL(OW9,OW9,WE_Days,Tools!$B$10:$B$55),1)","v":1},{"$f":"IF(Work_D_Only_Bool,NETWORKDAYS.INTL(OX9,OX9,WE_Days,Tools!$B$10:$B$55),1)","v":1},{"$f":"IF(Work_D_Only_Bool,NETWORKDAYS.INTL(OY9,OY9,WE_Days,Tools!$B$10:$B$55),1)","v":1},{"$f":"IF(Work_D_Only_Bool,NETWORKDAYS.INTL(OZ9,OZ9,WE_Days,Tools!$B$10:$B$55),1)","v":1},{"$f":"IF(Work_D_Only_Bool,NETWORKDAYS.INTL(PA9,PA9,WE_Days,Tools!$B$10:$B$55),1)","v":1},{"$f":"IF(Work_D_Only_Bool,NETWORKDAYS.INTL(PB9,PB9,WE_Days,Tools!$B$10:$B$55),1)","v":1},{"$f":"IF(Work_D_Only_Bool,NETWORKDAYS.INTL(PC9,PC9,WE_Days,Tools!$B$10:$B$55),1)","v":1},{"$f":"IF(Work_D_Only_Bool,NETWORKDAYS.INTL(PD9,PD9,WE_Days,Tools!$B$10:$B$55),1)","v":1},{"$f":"IF(Work_D_Only_Bool,NETWORKDAYS.INTL(PE9,PE9,WE_Days,Tools!$B$10:$B$55),1)","v":1},{"$f":"IF(Work_D_Only_Bool,NETWORKDAYS.INTL(PF9,PF9,WE_Days,Tools!$B$10:$B$55),1)","v":1},{"$f":"IF(Work_D_Only_Bool,NETWORKDAYS.INTL(PG9,PG9,WE_Days,Tools!$B$10:$B$55),1)","v":1},{"$f":"IF(Work_D_Only_Bool,NETWORKDAYS.INTL(PH9,PH9,WE_Days,Tools!$B$10:$B$55),1)","v":1},{"$f":"IF(Work_D_Only_Bool,NETWORKDAYS.INTL(PI9,PI9,WE_Days,Tools!$B$10:$B$55),1)","v":1},{"$f":"IF(Work_D_Only_Bool,NETWORKDAYS.INTL(PJ9,PJ9,WE_Days,Tools!$B$10:$B$55),1)","v":1},{"$f":"IF(Work_D_Only_Bool,NETWORKDAYS.INTL(PK9,PK9,WE_Days,Tools!$B$10:$B$55),1)","v":1},{"$f":"IF(Work_D_Only_Bool,NETWORKDAYS.INTL(PL9,PL9,WE_Days,Tools!$B$10:$B$55),1)","v":1},{"$f":"IF(Work_D_Only_Bool,NETWORKDAYS.INTL(PM9,PM9,WE_Days,Tools!$B$10:$B$55),1)","v":1},{"$f":"IF(Work_D_Only_Bool,NETWORKDAYS.INTL(PN9,PN9,WE_Days,Tools!$B$10:$B$55),1)","v":1},{"$f":"IF(Work_D_Only_Bool,NETWORKDAYS.INTL(PO9,PO9,WE_Days,Tools!$B$10:$B$55),1)","v":1},{"$f":"IF(Work_D_Only_Bool,NETWORKDAYS.INTL(PP9,PP9,WE_Days,Tools!$B$10:$B$55),1)","v":1},{"$f":"IF(Work_D_Only_Bool,NETWORKDAYS.INTL(PQ9,PQ9,WE_Days,Tools!$B$10:$B$55),1)","v":1},{"$f":"IF(Work_D_Only_Bool,NETWORKDAYS.INTL(PR9,PR9,WE_Days,Tools!$B$10:$B$55),1)","v":1},{"$f":"IF(Work_D_Only_Bool,NETWORKDAYS.INTL(PS9,PS9,WE_Days,Tools!$B$10:$B$55),1)","v":1},{"$f":"IF(Work_D_Only_Bool,NETWORKDAYS.INTL(PT9,PT9,WE_Days,Tools!$B$10:$B$55),1)","v":1},{"$f":"IF(Work_D_Only_Bool,NETWORKDAYS.INTL(PU9,PU9,WE_Days,Tools!$B$10:$B$55),1)","v":1},{"$f":"IF(Work_D_Only_Bool,NETWORKDAYS.INTL(PV9,PV9,WE_Days,Tools!$B$10:$B$55),1)","v":1},{"$f":"IF(Work_D_Only_Bool,NETWORKDAYS.INTL(PW9,PW9,WE_Days,Tools!$B$10:$B$55),1)","v":1},{"$f":"IF(Work_D_Only_Bool,NETWORKDAYS.INTL(PX9,PX9,WE_Days,Tools!$B$10:$B$55),1)","v":1},{"$f":"IF(Work_D_Only_Bool,NETWORKDAYS.INTL(PY9,PY9,WE_Days,Tools!$B$10:$B$55),1)","v":1},{"$f":"IF(Work_D_Only_Bool,NETWORKDAYS.INTL(PZ9,PZ9,WE_Days,Tools!$B$10:$B$55),1)","v":1},{"$f":"IF(Work_D_Only_Bool,NETWORKDAYS.INTL(QA9,QA9,WE_Days,Tools!$B$10:$B$55),1)","v":1},{"$f":"IF(Work_D_Only_Bool,NETWORKDAYS.INTL(QB9,QB9,WE_Days,Tools!$B$10:$B$55),1)","v":1},{"$f":"IF(Work_D_Only_Bool,NETWORKDAYS.INTL(QC9,QC9,WE_Days,Tools!$B$10:$B$55),1)","v":1},{"$f":"IF(Work_D_Only_Bool,NETWORKDAYS.INTL(QD9,QD9,WE_Days,Tools!$B$10:$B$55),1)","v":1},{"$f":"IF(Work_D_Only_Bool,NETWORKDAYS.INTL(QE9,QE9,WE_Days,Tools!$B$10:$B$55),1)","v":1},{"$f":"IF(Work_D_Only_Bool,NETWORKDAYS.INTL(QF9,QF9,WE_Days,Tools!$B$10:$B$55),1)","v":1},{"$f":"IF(Work_D_Only_Bool,NETWORKDAYS.INTL(QG9,QG9,WE_Days,Tools!$B$10:$B$55),1)","v":1},{"$f":"IF(Work_D_Only_Bool,NETWORKDAYS.INTL(QH9,QH9,WE_Days,Tools!$B$10:$B$55),1)","v":1},{"$f":"IF(Work_D_Only_Bool,NETWORKDAYS.INTL(QI9,QI9,WE_Days,Tools!$B$10:$B$55),1)","v":1},{"$f":"IF(Work_D_Only_Bool,NETWORKDAYS.INTL(QJ9,QJ9,WE_Days,Tools!$B$10:$B$55),1)","v":1},{"$f":"IF(Work_D_Only_Bool,NETWORKDAYS.INTL(QK9,QK9,WE_Days,Tools!$B$10:$B$55),1)","v":1},{"$f":"IF(Work_D_Only_Bool,NETWORKDAYS.INTL(QL9,QL9,WE_Days,Tools!$B$10:$B$55),1)","v":1},{"$f":"IF(Work_D_Only_Bool,NETWORKDAYS.INTL(QM9,QM9,WE_Days,Tools!$B$10:$B$55),1)","v":1},{"$f":"IF(Work_D_Only_Bool,NETWORKDAYS.INTL(QN9,QN9,WE_Days,Tools!$B$10:$B$55),1)","v":1},{"$f":"IF(Work_D_Only_Bool,NETWORKDAYS.INTL(QO9,QO9,WE_Days,Tools!$B$10:$B$55),1)","v":1},{"$f":"IF(Work_D_Only_Bool,NETWORKDAYS.INTL(QP9,QP9,WE_Days,Tools!$B$10:$B$55),1)","v":1},{"$f":"IF(Work_D_Only_Bool,NETWORKDAYS.INTL(QQ9,QQ9,WE_Days,Tools!$B$10:$B$55),1)","v":1},{"$f":"IF(Work_D_Only_Bool,NETWORKDAYS.INTL(QR9,QR9,WE_Days,Tools!$B$10:$B$55),1)","v":1},{"$f":"IF(Work_D_Only_Bool,NETWORKDAYS.INTL(QS9,QS9,WE_Days,Tools!$B$10:$B$55),1)","v":1},{"$f":"IF(Work_D_Only_Bool,NETWORKDAYS.INTL(QT9,QT9,WE_Days,Tools!$B$10:$B$55),1)","v":1},{"$f":"IF(Work_D_Only_Bool,NETWORKDAYS.INTL(QU9,QU9,WE_Days,Tools!$B$10:$B$55),1)","v":1},{"$f":"IF(Work_D_Only_Bool,NETWORKDAYS.INTL(QV9,QV9,WE_Days,Tools!$B$10:$B$55),1)","v":1},{"$f":"IF(Work_D_Only_Bool,NETWORKDAYS.INTL(QW9,QW9,WE_Days,Tools!$B$10:$B$55),1)","v":1},{"$f":"IF(Work_D_Only_Bool,NETWORKDAYS.INTL(QX9,QX9,WE_Days,Tools!$B$10:$B$55),1)","v":1},{"$f":"IF(Work_D_Only_Bool,NETWORKDAYS.INTL(QY9,QY9,WE_Days,Tools!$B$10:$B$55),1)","v":1},{"$f":"IF(Work_D_Only_Bool,NETWORKDAYS.INTL(QZ9,QZ9,WE_Days,Tools!$B$10:$B$55),1)","v":1},{"$f":"IF(Work_D_Only_Bool,NETWORKDAYS.INTL(RA9,RA9,WE_Days,Tools!$B$10:$B$55),1)","v":1},{"$f":"IF(Work_D_Only_Bool,NETWORKDAYS.INTL(RB9,RB9,WE_Days,Tools!$B$10:$B$55),1)","v":1},{"$f":"IF(Work_D_Only_Bool,NETWORKDAYS.INTL(RC9,RC9,WE_Days,Tools!$B$10:$B$55),1)","v":1},{"$f":"IF(Work_D_Only_Bool,NETWORKDAYS.INTL(RD9,RD9,WE_Days,Tools!$B$10:$B$55),1)","v":1},{"$f":"IF(Work_D_Only_Bool,NETWORKDAYS.INTL(RE9,RE9,WE_Days,Tools!$B$10:$B$55),1)","v":1},{"$f":"IF(Work_D_Only_Bool,NETWORKDAYS.INTL(RF9,RF9,WE_Days,Tools!$B$10:$B$55),1)","v":1},{"$f":"IF(Work_D_Only_Bool,NETWORKDAYS.INTL(RG9,RG9,WE_Days,Tools!$B$10:$B$55),1)","v":1},{"$f":"IF(Work_D_Only_Bool,NETWORKDAYS.INTL(RH9,RH9,WE_Days,Tools!$B$10:$B$55),1)","v":1},{"$f":"IF(Work_D_Only_Bool,NETWORKDAYS.INTL(RI9,RI9,WE_Days,Tools!$B$10:$B$55),1)","v":1},{"$f":"IF(Work_D_Only_Bool,NETWORKDAYS.INTL(RJ9,RJ9,WE_Days,Tools!$B$10:$B$55),1)","v":1},{"$f":"IF(Work_D_Only_Bool,NETWORKDAYS.INTL(RK9,RK9,WE_Days,Tools!$B$10:$B$55),1)","v":1},{"$f":"IF(Work_D_Only_Bool,NETWORKDAYS.INTL(RL9,RL9,WE_Days,Tools!$B$10:$B$55),1)","v":1},{"$f":"IF(Work_D_Only_Bool,NETWORKDAYS.INTL(RM9,RM9,WE_Days,Tools!$B$10:$B$55),1)","v":1},{"$f":"IF(Work_D_Only_Bool,NETWORKDAYS.INTL(RN9,RN9,WE_Days,Tools!$B$10:$B$55),1)","v":1},{"$f":"IF(Work_D_Only_Bool,NETWORKDAYS.INTL(RO9,RO9,WE_Days,Tools!$B$10:$B$55),1)","v":1},{"$f":"IF(Work_D_Only_Bool,NETWORKDAYS.INTL(RP9,RP9,WE_Days,Tools!$B$10:$B$55),1)","v":1},{"$f":"IF(Work_D_Only_Bool,NETWORKDAYS.INTL(RQ9,RQ9,WE_Days,Tools!$B$10:$B$55),1)","v":1},{"$f":"IF(Work_D_Only_Bool,NETWORKDAYS.INTL(RR9,RR9,WE_Days,Tools!$B$10:$B$55),1)","v":1},{"$f":"IF(Work_D_Only_Bool,NETWORKDAYS.INTL(RS9,RS9,WE_Days,Tools!$B$10:$B$55),1)","v":1},{"$f":"IF(Work_D_Only_Bool,NETWORKDAYS.INTL(RT9,RT9,WE_Days,Tools!$B$10:$B$55),1)","v":1},{"$f":"IF(Work_D_Only_Bool,NETWORKDAYS.INTL(RU9,RU9,WE_Days,Tools!$B$10:$B$55),1)","v":1},{"$f":"IF(Work_D_Only_Bool,NETWORKDAYS.INTL(RV9,RV9,WE_Days,Tools!$B$10:$B$55),1)","v":1},{"$f":"IF(Work_D_Only_Bool,NETWORKDAYS.INTL(RW9,RW9,WE_Days,Tools!$B$10:$B$55),1)","v":1},{"$f":"IF(Work_D_Only_Bool,NETWORKDAYS.INTL(RX9,RX9,WE_Days,Tools!$B$10:$B$55),1)","v":1},{"$f":"IF(Work_D_Only_Bool,NETWORKDAYS.INTL(RY9,RY9,WE_Days,Tools!$B$10:$B$55),1)","v":1},{"$f":"IF(Work_D_Only_Bool,NETWORKDAYS.INTL(RZ9,RZ9,WE_Days,Tools!$B$10:$B$55),1)","v":1},{"$f":"IF(Work_D_Only_Bool,NETWORKDAYS.INTL(SA9,SA9,WE_Days,Tools!$B$10:$B$55),1)","v":1},{"$f":"IF(Work_D_Only_Bool,NETWORKDAYS.INTL(SB9,SB9,WE_Days,Tools!$B$10:$B$55),1)","v":1},{"$f":"IF(Work_D_Only_Bool,NETWORKDAYS.INTL(SC9,SC9,WE_Days,Tools!$B$10:$B$55),1)","v":1},{"$f":"IF(Work_D_Only_Bool,NETWORKDAYS.INTL(SD9,SD9,WE_Days,Tools!$B$10:$B$55),1)","v":1},{"$f":"IF(Work_D_Only_Bool,NETWORKDAYS.INTL(SE9,SE9,WE_Days,Tools!$B$10:$B$55),1)","v":1},{"$f":"IF(Work_D_Only_Bool,NETWORKDAYS.INTL(SF9,SF9,WE_Days,Tools!$B$10:$B$55),1)","v":1},{"$f":"IF(Work_D_Only_Bool,NETWORKDAYS.INTL(SG9,SG9,WE_Days,Tools!$B$10:$B$55),1)","v":1},{"$f":"IF(Work_D_Only_Bool,NETWORKDAYS.INTL(SH9,SH9,WE_Days,Tools!$B$10:$B$55),1)","v":1},{"$f":"IF(Work_D_Only_Bool,NETWORKDAYS.INTL(SI9,SI9,WE_Days,Tools!$B$10:$B$55),1)","v":1},{"$f":"IF(Work_D_Only_Bool,NETWORKDAYS.INTL(SJ9,SJ9,WE_Days,Tools!$B$10:$B$55),1)","v":1},{"$f":"IF(Work_D_Only_Bool,NETWORKDAYS.INTL(SK9,SK9,WE_Days,Tools!$B$10:$B$55),1)","v":1},{"$f":"IF(Work_D_Only_Bool,NETWORKDAYS.INTL(SL9,SL9,WE_Days,Tools!$B$10:$B$55),1)","v":1},{"$f":"IF(Work_D_Only_Bool,NETWORKDAYS.INTL(SM9,SM9,WE_Days,Tools!$B$10:$B$55),1)","v":1},{"$f":"IF(Work_D_Only_Bool,NETWORKDAYS.INTL(SN9,SN9,WE_Days,Tools!$B$10:$B$55),1)","v":1},{"$f":"IF(Work_D_Only_Bool,NETWORKDAYS.INTL(SO9,SO9,WE_Days,Tools!$B$10:$B$55),1)","v":1},{"$f":"IF(Work_D_Only_Bool,NETWORKDAYS.INTL(SP9,SP9,WE_Days,Tools!$B$10:$B$55),1)","v":1},{"$f":"IF(Work_D_Only_Bool,NETWORKDAYS.INTL(SQ9,SQ9,WE_Days,Tools!$B$10:$B$55),1)","v":1},{"$f":"IF(Work_D_Only_Bool,NETWORKDAYS.INTL(SR9,SR9,WE_Days,Tools!$B$10:$B$55),1)","v":1},{"$f":"IF(Work_D_Only_Bool,NETWORKDAYS.INTL(SS9,SS9,WE_Days,Tools!$B$10:$B$55),1)","v":1},{"$f":"IF(Work_D_Only_Bool,NETWORKDAYS.INTL(ST9,ST9,WE_Days,Tools!$B$10:$B$55),1)","v":1},{"$f":"IF(Work_D_Only_Bool,NETWORKDAYS.INTL(SU9,SU9,WE_Days,Tools!$B$10:$B$55),1)","v":1},{"$f":"IF(Work_D_Only_Bool,NETWORKDAYS.INTL(SV9,SV9,WE_Days,Tools!$B$10:$B$55),1)","v":1},{"$f":"IF(Work_D_Only_Bool,NETWORKDAYS.INTL(SW9,SW9,WE_Days,Tools!$B$10:$B$55),1)","v":1},{"$f":"IF(Work_D_Only_Bool,NETWORKDAYS.INTL(SX9,SX9,WE_Days,Tools!$B$10:$B$55),1)","v":1},{"$f":"IF(Work_D_Only_Bool,NETWORKDAYS.INTL(SY9,SY9,WE_Days,Tools!$B$10:$B$55),1)","v":1},{"$f":"IF(Work_D_Only_Bool,NETWORKDAYS.INTL(SZ9,SZ9,WE_Days,Tools!$B$10:$B$55),1)","v":1},{"$f":"IF(Work_D_Only_Bool,NETWORKDAYS.INTL(TA9,TA9,WE_Days,Tools!$B$10:$B$55),1)","v":1},{"$f":"IF(Work_D_Only_Bool,NETWORKDAYS.INTL(TB9,TB9,WE_Days,Tools!$B$10:$B$55),1)","v":1},{"$f":"IF(Work_D_Only_Bool,NETWORKDAYS.INTL(TC9,TC9,WE_Days,Tools!$B$10:$B$55),1)","v":1},{"$f":"IF(Work_D_Only_Bool,NETWORKDAYS.INTL(TD9,TD9,WE_Days,Tools!$B$10:$B$55),1)","v":1},{"$f":"IF(Work_D_Only_Bool,NETWORKDAYS.INTL(TE9,TE9,WE_Days,Tools!$B$10:$B$55),1)","v":1},{"$f":"IF(Work_D_Only_Bool,NETWORKDAYS.INTL(TF9,TF9,WE_Days,Tools!$B$10:$B$55),1)","v":1},{"$f":"IF(Work_D_Only_Bool,NETWORKDAYS.INTL(TG9,TG9,WE_Days,Tools!$B$10:$B$55),1)","v":1},{"$f":"IF(Work_D_Only_Bool,NETWORKDAYS.INTL(TH9,TH9,WE_Days,Tools!$B$10:$B$55),1)","v":1},{"$f":"IF(Work_D_Only_Bool,NETWORKDAYS.INTL(TI9,TI9,WE_Days,Tools!$B$10:$B$55),1)","v":1},{"$f":"IF(Work_D_Only_Bool,NETWORKDAYS.INTL(TJ9,TJ9,WE_Days,Tools!$B$10:$B$55),1)","v":1},{"$f":"IF(Work_D_Only_Bool,NETWORKDAYS.INTL(TK9,TK9,WE_Days,Tools!$B$10:$B$55),1)","v":1},{"$f":"IF(Work_D_Only_Bool,NETWORKDAYS.INTL(TL9,TL9,WE_Days,Tools!$B$10:$B$55),1)","v":1},{"$f":"IF(Work_D_Only_Bool,NETWORKDAYS.INTL(TM9,TM9,WE_Days,Tools!$B$10:$B$55),1)","v":1},{"$f":"IF(Work_D_Only_Bool,NETWORKDAYS.INTL(TN9,TN9,WE_Days,Tools!$B$10:$B$55),1)","v":1},{"$f":"IF(Work_D_Only_Bool,NETWORKDAYS.INTL(TO9,TO9,WE_Days,Tools!$B$10:$B$55),1)","v":1},{"$f":"IF(Work_D_Only_Bool,NETWORKDAYS.INTL(TP9,TP9,WE_Days,Tools!$B$10:$B$55),1)","v":1},{"$f":"IF(Work_D_Only_Bool,NETWORKDAYS.INTL(TQ9,TQ9,WE_Days,Tools!$B$10:$B$55),1)","v":1},{"$f":"IF(Work_D_Only_Bool,NETWORKDAYS.INTL(TR9,TR9,WE_Days,Tools!$B$10:$B$55),1)","v":1},{"$f":"IF(Work_D_Only_Bool,NETWORKDAYS.INTL(TS9,TS9,WE_Days,Tools!$B$10:$B$55),1)","v":1},{"$f":"IF(Work_D_Only_Bool,NETWORKDAYS.INTL(TT9,TT9,WE_Days,Tools!$B$10:$B$55),1)","v":1},{"$f":"IF(Work_D_Only_Bool,NETWORKDAYS.INTL(TU9,TU9,WE_Days,Tools!$B$10:$B$55),1)","v":1},{"$f":"IF(Work_D_Only_Bool,NETWORKDAYS.INTL(TV9,TV9,WE_Days,Tools!$B$10:$B$55),1)","v":1},{"$f":"IF(Work_D_Only_Bool,NETWORKDAYS.INTL(TW9,TW9,WE_Days,Tools!$B$10:$B$55),1)","v":1},{"$f":"IF(Work_D_Only_Bool,NETWORKDAYS.INTL(TX9,TX9,WE_Days,Tools!$B$10:$B$55),1)","v":1},{"$f":"IF(Work_D_Only_Bool,NETWORKDAYS.INTL(TY9,TY9,WE_Days,Tools!$B$10:$B$55),1)","v":1},{"$f":"IF(Work_D_Only_Bool,NETWORKDAYS.INTL(TZ9,TZ9,WE_Days,Tools!$B$10:$B$55),1)","v":1},{"$f":"IF(Work_D_Only_Bool,NETWORKDAYS.INTL(UA9,UA9,WE_Days,Tools!$B$10:$B$55),1)","v":1},{"$f":"IF(Work_D_Only_Bool,NETWORKDAYS.INTL(UB9,UB9,WE_Days,Tools!$B$10:$B$55),1)","v":1},{"$f":"IF(Work_D_Only_Bool,NETWORKDAYS.INTL(UC9,UC9,WE_Days,Tools!$B$10:$B$55),1)","v":1},{"$f":"IF(Work_D_Only_Bool,NETWORKDAYS.INTL(UD9,UD9,WE_Days,Tools!$B$10:$B$55),1)","v":1},{"$f":"IF(Work_D_Only_Bool,NETWORKDAYS.INTL(UE9,UE9,WE_Days,Tools!$B$10:$B$55),1)","v":1},{"$f":"IF(Work_D_Only_Bool,NETWORKDAYS.INTL(UF9,UF9,WE_Days,Tools!$B$10:$B$55),1)","v":1},{"$f":"IF(Work_D_Only_Bool,NETWORKDAYS.INTL(UG9,UG9,WE_Days,Tools!$B$10:$B$55),1)","v":1},{"$f":"IF(Work_D_Only_Bool,NETWORKDAYS.INTL(UH9,UH9,WE_Days,Tools!$B$10:$B$55),1)","v":1},{"$f":"IF(Work_D_Only_Bool,NETWORKDAYS.INTL(UI9,UI9,WE_Days,Tools!$B$10:$B$55),1)","v":1},{"$f":"IF(Work_D_Only_Bool,NETWORKDAYS.INTL(UJ9,UJ9,WE_Days,Tools!$B$10:$B$55),1)","v":1},{"$f":"IF(Work_D_Only_Bool,NETWORKDAYS.INTL(UK9,UK9,WE_Days,Tools!$B$10:$B$55),1)","v":1},{"$f":"IF(Work_D_Only_Bool,NETWORKDAYS.INTL(UL9,UL9,WE_Days,Tools!$B$10:$B$55),1)","v":1},{"$f":"IF(Work_D_Only_Bool,NETWORKDAYS.INTL(UM9,UM9,WE_Days,Tools!$B$10:$B$55),1)","v":1}]
[null,null,null,null,null,null,null,null,null,null,null,null,null,null,null,null,null,null,null,null,null,null,null,null," ¶¶¶ Please Hide these rows. Do not delete. ¶¶¶",null,null,null,null,null,null,null,null,null,"Date",{"$f":"Start_Date_Fusion","v":"2016-10-31"},{"$f":"AJ9+1","v":"2016-11-01"},"2016-11-02","2016-11-03","2016-11-04","2016-11-05","2016-11-06","2016-11-07","2016-11-08","2016-11-09",{"$f":"AS9+1","v":"2016-11-10"},"2016-11-11","2016-11-12","2016-11-13","2016-11-14","2016-11-15","2016-11-16","2016-11-17","2016-11-18","2016-11-19","2016-11-20",{"$f":"BD9+1","v":"2016-11-21"},{"$f":"BE9+1","v":"2016-11-22"},"2016-11-23","2016-11-24","2016-11-25","2016-11-26","2016-11-27","2016-11-28","2016-11-29","2016-11-30","2016-12-01","2016-12-02","2016-12-03","2016-12-04","2016-12-05","2016-12-06","2016-12-07","2016-12-08","2016-12-09","2016-12-10","2016-12-11","2016-12-12","2016-12-13","2016-12-14","2016-12-15","2016-12-16","2016-12-17","2016-12-18","2016-12-19","2016-12-20","2016-12-21","2016-12-22","2016-12-23","2016-12-24","2016-12-25","2016-12-26","2016-12-27","2016-12-28","2016-12-29","2016-12-30","2016-12-31","2017-01-01","2017-01-02","2017-01-03",{"$f":"CV9+1","v":"2017-01-04"},"2017-01-05","2017-01-06","2017-01-07","2017-01-08","2017-01-09","2017-01-10","2017-01-11","2017-01-12","2017-01-13","2017-01-14","2017-01-15","2017-01-16","2017-01-17","2017-01-18","2017-01-19","2017-01-20","2017-01-21","2017-01-22","2017-01-23","2017-01-24","2017-01-25","2017-01-26","2017-01-27","2017-01-28","2017-01-29","2017-01-30","2017-01-31","2017-02-01","2017-02-02","2017-02-03","2017-02-04","2017-02-05","2017-02-06","2017-02-07","2017-02-08","2017-02-09","2017-02-10","2017-02-11","2017-02-12","2017-02-13","2017-02-14","2017-02-15","2017-02-16","2017-02-17","2017-02-18","2017-02-19","2017-02-20","2017-02-21","2017-02-22","2017-02-23","2017-02-24","2017-02-25","2017-02-26","2017-02-27","2017-02-28","2017-03-01","2017-03-02","2017-03-03","2017-03-04","2017-03-05","2017-03-06","2017-03-07","2017-03-08",{"$f":"FH9+1","v":"2017-03-09"},"2017-03-10","2017-03-11","2017-03-12","2017-03-13","2017-03-14","2017-03-15","2017-03-16","2017-03-17","2017-03-18","2017-03-19","2017-03-20","2017-03-21","2017-03-22","2017-03-23","2017-03-24","2017-03-25","2017-03-26","2017-03-27","2017-03-28","2017-03-29","2017-03-30","2017-03-31","2017-04-01","2017-04-02","2017-04-03","2017-04-04","2017-04-05","2017-04-06","2017-04-07","2017-04-08","2017-04-09","2017-04-10","2017-04-11","2017-04-12","2017-04-13","2017-04-14","2017-04-15","2017-04-16","2017-04-17","2017-04-18","2017-04-19","2017-04-20","2017-04-21","2017-04-22","2017-04-23","2017-04-24","2017-04-25","2017-04-26","2017-04-27","2017-04-28","2017-04-29","2017-04-30","2017-05-01","2017-05-02","2017-05-03","2017-05-04","2017-05-05","2017-05-06","2017-05-07","2017-05-08","2017-05-09","2017-05-10","2017-05-11",{"$f":"HT9+1","v":"2017-05-12"},"2017-05-13","2017-05-14","2017-05-15","2017-05-16","2017-05-17","2017-05-18","2017-05-19","2017-05-20","2017-05-21","2017-05-22","2017-05-23","2017-05-24","2017-05-25","2017-05-26","2017-05-27","2017-05-28","2017-05-29","2017-05-30","2017-05-31","2017-06-01","2017-06-02","2017-06-03","2017-06-04","2017-06-05","2017-06-06","2017-06-07","2017-06-08","2017-06-09","2017-06-10","2017-06-11","2017-06-12","2017-06-13","2017-06-14","2017-06-15","2017-06-16","2017-06-17","2017-06-18","2017-06-19","2017-06-20","2017-06-21","2017-06-22","2017-06-23","2017-06-24","2017-06-25","2017-06-26","2017-06-27","2017-06-28","2017-06-29","2017-06-30","2017-07-01","2017-07-02","2017-07-03","2017-07-04","2017-07-05","2017-07-06","2017-07-07","2017-07-08","2017-07-09","2017-07-10","2017-07-11","2017-07-12","2017-07-13","2017-07-14",{"$f":"KF9+1","v":"2017-07-15"},"2017-07-16","2017-07-17","2017-07-18","2017-07-19","2017-07-20","2017-07-21","2017-07-22","2017-07-23","2017-07-24","2017-07-25","2017-07-26","2017-07-27","2017-07-28","2017-07-29","2017-07-30","2017-07-31","2017-08-01","2017-08-02","2017-08-03","2017-08-04","2017-08-05","2017-08-06","2017-08-07","2017-08-08","2017-08-09","2017-08-10","2017-08-11","2017-08-12","2017-08-13","2017-08-14","2017-08-15","2017-08-16","2017-08-17","2017-08-18","2017-08-19","2017-08-20","2017-08-21","2017-08-22","2017-08-23","2017-08-24","2017-08-25","2017-08-26","2017-08-27","2017-08-28","2017-08-29","2017-08-30","2017-08-31","2017-09-01","2017-09-02","2017-09-03","2017-09-04","2017-09-05","2017-09-06","2017-09-07","2017-09-08","2017-09-09","2017-09-10","2017-09-11","2017-09-12","2017-09-13","2017-09-14","2017-09-15","2017-09-16",{"$f":"MR9+1","v":"2017-09-17"},"2017-09-18","2017-09-19","2017-09-20","2017-09-21","2017-09-22","2017-09-23","2017-09-24","2017-09-25","2017-09-26","2017-09-27","2017-09-28","2017-09-29","2017-09-30","2017-10-01","2017-10-02","2017-10-03","2017-10-04","2017-10-05","2017-10-06","2017-10-07","2017-10-08","2017-10-09","2017-10-10","2017-10-11","2017-10-12","2017-10-13","2017-10-14","2017-10-15","2017-10-16","2017-10-17","2017-10-18","2017-10-19","2017-10-20","2017-10-21","2017-10-22","2017-10-23","2017-10-24","2017-10-25","2017-10-26","2017-10-27","2017-10-28","2017-10-29","2017-10-30","2017-10-31","2017-11-01","2017-11-02","2017-11-03","2017-11-04","2017-11-05","2017-11-06","2017-11-07","2017-11-08","2017-11-09","2017-11-10","2017-11-11","2017-11-12","2017-11-13","2017-11-14","2017-11-15","2017-11-16","2017-11-17","2017-11-18","2017-11-19",{"$f":"PD9+1","v":"2017-11-20"},"2017-11-21","2017-11-22","2017-11-23","2017-11-24","2017-11-25","2017-11-26","2017-11-27","2017-11-28","2017-11-29","2017-11-30","2017-12-01","2017-12-02","2017-12-03","2017-12-04","2017-12-05","2017-12-06","2017-12-07","2017-12-08","2017-12-09","2017-12-10","2017-12-11","2017-12-12","2017-12-13","2017-12-14","2017-12-15","2017-12-16","2017-12-17","2017-12-18","2017-12-19","2017-12-20","2017-12-21","2017-12-22","2017-12-23","2017-12-24","2017-12-25","2017-12-26","2017-12-27","2017-12-28","2017-12-29","2017-12-30","2017-12-31","2018-01-01","2018-01-02","2018-01-03","2018-01-04","2018-01-05","2018-01-06","2018-01-07","2018-01-08","2018-01-09","2018-01-10","2018-01-11","2018-01-12","2018-01-13","2018-01-14","2018-01-15","2018-01-16","2018-01-17","2018-01-18","2018-01-19","2018-01-20","2018-01-21","2018-01-22",{"$f":"RP9+1","v":"2018-01-23"},"2018-01-24","2018-01-25","2018-01-26","2018-01-27","2018-01-28","2018-01-29","2018-01-30","2018-01-31","2018-02-01","2018-02-02","2018-02-03","2018-02-04","2018-02-05","2018-02-06","2018-02-07","2018-02-08","2018-02-09","2018-02-10","2018-02-11","2018-02-12","2018-02-13","2018-02-14","2018-02-15","2018-02-16","2018-02-17","2018-02-18","2018-02-19","2018-02-20","2018-02-21","2018-02-22","2018-02-23","2018-02-24","2018-02-25","2018-02-26","2018-02-27","2018-02-28","2018-03-01","2018-03-02","2018-03-03","2018-03-04","2018-03-05","2018-03-06","2018-03-07","2018-03-08","2018-03-09","2018-03-10","2018-03-11","2018-03-12","2018-03-13","2018-03-14","2018-03-15","2018-03-16","2018-03-17","2018-03-18","2018-03-19","2018-03-20","2018-03-21","2018-03-22","2018-03-23","2018-03-24","2018-03-25","2018-03-26","2018-03-27",{"$f":"UB9+1","v":"2018-03-28"},"2018-03-29","2018-03-30","2018-03-31","2018-04-01","2018-04-02","2018-04-03","2018-04-04","2018-04-05","2018-04-06","2018-04-07"]
[null,null,null,null,null,null,null,null,null,null,null,null,null,null,null,null,null,null,null,null,null,null,null,null,null,null,null,null,null,null,null,null,null,null,null,{"$f":"IF(DAY(AJ18)=1,AJ18,IF(AJ9=Red_Bookmark,\"TODAY\",\"\"))","v":""},"2016-11-01","","","","","","","","","","TODAY","","","","","","","","","","","","","","","","","","","","2016-12-01","","","","","","","","","","","","","","","","","","","","","","","","","","","","","","","2017-01-01","",{"$f":"IF(DAY(CV18)=1,CV18,IF(CV9=Red_Bookmark,\"TODAY\",\"\"))","v":""},"","","","","","","","","","","","","","","","","","","","","","","","","","","","","2017-02-01","","","","","","","","","","","","","","","","","","","","","","","","","","","","2017-03-01","","","","","","",{"$f":"IF(DAY(FH18)=1,FH18,IF(FH9=Red_Bookmark,\"TODAY\",\"\"))","v":""},"","","","","","","","","","","","","","","","","","","","","","","","2017-04-01","","","","","","","","","","","","","","","","","","","","","","","","","","","","","","2017-05-01","","","","","","","","","",{"$f":"IF(DAY(HT18)=1,HT18,IF(HT9=Red_Bookmark,\"TODAY\",\"\"))","v":""},"","","","","","","","","","","","","","","","","","","","","2017-06-01","","","","","","","","","","","","","","","","","","","","","","","","","","","","","","2017-07-01","","","","","","","","","","","","",{"$f":"IF(DAY(KF18)=1,KF18,IF(KF9=Red_Bookmark,\"TODAY\",\"\"))","v":""},"","","","","","","","","","","","","","","","","","2017-08-01","","","","","","","","","","","","","","","","","","","","","","","","","","","","","","","2017-09-01","","","","","","","","","","","","","","",{"$f":"IF(DAY(MR18)=1,MR18,IF(MR9=Red_Bookmark,\"TODAY\",\"\"))","v":""},"","","","","","","","","","","","","","","2017-10-01","","","","","","","","","","","","","","","","","","","","","","","","","","","","","","","2017-11-01","","","","","","","","","","","","","","","","","",{"$f":"IF(DAY(PD18)=1,PD18,IF(PD9=Red_Bookmark,\"TODAY\",\"\"))","v":""},"","","","","","","","","","","","2017-12-01","","","","","","","","","","","","","","","","","","","","","","","","","","","","","","","2018-01-01","","","","","","","","","","","","","","","","","","","","",{"$f":"IF(DAY(RP18)=1,RP18,IF(RP9=Red_Bookmark,\"TODAY\",\"\"))","v":""},"","","","","","","","","","2018-02-01","","","","","","","","","","","","","","","","","","","","","","","","","","","","2018-03-01","","","","","","","","","","","","","","","","","","","","","","","","","",{"$f":"IF(DAY(UB18)=1,UB18,IF(UB9=Red_Bookmark,\"TODAY\",\"\"))","v":""},"","","","","2018-04-01","","","","","",""]
[]
[]
[]
[null,null,null,null,null,null,null,null,null,null,null,null,null,null,null,{"$f":"IF($AG$14=\"%\",P15,\"\")","v":"Resp."},{"$f":"IF($AG$14=\"%\",Q15,\"\")","v":"Couleurs"},{"$f":"IF($AG$14=\"%\",R15,\"\")","v":"Niv. Taches"},{"$f":"IF($AG$14=\"%\",S15,\"\")","v":"Début"},{"$f":"IF($AG$14=\"%\",T15,\"\")","v":"Durée"},null,{"$f":"IF($AG$14=\"%\",V15,\"\")","v":"Recal. Dur."},{"$f":"IF($AG$14=\"%\",W15,\"\")","v":"Jours ouvrés"},{"$f":"IF($AG$14=\"%\",X15,\"\")","v":"Normal"},{"$f":"IF($AG$14=\"%\",Y15,\"\")","v":"Échéance"},null,null,{"$f":"IF($AG$14=\"%\",AB15,\"\")","v":"Statut"},null,null,{"$f":"IF($AG$14=\"%\",AE15,\"\")","v":"Estim."},{"$f":"IF($AG$14=\"%\",AF15,\"\")","v":"Réel"},"%",null,{"$f":"IF($AG$14=\"%\",AI15,\"\")","v":"Commentaires"},null,"11-2016",null,null,null,null,null,null,null,null,null,null,null,null,null,null,null,null,null,null,null,null,null,null,null,null,null,null,null,null,null,"12-2016",null,null,null,null,null,null,null,null,null,null,null,null,null,null,null,null,null,null,null,null,null,null,null,null,null,null,null,null,null,null,"1-2017",null,null,null,null,null,null,null,null,null,null,null,null,null,null,null,null,null,null,null,null,null,null,null,null,null,null,null,null,null,null,"2-2017",null,null,null,null,null,null,null,null,null,null,null,null,null,null,null,null,null,null,null,null,null,null,null,null,null,null,null,"3-2017",null,null,null,null,null,null,null,null,null,null,null,null,null,null,null,null,null,null,null,null,null,null,null,null,null,null,null,null,null,null,"4-2017",null,null,null,null,null,null,null,null,null,null,null,null,null,null,null,null,null,null,null,null,null,null,null,null,null,null,null,null,null,"5-2017",null,null,null,null,null,null,null,null,null,null,null,null,null,null,null,null,null,null,null,null,null,null,null,null,null,null,null,null,null,null,"6-2017",null,null,null,null,null,null,null,null,null,null,null,null,null,null,null,null,null,null,null,null,null,null,null,null,null,null,null,null,null,"7-2017",null,null,null,null,null,null,null,null,null,null,null,null,null,null,null,null,null,null,null,null,null,null,null,null,null,null,null,null,null,null,"8-2017",null,null,null,null,null,null,null,null,null,null,null,null,null,null,null,null,null,null,null,null,null,null,null,null,null,null,null,null,null,null,"9-2017",null,null,null,null,null,null,null,null,null,null,null,null,null,null,null,null,null,null,null,null,null,null,null,null,null,null,null,null,null,"10-2017",null,null,null,null,null,null,null,null,null,null,null,null,null,null,null,null,null,null,null,null,null,null,null,null,null,null,null,null,null,null,"11-2017",null,null,null,null,null,null,null,null,null,null,null,null,null,null,null,null,null,null,null,null,null,null,null,null,null,null,null,null,null,"12-2017",null,null,null,null,null,null,null,null,null,null,null,null,null,null,null,null,null,null,null,null,null,null,null,null,null,null,null,null,null,null,"1-2018",null,null,null,null,null,null,null,null,null,null,null,null,null,null,null,null,null,null,null,null,null,null,null,null,null,null,null,null,null,null,"2-2018",null,null,null,null,null,null,null,null,null,null,null,null,null,null,null,null,null,null,null,null,null,null,null,null,null,null,null,"3-2018",null,null,null,null,null,null,null,null,null,null,null,null,null,null,null,null,null,null,null,null,null,null,null,null,null,null,null,null,null,null,"4-2018"]
[null,null,null,null,null,null,null,null,null,null,null,null,null,null,null,"Resp.","Couleurs","Niv. Taches","Début","Durée",null,"Recal. Dur.","Jours ouvrés","Normal","Échéance",null,null,"Statut",null,null,"Estim.","Réel","%",null,"Commentaires",{"$f":"AJ16","v":"W44"},null,null,null,null,null,null,{"$f":"AQ16","v":"W45"},null,null,null,null,null,null,{"$f":"AX16","v":"W46"},null,null,null,null,null,null,{"$f":"BE16","v":"W47"},null,null,null,null,null,null,{"$f":"BL16","v":"W48"},null,null,null,null,null,null,{"$f":"BS16","v":"W49"},null,null,null,null,null,null,{"$f":"BZ16","v":"W50"},null,null,null,null,null,null,{"$f":"CG16","v":"W51"},null,null,null,null,null,null,{"$f":"CN16","v":"W52"},null,null,null,null,null,null,{"$f":"CU16","v":"W1"},null,null,null,null,null,null,{"$f":"DB16","v":"W2"},null,null,null,null,null,null,{"$f":"DI16","v":"W3"},null,null,null,null,null,null,{"$f":"DP16","v":"W4"},null,null,null,null,null,null,{"$f":"DW16","v":"W5"},null,null,null,null,null,null,{"$f":"ED16","v":"W6"},null,null,null,null,null,null,{"$f":"EK16","v":"W7"},null,null,null,null,null,null,{"$f":"ER16","v":"W8"},null,null,null,null,null,null,{"$f":"EY16","v":"W9"},null,null,null,null,null,null,{"$f":"FF16","v":"W10"},null,null,null,null,null,null,{"$f":"FM16","v":"W11"},null,null,null,null,null,null,{"$f":"FT16","v":"W12"},null,null,null,null,null,null,{"$f":"GA16","v":"W13"},null,null,null,null,null,null,{"$f":"GH16","v":"W14"},null,null,null,null,null,null,{"$f":"GO16","v":"W15"},null,null,null,null,null,null,{"$f":"GV16","v":"W16"},null,null,null,null,null,null,{"$f":"HC16","v":"W17"},null,null,null,null,null,null,{"$f":"HJ16","v":"W18"},null,null,null,null,null,null,{"$f":"HQ16","v":"W19"},null,null,null,null,null,null,{"$f":"HX16","v":"W20"},null,null,null,null,null,null,{"$f":"IE16","v":"W21"},null,null,null,null,null,null,{"$f":"IL16","v":"W22"},null,null,null,null,null,null,{"$f":"IS16","v":"W23"},null,null,null,null,null,null,{"$f":"IZ16","v":"W24"},null,null,null,null,null,null,{"$f":"JG16","v":"W25"},null,null,null,null,null,null,{"$f":"JN16","v":"W26"},null,null,null,null,null,null,{"$f":"JU16","v":"W27"},null,null,null,null,null,null,{"$f":"KB16","v":"W28"},null,null,null,null,null,null,{"$f":"KI16","v":"W29"},null,null,null,null,null,null,{"$f":"KP16","v":"W30"},null,null,null,null,null,null,{"$f":"KW16","v":"W31"},null,null,null,null,null,null,{"$f":"LD16","v":"W32"},null,null,null,null,null,null,{"$f":"LK16","v":"W33"},null,null,null,null,null,null,{"$f":"LR16","v":"W34"},null,null,null,null,null,null,{"$f":"LY16","v":"W35"},null,null,null,null,null,null,{"$f":"MF16","v":"W36"},null,null,null,null,null,null,{"$f":"MM16","v":"W37"},null,null,null,null,null,null,{"$f":"MT16","v":"W38"},null,null,null,null,null,null,{"$f":"NA16","v":"W39"},null,null,null,null,null,null,{"$f":"NH16","v":"W40"},null,null,null,null,null,null,{"$f":"NO16","v":"W41"},null,null,null,null,null,null,{"$f":"NV16","v":"W42"},null,null,null,null,null,null,{"$f":"OC16","v":"W43"},null,null,null,null,null,null,{"$f":"OJ16","v":"W44"},null,null,null,null,null,null,{"$f":"OQ16","v":"W45"},null,null,null,null,null,null,{"$f":"OX16","v":"W46"},null,null,null,null,null,null,{"$f":"PE16","v":"W47"},null,null,null,null,null,null,{"$f":"PL16","v":"W48"},null,null,null,null,null,null,{"$f":"PS16","v":"W49"},null,null,null,null,null,null,{"$f":"PZ16","v":"W50"},null,null,null,null,null,null,{"$f":"QG16","v":"W51"},null,null,null,null,null,null,{"$f":"QN16","v":"W52"},null,null,null,null,null,null,{"$f":"QU16","v":"W1"},null,null,null,null,null,null,{"$f":"RB16","v":"W2"},null,null,null,null,null,null,{"$f":"RI16","v":"W3"},null,null,null,null,null,null,{"$f":"RP16","v":"W4"},null,null,null,null,null,null,{"$f":"RW16","v":"W5"},null,null,null,null,null,null,{"$f":"SD16","v":"W6"},null,null,null,null,null,null,{"$f":"SK16","v":"W7"},null,null,null,null,null,null,{"$f":"SR16","v":"W8"},null,null,null,null,null,null,{"$f":"SY16","v":"W9"},null,null,null,null,null,null,{"$f":"TF16","v":"W10"},null,null,null,null,null,null,{"$f":"TM16","v":"W11"},null,null,null,null,null,null,{"$f":"TT16","v":"W12"},null,null,null,null,null,null,{"$f":"UA16","v":"W13"},null,null,null,null,null,null,{"$f":"UH16","v":"W14"}]
[null,null,null,null,null,null,null,null,null,null,null,null,null,null,null,null,null,null,null,null,null,null,null,null,null,null,null,null,null,null,null,null,null,null,null,{"$f":"Week_Name&WEEKNUM(AJ9,First_Day_Week2)","v":"W44"},"W44","W44","W44","W44","W44","W44","W45","W45","W45","W45","W45","W45","W45","W46","W46","W46","W46","W46","W46","W46","W47","W47","W47","W47","W47","W47","W47","W48","W48","W48","W48","W48","W48","W48","W49","W49","W49","W49","W49","W49","W49","W50","W50","W50","W50","W50","W50","W50","W51","W51","W51","W51","W51","W51","W51","W52","W52","W52","W52","W52","W52","W52","W1",{"$f":"Week_Name&WEEKNUM(CV9,First_Day_Week2)","v":"W1"},"W1","W1","W1","W1","W1","W2","W2","W2","W2","W2","W2","W2","W3","W3","W3","W3","W3","W3","W3","W4","W4","W4","W4","W4","W4","W4","W5","W5","W5","W5","W5","W5","W5","W6","W6","W6","W6","W6","W6","W6","W7","W7","W7","W7","W7","W7","W7","W8","W8","W8","W8","W8","W8","W8","W9","W9","W9","W9","W9","W9","W9","W10","W10",{"$f":"Week_Name&WEEKNUM(FH9,First_Day_Week2)","v":"W10"},"W10","W10","W10","W10","W11","W11","W11","W11","W11","W11","W11","W12","W12","W12","W12","W12","W12","W12","W13","W13","W13","W13","W13","W13","W13","W14","W14","W14","W14","W14","W14","W14","W15","W15","W15","W15","W15","W15","W15","W16","W16","W16","W16","W16","W16","W16","W17","W17","W17","W17","W17","W17","W17","W18","W18","W18","W18","W18","W18","W18","W19","W19","W19",{"$f":"Week_Name&WEEKNUM(HT9,First_Day_Week2)","v":"W19"},"W19","W19","W19","W20","W20","W20","W20","W20","W20","W20","W21","W21","W21","W21","W21","W21","W21","W22","W22","W22","W22","W22","W22","W22","W23","W23","W23","W23","W23","W23","W23","W24","W24","W24","W24","W24","W24","W24","W25","W25","W25","W25","W25","W25","W25","W26","W26","W26","W26","W26","W26","W26","W27","W27","W27","W27","W27","W27","W27","W28","W28","W28","W28",{"$f":"Week_Name&WEEKNUM(KF9,First_Day_Week2)","v":"W28"},"W28","W28","W29","W29","W29","W29","W29","W29","W29","W30","W30","W30","W30","W30","W30","W30","W31","W31","W31","W31","W31","W31","W31","W32","W32","W32","W32","W32","W32","W32","W33","W33","W33","W33","W33","W33","W33","W34","W34","W34","W34","W34","W34","W34","W35","W35","W35","W35","W35","W35","W35","W36","W36","W36","W36","W36","W36","W36","W37","W37","W37","W37","W37",{"$f":"Week_Name&WEEKNUM(MR9,First_Day_Week2)","v":"W37"},"W37","W38","W38","W38","W38","W38","W38","W38","W39","W39","W39","W39","W39","W39","W39","W40","W40","W40","W40","W40","W40","W40","W41","W41","W41","W41","W41","W41","W41","W42","W42","W42","W42","W42","W42","W42","W43","W43","W43","W43","W43","W43","W43","W44","W44","W44","W44","W44","W44","W44","W45","W45","W45","W45","W45","W45","W45","W46","W46","W46","W46","W46","W46",{"$f":"Week_Name&WEEKNUM(PD9,First_Day_Week2)","v":"W46"},"W47","W47","W47","W47","W47","W47","W47","W48","W48","W48","W48","W48","W48","W48","W49","W49","W49","W49","W49","W49","W49","W50","W50","W50","W50","W50","W50","W50","W51","W51","W51","W51","W51","W51","W51","W52","W52","W52","W52","W52","W52","W52","W1","W1","W1","W1","W1","W1","W1","W2","W2","W2","W2","W2","W2","W2","W3","W3","W3","W3","W3","W3","W3",{"$f":"Week_Name&WEEKNUM(RP9,First_Day_Week2)","v":"W4"},"W4","W4","W4","W4","W4","W4","W5","W5","W5","W5","W5","W5","W5","W6","W6","W6","W6","W6","W6","W6","W7","W7","W7","W7","W7","W7","W7","W8","W8","W8","W8","W8","W8","W8","W9","W9","W9","W9","W9","W9","W9","W10","W10","W10","W10","W10","W10","W10","W11","W11","W11","W11","W11","W11","W11","W12","W12","W12","W12","W12","W12","W12","W13",{"$f":"Week_Name&WEEKNUM(UB9,First_Day_Week2)","v":"W13"},"W13","W13","W13","W13","W13","W14","W14","W14","W14","W14","W14"]
[null,null,null,null,null,null,null,null,null,null,null,null,null,null,null,null,"Planning",null,null,null,null,null,null,null,null,null,null,null,null,null,"Budget",null,null,null,"Commentaires",{"$f":"IF(TEXT(AJ9,\"ddd\")=\"ddd\",UPPER(LEFT(TEXT(AJ9,\"jjj\"),1)),UPPER(LEFT(TEXT(AJ9,\"ddd\"),1)))","v":"L"},"M","M","J","V","S","D","L","M","M","J","V","S","D","L","M","M","J","V","S","D","L","M","M","J","V","S","D","L","M","M","J","V","S","D","L","M","M","J","V","S","D","L","M","M","J","V","S","D","L","M","M","J","V","S","D","L","M","M","J","V","S","D","L",{"$f":"IF(TEXT(CV9,\"ddd\")=\"ddd\",UPPER(LEFT(TEXT(CV9,\"jjj\"),1)),UPPER(LEFT(TEXT(CV9,\"ddd\"),1)))","v":"M"},"M","J","V","S","D","L","M","M","J","V","S","D","L","M","M","J","V","S","D","L","M","M","J","V","S","D","L","M","M","J","V","S","D","L","M","M","J","V","S","D","L","M","M","J","V","S","D","L","M","M","J","V","S","D","L","M","M","J","V","S","D","L","M",{"$f":"IF(TEXT(FH9,\"ddd\")=\"ddd\",UPPER(LEFT(TEXT(FH9,\"jjj\"),1)),UPPER(LEFT(TEXT(FH9,\"ddd\"),1)))","v":"M"},"J","V","S","D","L","M","M","J","V","S","D","L","M","M","J","V","S","D","L","M","M","J","V","S","D","L","M","M","J","V","S","D","L","M","M","J","V","S","D","L","M","M","J","V","S","D","L","M","M","J","V","S","D","L","M","M","J","V","S","D","L","M","M",{"$f":"IF(TEXT(HT9,\"ddd\")=\"ddd\",UPPER(LEFT(TEXT(HT9,\"jjj\"),1)),UPPER(LEFT(TEXT(HT9,\"ddd\"),1)))","v":"J"},"V","S","D","L","M","M","J","V","S","D","L","M","M","J","V","S","D","L","M","M","J","V","S","D","L","M","M","J","V","S","D","L","M","M","J","V","S","D","L","M","M","J","V","S","D","L","M","M","J","V","S","D","L","M","M","J","V","S","D","L","M","M","J",{"$f":"IF(TEXT(KF9,\"ddd\")=\"ddd\",UPPER(LEFT(TEXT(KF9,\"jjj\"),1)),UPPER(LEFT(TEXT(KF9,\"ddd\"),1)))","v":"V"},"S","D","L","M","M","J","V","S","D","L","M","M","J","V","S","D","L","M","M","J","V","S","D","L","M","M","J","V","S","D","L","M","M","J","V","S","D","L","M","M","J","V","S","D","L","M","M","J","V","S","D","L","M","M","J","V","S","D","L","M","M","J","V",{"$f":"IF(TEXT(MR9,\"ddd\")=\"ddd\",UPPER(LEFT(TEXT(MR9,\"jjj\"),1)),UPPER(LEFT(TEXT(MR9,\"ddd\"),1)))","v":"S"},"D","L","M","M","J","V","S","D","L","M","M","J","V","S","D","L","M","M","J","V","S","D","L","M","M","J","V","S","D","L","M","M","J","V","S","D","L","M","M","J","V","S","D","L","M","M","J","V","S","D","L","M","M","J","V","S","D","L","M","M","J","V","S",{"$f":"IF(TEXT(PD9,\"ddd\")=\"ddd\",UPPER(LEFT(TEXT(PD9,\"jjj\"),1)),UPPER(LEFT(TEXT(PD9,\"ddd\"),1)))","v":"D"},"L","M","M","J","V","S","D","L","M","M","J","V","S","D","L","M","M","J","V","S","D","L","M","M","J","V","S","D","L","M","M","J","V","S","D","L","M","M","J","V","S","D","L","M","M","J","V","S","D","L","M","M","J","V","S","D","L","M","M","J","V","S","D",{"$f":"IF(TEXT(RP9,\"ddd\")=\"ddd\",UPPER(LEFT(TEXT(RP9,\"jjj\"),1)),UPPER(LEFT(TEXT(RP9,\"ddd\"),1)))","v":"L"},"M","M","J","V","S","D","L","M","M","J","V","S","D","L","M","M","J","V","S","D","L","M","M","J","V","S","D","L","M","M","J","V","S","D","L","M","M","J","V","S","D","L","M","M","J","V","S","D","L","M","M","J","V","S","D","L","M","M","J","V","S","D","L",{"$f":"IF(TEXT(UB9,\"ddd\")=\"ddd\",UPPER(LEFT(TEXT(UB9,\"jjj\"),1)),UPPER(LEFT(TEXT(UB9,\"ddd\"),1)))","v":"M"},"M","J","V","S","D","L","M","M","J","V","S"]
[null,null,null,null,null,null,null,null,null,null,null,null,null,null,null,"Resp.","Couleurs","Niv. Taches","Début","Durée",null,"Recal. Dur.","Jours ouvrés","Normal","Échéance","Début Recalculé","Fin Recalculée","Statut",null,null,"Estim.","Réel","%",null,null,{"$f":"AJ9","v":"2016-10-31"},"2016-11-01","2016-11-02","2016-11-03","2016-11-04","2016-11-05","2016-11-06","2016-11-07","2016-11-08","2016-11-09","2016-11-10","2016-11-11","2016-11-12","2016-11-13","2016-11-14","2016-11-15","2016-11-16","2016-11-17","2016-11-18","2016-11-19","2016-11-20","2016-11-21","2016-11-22","2016-11-23","2016-11-24","2016-11-25","2016-11-26","2016-11-27","2016-11-28","2016-11-29","2016-11-30","2016-12-01","2016-12-02","2016-12-03","2016-12-04","2016-12-05","2016-12-06","2016-12-07","2016-12-08","2016-12-09","2016-12-10","2016-12-11","2016-12-12","2016-12-13","2016-12-14","2016-12-15","2016-12-16","2016-12-17","2016-12-18","2016-12-19","2016-12-20","2016-12-21","2016-12-22","2016-12-23","2016-12-24","2016-12-25","2016-12-26","2016-12-27","2016-12-28","2016-12-29","2016-12-30","2016-12-31","2017-01-01","2017-01-02",{"$f":"CV9","v":"2017-01-03"},"2017-01-04","2017-01-05","2017-01-06","2017-01-07","2017-01-08","2017-01-09","2017-01-10","2017-01-11","2017-01-12","2017-01-13","2017-01-14","2017-01-15","2017-01-16","2017-01-17","2017-01-18","2017-01-19","2017-01-20","2017-01-21","2017-01-22","2017-01-23","2017-01-24","2017-01-25","2017-01-26","2017-01-27","2017-01-28","2017-01-29","2017-01-30","2017-01-31","2017-02-01","2017-02-02","2017-02-03","2017-02-04","2017-02-05","2017-02-06","2017-02-07","2017-02-08","2017-02-09","2017-02-10","2017-02-11","2017-02-12","2017-02-13","2017-02-14","2017-02-15","2017-02-16","2017-02-17","2017-02-18","2017-02-19","2017-02-20","2017-02-21","2017-02-22","2017-02-23","2017-02-24","2017-02-25","2017-02-26","2017-02-27","2017-02-28","2017-03-01","2017-03-02","2017-03-03","2017-03-04","2017-03-05","2017-03-06","2017-03-07",{"$f":"FH9","v":"2017-03-08"},"2017-03-09","2017-03-10","2017-03-11","2017-03-12","2017-03-13","2017-03-14","2017-03-15","2017-03-16","2017-03-17","2017-03-18","2017-03-19","2017-03-20","2017-03-21","2017-03-22","2017-03-23","2017-03-24","2017-03-25","2017-03-26","2017-03-27","2017-03-28","2017-03-29","2017-03-30","2017-03-31","2017-04-01","2017-04-02","2017-04-03","2017-04-04","2017-04-05","2017-04-06","2017-04-07","2017-04-08","2017-04-09","2017-04-10","2017-04-11","2017-04-12","2017-04-13","2017-04-14","2017-04-15","2017-04-16","2017-04-17","2017-04-18","2017-04-19","2017-04-20","2017-04-21","2017-04-22","2017-04-23","2017-04-24","2017-04-25","2017-04-26","2017-04-27","2017-04-28","2017-04-29","2017-04-30","2017-05-01","2017-05-02","2017-05-03","2017-05-04","2017-05-05","2017-05-06","2017-05-07","2017-05-08","2017-05-09","2017-05-10",{"$f":"HT9","v":"2017-05-11"},"2017-05-12","2017-05-13","2017-05-14","2017-05-15","2017-05-16","2017-05-17","2017-05-18","2017-05-19","2017-05-20","2017-05-21","2017-05-22","2017-05-23","2017-05-24","2017-05-25","2017-05-26","2017-05-27","2017-05-28","2017-05-29","2017-05-30","2017-05-31","2017-06-01","2017-06-02","2017-06-03","2017-06-04","2017-06-05","2017-06-06","2017-06-07","2017-06-08","2017-06-09","2017-06-10","2017-06-11","2017-06-12","2017-06-13","2017-06-14","2017-06-15","2017-06-16","2017-06-17","2017-06-18","2017-06-19","2017-06-20","2017-06-21","2017-06-22","2017-06-23","2017-06-24","2017-06-25","2017-06-26","2017-06-27","2017-06-28","2017-06-29","2017-06-30","2017-07-01","2017-07-02","2017-07-03","2017-07-04","2017-07-05","2017-07-06","2017-07-07","2017-07-08","2017-07-09","2017-07-10","2017-07-11","2017-07-12","2017-07-13",{"$f":"KF9","v":"2017-07-14"},"2017-07-15","2017-07-16","2017-07-17","2017-07-18","2017-07-19","2017-07-20","2017-07-21","2017-07-22","2017-07-23","2017-07-24","2017-07-25","2017-07-26","2017-07-27","2017-07-28","2017-07-29","2017-07-30","2017-07-31","2017-08-01","2017-08-02","2017-08-03","2017-08-04","2017-08-05","2017-08-06","2017-08-07","2017-08-08","2017-08-09","2017-08-10","2017-08-11","2017-08-12","2017-08-13","2017-08-14","2017-08-15","2017-08-16","2017-08-17","2017-08-18","2017-08-19","2017-08-20","2017-08-21","2017-08-22","2017-08-23","2017-08-24","2017-08-25","2017-08-26","2017-08-27","2017-08-28","2017-08-29","2017-08-30","2017-08-31","2017-09-01","2017-09-02","2017-09-03","2017-09-04","2017-09-05","2017-09-06","2017-09-07","2017-09-08","2017-09-09","2017-09-10","2017-09-11","2017-09-12","2017-09-13","2017-09-14","2017-09-15",{"$f":"MR9","v":"2017-09-16"},"2017-09-17","2017-09-18","2017-09-19","2017-09-20","2017-09-21","2017-09-22","2017-09-23","2017-09-24","2017-09-25","2017-09-26","2017-09-27","2017-09-28","2017-09-29","2017-09-30","2017-10-01","2017-10-02","2017-10-03","2017-10-04","2017-10-05","2017-10-06","2017-10-07","2017-10-08","2017-10-09","2017-10-10","2017-10-11","2017-10-12","2017-10-13","2017-10-14","2017-10-15","2017-10-16","2017-10-17","2017-10-18","2017-10-19","2017-10-20","2017-10-21","2017-10-22","2017-10-23","2017-10-24","2017-10-25","2017-10-26","2017-10-27","2017-10-28","2017-10-29","2017-10-30","2017-10-31","2017-11-01","2017-11-02","2017-11-03","2017-11-04","2017-11-05","2017-11-06","2017-11-07","2017-11-08","2017-11-09","2017-11-10","2017-11-11","2017-11-12","2017-11-13","2017-11-14","2017-11-15","2017-11-16","2017-11-17","2017-11-18",{"$f":"PD9","v":"2017-11-19"},"2017-11-20","2017-11-21","2017-11-22","2017-11-23","2017-11-24","2017-11-25","2017-11-26","2017-11-27","2017-11-28","2017-11-29","2017-11-30","2017-12-01","2017-12-02","2017-12-03","2017-12-04","2017-12-05","2017-12-06","2017-12-07","2017-12-08","2017-12-09","2017-12-10","2017-12-11","2017-12-12","2017-12-13","2017-12-14","2017-12-15","2017-12-16","2017-12-17","2017-12-18","2017-12-19","2017-12-20","2017-12-21","2017-12-22","2017-12-23","2017-12-24","2017-12-25","2017-12-26","2017-12-27","2017-12-28","2017-12-29","2017-12-30","2017-12-31","2018-01-01","2018-01-02","2018-01-03","2018-01-04","2018-01-05","2018-01-06","2018-01-07","2018-01-08","2018-01-09","2018-01-10","2018-01-11","2018-01-12","2018-01-13","2018-01-14","2018-01-15","2018-01-16","2018-01-17","2018-01-18","2018-01-19","2018-01-20","2018-01-21",{"$f":"RP9","v":"2018-01-22"},"2018-01-23","2018-01-24","2018-01-25","2018-01-26","2018-01-27","2018-01-28","2018-01-29","2018-01-30","2018-01-31","2018-02-01","2018-02-02","2018-02-03","2018-02-04","2018-02-05","2018-02-06","2018-02-07","2018-02-08","2018-02-09","2018-02-10","2018-02-11","2018-02-12","2018-02-13","2018-02-14","2018-02-15","2018-02-16","2018-02-17","2018-02-18","2018-02-19","2018-02-20","2018-02-21","2018-02-22","2018-02-23","2018-02-24","2018-02-25","2018-02-26","2018-02-27","2018-02-28","2018-03-01","2018-03-02","2018-03-03","2018-03-04","2018-03-05","2018-03-06","2018-03-07","2018-03-08","2018-03-09","2018-03-10","2018-03-11","2018-03-12","2018-03-13","2018-03-14","2018-03-15","2018-03-16","2018-03-17","2018-03-18","2018-03-19","2018-03-20","2018-03-21","2018-03-22","2018-03-23","2018-03-24","2018-03-25","2018-03-26",{"$f":"UB9","v":"2018-03-27"},"2018-03-28","2018-03-29","2018-03-30","2018-03-31","2018-04-01","2018-04-02","2018-04-03","2018-04-04","2018-04-05","2018-04-06","2018-04-07"]
[null,null,null,null,null,null,null,null,null,null,"0",null,"Tache",null,null,null,null,1,{"$f":"MIN(Z20:Z21)","v":"2016-11-08"},{"$f":"Y19-S19+1","v":4},null,null,null,null,{"$f":"MAX(AA20:AA21)","v":"2016-11-11"},null,null,{"$f":"SUMPRODUCT(--(R20:R21=2),ABS(T20:T21),AB20:AB21)/SUM(ABS(T20:T21))","v":0.20000000000000004},{"$f":"S19-1+AB19*T19","v":"2016-11-07T19:12:00"},{"$f":"IF(AB19<>\"\",IF(AND(AB19<1,AC19<$DC$7),0,1))","v":0},{"$f":"SUMIF(R20:R21,2,AE20:AE21)","v":200},{"$f":"SUMIF(R20:R21,2,AF20:AF21)","v":0},{"$f":"IF(AND(AE19<>\"\",AF19<>\"\",AE19<>0),AF19/AE19,\"\")","v":0},{"$f":"AG19","v":0}]
[null,null,null,null,null,null,null,null,null,null,"0.1",null,"Sous-tache",null,null,"Mary",{"$f":"IF(ISERROR(VLOOKUP(P20,Tools!$D$11:$J$57,7,FALSE)),\"\",VLOOKUP(P20,Tools!$D$11:$J$57,7,FALSE))","v":5},2,"2016-11-09",2,"j",{"$f":"IF(U20=dur_type_d,T20,IF(U20=dur_type_w,IF(Work_D_Only_Bool,T20*5,T20*7),IF(U20=dur_type_m,IF(Work_D_Only_Bool,NETWORKDAYS.INTL(S20,DATE(YEAR(S20),MONTH(S20)+T20,DAY(S20)-1),WE_Days,Holiday_Days),DATE(YEAR(S20),MONTH(S20)+T20,DAY(S20))-S20),\"ERROR\")))","v":2},{"$f":"WORKDAY.INTL(S20,IF(V20>0,IF(OR(WEEKDAY(S20,2)>=6,COUNTIF(Holiday_Days,S20)>0),V20,V20-1),IF(OR(WEEKDAY(S20,2)>=6,COUNTIF(Holiday_Days,S20)>0),V20,V20+1)),HB$7,Holiday_Days)","v":"2016-11-10"},{"$f":"IF(V20>0,S20+V20-1,S20+V20+1)","v":"2016-11-10"},{"$f":"IF(S20<>\"\",IF($GE$7,W20,X20),\"\")","v":"2016-11-10"},{"$f":"IF(T20>0,S20,Y20)","v":"2016-11-09"},{"$f":"IF(T20>0,Y20,S20)","v":"2016-11-10"},{"$f":"SUMPRODUCT(AB21:AB22,ABS(T21:T22))/SUM(ABS(T21:T22))","v":0.2},{"$f":"INT(Z20+AB20*(AA20-Z20))","v":"2016-11-09"},{"$f":"IF(AND(AB20<1,AC20<$DC$7),0,1)","v":0},{"$f":"SUM(AE21:AE22)","v":100},{"$f":"SUM(AF21:AF22)","v":0},{"$f":"IF(AND(AE20<>\"\",AF20<>\"\"),AF20/AE20,\"\")","v":0},0]
[null,null,null,null,null,null,null,null,null,null,"0.2",null,"Sous-tache",null,null,"Jade",{"$f":"IF(ISERROR(VLOOKUP(P21,Tools!$D$11:$J$57,7,FALSE)),\"\",VLOOKUP(P21,Tools!$D$11:$J$57,7,FALSE))","v":6},2,{"$f":"$Y20+1","v":"2016-11-11"},-4,"j",{"$f":"IF(U21=dur_type_d,T21,IF(U21=dur_type_w,IF(Work_D_Only_Bool,T21*5,T21*7),IF(U21=dur_type_m,IF(Work_D_Only_Bool,NETWORKDAYS.INTL(S21,DATE(YEAR(S21),MONTH(S21)+T21,DAY(S21)-1),WE_Days,Holiday_Days),DATE(YEAR(S21),MONTH(S21)+T21,DAY(S21))-S21),\"ERROR\")))","v":-4},{"$f":"WORKDAY.INTL(S21,IF(V21>0,IF(OR(WEEKDAY(S21,2)>=6,COUNTIF(Holiday_Days,S21)>0),V21,V21-1),IF(OR(WEEKDAY(S21,2)>=6,COUNTIF(Holiday_Days,S21)>0),V21,V21+1)),HB$7,Holiday_Days)","v":"2016-11-08"},{"$f":"IF(V21>0,S21+V21-1,S21+V21+1)","v":"2016-11-08"},{"$f":"IF(S21<>\"\",IF($GE$7,W21,X21),\"\")","v":"2016-11-08"},{"$f":"IF(T21>0,S21,Y21)","v":"2016-11-08"},{"$f":"IF(T21>0,Y21,S21)","v":"2016-11-11"},0.2,{"$f":"INT(Z21+AB21*(AA21-Z21))","v":"2016-11-08"},{"$f":"IF(AND(AB21<1,AC21<$DC$7),0,1)","v":0},100,0,{"$f":"IF(AND(AE21<>\"\",AF21<>\"\"),AF21/AE21,\"\")","v":0},0]
[null,null,null,null,null,null,null,null,null,null,"MS",null,"Jalon",null,null,null,null,0,"2016-11-13"]
[null,null,null,null,null,null,null,null,null,null,1,null,"Tache",null,null,null,null,1,{"$f":"MIN(Z24:Z26)","v":"2016-11-02"},{"$f":"Y23-S23+1","v":9},null,null,null,null,{"$f":"MAX(AA24:AA26)","v":"2016-11-10"},null,null,{"$f":"SUMPRODUCT(AA24:AA26,AB24:AB26)/SUM(AA24:AA26)","v":0.36664948453608248},{"$f":"S23-1+AB23*T23","v":"2016-11-04T07:11:46.639"},{"$f":"IF(AB23<>\"\",IF(AND(AB23<1,AC23<$DC$7),0,1))","v":0},{"$f":"SUM(AE24:AE26)","v":300},{"$f":"SUM(AF24:AF26)","v":50},{"$f":"IF(AND(AE23<>\"\",AF23<>\"\",AE23<>0),AF23/AE23,\"\")","v":0.16666666666666666},{"$f":"AG23","v":0.16666666666666666}]
[null,null,null,null,null,null,null,null,null,null,"1.1",null,"Sous-tache",null,null,"Jade",{"$f":"IF(ISERROR(VLOOKUP(P24,Tools!$D$11:$J$57,7,FALSE)),\"\",VLOOKUP(P24,Tools!$D$11:$J$57,7,FALSE))","v":6},2,{"$f":"MIN(Z25:Z25)","v":"2016-11-02"},{"$f":"Y24-S24+1","v":3},"j",{"$f":"IF(U24=dur_type_d,T24,IF(U24=dur_type_w,IF(Work_D_Only_Bool,T24*5,T24*7),IF(U24=dur_type_m,IF(Work_D_Only_Bool,NETWORKDAYS.INTL(S24,DATE(YEAR(S24),MONTH(S24)+T24,DAY(S24)-1),WE_Days,Holiday_Days),DATE(YEAR(S24),MONTH(S24)+T24,DAY(S24))-S24),\"ERROR\")))","v":3},{"$f":"WORKDAY.INTL(S24,IF(V24>0,IF(OR(WEEKDAY(S24,2)>=6,COUNTIF(Holiday_Days,S24)>0),V24,V24-1),IF(OR(WEEKDAY(S24,2)>=6,COUNTIF(Holiday_Days,S24)>0),V24,V24+1)),HB$7,Holiday_Days)","v":"2016-11-04"},{"$f":"IF(V24>0,S24+V24-1,S24+V24+1)","v":"2016-11-04"},{"$f":"MAX(AA25:AA25)","v":"2016-11-04"},{"$f":"IF(T24>0,S24,Y24)","v":"2016-11-02"},{"$f":"IF(T24>0,Y24,S24)","v":"2016-11-04"},0.1,{"$f":"INT(Z24+AB24*(AA24-Z24))","v":"2016-11-02"},{"$f":"IF(AND(AB24<1,AC24<$DC$7),0,1)","v":0},100,0,{"$f":"IF(AND(AE24<>\"\",AF24<>\"\"),AF24/AE24,\"\")","v":0},{"$f":"AG24","v":0}]
[null,null,null,null,null,null,null,null,null,null,"1.1.1",null,"Sous-tache",null,null,"Jade",{"$f":"IF(ISERROR(VLOOKUP(P25,Tools!$D$11:$J$57,7,FALSE)),\"\",VLOOKUP(P25,Tools!$D$11:$J$57,7,FALSE))","v":6},3,"2016-11-02",3,"j",{"$f":"IF(U25=dur_type_d,T25,IF(U25=dur_type_w,IF(Work_D_Only_Bool,T25*5,T25*7),IF(U25=dur_type_m,IF(Work_D_Only_Bool,NETWORKDAYS.INTL(S25,DATE(YEAR(S25),MONTH(S25)+T25,DAY(S25)-1),WE_Days,Holiday_Days),DATE(YEAR(S25),MONTH(S25)+T25,DAY(S25))-S25),\"ERROR\")))","v":3},{"$f":"WORKDAY.INTL(S25,IF(V25>0,IF(OR(WEEKDAY(S25,2)>=6,COUNTIF(Holiday_Days,S25)>0),V25,V25-1),IF(OR(WEEKDAY(S25,2)>=6,COUNTIF(Holiday_Days,S25)>0),V25,V25+1)),HB$7,Holiday_Days)","v":"2016-11-04"},{"$f":"IF(V25>0,S25+V25-1,S25+V25+1)","v":"2016-11-04"},{"$f":"IF(S25<>\"\",IF($GE$7,W25,X25),\"\")","v":"2016-11-04"},{"$f":"IF(T25>0,S25,Y25)","v":"2016-11-02"},{"$f":"IF(T25>0,Y25,S25)","v":"2016-11-04"},1,{"$f":"INT(Z25+AB25*(AA25-Z25))","v":"2016-11-04"},{"$f":"IF(AND(AB25<1,AC25<$DC$7),0,1)","v":1},100,50,{"$f":"IF(AND(AE25<>\"\",AF25<>\"\"),AF25/AE25,\"\")","v":0.5},0.5]
[null,null,null,null,null,null,null,null,null,null,"1.2",null,"Sous-tache",null,null,"Rony",{"$f":"IF(ISERROR(VLOOKUP(P26,Tools!$D$11:$J$57,7,FALSE)),\"\",VLOOKUP(P26,Tools!$D$11:$J$57,7,FALSE))","v":3},2,"2016-11-06",5,"j",{"$f":"IF(U26=dur_type_d,T26,IF(U26=dur_type_w,IF(Work_D_Only_Bool,T26*5,T26*7),IF(U26=dur_type_m,IF(Work_D_Only_Bool,NETWORKDAYS.INTL(S26,DATE(YEAR(S26),MONTH(S26)+T26,DAY(S26)-1),WE_Days,Holiday_Days),DATE(YEAR(S26),MONTH(S26)+T26,DAY(S26))-S26),\"ERROR\")))","v":5},{"$f":"WORKDAY.INTL(S26,IF(V26>0,IF(OR(WEEKDAY(S26,2)>=6,COUNTIF(Holiday_Days,S26)>0),V26,V26-1),IF(OR(WEEKDAY(S26,2)>=6,COUNTIF(Holiday_Days,S26)>0),V26,V26+1)),HB$7,Holiday_Days)","v":"2016-11-11"},{"$f":"IF(V26>0,S26+V26-1,S26+V26+1)","v":"2016-11-10"},{"$f":"IF(S26<>\"\",IF($GE$7,W26,X26),\"\")","v":"2016-11-10"},"2016-11-06","2016-11-10",0,{"$f":"INT(Z26+AB26*(AA26-Z26))","v":"2016-11-06"},0,100,0,{"$f":"IF(AND(AE26<>\"\",AF26<>\"\"),AF26/AE26,\"\")","v":0},{"$f":"AG26","v":0}]
[null,null,null,null,null,null,null,null,null,null,2,null,"Tache",null,null,null,null,1,{"$f":"MIN(Z28:Z29)","v":"2016-11-01"},{"$f":"Y27-S27+1","v":5},null,null,{"$f":"WORKDAY.INTL(S27,IF(T27>0,IF(OR(WEEKDAY(S27,2)>=6,COUNTIF(Holiday_Days,S27)>0),T27,T27-1),IF(OR(WEEKDAY(S27,2)>=6,COUNTIF(Holiday_Days,S27)>0),T27,T27+1)),HB$7,Holiday_Days)","v":"2016-11-07"},{"$f":"IF(T27>0,S27+T27-1,S27+T27+1)","v":"2016-11-05"},{"$f":"MAX(AA28:AA29)","v":"2016-11-05"},"2016-11-01","2016-11-05",{"$f":"SUMPRODUCT(AA28:AA29,AB28:AB29)/SUM(AA28:AA29)","v":0},{"$f":"INT(Z27+AB27*(AA27-Z27))","v":"2016-11-01"},0,{"$f":"SUM(AE28:AE29)","v":200},{"$f":"SUM(AF28:AF29)","v":0},{"$f":"IF(AND(AE27<>\"\",AF27<>\"\"),AF27/AE27,\"\")","v":0},{"$f":"AG27","v":0}]
[null,null,null,null,null,null,null,null,null,null,"2.1",null,"Sous-tache",null,null,"Sara",{"$f":"IF(ISERROR(VLOOKUP(P28,Tools!$D$11:$J$57,7,FALSE)),\"\",VLOOKUP(P28,Tools!$D$11:$J$57,7,FALSE))","v":2},2,"2016-11-01",2,"j",{"$f":"IF(U28=dur_type_d,T28,IF(U28=dur_type_w,IF(Work_D_Only_Bool,T28*5,T28*7),IF(U28=dur_type_m,IF(Work_D_Only_Bool,NETWORKDAYS.INTL(S28,DATE(YEAR(S28),MONTH(S28)+T28,DAY(S28)-1),WE_Days,Holiday_Days),DATE(YEAR(S28),MONTH(S28)+T28,DAY(S28))-S28),\"ERROR\")))","v":2},{"$f":"WORKDAY.INTL(S28,IF(V28>0,IF(OR(WEEKDAY(S28,2)>=6,COUNTIF(Holiday_Days,S28)>0),V28,V28-1),IF(OR(WEEKDAY(S28,2)>=6,COUNTIF(Holiday_Days,S28)>0),V28,V28+1)),HB$7,Holiday_Days)","v":"2016-11-02"},{"$f":"IF(V28>0,S28+V28-1,S28+V28+1)","v":"2016-11-02"},{"$f":"IF(S28<>\"\",IF($GE$7,W28,X28),\"\")","v":"2016-11-02"},"2016-11-01","2016-11-02",0,"2016-11-01",0,100,0,0,0]
[null,null,null,null,null,null,null,null,null,null,"2.2",1,"Sous-tache",null,null,"Rony",{"$f":"IF(ISERROR(VLOOKUP(P29,Tools!$D$11:$J$57,7,FALSE)),\"\",VLOOKUP(P29,Tools!$D$11:$J$57,7,FALSE))","v":3},2,{"$f":"S28","v":"2016-11-01"},5,"j",{"$f":"IF(U29=dur_type_d,T29,IF(U29=dur_type_w,IF(Work_D_Only_Bool,T29*5,T29*7),IF(U29=dur_type_m,IF(Work_D_Only_Bool,NETWORKDAYS.INTL(S29,DATE(YEAR(S29),MONTH(S29)+T29,DAY(S29)-1),WE_Days,Holiday_Days),DATE(YEAR(S29),MONTH(S29)+T29,DAY(S29))-S29),\"ERROR\")))","v":5},{"$f":"WORKDAY.INTL(S29,IF(V29>0,IF(OR(WEEKDAY(S29,2)>=6,COUNTIF(Holiday_Days,S29)>0),V29,V29-1),IF(OR(WEEKDAY(S29,2)>=6,COUNTIF(Holiday_Days,S29)>0),V29,V29+1)),HB$7,Holiday_Days)","v":"2016-11-07"},{"$f":"IF(V29>0,S29+V29-1,S29+V29+1)","v":"2016-11-05"},{"$f":"IF(S29<>\"\",IF($GE$7,W29,X29),\"\")","v":"2016-11-05"},"2016-11-01","2016-11-05",0,"2016-11-01",0,100,0,0,0]
[null,null,null,null,null,null,null,null,null,null,3,null,"Tache",null,null,null,null,1,{"$f":"MIN(Z31:Z35)","v":"2016-11-06"},{"$f":"Y30-S30+1","v":10},null,null,null,null,{"$f":"MAX(AA31:AA35)","v":"2016-11-15"},null,null,{"$f":"SUMPRODUCT(AA31:AA34,AB31:AB34)/SUM(AA31:AA34)","v":0.25000292832628584},{"$f":"S30-1+AB30*T30","v":"2016-11-07T12:00:02.530"},{"$f":"IF(AB30<>\"\",IF(AND(AB30<1,AC30<$DC$7),0,1))","v":0},{"$f":"SUM(AE31:AE34)","v":500},{"$f":"SUM(AF31:AF34)","v":0},{"$f":"IF(AND(AE30<>\"\",AF30<>\"\",AE30<>0),AF30/AE30,\"\")","v":0},0]
[null,null,null,null,null,null,null,null,null,null,"3.1",null,"Sous-tache",null,null,"Mary",{"$f":"IF(ISERROR(VLOOKUP(P31,Tools!$D$11:$J$57,7,FALSE)),\"\",VLOOKUP(P31,Tools!$D$11:$J$57,7,FALSE))","v":5},2,"2016-11-11",3,"j",{"$f":"IF(U31=dur_type_d,T31,IF(U31=dur_type_w,IF(Work_D_Only_Bool,T31*5,T31*7),IF(U31=dur_type_m,IF(Work_D_Only_Bool,NETWORKDAYS.INTL(S31,DATE(YEAR(S31),MONTH(S31)+T31,DAY(S31)-1),WE_Days,Holiday_Days),DATE(YEAR(S31),MONTH(S31)+T31,DAY(S31))-S31),\"ERROR\")))","v":3},{"$f":"WORKDAY.INTL(S31,IF(V31>0,IF(OR(WEEKDAY(S31,2)>=6,COUNTIF(Holiday_Days,S31)>0),V31,V31-1),IF(OR(WEEKDAY(S31,2)>=6,COUNTIF(Holiday_Days,S31)>0),V31,V31+1)),HB$7,Holiday_Days)","v":"2016-11-15"},{"$f":"IF(V31>0,S31+V31-1,S31+V31+1)","v":"2016-11-13"},{"$f":"IF(S31<>\"\",IF($GE$7,W31,X31),\"\")","v":"2016-11-13"},{"$f":"IF(T31>0,S31,Y31)","v":"2016-11-11"},{"$f":"IF(T31>0,Y31,S31)","v":"2016-11-13"},1,{"$f":"INT(Z31+AB31*(AA31-Z31))","v":"2016-11-13"},{"$f":"IF(AND(AB31<1,AC31<$DC$7),0,1)","v":1},100,0,{"$f":"IF(AND(AE31<>\"\",AF31<>\"\"),AF31/AE31,\"\")","v":0},0]
[null,null,null,null,null,null,null,null,null,null,"3.2",null,"Sous-tache",null,null,"Mary",{"$f":"IF(ISERROR(VLOOKUP(P32,Tools!$D$11:$J$57,7,FALSE)),\"\",VLOOKUP(P32,Tools!$D$11:$J$57,7,FALSE))","v":5},2,{"$f":"MIN(Z33:Z34)","v":"2016-11-06"},{"$f":"Y32-S32+1","v":10},"j",{"$f":"IF(U32=dur_type_d,T32,IF(U32=dur_type_w,IF(Work_D_Only_Bool,T32*5,T32*7),IF(U32=dur_type_m,IF(Work_D_Only_Bool,NETWORKDAYS.INTL(S32,DATE(YEAR(S32),MONTH(S32)+T32,DAY(S32)-1),WE_Days,Holiday_Days),DATE(YEAR(S32),MONTH(S32)+T32,DAY(S32))-S32),\"ERROR\")))","v":10},{"$f":"WORKDAY.INTL(S32,IF(V32>0,IF(OR(WEEKDAY(S32,2)>=6,COUNTIF(Holiday_Days,S32)>0),V32,V32-1),IF(OR(WEEKDAY(S32,2)>=6,COUNTIF(Holiday_Days,S32)>0),V32,V32+1)),HB$7,Holiday_Days)","v":"2016-11-18"},"2016-11-15",{"$f":"MAX(AA33:AA34)","v":"2016-11-15"},"2016-11-06","2016-11-15",{"$f":"SUMPRODUCT(AA33:AA34,AB33:AB34)/SUM(AA33:AA34)","v":0},"2016-11-06",0,{"$f":"SUM(AE33:AE34)","v":200},{"$f":"SUM(AF33:AF34)","v":0},0,0]
[null,null,null,null,null,null,null,null,null,null,"3.2.1",null,"Sous-tache",null,null,"Mike",{"$f":"IF(ISERROR(VLOOKUP(P33,Tools!$D$11:$J$57,7,FALSE)),\"\",VLOOKUP(P33,Tools!$D$11:$J$57,7,FALSE))","v":0},3,"2016-11-09",7,"j",{"$f":"IF(U33=dur_type_d,T33,IF(U33=dur_type_w,IF(Work_D_Only_Bool,T33*5,T33*7),IF(U33=dur_type_m,IF(Work_D_Only_Bool,NETWORKDAYS.INTL(S33,DATE(YEAR(S33),MONTH(S33)+T33,DAY(S33)-1),WE_Days,Holiday_Days),DATE(YEAR(S33),MONTH(S33)+T33,DAY(S33))-S33),\"ERROR\")))","v":7},{"$f":"WORKDAY.INTL(S33,IF(V33>0,IF(OR(WEEKDAY(S33,2)>=6,COUNTIF(Holiday_Days,S33)>0),V33,V33-1),IF(OR(WEEKDAY(S33,2)>=6,COUNTIF(Holiday_Days,S33)>0),V33,V33+1)),HB$7,Holiday_Days)","v":"2016-11-17"},"2016-11-15",{"$f":"IF(S33<>\"\",IF($GE$7,W33,X33),\"\")","v":"2016-11-15"},"2016-11-09","2016-11-15",0,"2016-11-09",0,100,0,0,0]
[null,null,null,null,null,null,null,null,null,null,"3.2.2",null,"Sous-tache",null,null,"Mary",{"$f":"IF(ISERROR(VLOOKUP(P34,Tools!$D$11:$J$57,7,FALSE)),\"\",VLOOKUP(P34,Tools!$D$11:$J$57,7,FALSE))","v":5},3,"2016-11-06",2,"j",{"$f":"IF(U34=dur_type_d,T34,IF(U34=dur_type_w,IF(Work_D_Only_Bool,T34*5,T34*7),IF(U34=dur_type_m,IF(Work_D_Only_Bool,NETWORKDAYS.INTL(S34,DATE(YEAR(S34),MONTH(S34)+T34,DAY(S34)-1),WE_Days,Holiday_Days),DATE(YEAR(S34),MONTH(S34)+T34,DAY(S34))-S34),\"ERROR\")))","v":2},{"$f":"WORKDAY.INTL(S34,IF(V34>0,IF(OR(WEEKDAY(S34,2)>=6,COUNTIF(Holiday_Days,S34)>0),V34,V34-1),IF(OR(WEEKDAY(S34,2)>=6,COUNTIF(Holiday_Days,S34)>0),V34,V34+1)),HB$7,Holiday_Days)","v":"2016-11-08"},"2016-11-07",{"$f":"IF(S34<>\"\",IF($GE$7,W34,X34),\"\")","v":"2016-11-07"},"2016-11-06","2016-11-07",0,{"$f":"INT(Z34+AB34*(AA34-Z34))","v":"2016-11-06"},0,100,0,{"$f":"IF(AND(AE34<>\"\",AF34<>\"\"),AF34/AE34,\"\")","v":0},0]
[null,null,null,null,null,null,null,null,null,null,"MS",null,"Jalon",null,null,null,null,0,"2016-11-10"]
[null,null,null,null,null,null,null,null,null,null,4,null,"Tache",null,null,null,null,1,{"$f":"MIN(Z37:Z41)","v":"2016-11-09"},{"$f":"Y36-S36+1","v":5},null,null,null,null,{"$f":"MAX(AA37:AA41)","v":"2016-11-13"},null,null,{"$f":"SUMPRODUCT(AA37:AA41,AB37:AB41)/SUM(AA37:AA41)","v":0},{"$f":"S36-1+AB36*T36","v":"2016-11-08"},{"$f":"IF(AB36<>\"\",IF(AND(AB36<1,AC36<$DC$7),0,1))","v":0},{"$f":"SUM(AE37:AE41)","v":400},{"$f":"SUM(AF37:AF41)","v":0},{"$f":"IF(AND(AE36<>\"\",AF36<>\"\",AE36<>0),AF36/AE36,\"\")","v":0},0]
[null,null,null,null,null,null,null,null,null,null,"4.1",null,"Sous-tache",null,null,"Mary",{"$f":"IF(ISERROR(VLOOKUP(P37,Tools!$D$11:$J$57,7,FALSE)),\"\",VLOOKUP(P37,Tools!$D$11:$J$57,7,FALSE))","v":5},2,"2016-11-09",5,"j",{"$f":"IF(U37=dur_type_d,T37,IF(U37=dur_type_w,IF(Work_D_Only_Bool,T37*5,T37*7),IF(U37=dur_type_m,IF(Work_D_Only_Bool,NETWORKDAYS.INTL(S37,DATE(YEAR(S37),MONTH(S37)+T37,DAY(S37)-1),WE_Days,Holiday_Days),DATE(YEAR(S37),MONTH(S37)+T37,DAY(S37))-S37),\"ERROR\")))","v":5},{"$f":"WORKDAY.INTL(S37,IF(V37>0,IF(OR(WEEKDAY(S37,2)>=6,COUNTIF(Holiday_Days,S37)>0),V37,V37-1),IF(OR(WEEKDAY(S37,2)>=6,COUNTIF(Holiday_Days,S37)>0),V37,V37+1)),HB$7,Holiday_Days)","v":"2016-11-15"},{"$f":"IF(V37>0,S37+V37-1,S37+V37+1)","v":"2016-11-13"},{"$f":"IF(S37<>\"\",IF($GE$7,W37,X37),\"\")","v":"2016-11-13"},{"$f":"IF(T37>0,S37,Y37)","v":"2016-11-09"},{"$f":"IF(T37>0,Y37,S37)","v":"2016-11-13"},0,{"$f":"INT(Z37+AB37*(AA37-Z37))","v":"2016-11-09"},{"$f":"IF(AND(AB37<1,AC37<$DC$7),0,1)","v":0},100,0,{"$f":"IF(AND(AE37<>\"\",AF37<>\"\"),AF37/AE37,\"\")","v":0},0]
[null,null,null,null,null,null,null,null,null,null,"MS",null,"Jalon",null,null,null,null,0,"2016-11-01"]
[null,null,null,null,null,null,null,null,null,null,"4.2",null,"Sous-tache",null,null,"Mary",{"$f":"IF(ISERROR(VLOOKUP(P39,Tools!$D$11:$J$57,7,FALSE)),\"\",VLOOKUP(P39,Tools!$D$11:$J$57,7,FALSE))","v":5},2,"2016-11-09",5,"j",{"$f":"IF(U39=dur_type_d,T39,IF(U39=dur_type_w,IF(Work_D_Only_Bool,T39*5,T39*7),IF(U39=dur_type_m,IF(Work_D_Only_Bool,NETWORKDAYS.INTL(S39,DATE(YEAR(S39),MONTH(S39)+T39,DAY(S39)-1),WE_Days,Holiday_Days),DATE(YEAR(S39),MONTH(S39)+T39,DAY(S39))-S39),\"ERROR\")))","v":5},{"$f":"WORKDAY.INTL(S39,IF(V39>0,IF(OR(WEEKDAY(S39,2)>=6,COUNTIF(Holiday_Days,S39)>0),V39,V39-1),IF(OR(WEEKDAY(S39,2)>=6,COUNTIF(Holiday_Days,S39)>0),V39,V39+1)),HB$7,Holiday_Days)","v":"2016-11-15"},{"$f":"IF(V39>0,S39+V39-1,S39+V39+1)","v":"2016-11-13"},{"$f":"IF(S39<>\"\",IF($GE$7,W39,X39),\"\")","v":"2016-11-13"},{"$f":"IF(T39>0,S39,Y39)","v":"2016-11-09"},{"$f":"IF(T39>0,Y39,S39)","v":"2016-11-13"},0,"2016-11-09",{"$f":"IF(AND(AB39<1,AC39<$DC$7),0,1)","v":0},100,0,0,0]
[null,null,null,null,null,null,null,null,null,null,"4.3",null,"Sous-tache",null,null,"Mary",{"$f":"IF(ISERROR(VLOOKUP(P40,Tools!$D$11:$J$57,7,FALSE)),\"\",VLOOKUP(P40,Tools!$D$11:$J$57,7,FALSE))","v":5},2,{"$f":"MIN(Z41:Z41)","v":"2016-11-09"},{"$f":"Y40-S40+1","v":2},"j",{"$f":"IF(U40=dur_type_d,T40,IF(U40=dur_type_w,IF(Work_D_Only_Bool,T40*5,T40*7),IF(U40=dur_type_m,IF(Work_D_Only_Bool,NETWORKDAYS.INTL(S40,DATE(YEAR(S40),MONTH(S40)+T40,DAY(S40)-1),WE_Days,Holiday_Days),DATE(YEAR(S40),MONTH(S40)+T40,DAY(S40))-S40),\"ERROR\")))","v":2},{"$f":"WORKDAY.INTL(S40,IF(V40>0,IF(OR(WEEKDAY(S40,2)>=6,COUNTIF(Holiday_Days,S40)>0),V40,V40-1),IF(OR(WEEKDAY(S40,2)>=6,COUNTIF(Holiday_Days,S40)>0),V40,V40+1)),HB$7,Holiday_Days)","v":"2016-11-10"},{"$f":"IF(V40>0,S40+V40-1,S40+V40+1)","v":"2016-11-10"},{"$f":"MAX(AA41:AA41)","v":"2016-11-10"},{"$f":"IF(T40>0,S40,Y40)","v":"2016-11-09"},{"$f":"IF(T40>0,Y40,S40)","v":"2016-11-10"},0,"2016-11-09",{"$f":"IF(AND(AB40<1,AC40<$DC$7),0,1)","v":0},100,0,0,0]
[null,null,null,null,null,null,null,null,null,null,"4.3.1",null,"Sous-tache",null,null,"Mary",{"$f":"IF(ISERROR(VLOOKUP(P41,Tools!$D$11:$J$57,7,FALSE)),\"\",VLOOKUP(P41,Tools!$D$11:$J$57,7,FALSE))","v":5},3,"2016-11-09",2,"j",{"$f":"IF(U41=dur_type_d,T41,IF(U41=dur_type_w,IF(Work_D_Only_Bool,T41*5,T41*7),IF(U41=dur_type_m,IF(Work_D_Only_Bool,NETWORKDAYS.INTL(S41,DATE(YEAR(S41),MONTH(S41)+T41,DAY(S41)-1),WE_Days,Holiday_Days),DATE(YEAR(S41),MONTH(S41)+T41,DAY(S41))-S41),\"ERROR\")))","v":2},{"$f":"WORKDAY.INTL(S41,IF(V41>0,IF(OR(WEEKDAY(S41,2)>=6,COUNTIF(Holiday_Days,S41)>0),V41,V41-1),IF(OR(WEEKDAY(S41,2)>=6,COUNTIF(Holiday_Days,S41)>0),V41,V41+1)),HB$7,Holiday_Days)","v":"2016-11-10"},{"$f":"IF(V41>0,S41+V41-1,S41+V41+1)","v":"2016-11-10"},{"$f":"IF(S41<>\"\",IF($GE$7,W41,X41),\"\")","v":"2016-11-10"},{"$f":"IF(T41>0,S41,Y41)","v":"2016-11-09"},{"$f":"IF(T41>0,Y41,S41)","v":"2016-11-10"},0,{"$f":"INT(Z41+AB41*(AA41-Z41))","v":"2016-11-09"},{"$f":"IF(AND(AB41<1,AC41<$DC$7),0,1)","v":0},100,0,{"$f":"IF(AND(AE41<>\"\",AF41<>\"\"),AF41/AE41,\"\")","v":0},{"$f":"AG41","v":0}]
[null,null,null,null,null,null,null,null,null,null,5,null,"Tache",null,null,null,null,1,{"$f":"MIN(Z43:Z45)","v":"2016-11-09"},{"$f":"Y42-S42+1","v":5},null,null,null,null,{"$f":"MAX(AA43:AA45)","v":"2016-11-13"},null,null,{"$f":"SUMPRODUCT(AA43:AA45,AB43:AB45)/SUM(AA43:AA45)","v":0},{"$f":"S42-1+AB42*T42","v":"2016-11-08"},{"$f":"IF(AB42<>\"\",IF(AND(AB42<1,AC42<$DC$7),0,1))","v":0},{"$f":"SUM(AE43:AE45)","v":300},{"$f":"SUM(AF43:AF45)","v":0},{"$f":"IF(AND(AE42<>\"\",AF42<>\"\",AE42<>0),AF42/AE42,\"\")","v":0},0]
[null,null,null,null,null,null,null,null,null,null,"5.1",null,"Sous-tache",null,null,"Mary",{"$f":"IF(ISERROR(VLOOKUP(P43,Tools!$D$11:$J$57,7,FALSE)),\"\",VLOOKUP(P43,Tools!$D$11:$J$57,7,FALSE))","v":5},2,"2016-11-09",5,"j",{"$f":"IF(U43=dur_type_d,T43,IF(U43=dur_type_w,IF(Work_D_Only_Bool,T43*5,T43*7),IF(U43=dur_type_m,IF(Work_D_Only_Bool,NETWORKDAYS.INTL(S43,DATE(YEAR(S43),MONTH(S43)+T43,DAY(S43)-1),WE_Days,Holiday_Days),DATE(YEAR(S43),MONTH(S43)+T43,DAY(S43))-S43),\"ERROR\")))","v":5},{"$f":"WORKDAY.INTL(S43,IF(V43>0,IF(OR(WEEKDAY(S43,2)>=6,COUNTIF(Holiday_Days,S43)>0),V43,V43-1),IF(OR(WEEKDAY(S43,2)>=6,COUNTIF(Holiday_Days,S43)>0),V43,V43+1)),HB$7,Holiday_Days)","v":"2016-11-15"},{"$f":"IF(V43>0,S43+V43-1,S43+V43+1)","v":"2016-11-13"},{"$f":"IF(S43<>\"\",IF($GE$7,W43,X43),\"\")","v":"2016-11-13"},{"$f":"IF(T43>0,S43,Y43)","v":"2016-11-09"},{"$f":"IF(T43>0,Y43,S43)","v":"2016-11-13"},0,{"$f":"INT(Z43+AB43*(AA43-Z43))","v":"2016-11-09"},{"$f":"IF(AND(AB43<1,AC43<$DC$7),0,1)","v":0},100,0,{"$f":"IF(AND(AE43<>\"\",AF43<>\"\"),AF43/AE43,\"\")","v":0},0]
[null,null,null,null,null,null,null,null,null,null,"5.2",null,"Sous-tache",null,null,"Mary",{"$f":"IF(ISERROR(VLOOKUP(P44,Tools!$D$11:$J$57,7,FALSE)),\"\",VLOOKUP(P44,Tools!$D$11:$J$57,7,FALSE))","v":5},2,"2016-11-09",5,"j",{"$f":"IF(U44=dur_type_d,T44,IF(U44=dur_type_w,IF(Work_D_Only_Bool,T44*5,T44*7),IF(U44=dur_type_m,IF(Work_D_Only_Bool,NETWORKDAYS.INTL(S44,DATE(YEAR(S44),MONTH(S44)+T44,DAY(S44)-1),WE_Days,Holiday_Days),DATE(YEAR(S44),MONTH(S44)+T44,DAY(S44))-S44),\"ERROR\")))","v":5},{"$f":"WORKDAY.INTL(S44,IF(V44>0,IF(OR(WEEKDAY(S44,2)>=6,COUNTIF(Holiday_Days,S44)>0),V44,V44-1),IF(OR(WEEKDAY(S44,2)>=6,COUNTIF(Holiday_Days,S44)>0),V44,V44+1)),HB$7,Holiday_Days)","v":"2016-11-15"},{"$f":"IF(V44>0,S44+V44-1,S44+V44+1)","v":"2016-11-13"},{"$f":"IF(S44<>\"\",IF($GE$7,W44,X44),\"\")","v":"2016-11-13"},{"$f":"IF(T44>0,S44,Y44)","v":"2016-11-09"},{"$f":"IF(T44>0,Y44,S44)","v":"2016-11-13"},0,"2016-11-09",{"$f":"IF(AND(AB44<1,AC44<$DC$7),0,1)","v":0},100,0,0,0]
[null,null,null,null,null,null,null,null,null,null,"5.3",null,"Sous-tache",null,null,"Mary",{"$f":"IF(ISERROR(VLOOKUP(P45,Tools!$D$11:$J$57,7,FALSE)),\"\",VLOOKUP(P45,Tools!$D$11:$J$57,7,FALSE))","v":5},2,"2016-11-09",5,"j",{"$f":"IF(U45=dur_type_d,T45,IF(U45=dur_type_w,IF(Work_D_Only_Bool,T45*5,T45*7),IF(U45=dur_type_m,IF(Work_D_Only_Bool,NETWORKDAYS.INTL(S45,DATE(YEAR(S45),MONTH(S45)+T45,DAY(S45)-1),WE_Days,Holiday_Days),DATE(YEAR(S45),MONTH(S45)+T45,DAY(S45))-S45),\"ERROR\")))","v":5},{"$f":"WORKDAY.INTL(S45,IF(V45>0,IF(OR(WEEKDAY(S45,2)>=6,COUNTIF(Holiday_Days,S45)>0),V45,V45-1),IF(OR(WEEKDAY(S45,2)>=6,COUNTIF(Holiday_Days,S45)>0),V45,V45+1)),HB$7,Holiday_Days)","v":"2016-11-15"},{"$f":"IF(V45>0,S45+V45-1,S45+V45+1)","v":"2016-11-13"},{"$f":"IF(S45<>\"\",IF($GE$7,W45,X45),\"\")","v":"2016-11-13"},{"$f":"IF(T45>0,S45,Y45)","v":"2016-11-09"},{"$f":"IF(T45>0,Y45,S45)","v":"2016-11-13"},0,"2016-11-09",{"$f":"IF(AND(AB45<1,AC45<$DC$7),0,1)","v":0},100,0,0,0]

{"sheet":"Gantt","index":1,"n_rows":51,"n_cols":559,"rows_kept":51,"cut":false,"hidden":false,"merged":[[6,41,6,46],[6,47,6,50],[6,52,6,57],[6,58,6,61],[6,62,6,64],[6,65,6,66],[6,86,6,89],[6,91,6,94],[6,95,6,98],[6,100,6,105],[6,106,6,109],[6,110,6,112],[6,67,6,69],[6,70,6,71],[6,72,6,74],[6,75,6,76],[6,77,6,78],[6,80,6,85],[6,138,6,139],[6,140,6,141],[6,142,6,143],[6,145,6,150],[6,113,6,114],[6,115,6,117],[6,118,6,119],[6,120,6,122],[6,123,6,124],[6,125,6,126],[6,438,6,441],[6,475,6,478],[9,35,12,35],[9,36,12,36],[9,37,12,37],[9,38,12,38],[9,39,12,39],[6,350,6,355],[6,359,6,364],[6,368,6,373],[6,377,6,382],[6,386,6,389],[6,393,6,396],[6,301,6,306],[6,310,6,313],[6,317,6,320],[6,324,6,327],[6,331,6,334],[6,337,6,342],[6,205,6,207],[6,211,6,213],[6,216,6,218],[6,219,6,221],[6,229,6,233],[9,40,12,40],[9,41,12,41],[9,42,12,42],[9,43,12,43],[9,44,12,44],[9,45,12,45],[6,401,6,404],[6,420,6,430],[6,431,6,433],[6,282,6,289],[6,171,6,173],[6,175,6,177],[6,179,6,184],[6,188,6,192],[6,194,6,195],[6,197,6,201],[6,151,6,154],[6,155,6,156],[6,157,6,158],[6,159,6,160],[6,162,6,167],[6,168,6,170],[6,128,6,133],[6,134,6,137],[9,52,12,52],[9,53,12,53],[9,54,12,54],[9,55,12,55],[9,56,12,56],[9,57,12,57],[9,46,12,46],[9,47,12,47],[9,48,12,48],[9,49,12,49],[9,50,12,50],[9,51,12,51],[9,64,12,64],[9,65,12,65],[9,66,12,66],[9,67,12,67],[9,68,12,68],[9,69,12,69],[9,58,12,58],[9,59,12,59],[9,60,12,60],[9,61,12,61],[9,62,12,62],[9,63,12,63],[9,76,12,76],[9,77,12,77],[9,78,12,78],[9,79,12,79],[9,80,12,80],[9,81,12,81],[9,70,12,70],[9,71,12,71],[9,72,12,72],[9,73,12,73],[9,74,12,74],[9,75,12,75],[9,88,12,88],[9,89,12,89],[9,90,12,90],[9,91,12,91],[9,92,12,92],[9,93,12,93],[9,82,12,82],[9,83,12,83],[9,84,12,84],[9,85,12,85],[9,86,12,86],[9,87,12,87],[9,100,12,100],[9,101,12,101],[9,102,12,102],[9,103,12,103],[9,104,12,104],[9,105,12,105],[9,94,12,94],[9,95,12,95],[9,96,12,96],[9,97,12,97],[9,98,12,98],[9,99,12,99],[9,112,12,112],[9,113,12,113],[9,114,12,114],[9,115,12,115],[9,116,12,116],[9,117,12,117],[9,106,12,106],[9,107,12,107],[9,108,12,108],[9,109,12,109],[9,110,12,110],[9,111,12,111],[9,124,12,124],[9,125,12,125],[9,126,12,126],[9,127,12,127],[9,128,12,128],[9,129,12,129],[9,118,12,118],[9,119,12,119],[9,120,12,120],[9,121,12,121],[9,122,12,122],[9,123,12,123],[9,136,12,136],[9,137,12,137],[9,138,12,138],[9,139,12,139],[9,140,12,140],[9,141,12,141],[9,130,12,130],[9,131,12,131],[9,132,12,132],[9,133,12,133],[9,134,12,134],[9,135,12,135],[9,148,12,148],[9,149,12,149],[9,150,12,150],[9,151,12,151],[9,152,12,152],[9,153,12,153],[9,142,12,142],[9,143,12,143],[9,144,12,144],[9,145,12,145],[9,146,12,146],[9,147,12,147],[9,160,12,160],[9,161,12,161],[9,162,12,162],[9,163,12,163],[9,164,12,164],[9,165,12,165],[9,154,12,154],[9,155,12,155],[9,156,12,156],[9,157,12,157],[9,158,12,158],[9,159,12,159],[9,172,12,172],[9,173,12,173],[9,174,12,174],[9,175,12,175],[9,176,12,176],[9,177,12,177],[9,166,12,166],[9,167,12,167],[9,168,12,168],[9,169,12,169],[9,170,12,170],[9,171,12,171],[9,184,12,184],[9,185,12,185],[9,186,12,186],[9,187,12,187],[9,188,12,188],[9,189,12,189],[9,178,12,178],[9,179,12,179],[9,180,12,180],[9,181,12,181],[9,182,12,182],[9,183,12,183],[9,196,12,196],[9,197,12,197],[9,198,12,198],[9,199,12,199],[9,200,12,200],[9,201,12,201],[9,190,12,190],[9,191,12,191],[9,192,12,192],[9,193,12,193],[9,194,12,194],[9,195,12,195],[9,208,12,208],[9,209,12,209],[9,210,12,210],[9,211,12,211],[9,212,12,212],[9,213,12,213],[9,202,12,202],[9,203,12,203],[9,204,12,204],[9,205,12,205],[9,206,12,206],[9,207,12,207],[9,220,12,220],[9,221,12,221],[9,222,12,222],[9,223,12,223],[9,224,12,224],[9,225,12,225],[9,214,12,214],[9,215,12,215],[9,216,12,216],[9,217,12,217],[9,218,12,218],[9,219,12,219],[9,232,12,232],[9,233,12,233],[9,234,12,234],[9,235,12,235],[9,236,12,236],[9,237,12,237],[9,226,12,226],[9,227,12,227],[9,228,12,228],[9,229,12,229],[9,230,12,230],[9,231,12,231],[9,244,12,244],[9,245,12,245],[9,246,12,246],[9,247,12,247],[9,248,12,248],[9,249,12,249],[9,238,12,238],[9,239,12,239],[9,240,12,240],[9,241,12,241],[9,242,12,242],[9,243,12,243],[9,256,12,256],[9,257,12,257],[9,258,12,258],[9,259,12,259],[9,260,12,260],[9,261,12,261],[9,250,12,250],[9,251,12,251],[9,252,12,252],[9,253,12,253],[9,254,12,254],[9,255,12,255],[9,268,12,268],[9,269,12,269],[9,270,12,270],[9,271,12,271],[9,272,12,272],[9,273,12,273],[9,262,12,262],[9,263,12,263],[9,264,12,264],[9,265,12,265],[9,266,12,266],[9,267,12,267],[9,280,12,280],[9,281,12,281],[9,282,12,282],[9,283,12,283],[9,284,12,284],[9,285,12,285],[9,274,12,274],[9,275,12,275],[9,276,12,276],[9,277,12,277],[9,278,12,278],[9,279,12,279],[9,292,12,292],[9,293,12,293],[9,294,12,294],[9,295,12,295],[9,296,12,296],[9,297,12,297],[9,286,12,286],[9,287,12,287],[9,288,12,288],[9,289,12,289],[9,290,12,290],[9,291,12,291],[9,304,12,304],[9,305,12,305],[9,306,12,306],[9,307,12,307],[9,308,12,308],[9,309,12,309],[9,298,12,298],[9,299,12,299],[9,300,12,300],[9,301,12,301],[9,302,12,302],[9,303,12,303],[9,316,12,316],[9,317,12,317],[9,318,12,318],[9,319,12,319],[9,320,12,320],[9,321,12,321],[9,310,12,310],[9,311,12,311],[9,312,12,312],[9,313,12,313],[9,314,12,314],[9,315,12,315],[9,328,12,328],[9,329,12,329],[9,330,12,330],[9,331,12,331],[9,332,12,332],[9,333,12,333],[9,322,12,322],[9,323,12,323],[9,324,12,324],[9,325,12,325],[9,326,12,326],[9,327,12,327],[9,340,12,340],[9,341,12,341],[9,342,12,342],[9,343,12,343],[9,344,12,344],[9,345,12,345],[9,334,12,334],[9,335,12,335],[9,336,12,336],[9,337,12,337],[9,338,12,338],[9,339,12,339],[9,352,12,352],[9,353,12,353],[9,354,12,354],[9,355,12,355],[9,356,12,356],[9,357,12,357],[9,346,12,346],[9,347,12,347],[9,348,12,348],[9,349,12,349],[9,350,12,350],[9,351,12,351],[9,364,12,364],[9,365,12,365],[9,366,12,366],[9,367,12,367],[9,368,12,368],[9,369,12,369],[9,358,12,358],[9,359,12,359],[9,360,12,360],[9,361,12,361],[9,362,12,362],[9,363,12,363],[9,376,12,376],[9,377,12,377],[9,378,12,378],[9,379,12,379],[9,380,12,380],[9,381,12,381],[9,370,12,370],[9,371,12,371],[9,372,12,372],[9,373,12,373],[9,374,12,374],[9,375,12,375],[9,388,12,388],[9,389,12,389],[9,390,12,390],[9,391,12,391],[9,392,12,392],[9,393,12,393],[9,382,12,382],[9,383,12,383],[9,384,12,384],[9,385,12,385],[9,386,12,386],[9,387,12,387],[9,400,12,400],[9,401,12,401],[9,402,12,402],[9,403,12,403],[9,404,12,404],[9,405,12,405],[9,394,12,394],[9,395,12,395],[9,396,12,396],[9,397,12,397],[9,398,12,398],[9,399,12,399],[9,412,12,412],[9,413,12,413],[9,414,12,414],[9,415,12,415],[9,416,12,416],[9,417,12,417],[9,406,12,406],[9,407,12,407],[9,408,12,408],[9,409,12,409],[9,410,12,410],[9,411,12,411],[9,424,12,424],[9,425,12,425],[9,426,12,426],[9,427,12,427],[9,428,12,428],[9,429,12,429],[9,418,12,418],[9,419,12,419],[9,420,12,420],[9,421,12,421],[9,422,12,422],[9,423,12,423],[9,436,12,436],[9,437,12,437],[9,438,12,438],[9,439,12,439],[9,440,12,440],[9,441,12,441],[9,430,12,430],[9,431,12,431],[9,432,12,432],[9,433,12,433],[9,434,12,434],[9,435,12,435],[9,448,12,448],[9,449,12,449],[9,450,12,450],[9,451,12,451],[9,452,12,452],[9,453,12,453],[9,442,12,442],[9,443,12,443],[9,444,12,444],[9,445,12,445],[9,446,12,446],[9,447,12,447],[9,460,12,460],[9,461,12,461],[9,462,12,462],[9,463,12,463],[9,464,12,464],[9,465,12,465],[9,454,12,454],[9,455,12,455],[9,456,12,456],[9,457,12,457],[9,458,12,458],[9,459,12,459],[9,472,12,472],[9,473,12,473],[9,474,12,474],[9,475,12,475],[9,476,12,476],[9,477,12,477],[9,466,12,466],[9,467,12,467],[9,468,12,468],[9,469,12,469],[9,470,12,470],[9,471,12,471],[9,484,12,484],[9,485,12,485],[9,486,12,486],[9,487,12,487],[9,488,12,488],[9,489,12,489],[9,478,12,478],[9,479,12,479],[9,480,12,480],[9,481,12,481],[9,482,12,482],[9,483,12,483],[9,496,12,496],[9,497,12,497],[9,498,12,498],[9,499,12,499],[9,500,12,500],[9,501,12,501],[9,490,12,490],[9,491,12,491],[9,492,12,492],[9,493,12,493],[9,494,12,494],[9,495,12,495],[9,508,12,508],[9,509,12,509],[9,510,12,510],[9,511,12,511],[9,512,12,512],[9,513,12,513],[9,502,12,502],[9,503,12,503],[9,504,12,504],[9,505,12,505],[9,506,12,506],[9,507,12,507],[9,522,12,522],[9,523,12,523],[9,524,12,524],[9,525,12,525],[9,514,12,514],[9,515,12,515],[9,516,12,516],[9,517,12,517],[9,518,12,518],[9,519,12,519],[13,32,13,33],[14,32,14,33],[14,35,14,41],[14,42,14,48],[14,49,14,55],[14,56,14,62],[14,63,14,69],[9,550,12,550],[9,551,12,551],[9,544,12,544],[9,545,12,545],[9,546,12,546],[9,547,12,547],[9,548,12,548],[9,549,12,549],[9,538,12,538],[9,539,12,539],[9,540,12,540],[9,541,12,541],[9,542,12,542],[9,543,12,543],[9,532,12,532],[9,533,12,533],[9,534,12,534],[14,70,14,76],[14,77,14,83],[14,84,14,90],[14,91,14,97],[14,98,14,104],[14,105,14,111],[9,556,12,556],[9,557,12,557],[9,558,12,558],[9,552,12,552],[9,553,12,553],[9,554,12,554],[9,555,12,555],[9,535,12,535],[9,536,12,536],[9,537,12,537],[9,526,12,526],[9,527,12,527],[9,528,12,528],[9,529,12,529],[9,530,12,530],[9,531,12,531],[9,520,12,520],[9,521,12,521],[14,154,14,160],[14,161,14,167],[14,168,14,174],[14,175,14,181],[14,182,14,188],[14,189,14,195],[14,112,14,118],[14,119,14,125],[14,126,14,132],[14,133,14,139],[14,140,14,146],[14,147,14,153],[14,315,14,321],[14,238,14,244],[14,245,14,251],[14,252,14,258],[14,259,14,265],[14,266,14,272],[14,273,14,279],[14,196,14,202],[14,203,14,209],[14,210,14,216],[14,217,14,223],[14,224,14,230],[14,231,14,237],[14,553,14,558],[16,16,16,29],[16,30,16,33],[16,34,17,34],[14,490,14,496],[14,497,14,503],[14,504,14,510],[14,511,14,517],[14,518,14,524],[14,525,14,531],[14,448,14,454],[14,455,14,461],[14,462,14,468],[14,469,14,475],[14,476,14,482],[14,483,14,489],[14,406,14,412],[14,413,14,419],[14,420,14,426],[14,427,14,433],[14,434,14,440],[14,441,14,447],[14,364,14,370],[14,371,14,377],[17,12,17,14],[17,32,17,33],[18,12,18,14],[19,12,19,14],[20,12,20,14],[21,12,21,14],[14,532,14,538],[14,539,14,545],[14,546,14,552],[14,378,14,384],[14,385,14,391],[14,392,14,398],[14,399,14,405],[14,322,14,328],[14,329,14,335],[14,336,14,342],[14,343,14,349],[14,350,14,356],[14,357,14,363],[14,280,14,286],[14,287,14,293],[14,294,14,300],[14,301,14,307],[14,308,14,314],[27,12,27,14],[32,12,32,14],[33,12,33,14],[34,12,34,14],[35,12,35,14],[36,12,36,14],[22,12,22,14],[23,12,23,14],[24,12,24,14],[25,12,25,14],[26,12,26,14],[28,12,28,14],[29,12,29,14],[30,12,30,14],[31,12,31,14],[46,12,46,14],[47,12,47,14],[48,12,48,14],[49,12,49,14],[50,12,50,14],[37,12,37,14],[41,12,41,14],[42,12,42,14],[43,12,43,14],[44,12,44,14],[45,12,45,14],[38,12,38,14],[39,12,39,14],[40,12,40,14]]}
[]
[]
[]
[]
[]
[]
[null,null,null,null,null,null,null,null,null,null,null,null,null,null,null,null,null,null,null,null,null,null,null,null,null,null,null,null,null,null,null,null,null,null,null,null,null,null,null,null,null,"Start Date (Fusion)",null,null,null,null,null,{"$f":"IF(CR7=\"Weekly\",CN7*1,BG7*1)","v":"2016-10-31"},null,8,null,null,"Start Date (Daily)",null,null,null,null,null,{"$f":"DATE(BZ7,BS7,BN7)","v":"2016-10-31"},null,8,null,"Day",null,26,31,26,"Month",null,10,10,10,"Year",null,7,7,7,{"$f":"BX7+2009","v":2016},null,null,"Start Date (Weekly)",null,7,null,null,null,{"$f":"BG7","v":"2016-10-31"},null,8,null,{"$f":"WEEKDAY(CI7,2)","v":1},{"$f":"CI7-CM7+1","v":"2016-10-31"},null,8,null,"Daily",null,null,null,null,"Red Bookmark",null,null,null,null,null,{"$f":"DATE(DV7,DO7,DJ7)","v":"2016-11-11"},null,8,null,"Day",null,7,11,7,"Month",null,11,11,11,"Year",null,7,7,7,{"$f":"DT7+2009","v":2016},null,null,"First Day Today",null,7,null,null,null,{"$f":"TODAY()","v":"2017-06-06"},null,8,null,{"$f":"DAY(EE7)","v":6},null,{"$f":"MONTH(EE7)","v":6},null,{"$f":"YEAR(EE7)","v":2017},null,null,"First Day Lowest",null,null,null,null,null,"2016-10-31",null,8,null,{"$f":"DAY(EV7)","v":31},null,{"$f":"MONTH(EV7)","v":10},null,{"$f":"YEAR(EV7)","v":2016},null,null,"Options Add Tasks",null,null,null,null,null,"Below",null,null,false,null,null,1,true,null,null,null,"Work Days Only",null,null,null,null,1,1,{"$f":"IF(GD7=1,1,0)","v":1},null,"Weeks Name",null,null,null,1,2,{"$f":"OFFSET(HideValues!B51,GL7-1,0)","v":"W"},null,null,"First day week",null,null,1,1,1,{"$f":"OFFSET(HideValues!$J$45,GU7-1,0)","v":21},null,"WE days",null,1,1,{"$f":"OFFSET(HideValues!F45,HA7-1,0)","v":1},null,"Budget",null,null,false,null,"Comment",null,null,false,null,null,null,null,null,null,null,null,null,"Leader's List",null,null,null,null,{"$f":"IF(Tools!D11<>\"\",Tools!D11,\"\")","v":"Gibs"},{"$f":"IF(Tools!D12<>\"\",Tools!D12,\"\")","v":"Sara"},{"$f":"IF(Tools!D13<>\"\",Tools!D13,\"\")","v":"Mary"},{"$f":"IF(Tools!D14<>\"\",Tools!D14,\"\")","v":"Jade"},{"$f":"IF(Tools!D15<>\"\",Tools!D15,\"\")","v":"Reda"},{"$f":"IF(Tools!D16<>\"\",Tools!D16,\"\")","v":"Mike"},{"$f":"IF(Tools!D17<>\"\",Tools!D17,\"\")","v":"Rony"},{"$f":"IF(Tools!D18<>\"\",Tools!D18,\"\")","v":"Leo"},{"$f":"IF(Tools!D19<>\"\",Tools!D19,\"\")","v":""},{"$f":"IF(Tools!D20<>\"\",Tools!D20,\"\")","v":""},{"$f":"IF(Tools!D21<>\"\",Tools!D21,\"\")","v":""},{"$f":"IF(Tools!D22<>\"\",Tools!D22,\"\")","v":""},{"$f":"IF(Tools!D23<>\"\",Tools!D23,\"\")","v":""},{"$f":"IF(Tools!D24<>\"\",Tools!D24,\"\")","v":""},{"$f":"IF(Tools!D25<>\"\",Tools!D25,\"\")","v":""},{"$f":"IF(Tools!D26<>\"\",Tools!D26,\"\")","v":""},{"$f":"IF(Tools!D27<>\"\",Tools!D27,\"\")","v":""},{"$f":"IF(Tools!D28<>\"\",Tools!D28,\"\")","v":""},{"$f":"IF(Tools!D29<>\"\",Tools!D29,\"\")","v":""},{"$f":"IF(Tools!D30<>\"\",Tools!D30,\"\")","v":""},{"$f":"IF(Tools!D31<>\"\",Tools!D31,\"\")","v":""},{"$f":"IF(Tools!D32<>\"\",Tools!D32,\"\")","v":""},{"$f":"IF(Tools!D33<>\"\",Tools!D33,\"\")","v":""},{"$f":"IF(Tools!D34<>\"\",Tools!D34,\"\")","v":""},{"$f":"IF(Tools!D35<>\"\",Tools!D35,\"\")","v":""},{"$f":"IF(Tools!D36<>\"\",Tools!D36,\"\")","v":""},{"$f":"IF(Tools!D37<>\"\",Tools!D37,\"\")","v":""},{"$f":"IF(Tools!D38<>\"\",Tools!D38,\"\")","v":""},{"$f":"IF(Tools!D39<>\"\",Tools!D39,\"\")","v":""},{"$f":"IF(Tools!D40<>\"\",Tools!D40,\"\")","v":""},{"$f":"IF(Tools!D41<>\"\",Tools!D41,\"\")","v":""},{"$f":"IF(Tools!D42<>\"\",Tools!D42,\"\")","v":""},{"$f":"IF(Tools!D43<>\"\",Tools!D43,\"\")","v":""},{"$f":"IF(Tools!D44<>\"\",Tools!D44,\"\")","v":""},{"$f":"IF(Tools!D45<>\"\",Tools!D45,\"\")","v":""},{"$f":"IF(Tools!D46<>\"\",Tools!D46,\"\")","v":""},{"$f":"IF(Tools!D47<>\"\",Tools!D47,\"\")","v":""},{"$f":"IF(Tools!D48<>\"\",Tools!D48,\"\")","v":""},{"$f":"IF(Tools!D49<>\"\",Tools!D49,\"\")","v":""},{"$f":"IF(Tools!D50<>\"\",Tools!D50,\"\")","v":""},{"$f":"IF(Tools!D51<>\"\",Tools!D51,\"\")","v":""},{"$f":"IF(Tools!D52<>\"\",Tools!D52,\"\")","v":""},{"$f":"IF(Tools!D53<>\"\",Tools!D53,\"\")","v":""},{"$f":"IF(Tools!D54<>\"\",Tools!D54,\"\")","v":""},{"$f":"IF(Tools!D55<>\"\",Tools!D55,\"\")","v":""},{"$f":"IF(Tools!D56<>\"\",Tools!D56,\"\")","v":""},{"$f":"IF(Tools!D57<>\"\",Tools!D57,\"\")","v":""},null,"Drop List Start Date",null,null,null,null,null,null,null,{"$f":"IF(HideValues!A83<>\"\",HideValues!A83,\"\")","v":""},{"$f":"IF(HideValues!B83<>\"\",HideValues!B83,\"\")","v":""},{"$f":"IF(HideValues!C83<>\"\",HideValues!C83,\"\")","v":""},{"$f":"IF(HideValues!D83<>\"\",HideValues!D83,\"\")","v":""},{"$f":"IF(HideValues!E83<>\"\",HideValues!E83,\"\")","v":""},{"$f":"IF(HideValues!F83<>\"\",HideValues!F83,\"\")","v":""},{"$f":"IF(HideValues!G83<>\"\",HideValues!G83,\"\")","v":""},{"$f":"IF(HideValues!H83<>\"\",HideValues!H83,\"\")","v":""},{"$f":"IF(HideValues!I83<>\"\",HideValues!I83,\"\")","v":""},{"$f":"IF(HideValues!J83<>\"\",HideValues!J83,\"\")","v":""},null,"CF Gantt Engine 1",null,null,null,null,null,null,null,null,"CF Budget",null,null,null,null,null,null,"CF Round F",null,null,null,null,null,null,"CF Flags",null,null,null,null,null,null,"CF Type",null,null,1,1,1,"CF Gantt Engine 6",null,null,null,null,null,null,null,null,null,null,null,null,"CF Gantt Engine 2",null,null,null,null,null,null,null,null,"CF Gantt Engine 3",null,null,null,null,null,null,null,null,"CF Gantt Engine 4",null,null,null,null,null,null,null,null,"CF Gantt Engine 5",null,null,null,null,null,null,null,null,"CF Start",null,null,null,null,null,null,"CF Duration",null,null,null,null,null,null,null,"CF Dur. Type",null,null,null,null,null,null,null,null,null,null,null,null,null,null,null,null,null,null,"Target Cell Date Picker User Form",null,null,null,null,null,null,null,null,null,null,"Red_Bookmark",null,null,null,null,null,null,"Filter",null,null,null,false,false,false,false,false,false,false,false,false,false,false,false,false,false,false,false,false,false,false,null,null,null,null,null,null,null,null,null,null,null,null,null,null,"Task Trans.",null,null,null,"Tache","Sous-tache","Jalon"]
[null,null,null,null,null,null,null,null,null,null,null,null,null,null,null,null,null,null,null,null,null,null,null,null," ¶¶¶ Please Hide these rows. Do not delete. ¶¶¶",null,null,null,null,null,null,null,null,null,"Week-End Flag",{"$f":"IF(Work_D_Only_Bool,NETWORKDAYS.INTL(AJ9,AJ9,WE_Days,Tools!$B$10:$B$55),1)","v":1},{"$f":"IF(Work_D_Only_Bool,NETWORKDAYS.INTL(AK9,AK9,WE_Days,Tools!$B$10:$B$55),1)","v":1},{"$f":"IF(Work_D_Only_Bool,NETWORKDAYS.INTL(AL9,AL9,WE_Days,Tools!$B$10:$B$55),1)","v":1},{"$f":"IF(Work_D_Only_Bool,NETWORKDAYS.INTL(AM9,AM9,WE_Days,Tools!$B$10:$B$55),1)","v":1},{"$f":"IF(Work_D_Only_Bool,NETWORKDAYS.INTL(AN9,AN9,WE_Days,Tools!$B$10:$B$55),1)","v":1},{"$f":"IF(Work_D_Only_Bool,NETWORKDAYS.INTL(AO9,AO9,WE_Days,Tools!$B$10:$B$55),1)","v":0},{"$f":"IF(Work_D_Only_Bool,NETWORKDAYS.INTL(AP9,AP9,WE_Days,Tools!$B$10:$B$55),1)","v":0},{"$f":"IF(Work_D_Only_Bool,NETWORKDAYS.INTL(AQ9,AQ9,WE_Days,Tools!$B$10:$B$55),1)","v":1},{"$f":"IF(Work_D_Only_Bool,NETWORKDAYS.INTL(AR9,AR9,WE_Days,Tools!$B$10:$B$55),1)","v":1},{"$f":"IF(Work_D_Only_Bool,NETWORKDAYS.INTL(AS9,AS9,WE_Days,Tools!$B$10:$B$55),1)","v":1},{"$f":"IF(Work_D_Only_Bool,NETWORKDAYS.INTL(AT9,AT9,WE_Days,Tools!$B$10:$B$55),1)","v":1},{"$f":"IF(Work_D_Only_Bool,NETWORKDAYS.INTL(AU9,AU9,WE_Days,Tools!$B$10:$B$55),1)","v":1},{"$f":"IF(Work_D_Only_Bool,NETWORKDAYS.INTL(AV9,AV9,WE_Days,Tools!$B$10:$B$55),1)","v":0},{"$f":"IF(Work_D_Only_Bool,NETWORKDAYS.INTL(AW9,AW9,WE_Days,Tools!$B$10:$B$55),1)","v":0},{"$f":"IF(Work_D_Only_Bool,NETWORKDAYS.INTL(AX9,AX9,WE_Days,Tools!$B$10:$B$55),1)","v":1},{"$f":"IF(Work_D_Only_Bool,NETWORKDAYS.INTL(AY9,AY9,WE_Days,Tools!$B$10:$B$55),1)","v":1},{"$f":"IF(Work_D_Only_Bool,NETWORKDAYS.INTL(AZ9,AZ9,WE_Days,Tools!$B$10:$B$55),1)","v":1},{"$f":"IF(Work_D_Only_Bool,NETWORKDAYS.INTL(BA9,BA9,WE_Days,Tools!$B$10:$B$55),1)","v":1},{"$f":"IF(Work_D_Only_Bool,NETWORKDAYS.INTL(BB9,BB9,WE_Days,Tools!$B$10:$B$55),1)","v":1},{"$f":"IF(Work_D_Only_Bool,NETWORKDAYS.INTL(BC9,BC9,WE_Days,Tools!$B$10:$B$55),1)","v":0},{"$f":"IF(Work_D_Only_Bool,NETWORKDAYS.INTL(BD9,BD9,WE_Days,Tools!$B$10:$B$55),1)","v":0},{"$f":"IF(Work_D_Only_Bool,NETWORKDAYS.INTL(BE9,BE9,WE_Days,Tools!$B$10:$B$55),1)","v":1},{"$f":"IF(Work_D_Only_Bool,NETWORKDAYS.INTL(BF9,BF9,WE_Days,Tools!$B$10:$B$55),1)","v":1},{"$f":"IF(Work_D_Only_Bool,NETWORKDAYS.INTL(BG9,BG9,WE_Days,Tools!$B$10:$B$55),1)","v":1},{"$f":"IF(Work_D_Only_Bool,NETWORKDAYS.INTL(BH9,BH9,WE_Days,Tools!$B$10:$B$55),1)","v":1},{"$f":"IF(Work_D_Only_Bool,NETWORKDAYS.INTL(BI9,BI9,WE_Days,Tools!$B$10:$B$55),1)","v":1},{"$f":"IF(Work_D_Only_Bool,NETWORKDAYS.INTL(BJ9,BJ9,WE_Days,Tools!$B$10:$B$55),1)","v":0},{"$f":"IF(Work_D_Only_Bool,NETWORKDAYS.INTL(BK9,BK9,WE_Days,Tools!$B$10:$B$55),1)","v":0},{"$f":"IF(Work_D_Only_Bool,NETWORKDAYS.INTL(BL9,BL9,WE_Days,Tools!$B$10:$B$55),1)","v":1},{"$f":"IF(Work_D_Only_Bool,NETWORKDAYS.INTL(BM9,BM9,WE_Days,Tools!$B$10:$B$55),1)","v":1},{"$f":"IF(Work_D_Only_Bool,NETWORKDAYS.INTL(BN9,BN9,WE_Days,Tools!$B$10:$B$55),1)","v":1},{"$f":"IF(Work_D_Only_Bool,NETWORKDAYS.INTL(BO9,BO9,WE_Days,Tools!$B$10:$B$55),1)","v":1},{"$f":"IF(Work_D_Only_Bool,NETWORKDAYS.INTL(BP9,BP9,WE_Days,Tools!$B$10:$B$55),1)","v":1},{"$f":"IF(Work_D_Only_Bool,NETWORKDAYS.INTL(BQ9,BQ9,WE_Days,Tools!$B$10:$B$55),1)","v":0},{"$f":"IF(Work_D_Only_Bool,NETWORKDAYS.INTL(BR9,BR9,WE_Days,Tools!$B$10:$B$55),1)","v":0},{"$f":"IF(Work_D_Only_Bool,NETWORKDAYS.INTL(BS9,BS9,WE_Days,Tools!$B$10:$B$55),1)","v":1},{"$f":"IF(Work_D_Only_Bool,NETWORKDAYS.INTL(BT9,BT9,WE_Days,Tools!$B$10:$B$55),1)","v":1},{"$f":"IF(Work_D_Only_Bool,NETWORKDAYS.INTL(BU9,BU9,WE_Days,Tools!$B$10:$B$55),1)","v":1},{"$f":"IF(Work_D_Only_Bool,NETWORKDAYS.INTL(BV9,BV9,WE_Days,Tools!$B$10:$B$55),1)","v":1},{"$f":"IF(Work_D_Only_Bool,NETWORKDAYS.INTL(BW9,BW9,WE_Days,Tools!$B$10:$B$55),1)","v":1},{"$f":"IF(Work_D_Only_Bool,NETWORKDAYS.INTL(BX9,BX9,WE_Days,Tools!$B$10:$B$55),1)","v":0},{"$f":"IF(Work_D_Only_Bool,NETWORKDAYS.INTL(BY9,BY9,WE_Days,Tools!$B$10:$B$55),1)","v":0},{"$f":"IF(Work_D_Only_Bool,NETWORKDAYS.INTL(BZ9,BZ9,WE_Days,Tools!$B$10:$B$55),1)","v":1},{"$f":"IF(Work_D_Only_Bool,NETWORKDAYS.INTL(CA9,CA9,WE_Days,Tools!$B$10:$B$55),1)","v":1},{"$f":"IF(Work_D_Only_Bool,NETWORKDAYS.INTL(CB9,CB9,WE_Days,Tools!$B$10:$B$55),1)","v":1},{"$f":"IF(Work_D_Only_Bool,NETWORKDAYS.INTL(CC9,CC9,WE_Days,Tools!$B$10:$B$55),1)","v":1},{"$f":"IF(Work_D_Only_Bool,NETWORKDAYS.INTL(CD9,CD9,WE_Days,Tools!$B$10:$B$55),1)","v":1},{"$f":"IF(Work_D_Only_Bool,NETWORKDAYS.INTL(CE9,CE9,WE_Days,Tools!$B$10:$B$55),1)","v":0},{"$f":"IF(Work_D_Only_Bool,NETWORKDAYS.INTL(CF9,CF9,WE_Days,Tools!$B$10:$B$55),1)","v":0},{"$f":"IF(Work_D_Only_Bool,NETWORKDAYS.INTL(CG9,CG9,WE_Days,Tools!$B$10:$B$55),1)","v":1},{"$f":"IF(Work_D_Only_Bool,NETWORKDAYS.INTL(CH9,CH9,WE_Days,Tools!$B$10:$B$55),1)","v":1},{"$f":"IF(Work_D_Only_Bool,NETWORKDAYS.INTL(CI9,CI9,WE_Days,Tools!$B$10:$B$55),1)","v":1},{"$f":"IF(Work_D_Only_Bool,NETWORKDAYS.INTL(CJ9,CJ9,WE_Days,Tools!$B$10:$B$55),1)","v":1},{"$f":"IF(Work_D_Only_Bool,NETWORKDAYS.INTL(CK9,CK9,WE_Days,Tools!$B$10:$B$55),1)","v":1},{"$f":"IF(Work_D_Only_Bool,NETWORKDAYS.INTL(CL9,CL9,WE_Days,Tools!$B$10:$B$55),1)","v":0},{"$f":"IF(Work_D_Only_Bool,NETWORKDAYS.INTL(CM9,CM9,WE_Days,Tools!$B$10:$B$55),1)","v":0},{"$f":"IF(Work_D_Only_Bool,NETWORKDAYS.INTL(CN9,CN9,WE_Days,Tools!$B$10:$B$55),1)","v":1},{"$f":"IF(Work_D_Only_Bool,NETWORKDAYS.INTL(CO9,CO9,WE_Days,Tools!$B$10:$B$55),1)","v":1},{"$f":"IF(Work_D_Only_Bool,NETWORKDAYS.INTL(CP9,CP9,WE_Days,Tools!$B$10:$B$55),1)","v":1},{"$f":"IF(Work_D_Only_Bool,NETWORKDAYS.INTL(CQ9,CQ9,WE_Days,Tools!$B$10:$B$55),1)","v":1},{"$f":"IF(Work_D_Only_Bool,NETWORKDAYS.INTL(CR9,CR9,WE_Days,Tools!$B$10:$B$55),1)","v":1},{"$f":"IF(Work_D_Only_Bool,NETWORKDAYS.INTL(CS9,CS9,WE_Days,Tools!$B$10:$B$55),1)","v":0},{"$f":"IF(Work_D_Only_Bool,NETWORKDAYS.INTL(CT9,CT9,WE_Days,Tools!$B$10:$B$55),1)","v":0},{"$f":"IF(Work_D_Only_Bool,NETWORKDAYS.INTL(CU9,CU9,WE_Days,Tools!$B$10:$B$55),1)","v":1},{"$f":"IF(Work_D_Only_Bool,NETWORKDAYS.INTL(CV9,CV9,WE_Days,Tools!$B$10:$B$55),1)","v":1},{"$f":"IF(Work_D_Only_Bool,NETWORKDAYS.INTL(CW9,CW9,WE_Days,Tools!$B$10:$B$55),1)","v":1},{"$f":"IF(Work_D_Only_Bool,NETWORKDAYS.INTL(CX9,CX9,WE_Days,Tools!$B$10:$B$55),1)","v":1},{"$f":"IF(Work_D_Only_Bool,NETWORKDAYS.INTL(CY9,CY9,WE_Days,Tools!$B$10:$B$55),1)","v":1},{"$f":"IF(Work_D_Only_Bool,NETWORKDAYS.INTL(CZ9,CZ9,WE_Days,Tools!$B$10:$B$55),1)","v":0},{"$f":"IF(Work_D_Only_Bool,NETWORKDAYS.INTL(DA9,DA9,WE_Days,Tools!$B$10:$B$55),1)","v":0},{"$f":"IF(Work_D_Only_Bool,NETWORKDAYS.INTL(DB9,DB9,WE_Days,Tools!$B$10:$B$55),1)","v":1},{"$f":"IF(Work_D_Only_Bool,NETWORKDAYS.INTL(DC9,DC9,WE_Days,Tools!$B$10:$B$55),1)","v":1},{"$f":"IF(Work_D_Only_Bool,NETWORKDAYS.INTL(DD9,DD9,WE_Days,Tools!$B$10:$B$55),1)","v":1},{"$f":"IF(Work_D_Only_Bool,NETWORKDAYS.INTL(DE9,DE9,WE_Days,Tools!$B$10:$B$55),1)","v":1},{"$f":"IF(Work_D_Only_Bool,NETWORKDAYS.INTL(DF9,DF9,WE_Days,Tools!$B$10:$B$55),1)","v":1},{"$f":"IF(Work_D_Only_Bool,NETWORKDAYS.INTL(DG9,DG9,WE_Days,Tools!$B$10:$B$55),1)","v":0},{"$f":"IF(Work_D_Only_Bool,NETWORKDAYS.INTL(DH9,DH9,WE_Days,Tools!$B$10:$B$55),1)","v":0},{"$f":"IF(Work_D_Only_Bool,NETWORKDAYS.INTL(DI9,DI9,WE_Days,Tools!$B$10:$B$55),1)","v":1},{"$f":"IF(Work_D_Only_Bool,NETWORKDAYS.INTL(DJ9,DJ9,WE_Days,Tools!$B$10:$B$55),1)","v":1},{"$f":"IF(Work_D_Only_Bool,NETWORKDAYS.INTL(DK9,DK9,WE_Days,Tools!$B$10:$B$55),1)","v":1},{"$f":"IF(Work_D_Only_Bool,NETWORKDAYS.INTL(DL9,DL9,WE_Days,Tools!$B$10:$B$55),1)","v":1},{"$f":"IF(Work_D_Only_Bool,NETWORKDAYS.INTL(DM9,DM9,WE_Days,Tools!$B$10:$B$55),1)","v":1},{"$f":"IF(Work_D_Only_Bool,NETWORKDAYS.INTL(DN9,DN9,WE_Days,Tools!$B$10:$B$55),1)","v":0},{"$f":"IF(Work_D_Only_Bool,NETWORKDAYS.INTL(DO9,DO9,WE_Days,Tools!$B$10:$B$55),1)","v":0},{"$f":"IF(Work_D_Only_Bool,NETWORKDAYS.INTL(DP9,DP9,WE_Days,Tools!$B$10:$B$55),1)","v":1},{"$f":"IF(Work_D_Only_Bool,NETWORKDAYS.INTL(DQ9,DQ9,WE_Days,Tools!$B$10:$B$55),1)","v":1},{"$f":"IF(Work_D_Only_Bool,NETWORKDAYS.INTL(DR9,DR9,WE_Days,Tools!$B$10:$B$55),1)","v":1},{"$f":"IF(Work_D_Only_Bool,NETWORKDAYS.INTL(DS9,DS9,WE_Days,Tools!$B$10:$B$55),1)","v":1},{"$f":"IF(Work_D_Only_Bool,NETWORKDAYS.INTL(DT9,DT9,WE_Days,Tools!$B$10:$B$55),1)","v":1},{"$f":"IF(Work_D_Only_Bool,NETWORKDAYS.INTL(DU9,DU9,WE_Days,Tools!$B$10:$B$55),1)","v":0},{"$f":"IF(Work_D_Only_Bool,NETWORKDAYS.INTL(DV9,DV9,WE_Days,Tools!$B$10:$B$55),1)","v":0},{"$f":"IF(Work_D_Only_Bool,NETWORKDAYS.INTL(DW9,DW9,WE_Days,Tools!$B$10:$B$55),1)","v":1},{"$f":"IF(Work_D_Only_Bool,NETWORKDAYS.INTL(DX9,DX9,WE_Days,Tools!$B$10:$B$55),1)","v":1},{"$f":"IF(Work_D_Only_Bool,NETWORKDAYS.INTL(DY9,DY9,WE_Days,Tools!$B$10:$B$55),1)","v":1},{"$f":"IF(Work_D_Only_Bool,NETWORKDAYS.INTL(DZ9,DZ9,WE_Days,Tools!$B$10:$B$55),1)","v":1},{"$f":"IF(Work_D_Only_Bool,NETWORKDAYS.INTL(EA9,EA9,WE_Days,Tools!$B$10:$B$55),1)","v":1},{"$f":"IF(Work_D_Only_Bool,NETWORKDAYS.INTL(EB9,EB9,WE_Days,Tools!$B$10:$B$55),1)","v":0},{"$f":"IF(Work_D_Only_Bool,NETWORKDAYS.INTL(EC9,EC9,WE_Days,Tools!$B$10:$B$55),1)","v":0},{"$f":"IF(Work_D_Only_Bool,NETWORKDAYS.INTL(ED9,ED9,WE_Days,Tools!$B$10:$B$55),1)","v":1},{"$f":"IF(Work_D_Only_Bool,NETWORKDAYS.INTL(EE9,EE9,WE_Days,Tools!$B$10:$B$55),1)","v":1},{"$f":"IF(Work_D_Only_Bool,NETWORKDAYS.INTL(EF9,EF9,WE_Days,Tools!$B$10:$B$55),1)","v":1},{"$f":"IF(Work_D_Only_Bool,NETWORKDAYS.INTL(EG9,EG9,WE_Days,Tools!$B$10:$B$55),1)","v":1},{"$f":"IF(Work_D_Only_Bool,NETWORKDAYS.INTL(EH9,EH9,WE_Days,Tools!$B$10:$B$55),1)","v":1},{"$f":"IF(Work_D_Only_Bool,NETWORKDAYS.INTL(EI9,EI9,WE_Days,Tools!$B$10:$B$55),1)","v":0},{"$f":"IF(Work_D_Only_Bool,NETWORKDAYS.INTL(EJ9,EJ9,WE_Days,Tools!$B$10:$B$55),1)","v":0},{"$f":"IF(Work_D_Only_Bool,NETWORKDAYS.INTL(EK9,EK9,WE_Days,Tools!$B$10:$B$55),1)","v":1},{"$f":"IF(Work_D_Only_Bool,NETWORKDAYS.INTL(EL9,EL9,WE_Days,Tools!$B$10:$B$55),1)","v":1},{"$f":"IF(Work_D_Only_Bool,NETWORKDAYS.INTL(EM9,EM9,WE_Days,Tools!$B$10:$B$55),1)","v":1},{"$f":"IF(Work_D_Only_Bool,NETWORKDAYS.INTL(EN9,EN9,WE_Days,Tools!$B$10:$B$55),1)","v":1},{"$f":"IF(Work_D_Only_Bool,NETWORKDAYS.INTL(EO9,EO9,WE_Days,Tools!$B$10:$B$55),1)","v":1},{"$f":"IF(Work_D_Only_Bool,NETWORKDAYS.INTL(EP9,EP9,WE_Days,Tools!$B$10:$B$55),1)","v":0},{"$f":"IF(Work_D_Only_Bool,NETWORKDAYS.INTL(EQ9,EQ9,WE_Days,Tools!$B$10:$B$55),1)","v":0},{"$f":"IF(Work_D_Only_Bool,NETWORKDAYS.INTL(ER9,ER9,WE_Days,Tools!$B$10:$B$55),1)","v":1},{"$f":"IF(Work_D_Only_Bool,NETWORKDAYS.INTL(ES9,ES9,WE_Days,Tools!$B$10:$B$55),1)","v":1},{"$f":"IF(Work_D_Only_Bool,NETWORKDAYS.INTL(ET9,ET9,WE_Days,Tools!$B$10:$B$55),1)","v":1},{"$f":"IF(Work_D_Only_Bool,NETWORKDAYS.INTL(EU9,EU9,WE_Days,Tools!$B$10:$B$55),1)","v":1},{"$f":"IF(Work_D_Only_Bool,NETWORKDAYS.INTL(EV9,EV9,WE_Days,Tools!$B$10:$B$55),1)","v":1},{"$f":"IF(Work_D_Only_Bool,NETWORKDAYS.INTL(EW9,EW9,WE_Days,Tools!$B$10:$B$55),1)","v":0},{"$f":"IF(Work_D_Only_Bool,NETWORKDAYS.INTL(EX9,EX9,WE_Days,Tools!$B$10:$B$55),1)","v":0},{"$f":"IF(Work_D_Only_Bool,NETWORKDAYS.INTL(EY9,EY9,WE_Days,Tools!$B$10:$B$55),1)","v":1},{"$f":"IF(Work_D_Only_Bool,NETWORKDAYS.INTL(EZ9,EZ9,WE_Days,Tools!$B$10:$B$55),1)","v":1},{"$f":"IF(Work_D_Only_Bool,NETWORKDAYS.INTL(FA9,FA9,WE_Days,Tools!$B$10:$B$55),1)","v":1},{"$f":"IF(Work_D_Only_Bool,NETWORKDAYS.INTL(FB9,FB9,WE_Days,Tools!$B$10:$B$55),1)","v":1},{"$f":"IF(Work_D_Only_Bool,NETWORKDAYS.INTL(FC9,FC9,WE_Days,Tools!$B$10:$B$55),1)","v":1},{"$f":"IF(Work_D_Only_Bool,NETWORKDAYS.INTL(FD9,FD9,WE_Days,Tools!$B$10:$B$55),1)","v":0},{"$f":"IF(Work_D_Only_Bool,NETWORKDAYS.INTL(FE9,FE9,WE_Days,Tools!$B$10:$B$55),1)","v":0},{"$f":"IF(Work_D_Only_Bool,NETWORKDAYS.INTL(FF9,FF9,WE_Days,Tools!$B$10:$B$55),1)","v":1},{"$f":"IF(Work_D_Only_Bool,NETWORKDAYS.INTL(FG9,FG9,WE_Days,Tools!$B$10:$B$55),1)","v":1},{"$f":"IF(Work_D_Only_Bool,NETWORKDAYS.INTL(FH9,FH9,WE_Days,Tools!$B$10:$B$55),1)","v":1},{"$f":"IF(Work_D_Only_Bool,NETWORKDAYS.INTL(FI9,FI9,WE_Days,Tools!$B$10:$B$55),1)","v":1},{"$f":"IF(Work_D_Only_Bool,NETWORKDAYS.INTL(FJ9,FJ9,WE_Days,Tools!$B$10:$B$55),1)","v":1},{"$f":"IF(Work_D_Only_Bool,NETWORKDAYS.INTL(FK9,FK9,WE_Days,Tools!$B$10:$B$55),1)","v":0},{"$f":"IF(Work_D_Only_Bool,NETWORKDAYS.INTL(FL9,FL9,WE_Days,Tools!$B$10:$B$55),1)","v":0},{"$f":"IF(Work_D_Only_Bool,NETWORKDAYS.INTL(FM9,FM9,WE_Days,Tools!$B$10:$B$55),1)","v":1},{"$f":"IF(Work_D_Only_Bool,NETWORKDAYS.INTL(FN9,FN9,WE_Days,Tools!$B$10:$B$55),1)","v":1},{"$f":"IF(Work_D_Only_Bool,NETWORKDAYS.INTL(FO9,FO9,WE_Days,Tools!$B$10:$B$55),1)","v":1},{"$f":"IF(Work_D_Only_Bool,NETWORKDAYS.INTL(FP9,FP9,WE_Days,Tools!$B$10:$B$55),1)","v":1},{"$f":"IF(Work_D_Only_Bool,NETWORKDAYS.INTL(FQ9,FQ9,WE_Days,Tools!$B$10:$B$55),1)","v":1},{"$f":"IF(Work_D_Only_Bool,NETWORKDAYS.INTL(FR9,FR9,WE_Days,Tools!$B$10:$B$55),1)","v":0},{"$f":"IF(Work_D_Only_Bool,NETWORKDAYS.INTL(FS9,FS9,WE_Days,Tools!$B$10:$B$55),1)","v":0},{"$f":"IF(Work_D_Only_Bool,NETWORKDAYS.INTL(FT9,FT9,WE_Days,Tools!$B$10:$B$55),1)","v":1},{"$f":"IF(Work_D_Only_Bool,NETWORKDAYS.INTL(FU9,FU9,WE_Days,Tools!$B$10:$B$55),1)","v":1},{"$f":"IF(Work_D_Only_Bool,NETWORKDAYS.INTL(FV9,FV9,WE_Days,Tools!$B$10:$B$55),1)","v":1},{"$f":"IF(Work_D_Only_Bool,NETWORKDAYS.INTL(FW9,FW9,WE_Days,Tools!$B$10:$B$55),1)","v":1},{"$f":"IF(Work_D_Only_Bool,NETWORKDAYS.INTL(FX9,FX9,WE_Days,Tools!$B$10:$B$55),1)","v":1},{"$f":"IF(Work_D_Only_Bool,NETWORKDAYS.INTL(FY9,FY9,WE_Days,Tools!$B$10:$B$55),1)","v":0},{"$f":"IF(Work_D_Only_Bool,NETWORKDAYS.INTL(FZ9,FZ9,WE_Days,Tools!$B$10:$B$55),1)","v":0},{"$f":"IF(Work_D_Only_Bool,NETWORKDAYS.INTL(GA9,GA9,WE_Days,Tools!$B$10:$B$55),1)","v":1},{"$f":"IF(Work_D_Only_Bool,NETWORKDAYS.INTL(GB9,GB9,WE_Days,Tools!$B$10:$B$55),1)","v":1},{"$f":"IF(Work_D_Only_Bool,NETWORKDAYS.INTL(GC9,GC9,WE_Days,Tools!$B$10:$B$55),1)","v":1},{"$f":"IF(Work_D_Only_Bool,NETWORKDAYS.INTL(GD9,GD9,WE_Days,Tools!$B$10:$B$55),1)","v":1},{"$f":"IF(Work_D_Only_Bool,NETWORKDAYS.INTL(GE9,GE9,WE_Days,Tools!$B$10:$B$55),1)","v":1},{"$f":"IF(Work_D_Only_Bool,NETWORKDAYS.INTL(GF9,GF9,WE_Days,Tools!$B$10:$B$55),1)","v":0},{"$f":"IF(Work_D_Only_Bool,NETWORKDAYS.INTL(GG9,GG9,WE_Days,Tools!$B$10:$B$55),1)","v":0},{"$f":"IF(Work_D_Only_Bool,NETWORKDAYS.INTL(GH9,GH9,WE_Days,Tools!$B$10:$B$55),1)","v":1},{"$f":"IF(Work_D_Only_Bool,NETWORKDAYS.INTL(GI9,GI9,WE_Days,Tools!$B$10:$B$55),1)","v":1},{"$f":"IF(Work_D_Only_Bool,NETWORKDAYS.INTL(GJ9,GJ9,WE_Days,Tools!$B$10:$B$55),1)","v":1},{"$f":"IF(Work_D_Only_Bool,NETWORKDAYS.INTL(GK9,GK9,WE_Days,Tools!$B$10:$B$55),1)","v":1},{"$f":"IF(Work_D_Only_Bool,NETWORKDAYS.INTL(GL9,GL9,WE_Days,Tools!$B$10:$B$55),1)","v":1},{"$f":"IF(Work_D_Only_Bool,NETWORKDAYS.INTL(GM9,GM9,WE_Days,Tools!$B$10:$B$55),1)","v":0},{"$f":"IF(Work_D_Only_Bool,NETWORKDAYS.INTL(GN9,GN9,WE_Days,Tools!$B$10:$B$55),1)","v":0},{"$f":"IF(Work_D_Only_Bool,NETWORKDAYS.INTL(GO9,GO9,WE_Days,Tools!$B$10:$B$55),1)","v":1},{"$f":"IF(Work_D_Only_Bool,NETWORKDAYS.INTL(GP9,GP9,WE_Days,Tools!$B$10:$B$55),1)","v":1},{"$f":"IF(Work_D_Only_Bool,NETWORKDAYS.INTL(GQ9,GQ9,WE_Days,Tools!$B$10:$B$55),1)","v":1},{"$f":"IF(Work_D_Only_Bool,NETWORKDAYS.INTL(GR9,GR9,WE_Days,Tools!$B$10:$B$55),1)","v":1},{"$f":"IF(Work_D_Only_Bool,NETWORKDAYS.INTL(GS9,GS9,WE_Days,Tools!$B$10:$B$55),1)","v":1},{"$f":"IF(Work_D_Only_Bool,NETWORKDAYS.INTL(GT9,GT9,WE_Days,Tools!$B$10:$B$55),1)","v":0},{"$f":"IF(Work_D_Only_Bool,NETWORKDAYS.INTL(GU9,GU9,WE_Days,Tools!$B$10:$B$55),1)","v":0},{"$f":"IF(Work_D_Only_Bool,NETWORKDAYS.INTL(GV9,GV9,WE_Days,Tools!$B$10:$B$55),1)","v":1},{"$f":"IF(Work_D_Only_Bool,NETWORKDAYS.INTL(GW9,GW9,WE_Days,Tools!$B$10:$B$55),1)","v":1},{"$f":"IF(Work_D_Only_Bool,NETWORKDAYS.INTL(GX9,GX9,WE_Days,Tools!$B$10:$B$55),1)","v":1},{"$f":"IF(Work_D_Only_Bool,NETWORKDAYS.INTL(GY9,GY9,WE_Days,Tools!$B$10:$B$55),1)","v":1},{"$f":"IF(Work_D_Only_Bool,NETWORKDAYS.INTL(GZ9,GZ9,WE_Days,Tools!$B$10:$B$55),1)","v":1},{"$f":"IF(Work_D_Only_Bool,NETWORKDAYS.INTL(HA9,HA9,WE_Days,Tools!$B$10:$B$55),1)","v":0},{"$f":"IF(Work_D_Only_Bool,NETWORKDAYS.INTL(HB9,HB9,WE_Days,Tools!$B$10:$B$55),1)","v":0},{"$f":"IF(Work_D_Only_Bool,NETWORKDAYS.INTL(HC9,HC9,WE_Days,Tools!$B$10:$B$55),1)","v":1},{"$f":"IF(Work_D_Only_Bool,NETWORKDAYS.INTL(HD9,HD9,WE_Days,Tools!$B$10:$B$55),1)","v":1},{"$f":"IF(Work_D_Only_Bool,NETWORKDAYS.INTL(HE9,HE9,WE_Days,Tools!$B$10:$B$55),1)","v":1},{"$f":"IF(Work_D_Only_Bool,NETWORKDAYS.INTL(HF9,HF9,WE_Days,Tools!$B$10:$B$55),1)","v":1},{"$f":"IF(Work_D_Only_Bool,NETWORKDAYS.INTL(HG9,HG9,WE_Days,Tools!$B$10:$B$55),1)","v":1},{"$f":"IF(Work_D_Only_Bool,NETWORKDAYS.INTL(HH9,HH9,WE_Days,Tools!$B$10:$B$55),1)","v":0},{"$f":"IF(Work_D_Only_Bool,NETWORKDAYS.INTL(HI9,HI9,WE_Days,Tools!$B$10:$B$55),1)","v":0},{"$f":"IF(Work_D_Only_Bool,NETWORKDAYS.INTL(HJ9,HJ9,WE_Days,Tools!$B$10:$B$55),1)","v":1},{"$f":"IF(Work_D_Only_Bool,NETWORKDAYS.INTL(HK9,HK9,WE_Days,Tools!$B$10:$B$55),1)","v":1},{"$f":"IF(Work_D_Only_Bool,NETWORKDAYS.INTL(HL9,HL9,WE_Days,Tools!$B$10:$B$55),1)","v":1},{"$f":"IF(Work_D_Only_Bool,NETWORKDAYS.INTL(HM9,HM9,WE_Days,Tools!$B$10:$B$55),1)","v":1},{"$f":"IF(Work_D_Only_Bool,NETWORKDAYS.INTL(HN9,HN9,WE_Days,Tools!$B$10:$B$55),1)","v":1},{"$f":"IF(Work_D_Only_Bool,NETWORKDAYS.INTL(HO9,HO9,WE_Days,Tools!$B$10:$B$55),1)","v":0},{"$f":"IF(Work_D_Only_Bool,NETWORKDAYS.INTL(HP9,HP9,WE_Days,Tools!$B$10:$B$55),1)","v":0},{"$f":"IF(Work_D_Only_Bool,NETWORKDAYS.INTL(HQ9,HQ9,WE_Days,Tools!$B$10:$B$55),1)","v":1},{"$f":"IF(Work_D_Only_Bool,NETWORKDAYS.INTL(HR9,HR9,WE_Days,Tools!$B$10:$B$55),1)","v":1},{"$f":"IF(Work_D_Only_Bool,NETWORKDAYS.INTL(HS9,HS9,WE_Days,Tools!$B$10:$B$55),1)","v":1},{"$f":"IF(Work_D_Only_Bool,NETWORKDAYS.INTL(HT9,HT9,WE_Days,Tools!$B$10:$B$55),1)","v":1},{"$f":"IF(Work_D_Only_Bool,NETWORKDAYS.INTL(HU9,HU9,WE_Days,Tools!$B$10:$B$55),1)","v":1},{"$f":"IF(Work_D_Only_Bool,NETWORKDAYS.INTL(HV9,HV9,WE_Days,Tools!$B$10:$B$55),1)","v":0},{"$f":"IF(Work_D_Only_Bool,NETWORKDAYS.INTL(HW9,HW9,WE_Days,Tools!$B$10:$B$55),1)","v":0},{"$f":"IF(Work_D_Only_Bool,NETWORKDAYS.INTL(HX9,HX9,WE_Days,Tools!$B$10:$B$55),1)","v":1},{"$f":"IF(Work_D_Only_Bool,NETWORKDAYS.INTL(HY9,HY9,WE_Days,Tools!$B$10:$B$55),1)","v":1},{"$f":"IF(Work_D_Only_Bool,NETWORKDAYS.INTL(HZ9,HZ9,WE_Days,Tools!$B$10:$B$55),1)","v":1},{"$f":"IF(Work_D_Only_Bool,NETWORKDAYS.INTL(IA9,IA9,WE_Days,Tools!$B$10:$B$55),1)","v":1},{"$f":"IF(Work_D_Only_Bool,NETWORKDAYS.INTL(IB9,IB9,WE_Days,Tools!$B$10:$B$55),1)","v":1},{"$f":"IF(Work_D_Only_Bool,NETWORKDAYS.INTL(IC9,IC9,WE_Days,Tools!$B$10:$B$55),1)","v":0},{"$f":"IF(Work_D_Only_Bool,NETWORKDAYS.INTL(ID9,ID9,WE_Days,Tools!$B$10:$B$55),1)","v":0},{"$f":"IF(Work_D_Only_Bool,NETWORKDAYS.INTL(IE9,IE9,WE_Days,Tools!$B$10:$B$55),1)","v":1},{"$f":"IF(Work_D_Only_Bool,NETWORKDAYS.INTL(IF9,IF9,WE_Days,Tools!$B$10:$B$55),1)","v":1},{"$f":"IF(Work_D_Only_Bool,NETWORKDAYS.INTL(IG9,IG9,WE_Days,Tools!$B$10:$B$55),1)","v":1},{"$f":"IF(Work_D_Only_Bool,NETWORKDAYS.INTL(IH9,IH9,WE_Days,Tools!$B$10:$B$55),1)","v":1},{"$f":"IF(Work_D_Only_Bool,NETWORKDAYS.INTL(II9,II9,WE_Days,Tools!$B$10:$B$55),1)","v":1},{"$f":"IF(Work_D_Only_Bool,NETWORKDAYS.INTL(IJ9,IJ9,WE_Days,Tools!$B$10:$B$55),1)","v":0},{"$f":"IF(Work_D_Only_Bool,NETWORKDAYS.INTL(IK9,IK9,WE_Days,Tools!$B$10:$B$55),1)","v":0},{"$f":"IF(Work_D_Only_Bool,NETWORKDAYS.INTL(IL9,IL9,WE_Days,Tools!$B$10:$B$55),1)","v":1},{"$f":"IF(Work_D_Only_Bool,NETWORKDAYS.INTL(IM9,IM9,WE_Days,Tools!$B$10:$B$55),1)","v":1},{"$f":"IF(Work_D_Only_Bool,NETWORKDAYS.INTL(IN9,IN9,WE_Days,Tools!$B$10:$B$55),1)","v":1},{"$f":"IF(Work_D_Only_Bool,NETWORKDAYS.INTL(IO9,IO9,WE_Days,Tools!$B$10:$B$55),1)","v":1},{"$f":"IF(Work_D_Only_Bool,NETWORKDAYS.INTL(IP9,IP9,WE_Days,Tools!$B$10:$B$55),1)","v":1},{"$f":"IF(Work_D_Only_Bool,NETWORKDAYS.INTL(IQ9,IQ9,WE_Days,Tools!$B$10:$B$55),1)","v":0},{"$f":"IF(Work_D_Only_Bool,NETWORKDAYS.INTL(IR9,IR9,WE_Days,Tools!$B$10:$B$55),1)","v":0},{"$f":"IF(Work_D_Only_Bool,NETWORKDAYS.INTL(IS9,IS9,WE_Days,Tools!$B$10:$B$55),1)","v":1},{"$f":"IF(Work_D_Only_Bool,NETWORKDAYS.INTL(IT9,IT9,WE_Days,Tools!$B$10:$B$55),1)","v":1},{"$f":"IF(Work_D_Only_Bool,NETWORKDAYS.INTL(IU9,IU9,WE_Days,Tools!$B$10:$B$55),1)","v":1},{"$f":"IF(Work_D_Only_Bool,NETWORKDAYS.INTL(IV9,IV9,WE_Days,Tools!$B$10:$B$55),1)","v":1},{"$f":"IF(Work_D_Only_Bool,NETWORKDAYS.INTL(IW9,IW9,WE_Days,Tools!$B$10:$B$55),1)","v":1},{"$f":"IF(Work_D_Only_Bool,NETWORKDAYS.INTL(IX9,IX9,WE_Days,Tools!$B$10:$B$55),1)","v":0},{"$f":"IF(Work_D_Only_Bool,NETWORKDAYS.INTL(IY9,IY9,WE_Days,Tools!$B$10:$B$55),1)","v":0},{"$f":"IF(Work_D_Only_Bool,NETWORKDAYS.INTL(IZ9,IZ9,WE_Days,Tools!$B$10:$B$55),1)","v":1},{"$f":"IF(Work_D_Only_Bool,NETWORKDAYS.INTL(JA9,JA9,WE_Days,Tools!$B$10:$B$55),1)","v":1},{"$f":"IF(Work_D_Only_Bool,NETWORKDAYS.INTL(JB9,JB9,WE_Days,Tools!$B$10:$B$55),1)","v":1},{"$f":"IF(Work_D_Only_Bool,NETWORKDAYS.INTL(JC9,JC9,WE_Days,Tools!$B$10:$B$55),1)","v":1},{"$f":"IF(Work_D_Only_Bool,NETWORKDAYS.INTL(JD9,JD9,WE_Days,Tools!$B$10:$B$55),1)","v":1},{"$f":"IF(Work_D_Only_Bool,NETWORKDAYS.INTL(JE9,JE9,WE_Days,Tools!$B$10:$B$55),1)","v":0},{"$f":"IF(Work_D_Only_Bool,NETWORKDAYS.INTL(JF9,JF9,WE_Days,Tools!$B$10:$B$55),1)","v":0},{"$f":"IF(Work_D_Only_Bool,NETWORKDAYS.INTL(JG9,JG9,WE_Days,Tools!$B$10:$B$55),1)","v":1},{"$f":"IF(Work_D_Only_Bool,NETWORKDAYS.INTL(JH9,JH9,WE_Days,Tools!$B$10:$B$55),1)","v":1},{"$f":"IF(Work_D_Only_Bool,NETWORKDAYS.INTL(JI9,JI9,WE_Days,Tools!$B$10:$B$55),1)","v":1},{"$f":"IF(Work_D_Only_Bool,NETWORKDAYS.INTL(JJ9,JJ9,WE_Days,Tools!$B$10:$B$55),1)","v":1},{"$f":"IF(Work_D_Only_Bool,NETWORKDAYS.INTL(JK9,JK9,WE_Days,Tools!$B$10:$B$55),1)","v":1},{"$f":"IF(Work_D_Only_Bool,NETWORKDAYS.INTL(JL9,JL9,WE_Days,Tools!$B$10:$B$55),1)","v":0},{"$f":"IF(Work_D_Only_Bool,NETWORKDAYS.INTL(JM9,JM9,WE_Days,Tools!$B$10:$B$55),1)","v":0},{"$f":"IF(Work_D_Only_Bool,NETWORKDAYS.INTL(JN9,JN9,WE_Days,Tools!$B$10:$B$55),1)","v":1},{"$f":"IF(Work_D_Only_Bool,NETWORKDAYS.INTL(JO9,JO9,WE_Days,Tools!$B$10:$B$55),1)","v":1},{"$f":"IF(Work_D_Only_Bool,NETWORKDAYS.INTL(JP9,JP9,WE_Days,Tools!$B$10:$B$55),1)","v":1},{"$f":"IF(Work_D_Only_Bool,NETWORKDAYS.INTL(JQ9,JQ9,WE_Days,Tools!$B$10:$B$55),1)","v":1},{"$f":"IF(Work_D_Only_Bool,NETWORKDAYS.INTL(JR9,JR9,WE_Days,Tools!$B$10:$B$55),1)","v":1},{"$f":"IF(Work_D_Only_Bool,NETWORKDAYS.INTL(JS9,JS9,WE_Days,Tools!$B$10:$B$55),1)","v":0},{"$f":"IF(Work_D_Only_Bool,NETWORKDAYS.INTL(JT9,JT9,WE_Days,Tools!$B$10:$B$55),1)","v":0},{"$f":"IF(Work_D_Only_Bool,NETWORKDAYS.INTL(JU9,JU9,WE_Days,Tools!$B$10:$B$55),1)","v":1},{"$f":"IF(Work_D_Only_Bool,NETWORKDAYS.INTL(JV9,JV9,WE_Days,Tools!$B$10:$B$55),1)","v":1},{"$f":"IF(Work_D_Only_Bool,NETWORKDAYS.INTL(JW9,JW9,WE_Days,Tools!$B$10:$B$55),1)","v":1},{"$f":"IF(Work_D_Only_Bool,NETWORKDAYS.INTL(JX9,JX9,WE_Days,Tools!$B$10:$B$55),1)","v":1},{"$f":"IF(Work_D_Only_Bool,NETWORKDAYS.INTL(JY9,JY9,WE_Days,Tools!$B$10:$B$55),1)","v":1},{"$f":"IF(Work_D_Only_Bool,NETWORKDAYS.INTL(JZ9,JZ9,WE_Days,Tools!$B$10:$B$55),1)","v":0},{"$f":"IF(Work_D_Only_Bool,NETWORKDAYS.INTL(KA9,KA9,WE_Days,Tools!$B$10:$B$55),1)","v":0},{"$f":"IF(Work_D_Only_Bool,NETWORKDAYS.INTL(KB9,KB9,WE_Days,Tools!$B$10:$B$55),1)","v":1},{"$f":"IF(Work_D_Only_Bool,NETWORKDAYS.INTL(KC9,KC9,WE_Days,Tools!$B$10:$B$55),1)","v":1},{"$f":"IF(Work_D_Only_Bool,NETWORKDAYS.INTL(KD9,KD9,WE_Days,Tools!$B$10:$B$55),1)","v":1},{"$f":"IF(Work_D_Only_Bool,NETWORKDAYS.INTL(KE9,KE9,WE_Days,Tools!$B$10:$B$55),1)","v":1},{"$f":"IF(Work_D_Only_Bool,NETWORKDAYS.INTL(KF9,KF9,WE_Days,Tools!$B$10:$B$55),1)","v":1},{"$f":"IF(Work_D_Only_Bool,NETWORKDAYS.INTL(KG9,KG9,WE_Days,Tools!$B$10:$B$55),1)","v":0},{"$f":"IF(Work_D_Only_Bool,NETWORKDAYS.INTL(KH9,KH9,WE_Days,Tools!$B$10:$B$55),1)","v":0},{"$f":"IF(Work_D_Only_Bool,NETWORKDAYS.INTL(KI9,KI9,WE_Days,Tools!$B$10:$B$55),1)","v":1},{"$f":"IF(Work_D_Only_Bool,NETWORKDAYS.INTL(KJ9,KJ9,WE_Days,Tools!$B$10:$B$55),1)","v":1},{"$f":"IF(Work_D_Only_Bool,NETWORKDAYS.INTL(KK9,KK9,WE_Days,Tools!$B$10:$B$55),1)","v":1},{"$f":"IF(Work_D_Only_Bool,NETWORKDAYS.INTL(KL9,KL9,WE_Days,Tools!$B$10:$B$55),1)","v":1},{"$f":"IF(Work_D_Only_Bool,NETWORKDAYS.INTL(KM9,KM9,WE_Days,Tools!$B$10:$B$55),1)","v":1},{"$f":"IF(Work_D_Only_Bool,NETWORKDAYS.INTL(KN9,KN9,WE_Days,Tools!$B$10:$B$55),1)","v":0},{"$f":"IF(Work_D_Only_Bool,NETWORKDAYS.INTL(KO9,KO9,WE_Days,Tools!$B$10:$B$55),1)","v":0},{"$f":"IF(Work_D_Only_Bool,NETWORKDAYS.INTL(KP9,KP9,WE_Days,Tools!$B$10:$B$55),1)","v":1},{"$f":"IF(Work_D_Only_Bool,NETWORKDAYS.INTL(KQ9,KQ9,WE_Days,Tools!$B$10:$B$55),1)","v":1},{"$f":"IF(Work_D_Only_Bool,NETWORKDAYS.INTL(KR9,KR9,WE_Days,Tools!$B$10:$B$55),1)","v":1},{"$f":"IF(Work_D_Only_Bool,NETWORKDAYS.INTL(KS9,KS9,WE_Days,Tools!$B$10:$B$55),1)","v":1},{"$f":"IF(Work_D_Only_Bool,NETWORKDAYS.INTL(KT9,KT9,WE_Days,Tools!$B$10:$B$55),1)","v":1},{"$f":"IF(Work_D_Only_Bool,NETWORKDAYS.INTL(KU9,KU9,WE_Days,Tools!$B$10:$B$55),1)","v":0},{"$f":"IF(Work_D_Only_Bool,NETWORKDAYS.INTL(KV9,KV9,WE_Days,Tools!$B$10:$B$55),1)","v":0},{"$f":"IF(Work_D_Only_Bool,NETWORKDAYS.INTL(KW9,KW9,WE_Days,Tools!$B$10:$B$55),1)","v":1},{"$f":"IF(Work_D_Only_Bool,NETWORKDAYS.INTL(KX9,KX9,WE_Days,Tools!$B$10:$B$55),1)","v":1},{"$f":"IF(Work_D_Only_Bool,NETWORKDAYS.INTL(KY9,KY9,WE_Days,Tools!$B$10:$B$55),1)","v":1},{"$f":"IF(Work_D_Only_Bool,NETWORKDAYS.INTL(KZ9,KZ9,WE_Days,Tools!$B$10:$B$55),1)","v":1},{"$f":"IF(Work_D_Only_Bool,NETWORKDAYS.INTL(LA9,LA9,WE_Days,Tools!$B$10:$B$55),1)","v":1},{"$f":"IF(Work_D_Only_Bool,NETWORKDAYS.INTL(LB9,LB9,WE_Days,Tools!$B$10:$B$55),1)","v":0},{"$f":"IF(Work_D_Only_Bool,NETWORKDAYS.INTL(LC9,LC9,WE_Days,Tools!$B$10:$B$55),1)","v":0},{"$f":"IF(Work_D_Only_Bool,NETWORKDAYS.INTL(LD9,LD9,WE_Days,Tools!$B$10:$B$55),1)","v":1},{"$f":"IF(Work_D_Only_Bool,NETWORKDAYS.INTL(LE9,LE9,WE_Days,Tools!$B$10:$B$55),1)","v":1},{"$f":"IF(Work_D_Only_Bool,NETWORKDAYS.INTL(LF9,LF9,WE_Days,Tools!$B$10:$B$55),1)","v":1},{"$f":"IF(Work_D_Only_Bool,NETWORKDAYS.INTL(LG9,LG9,WE_Days,Tools!$B$10:$B$55),1)","v":1},{"$f":"IF(Work_D_Only_Bool,NETWORKDAYS.INTL(LH9,LH9,WE_Days,Tools!$B$10:$B$55),1)","v":1},{"$f":"IF(Work_D_Only_Bool,NETWORKDAYS.INTL(LI9,LI9,WE_Days,Tools!$B$10:$B$55),1)","v":0},{"$f":"IF(Work_D_Only_Bool,NETWORKDAYS.INTL(LJ9,LJ9,WE_Days,Tools!$B$10:$B$55),1)","v":0},{"$f":"IF(Work_D_Only_Bool,NETWORKDAYS.INTL(LK9,LK9,WE_Days,Tools!$B$10:$B$55),1)","v":1},{"$f":"IF(Work_D_Only_Bool,NETWORKDAYS.INTL(LL9,LL9,WE_Days,Tools!$B$10:$B$55),1)","v":1},{"$f":"IF(Work_D_Only_Bool,NETWORKDAYS.INTL(LM9,LM9,WE_Days,Tools!$B$10:$B$55),1)","v":1},{"$f":"IF(Work_D_Only_Bool,NETWORKDAYS.INTL(LN9,LN9,WE_Days,Tools!$B$10:$B$55),1)","v":1},{"$f":"IF(Work_D_Only_Bool,NETWORKDAYS.INTL(LO9,LO9,WE_Days,Tools!$B$10:$B$55),1)","v":1},{"$f":"IF(Work_D_Only_Bool,NETWORKDAYS.INTL(LP9,LP9,WE_Days,Tools!$B$10:$B$55),1)","v":0},{"$f":"IF(Work_D_Only_Bool,NETWORKDAYS.INTL(LQ9,LQ9,WE_Days,Tools!$B$10:$B$55),1)","v":0},{"$f":"IF(Work_D_Only_Bool,NETWORKDAYS.INTL(LR9,LR9,WE_Days,Tools!$B$10:$B$55),1)","v":1},{"$f":"IF(Work_D_Only_Bool,NETWORKDAYS.INTL(LS9,LS9,WE_Days,Tools!$B$10:$B$55),1)","v":1},{"$f":"IF(Work_D_Only_Bool,NETWORKDAYS.INTL(LT9,LT9,WE_Days,Tools!$B$10:$B$55),1)","v":1},{"$f":"IF(Work_D_Only_Bool,NETWORKDAYS.INTL(LU9,LU9,WE_Days,Tools!$B$10:$B$55),1)","v":1},{"$f":"IF(Work_D_Only_Bool,NETWORKDAYS.INTL(LV9,LV9,WE_Days,Tools!$B$10:$B$55),1)","v":1},{"$f":"IF(Work_D_Only_Bool,NETWORKDAYS.INTL(LW9,LW9,WE_Days,Tools!$B$10:$B$55),1)","v":0},{"$f":"IF(Work_D_Only_Bool,NETWORKDAYS.INTL(LX9,LX9,WE_Days,Tools!$B$10:$B$55),1)","v":0},{"$f":"IF(Work_D_Only_Bool,NETWORKDAYS.INTL(LY9,LY9,WE_Days,Tools!$B$10:$B$55),1)","v":1},{"$f":"IF(Work_D_Only_Bool,NETWORKDAYS.INTL(LZ9,LZ9,WE_Days,Tools!$B$10:$B$55),1)","v":1},{"$f":"IF(Work_D_Only_Bool,NETWORKDAYS.INTL(MA9,MA9,WE_Days,Tools!$B$10:$B$55),1)","v":1},{"$f":"IF(Work_D_Only_Bool,NETWORKDAYS.INTL(MB9,MB9,WE_Days,Tools!$B$10:$B$55),1)","v":1},{"$f":"IF(Work_D_Only_Bool,NETWORKDAYS.INTL(MC9,MC9,WE_Days,Tools!$B$10:$B$55),1)","v":1},{"$f":"IF(Work_D_Only_Bool,NETWORKDAYS.INTL(MD9,MD9,WE_Days,Tools!$B$10:$B$55),1)","v":0},{"$f":"IF(Work_D_Only_Bool,NETWORKDAYS.INTL(ME9,ME9,WE_Days,Tools!$B$10:$B$55),1)","v":0},{"$f":"IF(Work_D_Only_Bool,NETWORKDAYS.INTL(MF9,MF9,WE_Days,Tools!$B$10:$B$55),1)","v":1},{"$f":"IF(Work_D_Only_Bool,NETWORKDAYS.INTL(MG9,MG9,WE_Days,Tools!$B$10:$B$55),1)","v":1},{"$f":"IF(Work_D_Only_Bool,NETWORKDAYS.INTL(MH9,MH9,WE_Days,Tools!$B$10:$B$55),1)","v":1},{"$f":"IF(Work_D_Only_Bool,NETWORKDAYS.INTL(MI9,MI9,WE_Days,Tools!$B$10:$B$55),1)","v":1},{"$f":"IF(Work_D_Only_Bool,NETWORKDAYS.INTL(MJ9,MJ9,WE_Days,Tools!$B$10:$B$55),1)","v":1},{"$f":"IF(Work_D_Only_Bool,NETWORKDAYS.INTL(MK9,MK9,WE_Days,Tools!$B$10:$B$55),1)","v":0},{"$f":"IF(Work_D_Only_Bool,NETWORKDAYS.INTL(ML9,ML9,WE_Days,Tools!$B$10:$B$55),1)","v":0},{"$f":"IF(Work_D_Only_Bool,NETWORKDAYS.INTL(MM9,MM9,WE_Days,Tools!$B$10:$B$55),1)","v":1},{"$f":"IF(Work_D_Only_Bool,NETWORKDAYS.INTL(MN9,MN9,WE_Days,Tools!$B$10:$B$55),1)","v":1},{"$f":"IF(Work_D_Only_Bool,NETWORKDAYS.INTL(MO9,MO9,WE_Days,Tools!$B$10:$B$55),1)","v":1},{"$f":"IF(Work_D_Only_Bool,NETWORKDAYS.INTL(MP9,MP9,WE_Days,Tools!$B$10:$B$55),1)","v":1},{"$f":"IF(Work_D_Only_Bool,NETWORKDAYS.INTL(MQ9,MQ9,WE_Days,Tools!$B$10:$B$55),1)","v":1},{"$f":"IF(Work_D_Only_Bool,NETWORKDAYS.INTL(MR9,MR9,WE_Days,Tools!$B$10:$B$55),1)","v":0},{"$f":"IF(Work_D_Only_Bool,NETWORKDAYS.INTL(MS9,MS9,WE_Days,Tools!$B$10:$B$55),1)","v":0},{"$f":"IF(Work_D_Only_Bool,NETWORKDAYS.INTL(MT9,MT9,WE_Days,Tools!$B$10:$B$55),1)","v":1},{"$f":"IF(Work_D_Only_Bool,NETWORKDAYS.INTL(MU9,MU9,WE_Days,Tools!$B$10:$B$55),1)","v":1},{"$f":"IF(Work_D_Only_Bool,NETWORKDAYS.INTL(MV9,MV9,WE_Days,Tools!$B$10:$B$55),1)","v":1},{"$f":"IF(Work_D_Only_Bool,NETWORKDAYS.INTL(MW9,MW9,WE_Days,Tools!$B$10:$B$55),1)","v":1},{"$f":"IF(Work_D_Only_Bool,NETWORKDAYS.INTL(MX9,MX9,WE_Days,Tools!$B$10:$B$55),1)","v":1},{"$f":"IF(Work_D_Only_Bool,NETWORKDAYS.INTL(MY9,MY9,WE_Days,Tools!$B$10:$B$55),1)","v":0},{"$f":"IF(Work_D_Only_Bool,NETWORKDAYS.INTL(MZ9,MZ9,WE_Days,Tools!$B$10:$B$55),1)","v":0},{"$f":"IF(Work_D_Only_Bool,NETWORKDAYS.INTL(NA9,NA9,WE_Days,Tools!$B$10:$B$55),1)","v":1},{"$f":"IF(Work_D_Only_Bool,NETWORKDAYS.INTL(NB9,NB9,WE_Days,Tools!$B$10:$B$55),1)","v":1},{"$f":"IF(Work_D_Only_Bool,NETWORKDAYS.INTL(NC9,NC9,WE_Days,Tools!$B$10:$B$55),1)","v":1},{"$f":"IF(Work_D_Only_Bool,NETWORKDAYS.INTL(ND9,ND9,WE_Days,Tools!$B$10:$B$55),1)","v":1},{"$f":"IF(Work_D_Only_Bool,NETWORKDAYS.INTL(NE9,NE9,WE_Days,Tools!$B$10:$B$55),1)","v":1},{"$f":"IF(Work_D_Only_Bool,NETWORKDAYS.INTL(NF9,NF9,WE_Days,Tools!$B$10:$B$55),1)","v":0},{"$f":"IF(Work_D_Only_Bool,NETWORKDAYS.INTL(NG9,NG9,WE_Days,Tools!$B$10:$B$55),1)","v":0},{"$f":"IF(Work_D_Only_Bool,NETWORKDAYS.INTL(NH9,NH9,WE_Days,Tools!$B$10:$B$55),1)","v":1},{"$f":"IF(Work_D_Only_Bool,NETWORKDAYS.INTL(NI9,NI9,WE_Days,Tools!$B$10:$B$55),1)","v":1},{"$f":"IF(Work_D_Only_Bool,NETWORKDAYS.INTL(NJ9,NJ9,WE_Days,Tools!$B$10:$B$55),1)","v":1},{"$f":"IF(Work_D_Only_Bool,NETWORKDAYS.INTL(NK9,NK9,WE_Days,Tools!$B$10:$B$55),1)","v":1},{"$f":"IF(Work_D_Only_Bool,NETWORKDAYS.INTL(NL9,NL9,WE_Days,Tools!$B$10:$B$55),1)","v":1},{"$f":"IF(Work_D_Only_Bool,NETWORKDAYS.INTL(NM9,NM9,WE_Days,Tools!$B$10:$B$55),1)","v":0},{"$f":"IF(Work_D_Only_Bool,NETWORKDAYS.INTL(NN9,NN9,WE_Days,Tools!$B$10:$B$55),1)","v":0},{"$f":"IF(Work_D_Only_Bool,NETWORKDAYS.INTL(NO9,NO9,WE_Days,Tools!$B$10:$B$55),1)","v":1},{"$f":"IF(Work_D_Only_Bool,NETWORKDAYS.INTL(NP9,NP9,WE_Days,Tools!$B$10:$B$55),1)","v":1},{"$f":"IF(Work_D_Only_Bool,NETWORKDAYS.INTL(NQ9,NQ9,WE_Days,Tools!$B$10:$B$55),1)","v":1},{"$f":"IF(Work_D_Only_Bool,NETWORKDAYS.INTL(NR9,NR9,WE_Days,Tools!$B$10:$B$55),1)","v":1},{"$f":"IF(Work_D_Only_Bool,NETWORKDAYS.INTL(NS9,NS9,WE_Days,Tools!$B$10:$B$55),1)","v":1},{"$f":"IF(Work_D_Only_Bool,NETWORKDAYS.INTL(NT9,NT9,WE_Days,Tools!$B$10:$B$55),1)","v":0},{"$f":"IF(Work_D_Only_Bool,NETWORKDAYS.INTL(NU9,NU9,WE_Days,Tools!$B$10:$B$55),1)","v":0},{"$f":"IF(Work_D_Only_Bool,NETWORKDAYS.INTL(NV9,NV9,WE_Days,Tools!$B$10:$B$55),1)","v":1},{"$f":"IF(Work_D_Only_Bool,NETWORKDAYS.INTL(NW9,NW9,WE_Days,Tools!$B$10:$B$55),1)","v":1},{"$f":"IF(Work_D_Only_Bool,NETWORKDAYS.INTL(NX9,NX9,WE_Days,Tools!$B$10:$B$55),1)","v":1},{"$f":"IF(Work_D_Only_Bool,NETWORKDAYS.INTL(NY9,NY9,WE_Days,Tools!$B$10:$B$55),1)","v":1},{"$f":"IF(Work_D_Only_Bool,NETWORKDAYS.INTL(NZ9,NZ9,WE_Days,Tools!$B$10:$B$55),1)","v":1},{"$f":"IF(Work_D_Only_Bool,NETWORKDAYS.INTL(OA9,OA9,WE_Days,Tools!$B$10:$B$55),1)","v":0},{"$f":"IF(Work_D_Only_Bool,NETWORKDAYS.INTL(OB9,OB9,WE_Days,Tools!$B$10:$B$55),1)","v":0},{"$f":"IF(Work_D_Only_Bool,NETWORKDAYS.INTL(OC9,OC9,WE_Days,Tools!$B$10:$B$55),1)","v":1},{"$f":"IF(Work_D_Only_Bool,NETWORKDAYS.INTL(OD9,OD9,WE_Days,Tools!$B$10:$B$55),1)","v":1},{"$f":"IF(Work_D_Only_Bool,NETWORKDAYS.INTL(OE9,OE9,WE_Days,Tools!$B$10:$B$55),1)","v":1},{"$f":"IF(Work_D_Only_Bool,NETWORKDAYS.INTL(OF9,OF9,WE_Days,Tools!$B$10:$B$55),1)","v":1},{"$f":"IF(Work_D_Only_Bool,NETWORKDAYS.INTL(OG9,OG9,WE_Days,Tools!$B$10:$B$55),1)","v":1},{"$f":"IF(Work_D_Only_Bool,NETWORKDAYS.INTL(OH9,OH9,WE_Days,Tools!$B$10:$B$55),1)","v":0},{"$f":"IF(Work_D_Only_Bool,NETWORKDAYS.INTL(OI9,OI9,WE_Days,Tools!$B$10:$B$55),1)","v":0},{"$f":"IF(Work_D_Only_Bool,NETWORKDAYS.INTL(OJ9,OJ9,WE_Days,Tools!$B$10:$B$55),1)","v":1},{"$f":"IF(Work_D_Only_Bool,NETWORKDAYS.INTL(OK9,OK9,WE_Days,Tools!$B$10:$B$55),1)","v":1},{"$f":"IF(Work_D_Only_Bool,NETWORKDAYS.INTL(OL9,OL9,WE_Days,Tools!$B$10:$B$55),1)","v":1},{"$f":"IF(Work_D_Only_Bool,NETWORKDAYS.INTL(OM9,OM9,WE_Days,Tools!$B$10:$B$55),1)","v":1},{"$f":"IF(Work_D_Only_Bool,NETWORKDAYS.INTL(ON9,ON9,WE_Days,Tools!$B$10:$B$55),1)","v":1},{"$f":"IF(Work_D_Only_Bool,NETWORKDAYS.INTL(OO9,OO9,WE_Days,Tools!$B$10:$B$55),1)","v":0},{"$f":"IF(Work_D_Only_Bool,NETWORKDAYS.INTL(OP9,OP9,WE_Days,Tools!$B$10:$B$55),1)","v":0},{"$f":"IF(Work_D_Only_Bool,NETWORKDAYS.INTL(OQ9,OQ9,WE_Days,Tools!$B$10:$B$55),1)","v":1},{"$f":"IF(Work_D_Only_Bool,NETWORKDAYS.INTL(OR9,OR9,WE_Days,Tools!$B$10:$B$55),1)","v":1},{"$f":"IF(Work_D_Only_Bool,NETWORKDAYS.INTL(OS9,OS9,WE_Days,Tools!$B$10:$B$55),1)","v":1},{"$f":"IF(Work_D_Only_Bool,NETWORKDAYS.INTL(OT9,OT9,WE_Days,Tools!$B$10:$B$55),1)","v":1},{"$f":"IF(Work_D_Only_Bool,NETWORKDAYS.INTL(OU9,OU9,WE_Days,Tools!$B$10:$B$55),1)","v":1},{"$f":"IF(Work_D_Only_Bool,NETWORKDAYS.INTL(OV9,OV9,WE_Days,Tools!$B$10:$B$55),1)","v":0},{"$f":"IF(Work_D_Only_Bool,NETWORKDAYS.INTL(OW9,OW9,WE_Days,Tools!$B$10:$B$55),1)","v":0},{"$f":"IF(Work_D_Only_Bool,NETWORKDAYS.INTL(OX9,OX9,WE_Days,Tools!$B$10:$B$55),1)","v":1},{"$f":"IF(Work_D_Only_Bool,NETWORKDAYS.INTL(OY9,OY9,WE_Days,Tools!$B$10:$B$55),1)","v":1},{"$f":"IF(Work_D_Only_Bool,NETWORKDAYS.INTL(OZ9,OZ9,WE_Days,Tools!$B$10:$B$55),1)","v":1},{"$f":"IF(Work_D_Only_Bool,NETWORKDAYS.INTL(PA9,PA9,WE_Days,Tools!$B$10:$B$55),1)","v":1},{"$f":"IF(Work_D_Only_Bool,NETWORKDAYS.INTL(PB9,PB9,WE_Days,Tools!$B$10:$B$55),1)","v":1},{"$f":"IF(Work_D_Only_Bool,NETWORKDAYS.INTL(PC9,PC9,WE_Days,Tools!$B$10:$B$55),1)","v":0},{"$f":"IF(Work_D_Only_Bool,NETWORKDAYS.INTL(PD9,PD9,WE_Days,Tools!$B$10:$B$55),1)","v":0},{"$f":"IF(Work_D_Only_Bool,NETWORKDAYS.INTL(PE9,PE9,WE_Days,Tools!$B$10:$B$55),1)","v":1},{"$f":"IF(Work_D_Only_Bool,NETWORKDAYS.INTL(PF9,PF9,WE_Days,Tools!$B$10:$B$55),1)","v":1},{"$f":"IF(Work_D_Only_Bool,NETWORKDAYS.INTL(PG9,PG9,WE_Days,Tools!$B$10:$B$55),1)","v":1},{"$f":"IF(Work_D_Only_Bool,NETWORKDAYS.INTL(PH9,PH9,WE_Days,Tools!$B$10:$B$55),1)","v":1},{"$f":"IF(Work_D_Only_Bool,NETWORKDAYS.INTL(PI9,PI9,WE_Days,Tools!$B$10:$B$55),1)","v":1},{"$f":"IF(Work_D_Only_Bool,NETWORKDAYS.INTL(PJ9,PJ9,WE_Days,Tools!$B$10:$B$55),1)","v":0},{"$f":"IF(Work_D_Only_Bool,NETWORKDAYS.INTL(PK9,PK9,WE_Days,Tools!$B$10:$B$55),1)","v":0},{"$f":"IF(Work_D_Only_Bool,NETWORKDAYS.INTL(PL9,PL9,WE_Days,Tools!$B$10:$B$55),1)","v":1},{"$f":"IF(Work_D_Only_Bool,NETWORKDAYS.INTL(PM9,PM9,WE_Days,Tools!$B$10:$B$55),1)","v":1},{"$f":"IF(Work_D_Only_Bool,NETWORKDAYS.INTL(PN9,PN9,WE_Days,Tools!$B$10:$B$55),1)","v":1},{"$f":"IF(Work_D_Only_Bool,NETWORKDAYS.INTL(PO9,PO9,WE_Days,Tools!$B$10:$B$55),1)","v":1},{"$f":"IF(Work_D_Only_Bool,NETWORKDAYS.INTL(PP9,PP9,WE_Days,Tools!$B$10:$B$55),1)","v":1},{"$f":"IF(Work_D_Only_Bool,NETWORKDAYS.INTL(PQ9,PQ9,WE_Days,Tools!$B$10:$B$55),1)","v":0},{"$f":"IF(Work_D_Only_Bool,NETWORKDAYS.INTL(PR9,PR9,WE_Days,Tools!$B$10:$B$55),1)","v":0},{"$f":"IF(Work_D_Only_Bool,NETWORKDAYS.INTL(PS9,PS9,WE_Days,Tools!$B$10:$B$55),1)","v":1},{"$f":"IF(Work_D_Only_Bool,NETWORKDAYS.INTL(PT9,PT9,WE_Days,Tools!$B$10:$B$55),1)","v":1},{"$f":"IF(Work_D_Only_Bool,NETWORKDAYS.INTL(PU9,PU9,WE_Days,Tools!$B$10:$B$55),1)","v":1},{"$f":"IF(Work_D_Only_Bool,NETWORKDAYS.INTL(PV9,PV9,WE_Days,Tools!$B$10:$B$55),1)","v":1},{"$f":"IF(Work_D_Only_Bool,NETWORKDAYS.INTL(PW9,PW9,WE_Days,Tools!$B$10:$B$55),1)","v":1},{"$f":"IF(Work_D_Only_Bool,NETWORKDAYS.INTL(PX9,PX9,WE_Days,Tools!$B$10:$B$55),1)","v":0},{"$f":"IF(Work_D_Only_Bool,NETWORKDAYS.INTL(PY9,PY9,WE_Days,Tools!$B$10:$B$55),1)","v":0},{"$f":"IF(Work_D_Only_Bool,NETWORKDAYS.INTL(PZ9,PZ9,WE_Days,Tools!$B$10:$B$55),1)","v":1},{"$f":"IF(Work_D_Only_Bool,NETWORKDAYS.INTL(QA9,QA9,WE_Days,Tools!$B$10:$B$55),1)","v":1},{"$f":"IF(Work_D_Only_Bool,NETWORKDAYS.INTL(QB9,QB9,WE_Days,Tools!$B$10:$B$55),1)","v":1},{"$f":"IF(Work_D_Only_Bool,NETWORKDAYS.INTL(QC9,QC9,WE_Days,Tools!$B$10:$B$55),1)","v":1},{"$f":"IF(Work_D_Only_Bool,NETWORKDAYS.INTL(QD9,QD9,WE_Days,Tools!$B$10:$B$55),1)","v":1},{"$f":"IF(Work_D_Only_Bool,NETWORKDAYS.INTL(QE9,QE9,WE_Days,Tools!$B$10:$B$55),1)","v":0},{"$f":"IF(Work_D_Only_Bool,NETWORKDAYS.INTL(QF9,QF9,WE_Days,Tools!$B$10:$B$55),1)","v":0},{"$f":"IF(Work_D_Only_Bool,NETWORKDAYS.INTL(QG9,QG9,WE_Days,Tools!$B$10:$B$55),1)","v":1},{"$f":"IF(Work_D_Only_Bool,NETWORKDAYS.INTL(QH9,QH9,WE_Days,Tools!$B$10:$B$55),1)","v":1},{"$f":"IF(Work_D_Only_Bool,NETWORKDAYS.INTL(QI9,QI9,WE_Days,Tools!$B$10:$B$55),1)","v":1},{"$f":"IF(Work_D_Only_Bool,NETWORKDAYS.INTL(QJ9,QJ9,WE_Days,Tools!$B$10:$B$55),1)","v":1},{"$f":"IF(Work_D_Only_Bool,NETWORKDAYS.INTL(QK9,QK9,WE_Days,Tools!$B$10:$B$55),1)","v":1},{"$f":"IF(Work_D_Only_Bool,NETWORKDAYS.INTL(QL9,QL9,WE_Days,Tools!$B$10:$B$55),1)","v":0},{"$f":"IF(Work_D_Only_Bool,NETWORKDAYS.INTL(QM9,QM9,WE_Days,Tools!$B$10:$B$55),1)","v":0},{"$f":"IF(Work_D_Only_Bool,NETWORKDAYS.INTL(QN9,QN9,WE_Days,Tools!$B$10:$B$55),1)","v":1},{"$f":"IF(Work_D_Only_Bool,NETWORKDAYS.INTL(QO9,QO9,WE_Days,Tools!$B$10:$B$55),1)","v":1},{"$f":"IF(Work_D_Only_Bool,NETWORKDAYS.INTL(QP9,QP9,WE_Days,Tools!$B$10:$B$55),1)","v":1},{"$f":"IF(Work_D_Only_Bool,NETWORKDAYS.INTL(QQ9,QQ9,WE_Days,Tools!$B$10:$B$55),1)","v":1},{"$f":"IF(Work_D_Only_Bool,NETWORKDAYS.INTL(QR9,QR9,WE_Days,Tools!$B$10:$B$55),1)","v":1},{"$f":"IF(Work_D_Only_Bool,NETWORKDAYS.INTL(QS9,QS9,WE_Days,Tools!$B$10:$B$55),1)","v":0},{"$f":"IF(Work_D_Only_Bool,NETWORKDAYS.INTL(QT9,QT9,WE_Days,Tools!$B$10:$B$55),1)","v":0},{"$f":"IF(Work_D_Only_Bool,NETWORKDAYS.INTL(QU9,QU9,WE_Days,Tools!$B$10:$B$55),1)","v":1},{"$f":"IF(Work_D_Only_Bool,NETWORKDAYS.INTL(QV9,QV9,WE_Days,Tools!$B$10:$B$55),1)","v":1},{"$f":"IF(Work_D_Only_Bool,NETWORKDAYS.INTL(QW9,QW9,WE_Days,Tools!$B$10:$B$55),1)","v":1},{"$f":"IF(Work_D_Only_Bool,NETWORKDAYS.INTL(QX9,QX9,WE_Days,Tools!$B$10:$B$55),1)","v":1},{"$f":"IF(Work_D_Only_Bool,NETWORKDAYS.INTL(QY9,QY9,WE_Days,Tools!$B$10:$B$55),1)","v":1},{"$f":"IF(Work_D_Only_Bool,NETWORKDAYS.INTL(QZ9,QZ9,WE_Days,Tools!$B$10:$B$55),1)","v":0},{"$f":"IF(Work_D_Only_Bool,NETWORKDAYS.INTL(RA9,RA9,WE_Days,Tools!$B$10:$B$55),1)","v":0},{"$f":"IF(Work_D_Only_Bool,NETWORKDAYS.INTL(RB9,RB9,WE_Days,Tools!$B$10:$B$55),1)","v":1},{"$f":"IF(Work_D_Only_Bool,NETWORKDAYS.INTL(RC9,RC9,WE_Days,Tools!$B$10:$B$55),1)","v":1},{"$f":"IF(Work_D_Only_Bool,NETWORKDAYS.INTL(RD9,RD9,WE_Days,Tools!$B$10:$B$55),1)","v":1},{"$f":"IF(Work_D_Only_Bool,NETWORKDAYS.INTL(RE9,RE9,WE_Days,Tools!$B$10:$B$55),1)","v":1},{"$f":"IF(Work_D_Only_Bool,NETWORKDAYS.INTL(RF9,RF9,WE_Days,Tools!$B$10:$B$55),1)","v":1},{"$f":"IF(Work_D_Only_Bool,NETWORKDAYS.INTL(RG9,RG9,WE_Days,Tools!$B$10:$B$55),1)","v":0},{"$f":"IF(Work_D_Only_Bool,NETWORKDAYS.INTL(RH9,RH9,WE_Days,Tools!$B$10:$B$55),1)","v":0},{"$f":"IF(Work_D_Only_Bool,NETWORKDAYS.INTL(RI9,RI9,WE_Days,Tools!$B$10:$B$55),1)","v":1},{"$f":"IF(Work_D_Only_Bool,NETWORKDAYS.INTL(RJ9,RJ9,WE_Days,Tools!$B$10:$B$55),1)","v":1},{"$f":"IF(Work_D_Only_Bool,NETWORKDAYS.INTL(RK9,RK9,WE_Days,Tools!$B$10:$B$55),1)","v":1},{"$f":"IF(Work_D_Only_Bool,NETWORKDAYS.INTL(RL9,RL9,WE_Days,Tools!$B$10:$B$55),1)","v":1},{"$f":"IF(Work_D_Only_Bool,NETWORKDAYS.INTL(RM9,RM9,WE_Days,Tools!$B$10:$B$55),1)","v":1},{"$f":"IF(Work_D_Only_Bool,NETWORKDAYS.INTL(RN9,RN9,WE_Days,Tools!$B$10:$B$55),1)","v":0},{"$f":"IF(Work_D_Only_Bool,NETWORKDAYS.INTL(RO9,RO9,WE_Days,Tools!$B$10:$B$55),1)","v":0},{"$f":"IF(Work_D_Only_Bool,NETWORKDAYS.INTL(RP9,RP9,WE_Days,Tools!$B$10:$B$55),1)","v":1},{"$f":"IF(Work_D_Only_Bool,NETWORKDAYS.INTL(RQ9,RQ9,WE_Days,Tools!$B$10:$B$55),1)","v":1},{"$f":"IF(Work_D_Only_Bool,NETWORKDAYS.INTL(RR9,RR9,WE_Days,Tools!$B$10:$B$55),1)","v":1},{"$f":"IF(Work_D_Only_Bool,NETWORKDAYS.INTL(RS9,RS9,WE_Days,Tools!$B$10:$B$55),1)","v":1},{"$f":"IF(Work_D_Only_Bool,NETWORKDAYS.INTL(RT9,RT9,WE_Days,Tools!$B$10:$B$55),1)","v":1},{"$f":"IF(Work_D_Only_Bool,NETWORKDAYS.INTL(RU9,RU9,WE_Days,Tools!$B$10:$B$55),1)","v":0},{"$f":"IF(Work_D_Only_Bool,NETWORKDAYS.INTL(RV9,RV9,WE_Days,Tools!$B$10:$B$55),1)","v":0},{"$f":"IF(Work_D_Only_Bool,NETWORKDAYS.INTL(RW9,RW9,WE_Days,Tools!$B$10:$B$55),1)","v":1},{"$f":"IF(Work_D_Only_Bool,NETWORKDAYS.INTL(RX9,RX9,WE_Days,Tools!$B$10:$B$55),1)","v":1},{"$f":"IF(Work_D_Only_Bool,NETWORKDAYS.INTL(RY9,RY9,WE_Days,Tools!$B$10:$B$55),1)","v":1},{"$f":"IF(Work_D_Only_Bool,NETWORKDAYS.INTL(RZ9,RZ9,WE_Days,Tools!$B$10:$B$55),1)","v":1},{"$f":"IF(Work_D_Only_Bool,NETWORKDAYS.INTL(SA9,SA9,WE_Days,Tools!$B$10:$B$55),1)","v":1},{"$f":"IF(Work_D_Only_Bool,NETWORKDAYS.INTL(SB9,SB9,WE_Days,Tools!$B$10:$B$55),1)","v":0},{"$f":"IF(Work_D_Only_Bool,NETWORKDAYS.INTL(SC9,SC9,WE_Days,Tools!$B$10:$B$55),1)","v":0},{"$f":"IF(Work_D_Only_Bool,NETWORKDAYS.INTL(SD9,SD9,WE_Days,Tools!$B$10:$B$55),1)","v":1},{"$f":"IF(Work_D_Only_Bool,NETWORKDAYS.INTL(SE9,SE9,WE_Days,Tools!$B$10:$B$55),1)","v":1},{"$f":"IF(Work_D_Only_Bool,NETWORKDAYS.INTL(SF9,SF9,WE_Days,Tools!$B$10:$B$55),1)","v":1},{"$f":"IF(Work_D_Only_Bool,NETWORKDAYS.INTL(SG9,SG9,WE_Days,Tools!$B$10:$B$55),1)","v":1},{"$f":"IF(Work_D_Only_Bool,NETWORKDAYS.INTL(SH9,SH9,WE_Days,Tools!$B$10:$B$55),1)","v":1},{"$f":"IF(Work_D_Only_Bool,NETWORKDAYS.INTL(SI9,SI9,WE_Days,Tools!$B$10:$B$55),1)","v":0},{"$f":"IF(Work_D_Only_Bool,NETWORKDAYS.INTL(SJ9,SJ9,WE_Days,Tools!$B$10:$B$55),1)","v":0},{"$f":"IF(Work_D_Only_Bool,NETWORKDAYS.INTL(SK9,SK9,WE_Days,Tools!$B$10:$B$55),1)","v":1},{"$f":"IF(Work_D_Only_Bool,NETWORKDAYS.INTL(SL9,SL9,WE_Days,Tools!$B$10:$B$55),1)","v":1},{"$f":"IF(Work_D_Only_Bool,NETWORKDAYS.INTL(SM9,SM9,WE_Days,Tools!$B$10:$B$55),1)","v":1},{"$f":"IF(Work_D_Only_Bool,NETWORKDAYS.INTL(SN9,SN9,WE_Days,Tools!$B$10:$B$55),1)","v":1},{"$f":"IF(Work_D_Only_Bool,NETWORKDAYS.INTL(SO9,SO9,WE_Days,Tools!$B$10:$B$55),1)","v":1},{"$f":"IF(Work_D_Only_Bool,NETWORKDAYS.INTL(SP9,SP9,WE_Days,Tools!$B$10:$B$55),1)","v":0},{"$f":"IF(Work_D_Only_Bool,NETWORKDAYS.INTL(SQ9,SQ9,WE_Days,Tools!$B$10:$B$55),1)","v":0},{"$f":"IF(Work_D_Only_Bool,NETWORKDAYS.INTL(SR9,SR9,WE_Days,Tools!$B$10:$B$55),1)","v":1},{"$f":"IF(Work_D_Only_Bool,NETWORKDAYS.INTL(SS9,SS9,WE_Days,Tools!$B$10:$B$55),1)","v":1},{"$f":"IF(Work_D_Only_Bool,NETWORKDAYS.INTL(ST9,ST9,WE_Days,Tools!$B$10:$B$55),1)","v":1},{"$f":"IF(Work_D_Only_Bool,NETWORKDAYS.INTL(SU9,SU9,WE_Days,Tools!$B$10:$B$55),1)","v":1},{"$f":"IF(Work_D_Only_Bool,NETWORKDAYS.INTL(SV9,SV9,WE_Days,Tools!$B$10:$B$55),1)","v":1},{"$f":"IF(Work_D_Only_Bool,NETWORKDAYS.INTL(SW9,SW9,WE_Days,Tools!$B$10:$B$55),1)","v":0},{"$f":"IF(Work_D_Only_Bool,NETWORKDAYS.INTL(SX9,SX9,WE_Days,Tools!$B$10:$B$55),1)","v":0},{"$f":"IF(Work_D_Only_Bool,NETWORKDAYS.INTL(SY9,SY9,WE_Days,Tools!$B$10:$B$55),1)","v":1},{"$f":"IF(Work_D_Only_Bool,NETWORKDAYS.INTL(SZ9,SZ9,WE_Days,Tools!$B$10:$B$55),1)","v":1},{"$f":"IF(Work_D_Only_Bool,NETWORKDAYS.INTL(TA9,TA9,WE_Days,Tools!$B$10:$B$55),1)","v":1},{"$f":"IF(Work_D_Only_Bool,NETWORKDAYS.INTL(TB9,TB9,WE_Days,Tools!$B$10:$B$55),1)","v":1},{"$f":"IF(Work_D_Only_Bool,NETWORKDAYS.INTL(TC9,TC9,WE_Days,Tools!$B$10:$B$55),1)","v":1},{"$f":"IF(Work_D_Only_Bool,NETWORKDAYS.INTL(TD9,TD9,WE_Days,Tools!$B$10:$B$55),1)","v":0},{"$f":"IF(Work_D_Only_Bool,NETWORKDAYS.INTL(TE9,TE9,WE_Days,Tools!$B$10:$B$55),1)","v":0},{"$f":"IF(Work_D_Only_Bool,NETWORKDAYS.INTL(TF9,TF9,WE_Days,Tools!$B$10:$B$55),1)","v":1},{"$f":"IF(Work_D_Only_Bool,NETWORKDAYS.INTL(TG9,TG9,WE_Days,Tools!$B$10:$B$55),1)","v":1},{"$f":"IF(Work_D_Only_Bool,NETWORKDAYS.INTL(TH9,TH9,WE_Days,Tools!$B$10:$B$55),1)","v":1},{"$f":"IF(Work_D_Only_Bool,NETWORKDAYS.INTL(TI9,TI9,WE_Days,Tools!$B$10:$B$55),1)","v":1},{"$f":"IF(Work_D_Only_Bool,NETWORKDAYS.INTL(TJ9,TJ9,WE_Days,Tools!$B$10:$B$55),1)","v":1},{"$f":"IF(Work_D_Only_Bool,NETWORKDAYS.INTL(TK9,TK9,WE_Days,Tools!$B$10:$B$55),1)","v":0},{"$f":"IF(Work_D_Only_Bool,NETWORKDAYS.INTL(TL9,TL9,WE_Days,Tools!$B$10:$B$55),1)","v":0},{"$f":"IF(Work_D_Only_Bool,NETWORKDAYS.INTL(TM9,TM9,WE_Days,Tools!$B$10:$B$55),1)","v":1},{"$f":"IF(Work_D_Only_Bool,NETWORKDAYS.INTL(TN9,TN9,WE_Days,Tools!$B$10:$B$55),1)","v":1},{"$f":"IF(Work_D_Only_Bool,NETWORKDAYS.INTL(TO9,TO9,WE_Days,Tools!$B$10:$B$55),1)","v":1},{"$f":"IF(Work_D_Only_Bool,NETWORKDAYS.INTL(TP9,TP9,WE_Days,Tools!$B$10:$B$55),1)","v":1},{"$f":"IF(Work_D_Only_Bool,NETWORKDAYS.INTL(TQ9,TQ9,WE_Days,Tools!$B$10:$B$55),1)","v":1},{"$f":"IF(Work_D_Only_Bool,NETWORKDAYS.INTL(TR9,TR9,WE_Days,Tools!$B$10:$B$55),1)","v":0},{"$f":"IF(Work_D_Only_Bool,NETWORKDAYS.INTL(TS9,TS9,WE_Days,Tools!$B$10:$B$55),1)","v":0},{"$f":"IF(Work_D_Only_Bool,NETWORKDAYS.INTL(TT9,TT9,WE_Days,Tools!$B$10:$B$55),1)","v":1},{"$f":"IF(Work_D_Only_Bool,NETWORKDAYS.INTL(TU9,TU9,WE_Days,Tools!$B$10:$B$55),1)","v":1},{"$f":"IF(Work_D_Only_Bool,NETWORKDAYS.INTL(TV9,TV9,WE_Days,Tools!$B$10:$B$55),1)","v":1},{"$f":"IF(Work_D_Only_Bool,NETWORKDAYS.INTL(TW9,TW9,WE_Days,Tools!$B$10:$B$55),1)","v":1},{"$f":"IF(Work_D_Only_Bool,NETWORKDAYS.INTL(TX9,TX9,WE_Days,Tools!$B$10:$B$55),1)","v":1},{"$f":"IF(Work_D_Only_Bool,NETWORKDAYS.INTL(TY9,TY9,WE_Days,Tools!$B$10:$B$55),1)","v":0},{"$f":"IF(Work_D_Only_Bool,NETWORKDAYS.INTL(TZ9,TZ9,WE_Days,Tools!$B$10:$B$55),1)","v":0},{"$f":"IF(Work_D_Only_Bool,NETWORKDAYS.INTL(UA9,UA9,WE_Days,Tools!$B$10:$B$55),1)","v":1},{"$f":"IF(Work_D_Only_Bool,NETWORKDAYS.INTL(UB9,UB9,WE_Days,Tools!$B$10:$B$55),1)","v":1},{"$f":"IF(Work_D_Only_Bool,NETWORKDAYS.INTL(UC9,UC9,WE_Days,Tools!$B$10:$B$55),1)","v":1},{"$f":"IF(Work_D_Only_Bool,NETWORKDAYS.INTL(UD9,UD9,WE_Days,Tools!$B$10:$B$55),1)","v":1},{"$f":"IF(Work_D_Only_Bool,NETWORKDAYS.INTL(UE9,UE9,WE_Days,Tools!$B$10:$B$55),1)","v":1},{"$f":"IF(Work_D_Only_Bool,NETWORKDAYS.INTL(UF9,UF9,WE_Days,Tools!$B$10:$B$55),1)","v":0},{"$f":"IF(Work_D_Only_Bool,NETWORKDAYS.INTL(UG9,UG9,WE_Days,Tools!$B$10:$B$55),1)","v":0},{"$f":"IF(Work_D_Only_Bool,NETWORKDAYS.INTL(UH9,UH9,WE_Days,Tools!$B$10:$B$55),1)","v":1},{"$f":"IF(Work_D_Only_Bool,NETWORKDAYS.INTL(UI9,UI9,WE_Days,Tools!$B$10:$B$55),1)","v":1},{"$f":"IF(Work_D_Only_Bool,NETWORKDAYS.INTL(UJ9,UJ9,WE_Days,Tools!$B$10:$B$55),1)","v":1},{"$f":"IF(Work_D_Only_Bool,NETWORKDAYS.INTL(UK9,UK9,WE_Days,Tools!$B$10:$B$55),1)","v":1},{"$f":"IF(Work_D_Only_Bool,NETWORKDAYS.INTL(UL9,UL9,WE_Days,Tools!$B$10:$B$55),1)","v":1},{"$f":"IF(Work_D_Only_Bool,NETWORKDAYS.INTL(UM9,UM9,WE_Days,Tools!$B$10:$B$55),1)","v":0}]
[null,null,null,null,null,null,null,null,null,null,null,null,null,null,null,null,null,null,null,null,null,null,null,null," ¶¶¶ Please Hide these rows. Do not delete. ¶¶¶",null,null,null,null,null,null,null,null,null,"Date",{"$f":"Start_Date_Fusion","v":"2016-10-31"},{"$f":"AJ9+1","v":"2016-11-01"},"2016-11-02","2016-11-03","2016-11-04","2016-11-05","2016-11-06","2016-11-07","2016-11-08","2016-11-09",{"$f":"AS9+1","v":"2016-11-10"},"2016-11-11","2016-11-12","2016-11-13","2016-11-14","2016-11-15","2016-11-16","2016-11-17","2016-11-18","2016-11-19","2016-11-20",{"$f":"BD9+1","v":"2016-11-21"},{"$f":"BE9+1","v":"2016-11-22"},"2016-11-23","2016-11-24","2016-11-25","2016-11-26","2016-11-27","2016-11-28","2016-11-29","2016-11-30","2016-12-01","2016-12-02","2016-12-03","2016-12-04","2016-12-05","2016-12-06","2016-12-07","2016-12-08","2016-12-09","2016-12-10","2016-12-11","2016-12-12","2016-12-13","2016-12-14","2016-12-15","2016-12-16","2016-12-17","2016-12-18","2016-12-19","2016-12-20","2016-12-21","2016-12-22","2016-12-23","2016-12-24","2016-12-25","2016-12-26","2016-12-27","2016-12-28","2016-12-29","2016-12-30","2016-12-31","2017-01-01","2017-01-02","2017-01-03",{"$f":"CV9+1","v":"2017-01-04"},"2017-01-05","2017-01-06","2017-01-07","2017-01-08","2017-01-09","2017-01-10","2017-01-11","2017-01-12","2017-01-13","2017-01-14","2017-01-15","2017-01-16","2017-01-17","2017-01-18","2017-01-19","2017-01-20","2017-01-21","2017-01-22","2017-01-23","2017-01-24","2017-01-25","2017-01-26","2017-01-27","2017-01-28","2017-01-29","2017-01-30","2017-01-31","2017-02-01","2017-02-02","2017-02-03","2017-02-04","2017-02-05","2017-02-06","2017-02-07","2017-02-08","2017-02-09","2017-02-10","2017-02-11","2017-02-12","2017-02-13","2017-02-14","2017-02-15","2017-02-16","2017-02-17","2017-02-18","2017-02-19","2017-02-20","2017-02-21","2017-02-22","2017-02-23","2017-02-24","2017-02-25","2017-02-26","2017-02-27","2017-02-28","2017-03-01","2017-03-02","2017-03-03","2017-03-04","2017-03-05","2017-03-06","2017-03-07","2017-03-08",{"$f":"FH9+1","v":"2017-03-09"},"2017-03-10","2017-03-11","2017-03-12","2017-03-13","2017-03-14","2017-03-15","2017-03-16","2017-03-17","2017-03-18","2017-03-19","2017-03-20","2017-03-21","2017-03-22","2017-03-23","2017-03-24","2017-03-25","2017-03-26","2017-03-27","2017-03-28","2017-03-29","2017-03-30","2017-03-31","2017-04-01","2017-04-02","2017-04-03","2017-04-04","2017-04-05","2017-04-06","2017-04-07","2017-04-08","2017-04-09","2017-04-10","2017-04-11","2017-04-12","2017-04-13","2017-04-14","2017-04-15","2017-04-16","2017-04-17","2017-04-18","2017-04-19","2017-04-20","2017-04-21","2017-04-22","2017-04-23","2017-04-24","2017-04-25","2017-04-26","2017-04-27","2017-04-28","2017-04-29","2017-04-30","2017-05-01","2017-05-02","2017-05-03","2017-05-04","2017-05-05","2017-05-06","2017-05-07","2017-05-08","2017-05-09","2017-05-10","2017-05-11",{"$f":"HT9+1","v":"2017-05-12"},"2017-05-13","2017-05-14","2017-05-15","2017-05-16","2017-05-17","2017-05-18","2017-05-19","2017-05-20","2017-05-21","2017-05-22","2017-05-23","2017-05-24","2017-05-25","2017-05-26","2017-05-27","2017-05-28","2017-05-29","2017-05-30","2017-05-31","2017-06-01","2017-06-02","2017-06-03","2017-06-04","2017-06-05","2017-06-06","2017-06-07","2017-06-08","2017-06-09","2017-06-10","2017-06-11","2017-06-12","2017-06-13","2017-06-14","2017-06-15","2017-06-16","2017-06-17","2017-06-18","2017-06-19","2017-06-20","2017-06-21","2017-06-22","2017-06-23","2017-06-24","2017-06-25","2017-06-26","2017-06-27","2017-06-28","2017-06-29","2017-06-30","2017-07-01","2017-07-02","2017-07-03","2017-07-04","2017-07-05","2017-07-06","2017-07-07","2017-07-08","2017-07-09","2017-07-10","2017-07-11","2017-07-12","2017-07-13","2017-07-14",{"$f":"KF9+1","v":"2017-07-15"},"2017-07-16","2017-07-17","2017-07-18","2017-07-19","2017-07-20","2017-07-21","2017-07-22","2017-07-23","2017-07-24","2017-07-25","2017-07-26","2017-07-27","2017-07-28","2017-07-29","2017-07-30","2017-07-31","2017-08-01","2017-08-02","2017-08-03","2017-08-04","2017-08-05","2017-08-06","2017-08-07","2017-08-08","2017-08-09","2017-08-10","2017-08-11","2017-08-12","2017-08-13","2017-08-14","2017-08-15","2017-08-16","2017-08-17","2017-08-18","2017-08-19","2017-08-20","2017-08-21","2017-08-22","2017-08-23","2017-08-24","2017-08-25","2017-08-26","2017-08-27","2017-08-28","2017-08-29","2017-08-30","2017-08-31","2017-09-01","2017-09-02","2017-09-03","2017-09-04","2017-09-05","2017-09-06","2017-09-07","2017-09-08","2017-09-09","2017-09-10","2017-09-11","2017-09-12","2017-09-13","2017-09-14","2017-09-15","2017-09-16",{"$f":"MR9+1","v":"2017-09-17"},"2017-09-18","2017-09-19","2017-09-20","2017-09-21","2017-09-22","2017-09-23","2017-09-24","2017-09-25","2017-09-26","2017-09-27","2017-09-28","2017-09-29","2017-09-30","2017-10-01","2017-10-02","2017-10-03","2017-10-04","2017-10-05","2017-10-06","2017-10-07","2017-10-08","2017-10-09","2017-10-10","2017-10-11","2017-10-12","2017-10-13","2017-10-14","2017-10-15","2017-10-16","2017-10-17","2017-10-18","2017-10-19","2017-10-20","2017-10-21","2017-10-22","2017-10-23","2017-10-24","2017-10-25","2017-10-26","2017-10-27","2017-10-28","2017-10-29","2017-10-30","2017-10-31","2017-11-01","2017-11-02","2017-11-03","2017-11-04","2017-11-05","2017-11-06","2017-11-07","2017-11-08","2017-11-09","2017-11-10","2017-11-11","2017-11-12","2017-11-13","2017-11-14","2017-11-15","2017-11-16","2017-11-17","2017-11-18","2017-11-19",{"$f":"PD9+1","v":"2017-11-20"},"2017-11-21","2017-11-22","2017-11-23","2017-11-24","2017-11-25","2017-11-26","2017-11-27","2017-11-28","2017-11-29","2017-11-30","2017-12-01","2017-12-02","2017-12-03","2017-12-04","2017-12-05","2017-12-06","2017-12-07","2017-12-08","2017-12-09","2017-12-10","2017-12-11","2017-12-12","2017-12-13","2017-12-14","2017-12-15","2017-12-16","2017-12-17","2017-12-18","2017-12-19","2017-12-20","2017-12-21","2017-12-22","2017-12-23","2017-12-24","2017-12-25","2017-12-26","2017-12-27","2017-12-28","2017-12-29","2017-12-30","2017-12-31","2018-01-01","2018-01-02","2018-01-03","2018-01-04","2018-01-05","2018-01-06","2018-01-07","2018-01-08","2018-01-09","2018-01-10","2018-01-11","2018-01-12","2018-01-13","2018-01-14","2018-01-15","2018-01-16","2018-01-17","2018-01-18","2018-01-19","2018-01-20","2018-01-21","2018-01-22",{"$f":"RP9+1","v":"2018-01-23"},"2018-01-24","2018-01-25","2018-01-26","2018-01-27","2018-01-28","2018-01-29","2018-01-30","2018-01-31","2018-02-01","2018-02-02","2018-02-03","2018-02-04","2018-02-05","2018-02-06","2018-02-07","2018-02-08","2018-02-09","2018-02-10","2018-02-11","2018-02-12","2018-02-13","2018-02-14","2018-02-15","2018-02-16","2018-02-17","2018-02-18","2018-02-19","2018-02-20","2018-02-21","2018-02-22","2018-02-23","2018-02-24","2018-02-25","2018-02-26","2018-02-27","2018-02-28","2018-03-01","2018-03-02","2018-03-03","2018-03-04","2018-03-05","2018-03-06","2018-03-07","2018-03-08","2018-03-09","2018-03-10","2018-03-11","2018-03-12","2018-03-13","2018-03-14","2018-03-15","2018-03-16","2018-03-17","2018-03-18","2018-03-19","2018-03-20","2018-03-21","2018-03-22","2018-03-23","2018-03-24","2018-03-25","2018-03-26","2018-03-27",{"$f":"UB9+1","v":"2018-03-28"},"2018-03-29","2018-03-30","2018-03-31","2018-04-01","2018-04-02","2018-04-03","2018-04-04","2018-04-05","2018-04-06","2018-04-07"]
[null,null,null,null,null,null,null,null,null,null,null,null,null,null,null,null,null,null,null,null,null,null,null,null,null,null,null,null,null,null,null,null,null,null,null,{"$f":"IF(DAY(AJ18)=1,AJ18,IF(AJ9=Red_Bookmark,\"TODAY\",\"\"))","v":""},"2016-11-01","","","","","","","","","","TODAY","","","","","","","","","","","","","","","","","","","","2016-12-01","","","","","","","","","","","","","","","","","","","","","","","","","","","","","","","2017-01-01","",{"$f":"IF(DAY(CV18)=1,CV18,IF(CV9=Red_Bookmark,\"TODAY\",\"\"))","v":""},"","","","","","","","","","","","","","","","","","","","","","","","","","","","","2017-02-01","","","","","","","","","","","","","","","","","","","","","","","","","","","","2017-03-01","","","","","","",{"$f":"IF(DAY(FH18)=1,FH18,IF(FH9=Red_Bookmark,\"TODAY\",\"\"))","v":""},"","","","","","","","","","","","","","","","","","","","","","","","2017-04-01","","","","","","","","","","","","","","","","","","","","","","","","","","","","","","2017-05-01","","","","","","","","","",{"$f":"IF(DAY(HT18)=1,HT18,IF(HT9=Red_Bookmark,\"TODAY\",\"\"))","v":""},"","","","","","","","","","","","","","","","","","","","","2017-06-01","","","","","","","","","","","","","","","","","","","","","","","","","","","","","","2017-07-01","","","","","","","","","","","","",{"$f":"IF(DAY(KF18)=1,KF18,IF(KF9=Red_Bookmark,\"TODAY\",\"\"))","v":""},"","","","","","","","","","","","","","","","","","2017-08-01","","","","","","","","","","","","","","","","","","","","","","","","","","","","","","","2017-09-01","","","","","","","","","","","","","","",{"$f":"IF(DAY(MR18)=1,MR18,IF(MR9=Red_Bookmark,\"TODAY\",\"\"))","v":""},"","","","","","","","","","","","","","","2017-10-01","","","","","","","","","","","","","","","","","","","","","","","","","","","","","","","2017-11-01","","","","","","","","","","","","","","","","","",{"$f":"IF(DAY(PD18)=1,PD18,IF(PD9=Red_Bookmark,\"TODAY\",\"\"))","v":""},"","","","","","","","","","","","2017-12-01","","","","","","","","","","","","","","","","","","","","","","","","","","","","","","","2018-01-01","","","","","","","","","","","","","","","","","","","","",{"$f":"IF(DAY(RP18)=1,RP18,IF(RP9=Red_Bookmark,\"TODAY\",\"\"))","v":""},"","","","","","","","","","2018-02-01","","","","","","","","","","","","","","","","","","","","","","","","","","","","2018-03-01","","","","","","","","","","","","","","","","","","","","","","","","","",{"$f":"IF(DAY(UB18)=1,UB18,IF(UB9=Red_Bookmark,\"TODAY\",\"\"))","v":""},"","","","","2018-04-01","","","","","",""]
[]
[]
[]
[null,null,null,null,null,null,null,null,null,null,null,null,null,null,null,{"$f":"IF($AG$14=\"%\",P15,\"\")","v":"Resp."},{"$f":"IF($AG$14=\"%\",Q15,\"\")","v":"Couleurs"},{"$f":"IF($AG$14=\"%\",R15,\"\")","v":"Niv. Taches"},{"$f":"IF($AG$14=\"%\",S15,\"\")","v":"Début"},{"$f":"IF($AG$14=\"%\",T15,\"\")","v":"Durée"},null,{"$f":"IF($AG$14=\"%\",V15,\"\")","v":"Recal. Dur."},{"$f":"IF($AG$14=\"%\",W15,\"\")","v":"Jours ouvrés"},{"$f":"IF($AG$14=\"%\",X15,\"\")","v":"Normal"},{"$f":"IF($AG$14=\"%\",Y15,\"\")","v":"Échéance"},null,null,{"$f":"IF($AG$14=\"%\",AB15,\"\")","v":"Statut"},null,null,{"$f":"IF($AG$14=\"%\",AE15,\"\")","v":"Estim."},{"$f":"IF($AG$14=\"%\",AF15,\"\")","v":"Réel"},"%",null,{"$f":"IF($AG$14=\"%\",AI15,\"\")","v":"Commentaires"},null,"11-2016",null,null,null,null,null,null,null,null,null,null,null,null,null,null,null,null,null,null,null,null,null,null,null,null,null,null,null,null,null,null,null,null,null,null,null,null,null,null,null,null,null,null,null,null,null,null,null,null,null,null,null,null,null,null,null,null,null,null,null,null,null,null,null,null,null,null,null,null,null,null,null,null,null,null,null,null,null,null,null,null,null,null,null,null,null,null,null,null,null,null,null,"2-2017",null,null,null,null,null,null,null,null,null,null,null,null,null,null,null,null,null,null,null,null,null,null,null,null,null,null,null,null,null,null,null,null,null,null,null,null,null,null,null,null,null,null,null,null,null,null,null,null,null,null,null,null,null,null,null,null,null,null,null,null,null,null,null,null,null,null,null,null,null,null,null,null,null,null,null,null,null,null,null,null,null,null,null,null,null,null,null,null,"5-2017",null,null,null,null,null,null,null,null,null,null,null,null,null,null,null,null,null,null,null,null,null,null,null,null,null,null,null,null,null,null,null,null,null,null,null,null,null,null,null,null,null,null,null,null,null,null,null,null,null,null,null,null,null,null,null,null,null,null,null,null,null,null,null,null,null,null,null,null,null,null,null,null,null,null,null,null,null,null,null,null,null,null,null,null,null,null,null,null,null,null,null,"8-2017",null,null,null,null,null,null,null,null,null,null,null,null,null,null,null,null,null,null,null,null,null,null,null,null,null,null,null,null,null,null,null,null,null,null,null,null,null,null,null,null,null,null,null,null,null,null,null,null,null,null,null,null,null,null,null,null,null,null,null,null,null,null,null,null,null,null,null,null,null,null,null,null,null,null,null,null,null,null,null,null,null,null,null,null,null,null,null,null,null,null,null,"11-2017",null,null,null,null,null,null,null,null,null,null,null,null,null,null,null,null,null,null,null,null,null,null,null,null,null,null,null,null,null,null,null,null,null,null,null,null,null,null,null,null,null,null,null,null,null,null,null,null,null,null,null,null,null,null,null,null,null,null,null,null,null,null,null,null,null,null,null,null,null,null,null,null,null,null,null,null,null,null,null,null,null,null,null,null,null,null,null,null,null,null,null,"2-2018"]
[null,null,null,null,null,null,null,null,null,null,null,null,null,null,null,"Resp.","Couleurs","Niv. Taches","Début","Durée",null,"Recal. Dur.","Jours ouvrés","Normal","Échéance",null,null,"Statut",null,null,"Estim.","Réel","%",null,"Commentaires",{"$f":"AJ16","v":"W44"},null,null,null,null,null,null,{"$f":"AQ16","v":"W45"},null,null,null,null,null,null,{"$f":"AX16","v":"W46"},null,null,null,null,null,null,{"$f":"BE16","v":"W47"},null,null,null,null,null,null,{"$f":"BL16","v":"W48"},null,null,null,null,null,null,{"$f":"BS16","v":"W49"},null,null,null,null,null,null,{"$f":"BZ16","v":"W50"},null,null,null,null,null,null,{"$f":"CG16","v":"W51"},null,null,null,null,null,null,{"$f":"CN16","v":"W52"},null,null,null,null,null,null,{"$f":"CU16","v":"W1"},null,null,null,null,null,null,{"$f":"DB16","v":"W2"},null,null,null,null,null,null,{"$f":"DI16","v":"W3"},null,null,null,null,null,null,{"$f":"DP16","v":"W4"},null,null,null,null,null,null,{"$f":"DW16","v":"W5"},null,null,null,null,null,null,{"$f":"ED16","v":"W6"},null,null,null,null,null,null,{"$f":"EK16","v":"W7"},null,null,null,null,null,null,{"$f":"ER16","v":"W8"},null,null,null,null,null,null,{"$f":"EY16","v":"W9"},null,null,null,null,null,null,{"$f":"FF16","v":"W10"},null,null,null,null,null,null,{"$f":"FM16","v":"W11"},null,null,null,null,null,null,{"$f":"FT16","v":"W12"},null,null,null,null,null,null,{"$f":"GA16","v":"W13"},null,null,null,null,null,null,{"$f":"GH16","v":"W14"},null,null,null,null,null,null,{"$f":"GO16","v":"W15"},null,null,null,null,null,null,{"$f":"GV16","v":"W16"},null,null,null,null,null,null,{"$f":"HC16","v":"W17"},null,null,null,null,null,null,{"$f":"HJ16","v":"W18"},null,null,null,null,null,null,{"$f":"HQ16","v":"W19"},null,null,null,null,null,null,{"$f":"HX16","v":"W20"},null,null,null,null,null,null,{"$f":"IE16","v":"W21"},null,null,null,null,null,null,{"$f":"IL16","v":"W22"},null,null,null,null,null,null,{"$f":"IS16","v":"W23"},null,null,null,null,null,null,{"$f":"IZ16","v":"W24"},null,null,null,null,null,null,{"$f":"JG16","v":"W25"},null,null,null,null,null,null,{"$f":"JN16","v":"W26"},null,null,null,null,null,null,{"$f":"JU16","v":"W27"},null,null,null,null,null,null,{"$f":"KB16","v":"W28"},null,null,null,null,null,null,{"$f":"KI16","v":"W29"},null,null,null,null,null,null,{"$f":"KP16","v":"W30"},null,null,null,null,null,null,{"$f":"KW16","v":"W31"},null,null,null,null,null,null,{"$f":"LD16","v":"W32"},null,null,null,null,null,null,{"$f":"LK16","v":"W33"},null,null,null,null,null,null,{"$f":"LR16","v":"W34"},null,null,null,null,null,null,{"$f":"LY16","v":"W35"},null,null,null,null,null,null,{"$f":"MF16","v":"W36"},null,null,null,null,null,null,{"$f":"MM16","v":"W37"},null,null,null,null,null,null,{"$f":"MT16","v":"W38"},null,null,null,null,null,null,{"$f":"NA16","v":"W39"},null,null,null,null,null,null,{"$f":"NH16","v":"W40"},null,null,null,null,null,null,{"$f":"NO16","v":"W41"},null,null,null,null,null,null,{"$f":"NV16","v":"W42"},null,null,null,null,null,null,{"$f":"OC16","v":"W43"},null,null,null,null,null,null,{"$f":"OJ16","v":"W44"},null,null,null,null,null,null,{"$f":"OQ16","v":"W45"},null,null,null,null,null,null,{"$f":"OX16","v":"W46"},null,null,null,null,null,null,{"$f":"PE16","v":"W47"},null,null,null,null,null,null,{"$f":"PL16","v":"W48"},null,null,null,null,null,null,{"$f":"PS16","v":"W49"},null,null,null,null,null,null,{"$f":"PZ16","v":"W50"},null,null,null,null,null,null,{"$f":"QG16","v":"W51"},null,null,null,null,null,null,{"$f":"QN16","v":"W52"},null,null,null,null,null,null,{"$f":"QU16","v":"W1"},null,null,null,null,null,null,{"$f":"RB16","v":"W2"},null,null,null,null,null,null,{"$f":"RI16","v":"W3"},null,null,null,null,null,null,{"$f":"RP16","v":"W4"},null,null,null,null,null,null,{"$f":"RW16","v":"W5"},null,null,null,null,null,null,{"$f":"SD16","v":"W6"},null,null,null,null,null,null,{"$f":"SK16","v":"W7"},null,null,null,null,null,null,{"$f":"SR16","v":"W8"},null,null,null,null,null,null,{"$f":"SY16","v":"W9"},null,null,null,null,null,null,{"$f":"TF16","v":"W10"},null,null,null,null,null,null,{"$f":"TM16","v":"W11"},null,null,null,null,null,null,{"$f":"TT16","v":"W12"},null,null,null,null,null,null,{"$f":"UA16","v":"W13"},null,null,null,null,null,null,{"$f":"UH16","v":"W14"}]
[null,null,null,null,null,null,null,null,null,null,null,null,null,null,null,null,null,null,null,null,null,null,null,null,null,null,null,null,null,null,null,null,null,null,null,{"$f":"Week_Name&WEEKNUM(AJ9,First_Day_Week2)","v":"W44"},"W44","W44","W44","W44","W44","W44","W45","W45","W45","W45","W45","W45","W45","W46","W46","W46","W46","W46","W46","W46","W47","W47","W47","W47","W47","W47","W47","W48","W48","W48","W48","W48","W48","W48","W49","W49","W49","W49","W49","W49","W49","W50","W50","W50","W50","W50","W50","W50","W51","W51","W51","W51","W51","W51","W51","W52","W52","W52","W52","W52","W52","W52","W1",{"$f":"Week_Name&WEEKNUM(CV9,First_Day_Week2)","v":"W1"},"W1","W1","W1","W1","W1","W2","W2","W2","W2","W2","W2","W2","W3","W3","W3","W3","W3","W3","W3","W4","W4","W4","W4","W4","W4","W4","W5","W5","W5","W5","W5","W5","W5","W6","W6","W6","W6","W6","W6","W6","W7","W7","W7","W7","W7","W7","W7","W8","W8","W8","W8","W8","W8","W8","W9","W9","W9","W9","W9","W9","W9","W10","W10",{"$f":"Week_Name&WEEKNUM(FH9,First_Day_Week2)","v":"W10"},"W10","W10","W10","W10","W11","W11","W11","W11","W11","W11","W11","W12","W12","W12","W12","W12","W12","W12","W13","W13","W13","W13","W13","W13","W13","W14","W14","W14","W14","W14","W14","W14","W15","W15","W15","W15","W15","W15","W15","W16","W16","W16","W16","W16","W16","W16","W17","W17","W17","W17","W17","W17","W17","W18","W18","W18","W18","W18","W18","W18","W19","W19","W19",{"$f":"Week_Name&WEEKNUM(HT9,First_Day_Week2)","v":"W19"},"W19","W19","W19","W20","W20","W20","W20","W20","W20","W20","W21","W21","W21","W21","W21","W21","W21","W22","W22","W22","W22","W22","W22","W22","W23","W23","W23","W23","W23","W23","W23","W24","W24","W24","W24","W24","W24","W24","W25","W25","W25","W25","W25","W25","W25","W26","W26","W26","W26","W26","W26","W26","W27","W27","W27","W27","W27","W27","W27","W28","W28","W28","W28",{"$f":"Week_Name&WEEKNUM(KF9,First_Day_Week2)","v":"W28"},"W28","W28","W29","W29","W29","W29","W29","W29","W29","W30","W30","W30","W30","W30","W30","W30","W31","W31","W31","W31","W31","W31","W31","W32","W32","W32","W32","W32","W32","W32","W33","W33","W33","W33","W33","W33","W33","W34","W34","W34","W34","W34","W34","W34","W35","W35","W35","W35","W35","W35","W35","W36","W36","W36","W36","W36","W36","W36","W37","W37","W37","W37","W37",{"$f":"Week_Name&WEEKNUM(MR9,First_Day_Week2)","v":"W37"},"W37","W38","W38","W38","W38","W38","W38","W38","W39","W39","W39","W39","W39","W39","W39","W40","W40","W40","W40","W40","W40","W40","W41","W41","W41","W41","W41","W41","W41","W42","W42","W42","W42","W42","W42","W42","W43","W43","W43","W43","W43","W43","W43","W44","W44","W44","W44","W44","W44","W44","W45","W45","W45","W45","W45","W45","W45","W46","W46","W46","W46","W46","W46",{"$f":"Week_Name&WEEKNUM(PD9,First_Day_Week2)","v":"W46"},"W47","W47","W47","W47","W47","W47","W47","W48","W48","W48","W48","W48","W48","W48","W49","W49","W49","W49","W49","W49","W49","W50","W50","W50","W50","W50","W50","W50","W51","W51","W51","W51","W51","W51","W51","W52","W52","W52","W52","W52","W52","W52","W1","W1","W1","W1","W1","W1","W1","W2","W2","W2","W2","W2","W2","W2","W3","W3","W3","W3","W3","W3","W3",{"$f":"Week_Name&WEEKNUM(RP9,First_Day_Week2)","v":"W4"},"W4","W4","W4","W4","W4","W4","W5","W5","W5","W5","W5","W5","W5","W6","W6","W6","W6","W6","W6","W6","W7","W7","W7","W7","W7","W7","W7","W8","W8","W8","W8","W8","W8","W8","W9","W9","W9","W9","W9","W9","W9","W10","W10","W10","W10","W10","W10","W10","W11","W11","W11","W11","W11","W11","W11","W12","W12","W12","W12","W12","W12","W12","W13",{"$f":"Week_Name&WEEKNUM(UB9,First_Day_Week2)","v":"W13"},"W13","W13","W13","W13","W13","W14","W14","W14","W14","W14","W14"]
[null,null,null,null,null,null,null,null,null,null,null,null,null,null,null,null,"Planning",null,null,null,null,null,null,null,null,null,null,null,null,null,"Budget",null,null,null,"Commentaires",{"$f":"IF(TEXT(AJ9,\"ddd\")=\"ddd\",UPPER(LEFT(TEXT(AJ9,\"jjj\"),1)),UPPER(LEFT(TEXT(AJ9,\"ddd\"),1)))","v":"L"},"M","M","J","V","S","D","L","M","M","J","V","S","D","L","M","M","J","V","S","D","L","M","M","J","V","S","D","L","M","M","J","V","S","D","L","M","M","J","V","S","D","L","M","M","J","V","S","D","L","M","M","J","V","S","D","L","M","M","J","V","S","D","L",{"$f":"IF(TEXT(CV9,\"ddd\")=\"ddd\",UPPER(LEFT(TEXT(CV9,\"jjj\"),1)),UPPER(LEFT(TEXT(CV9,\"ddd\"),1)))","v":"M"},"M","J","V","S","D","L","M","M","J","V","S","D","L","M","M","J","V","S","D","L","M","M","J","V","S","D","L","M","M","J","V","S","D","L","M","M","J","V","S","D","L","M","M","J","V","S","D","L","M","M","J","V","S","D","L","M","M","J","V","S","D","L","M",{"$f":"IF(TEXT(FH9,\"ddd\")=\"ddd\",UPPER(LEFT(TEXT(FH9,\"jjj\"),1)),UPPER(LEFT(TEXT(FH9,\"ddd\"),1)))","v":"M"},"J","V","S","D","L","M","M","J","V","S","D","L","M","M","J","V","S","D","L","M","M","J","V","S","D","L","M","M","J","V","S","D","L","M","M","J","V","S","D","L","M","M","J","V","S","D","L","M","M","J","V","S","D","L","M","M","J","V","S","D","L","M","M",{"$f":"IF(TEXT(HT9,\"ddd\")=\"ddd\",UPPER(LEFT(TEXT(HT9,\"jjj\"),1)),UPPER(LEFT(TEXT(HT9,\"ddd\"),1)))","v":"J"},"V","S","D","L","M","M","J","V","S","D","L","M","M","J","V","S","D","L","M","M","J","V","S","D","L","M","M","J","V","S","D","L","M","M","J","V","S","D","L","M","M","J","V","S","D","L","M","M","J","V","S","D","L","M","M","J","V","S","D","L","M","M","J",{"$f":"IF(TEXT(KF9,\"ddd\")=\"ddd\",UPPER(LEFT(TEXT(KF9,\"jjj\"),1)),UPPER(LEFT(TEXT(KF9,\"ddd\"),1)))","v":"V"},"S","D","L","M","M","J","V","S","D","L","M","M","J","V","S","D","L","M","M","J","V","S","D","L","M","M","J","V","S","D","L","M","M","J","V","S","D","L","M","M","J","V","S","D","L","M","M","J","V","S","D","L","M","M","J","V","S","D","L","M","M","J","V",{"$f":"IF(TEXT(MR9,\"ddd\")=\"ddd\",UPPER(LEFT(TEXT(MR9,\"jjj\"),1)),UPPER(LEFT(TEXT(MR9,\"ddd\"),1)))","v":"S"},"D","L","M","M","J","V","S","D","L","M","M","J","V","S","D","L","M","M","J","V","S","D","L","M","M","J","V","S","D","L","M","M","J","V","S","D","L","M","M","J","V","S","D","L","M","M","J","V","S","D","L","M","M","J","V","S","D","L","M","M","J","V","S",{"$f":"IF(TEXT(PD9,\"ddd\")=\"ddd\",UPPER(LEFT(TEXT(PD9,\"jjj\"),1)),UPPER(LEFT(TEXT(PD9,\"ddd\"),1)))","v":"D"},"L","M","M","J","V","S","D","L","M","M","J","V","S","D","L","M","M","J","V","S","D","L","M","M","J","V","S","D","L","M","M","J","V","S","D","L","M","M","J","V","S","D","L","M","M","J","V","S","D","L","M","M","J","V","S","D","L","M","M","J","V","S","D",{"$f":"IF(TEXT(RP9,\"ddd\")=\"ddd\",UPPER(LEFT(TEXT(RP9,\"jjj\"),1)),UPPER(LEFT(TEXT(RP9,\"ddd\"),1)))","v":"L"},"M","M","J","V","S","D","L","M","M","J","V","S","D","L","M","M","J","V","S","D","L","M","M","J","V","S","D","L","M","M","J","V","S","D","L","M","M","J","V","S","D","L","M","M","J","V","S","D","L","M","M","J","V","S","D","L","M","M","J","V","S","D","L",{"$f":"IF(TEXT(UB9,\"ddd\")=\"ddd\",UPPER(LEFT(TEXT(UB9,\"jjj\"),1)),UPPER(LEFT(TEXT(UB9,\"ddd\"),1)))","v":"M"},"M","J","V","S","D","L","M","M","J","V","S"]
[null,null,null,null,null,null,null,null,null,null,null,null,null,null,null,"Resp.","Couleurs","Niv. Taches","Début","Durée",null,"Recal. Dur.","Jours ouvrés","Normal","Échéance","Début Recalculé","Fin Recalculée","Statut",null,null,"Estim.","Réel","%",null,null,{"$f":"AJ9","v":"2016-10-31"},"2016-11-01","2016-11-02","2016-11-03","2016-11-04","2016-11-05","2016-11-06","2016-11-07","2016-11-08","2016-11-09","2016-11-10","2016-11-11","2016-11-12","2016-11-13","2016-11-14","2016-11-15","2016-11-16","2016-11-17","2016-11-18","2016-11-19","2016-11-20","2016-11-21","2016-11-22","2016-11-23","2016-11-24","2016-11-25","2016-11-26","2016-11-27","2016-11-28","2016-11-29","2016-11-30","2016-12-01","2016-12-02","2016-12-03","2016-12-04","2016-12-05","2016-12-06","2016-12-07","2016-12-08","2016-12-09","2016-12-10","2016-12-11","2016-12-12","2016-12-13","2016-12-14","2016-12-15","2016-12-16","2016-12-17","2016-12-18","2016-12-19","2016-12-20","2016-12-21","2016-12-22","2016-12-23","2016-12-24","2016-12-25","2016-12-26","2016-12-27","2016-12-28","2016-12-29","2016-12-30","2016-12-31","2017-01-01","2017-01-02",{"$f":"CV9","v":"2017-01-03"},"2017-01-04","2017-01-05","2017-01-06","2017-01-07","2017-01-08","2017-01-09","2017-01-10","2017-01-11","2017-01-12","2017-01-13","2017-01-14","2017-01-15","2017-01-16","2017-01-17","2017-01-18","2017-01-19","2017-01-20","2017-01-21","2017-01-22","2017-01-23","2017-01-24","2017-01-25","2017-01-26","2017-01-27","2017-01-28","2017-01-29","2017-01-30","2017-01-31","2017-02-01","2017-02-02","2017-02-03","2017-02-04","2017-02-05","2017-02-06","2017-02-07","2017-02-08","2017-02-09","2017-02-10","2017-02-11","2017-02-12","2017-02-13","2017-02-14","2017-02-15","2017-02-16","2017-02-17","2017-02-18","2017-02-19","2017-02-20","2017-02-21","2017-02-22","2017-02-23","2017-02-24","2017-02-25","2017-02-26","2017-02-27","2017-02-28","2017-03-01","2017-03-02","2017-03-03","2017-03-04","2017-03-05","2017-03-06","2017-03-07",{"$f":"FH9","v":"2017-03-08"},"2017-03-09","2017-03-10","2017-03-11","2017-03-12","2017-03-13","2017-03-14","2017-03-15","2017-03-16","2017-03-17","2017-03-18","2017-03-19","2017-03-20","2017-03-21","2017-03-22","2017-03-23","2017-03-24","2017-03-25","2017-03-26","2017-03-27","2017-03-28","2017-03-29","2017-03-30","2017-03-31","2017-04-01","2017-04-02","2017-04-03","2017-04-04","2017-04-05","2017-04-06","2017-04-07","2017-04-08","2017-04-09","2017-04-10","2017-04-11","2017-04-12","2017-04-13","2017-04-14","2017-04-15","2017-04-16","2017-04-17","2017-04-18","2017-04-19","2017-04-20","2017-04-21","2017-04-22","2017-04-23","2017-04-24","2017-04-25","2017-04-26","2017-04-27","2017-04-28","2017-04-29","2017-04-30","2017-05-01","2017-05-02","2017-05-03","2017-05-04","2017-05-05","2017-05-06","2017-05-07","2017-05-08","2017-05-09","2017-05-10",{"$f":"HT9","v":"2017-05-11"},"2017-05-12","2017-05-13","2017-05-14","2017-05-15","2017-05-16","2017-05-17","2017-05-18","2017-05-19","2017-05-20","2017-05-21","2017-05-22","2017-05-23","2017-05-24","2017-05-25","2017-05-26","2017-05-27","2017-05-28","2017-05-29","2017-05-30","2017-05-31","2017-06-01","2017-06-02","2017-06-03","2017-06-04","2017-06-05","2017-06-06","2017-06-07","2017-06-08","2017-06-09","2017-06-10","2017-06-11","2017-06-12","2017-06-13","2017-06-14","2017-06-15","2017-06-16","2017-06-17","2017-06-18","2017-06-19","2017-06-20","2017-06-21","2017-06-22","2017-06-23","2017-06-24","2017-06-25","2017-06-26","2017-06-27","2017-06-28","2017-06-29","2017-06-30","2017-07-01","2017-07-02","2017-07-03","2017-07-04","2017-07-05","2017-07-06","2017-07-07","2017-07-08","2017-07-09","2017-07-10","2017-07-11","2017-07-12","2017-07-13",{"$f":"KF9","v":"2017-07-14"},"2017-07-15","2017-07-16","2017-07-17","2017-07-18","2017-07-19","2017-07-20","2017-07-21","2017-07-22","2017-07-23","2017-07-24","2017-07-25","2017-07-26","2017-07-27","2017-07-28","2017-07-29","2017-07-30","2017-07-31","2017-08-01","2017-08-02","2017-08-03","2017-08-04","2017-08-05","2017-08-06","2017-08-07","2017-08-08","2017-08-09","2017-08-10","2017-08-11","2017-08-12","2017-08-13","2017-08-14","2017-08-15","2017-08-16","2017-08-17","2017-08-18","2017-08-19","2017-08-20","2017-08-21","2017-08-22","2017-08-23","2017-08-24","2017-08-25","2017-08-26","2017-08-27","2017-08-28","2017-08-29","2017-08-30","2017-08-31","2017-09-01","2017-09-02","2017-09-03","2017-09-04","2017-09-05","2017-09-06","2017-09-07","2017-09-08","2017-09-09","2017-09-10","2017-09-11","2017-09-12","2017-09-13","2017-09-14","2017-09-15",{"$f":"MR9","v":"2017-09-16"},"2017-09-17","2017-09-18","2017-09-19","2017-09-20","2017-09-21","2017-09-22","2017-09-23","2017-09-24","2017-09-25","2017-09-26","2017-09-27","2017-09-28","2017-09-29","2017-09-30","2017-10-01","2017-10-02","2017-10-03","2017-10-04","2017-10-05","2017-10-06","2017-10-07","2017-10-08","2017-10-09","2017-10-10","2017-10-11","2017-10-12","2017-10-13","2017-10-14","2017-10-15","2017-10-16","2017-10-17","2017-10-18","2017-10-19","2017-10-20","2017-10-21","2017-10-22","2017-10-23","2017-10-24","2017-10-25","2017-10-26","2017-10-27","2017-10-28","2017-10-29","2017-10-30","2017-10-31","2017-11-01","2017-11-02","2017-11-03","2017-11-04","2017-11-05","2017-11-06","2017-11-07","2017-11-08","2017-11-09","2017-11-10","2017-11-11","2017-11-12","2017-11-13","2017-11-14","2017-11-15","2017-11-16","2017-11-17","2017-11-18",{"$f":"PD9","v":"2017-11-19"},"2017-11-20","2017-11-21","2017-11-22","2017-11-23","2017-11-24","2017-11-25","2017-11-26","2017-11-27","2017-11-28","2017-11-29","2017-11-30","2017-12-01","2017-12-02","2017-12-03","2017-12-04","2017-12-05","2017-12-06","2017-12-07","2017-12-08","2017-12-09","2017-12-10","2017-12-11","2017-12-12","2017-12-13","2017-12-14","2017-12-15","2017-12-16","2017-12-17","2017-12-18","2017-12-19","2017-12-20","2017-12-21","2017-12-22","2017-12-23","2017-12-24","2017-12-25","2017-12-26","2017-12-27","2017-12-28","2017-12-29","2017-12-30","2017-12-31","2018-01-01","2018-01-02","2018-01-03","2018-01-04","2018-01-05","2018-01-06","2018-01-07","2018-01-08","2018-01-09","2018-01-10","2018-01-11","2018-01-12","2018-01-13","2018-01-14","2018-01-15","2018-01-16","2018-01-17","2018-01-18","2018-01-19","2018-01-20","2018-01-21",{"$f":"RP9","v":"2018-01-22"},"2018-01-23","2018-01-24","2018-01-25","2018-01-26","2018-01-27","2018-01-28","2018-01-29","2018-01-30","2018-01-31","2018-02-01","2018-02-02","2018-02-03","2018-02-04","2018-02-05","2018-02-06","2018-02-07","2018-02-08","2018-02-09","2018-02-10","2018-02-11","2018-02-12","2018-02-13","2018-02-14","2018-02-15","2018-02-16","2018-02-17","2018-02-18","2018-02-19","2018-02-20","2018-02-21","2018-02-22","2018-02-23","2018-02-24","2018-02-25","2018-02-26","2018-02-27","2018-02-28","2018-03-01","2018-03-02","2018-03-03","2018-03-04","2018-03-05","2018-03-06","2018-03-07","2018-03-08","2018-03-09","2018-03-10","2018-03-11","2018-03-12","2018-03-13","2018-03-14","2018-03-15","2018-03-16","2018-03-17","2018-03-18","2018-03-19","2018-03-20","2018-03-21","2018-03-22","2018-03-23","2018-03-24","2018-03-25","2018-03-26",{"$f":"UB9","v":"2018-03-27"},"2018-03-28","2018-03-29","2018-03-30","2018-03-31","2018-04-01","2018-04-02","2018-04-03","2018-04-04","2018-04-05","2018-04-06","2018-04-07"]
[null,null,null,null,null,null,null,null,null,null,"0",null,"Tache",null,null,null,null,1,{"$f":"MIN(Z20:Z21)","v":"2016-11-08"},{"$f":"Y19-S19+1","v":4},null,null,null,null,{"$f":"MAX(AA20:AA21)","v":"2016-11-11"},null,null,{"$f":"SUMPRODUCT(--(R20:R21=2),ABS(T20:T21),AB20:AB21)/SUM(ABS(T20:T21))","v":0.20000000000000004},{"$f":"S19-1+AB19*T19","v":"2016-11-07T19:12:00"},{"$f":"IF(AB19<>\"\",IF(AND(AB19<1,AC19<$DC$7),0,1))","v":0},{"$f":"SUMIF(R20:R21,2,AE20:AE21)","v":200},{"$f":"SUMIF(R20:R21,2,AF20:AF21)","v":0},{"$f":"IF(AND(AE19<>\"\",AF19<>\"\",AE19<>0),AF19/AE19,\"\")","v":0},{"$f":"AG19","v":0}]
[null,null,null,null,null,null,null,null,null,null,"0.1",null,"Sous-tache",null,null,"Mary",{"$f":"IF(ISERROR(VLOOKUP(P20,Tools!$D$11:$J$57,7,FALSE)),\"\",VLOOKUP(P20,Tools!$D$11:$J$57,7,FALSE))","v":5},2,"2016-11-09",2,"j",{"$f":"IF(U20=dur_type_d,T20,IF(U20=dur_type_w,IF(Work_D_Only_Bool,T20*5,T20*7),IF(U20=dur_type_m,IF(Work_D_Only_Bool,NETWORKDAYS.INTL(S20,DATE(YEAR(S20),MONTH(S20)+T20,DAY(S20)-1),WE_Days,Holiday_Days),DATE(YEAR(S20),MONTH(S20)+T20,DAY(S20))-S20),\"ERROR\")))","v":2},{"$f":"WORKDAY.INTL(S20,IF(V20>0,IF(OR(WEEKDAY(S20,2)>=6,COUNTIF(Holiday_Days,S20)>0),V20,V20-1),IF(OR(WEEKDAY(S20,2)>=6,COUNTIF(Holiday_Days,S20)>0),V20,V20+1)),HB$7,Holiday_Days)","v":"2016-11-10"},{"$f":"IF(V20>0,S20+V20-1,S20+V20+1)","v":"2016-11-10"},{"$f":"IF(S20<>\"\",IF($GE$7,W20,X20),\"\")","v":"2016-11-10"},{"$f":"IF(T20>0,S20,Y20)","v":"2016-11-09"},{"$f":"IF(T20>0,Y20,S20)","v":"2016-11-10"},{"$f":"SUMPRODUCT(AB21:AB22,ABS(T21:T22))/SUM(ABS(T21:T22))","v":0.2},{"$f":"INT(Z20+AB20*(AA20-Z20))","v":"2016-11-09"},{"$f":"IF(AND(AB20<1,AC20<$DC$7),0,1)","v":0},{"$f":"SUM(AE21:AE22)","v":100},{"$f":"SUM(AF21:AF22)","v":0},{"$f":"IF(AND(AE20<>\"\",AF20<>\"\"),AF20/AE20,\"\")","v":0},0]
[null,null,null,null,null,null,null,null,null,null,"0.2",null,"Sous-tache",null,null,"Jade",{"$f":"IF(ISERROR(VLOOKUP(P21,Tools!$D$11:$J$57,7,FALSE)),\"\",VLOOKUP(P21,Tools!$D$11:$J$57,7,FALSE))","v":6},2,{"$f":"$Y20+1","v":"2016-11-11"},-4,"j",{"$f":"IF(U21=dur_type_d,T21,IF(U21=dur_type_w,IF(Work_D_Only_Bool,T21*5,T21*7),IF(U21=dur_type_m,IF(Work_D_Only_Bool,NETWORKDAYS.INTL(S21,DATE(YEAR(S21),MONTH(S21)+T21,DAY(S21)-1),WE_Days,Holiday_Days),DATE(YEAR(S21),MONTH(S21)+T21,DAY(S21))-S21),\"ERROR\")))","v":-4},{"$f":"WORKDAY.INTL(S21,IF(V21>0,IF(OR(WEEKDAY(S21,2)>=6,COUNTIF(Holiday_Days,S21)>0),V21,V21-1),IF(OR(WEEKDAY(S21,2)>=6,COUNTIF(Holiday_Days,S21)>0),V21,V21+1)),HB$7,Holiday_Days)","v":"2016-11-08"},{"$f":"IF(V21>0,S21+V21-1,S21+V21+1)","v":"2016-11-08"},{"$f":"IF(S21<>\"\",IF($GE$7,W21,X21),\"\")","v":"2016-11-08"},{"$f":"IF(T21>0,S21,Y21)","v":"2016-11-08"},{"$f":"IF(T21>0,Y21,S21)","v":"2016-11-11"},0.2,{"$f":"INT(Z21+AB21*(AA21-Z21))","v":"2016-11-08"},{"$f":"IF(AND(AB21<1,AC21<$DC$7),0,1)","v":0},100,0,{"$f":"IF(AND(AE21<>\"\",AF21<>\"\"),AF21/AE21,\"\")","v":0},0]
[null,null,null,null,null,null,null,null,null,null,"MS",null,"Jalon",null,null,null,null,0,"2016-11-13"]
[null,null,null,null,null,null,null,null,null,null,1,null,"Tache",null,null,null,null,1,{"$f":"MIN(Z24:Z25)","v":"2016-11-06"},{"$f":"Y23-S23+1","v":6},null,null,null,null,{"$f":"MAX(AA24:AA25)","v":"2016-11-11"},null,null,{"$f":"SUMPRODUCT(AA24:AA25,AB24:AB25)/SUM(AA24:AA25)","v":0},{"$f":"S23-1+AB23*T23","v":"2016-11-05"},{"$f":"IF(AB23<>\"\",IF(AND(AB23<1,AC23<$DC$7),0,1))","v":0},{"$f":"SUM(AE24:AE25)","v":200},{"$f":"SUM(AF24:AF25)","v":0},{"$f":"IF(AND(AE23<>\"\",AF23<>\"\",AE23<>0),AF23/AE23,\"\")","v":0},{"$f":"AG23","v":0}]
[null,null,null,null,null,null,null,null,null,null,"1.1",null,"Sous-tache",null,null,"Rony",{"$f":"IF(ISERROR(VLOOKUP(P24,Tools!$D$11:$J$57,7,FALSE)),\"\",VLOOKUP(P24,Tools!$D$11:$J$57,7,FALSE))","v":3},2,"2016-11-06",3,"j",{"$f":"IF(U24=dur_type_d,T24,IF(U24=dur_type_w,IF(Work_D_Only_Bool,T24*5,T24*7),IF(U24=dur_type_m,IF(Work_D_Only_Bool,NETWORKDAYS.INTL(S24,DATE(YEAR(S24),MONTH(S24)+T24,DAY(S24)-1),WE_Days,Holiday_Days),DATE(YEAR(S24),MONTH(S24)+T24,DAY(S24))-S24),\"ERROR\")))","v":3},{"$f":"WORKDAY.INTL(S24,IF(V24>0,IF(OR(WEEKDAY(S24,2)>=6,COUNTIF(Holiday_Days,S24)>0),V24,V24-1),IF(OR(WEEKDAY(S24,2)>=6,COUNTIF(Holiday_Days,S24)>0),V24,V24+1)),HB$7,Holiday_Days)","v":"2016-11-09"},{"$f":"IF(V24>0,S24+V24-1,S24+V24+1)","v":"2016-11-08"},{"$f":"IF(S24<>\"\",IF($GE$7,W24,X24),\"\")","v":"2016-11-09"},{"$f":"IF(T24>0,S24,Y24)","v":"2016-11-06"},{"$f":"IF(T24>0,Y24,S24)","v":"2016-11-09"},0,{"$f":"INT(Z24+AB24*(AA24-Z24))","v":"2016-11-06"},{"$f":"IF(AND(AB24<1,AC24<$DC$7),0,1)","v":0},100,0,{"$f":"IF(AND(AE24<>\"\",AF24<>\"\"),AF24/AE24,\"\")","v":0},{"$f":"AG24","v":0}]
[null,null,null,null,null,null,null,null,null,null,"1.2",null,"Sous-tache",null,null,"Rony",{"$f":"IF(ISERROR(VLOOKUP(P25,Tools!$D$11:$J$57,7,FALSE)),\"\",VLOOKUP(P25,Tools!$D$11:$J$57,7,FALSE))","v":3},2,"2016-11-06",5,"j",{"$f":"IF(U25=dur_type_d,T25,IF(U25=dur_type_w,IF(Work_D_Only_Bool,T25*5,T25*7),IF(U25=dur_type_m,IF(Work_D_Only_Bool,NETWORKDAYS.INTL(S25,DATE(YEAR(S25),MONTH(S25)+T25,DAY(S25)-1),WE_Days,Holiday_Days),DATE(YEAR(S25),MONTH(S25)+T25,DAY(S25))-S25),\"ERROR\")))","v":5},{"$f":"WORKDAY.INTL(S25,IF(V25>0,IF(OR(WEEKDAY(S25,2)>=6,COUNTIF(Holiday_Days,S25)>0),V25,V25-1),IF(OR(WEEKDAY(S25,2)>=6,COUNTIF(Holiday_Days,S25)>0),V25,V25+1)),HB$7,Holiday_Days)","v":"2016-11-11"},{"$f":"IF(V25>0,S25+V25-1,S25+V25+1)","v":"2016-11-10"},{"$f":"IF(S25<>\"\",IF($GE$7,W25,X25),\"\")","v":"2016-11-11"},{"$f":"IF(T25>0,S25,Y25)","v":"2016-11-06"},{"$f":"IF(T25>0,Y25,S25)","v":"2016-11-11"},0,{"$f":"INT(Z25+AB25*(AA25-Z25))","v":"2016-11-06"},{"$f":"IF(AND(AB25<1,AC25<$DC$7),0,1)","v":0},100,0,{"$f":"IF(AND(AE25<>\"\",AF25<>\"\"),AF25/AE25,\"\")","v":0},{"$f":"AG25","v":0}]
[null,null,null,null,null,null,null,null,null,null,2,null,"Tache",null,null,null,null,1,{"$f":"MIN(Z27:Z32)","v":"2016-11-01"},{"$f":"Y26-S26+1","v":10},null,null,{"$f":"WORKDAY.INTL(S26,IF(T26>0,IF(OR(WEEKDAY(S26,2)>=6,COUNTIF(Holiday_Days,S26)>0),T26,T26-1),IF(OR(WEEKDAY(S26,2)>=6,COUNTIF(Holiday_Days,S26)>0),T26,T26+1)),HB$7,Holiday_Days)","v":"2016-11-14"},{"$f":"IF(T26>0,S26+T26-1,S26+T26+1)","v":"2016-11-10"},{"$f":"MAX(AA27:AA32)","v":"2016-11-10"},"2016-11-01","2016-11-10",{"$f":"SUMPRODUCT(--(R27:R32=2),ABS(T27:T32),AB27:AB32)/SUM(ABS(T27:T32))","v":5.5873080946933343E-2},{"$f":"INT(Z26+AB26*(AA26-Z26))","v":"2016-11-01"},0,{"$f":"SUMIF(R27:R32,2,AE27:AE32)","v":7800},{"$f":"SUMIF(R27:R32,2,AF27:AF32)","v":80},{"$f":"IF(AND(AE26<>\"\",AF26<>\"\"),AF26/AE26,\"\")","v":1.0256410256410256E-2},{"$f":"AG26","v":1.0256410256410256E-2}]
[null,null,null,null,null,null,null,null,null,null,"2.1",null,"Sous-tache",null,null,"Sara",{"$f":"IF(ISERROR(VLOOKUP(P27,Tools!$D$11:$J$57,7,FALSE)),\"\",VLOOKUP(P27,Tools!$D$11:$J$57,7,FALSE))","v":2},2,"2016-11-01",2,"j",{"$f":"IF(U27=dur_type_d,T27,IF(U27=dur_type_w,IF(Work_D_Only_Bool,T27*5,T27*7),IF(U27=dur_type_m,IF(Work_D_Only_Bool,NETWORKDAYS.INTL(S27,DATE(YEAR(S27),MONTH(S27)+T27,DAY(S27)-1),WE_Days,Holiday_Days),DATE(YEAR(S27),MONTH(S27)+T27,DAY(S27))-S27),\"ERROR\")))","v":2},{"$f":"WORKDAY.INTL(S27,IF(V27>0,IF(OR(WEEKDAY(S27,2)>=6,COUNTIF(Holiday_Days,S27)>0),V27,V27-1),IF(OR(WEEKDAY(S27,2)>=6,COUNTIF(Holiday_Days,S27)>0),V27,V27+1)),HB$7,Holiday_Days)","v":"2016-11-02"},{"$f":"IF(V27>0,S27+V27-1,S27+V27+1)","v":"2016-11-02"},{"$f":"IF(S27<>\"\",IF($GE$7,W27,X27),\"\")","v":"2016-11-02"},"2016-11-01","2016-11-02",0,{"$f":"INT(Z27+AB27*(AA27-Z27))","v":"2016-11-01"},0,100,80,{"$f":"IF(AND(AE27<>\"\",AF27<>\"\"),AF27/AE27,\"\")","v":0.8},0.8]
[null,null,null,null,null,null,null,null,null,null,"2.2",1,"Sous-tache",null,null,"Rony",{"$f":"IF(ISERROR(VLOOKUP(P28,Tools!$D$11:$J$57,7,FALSE)),\"\",VLOOKUP(P28,Tools!$D$11:$J$57,7,FALSE))","v":3},2,{"$f":"S27","v":"2016-11-01"},5,"j",5,"2016-11-07","2016-11-05","2016-11-07","2016-11-01","2016-11-07",0,"2016-11-01",0,100,0,0,0]
[null,null,null,null,null,null,null,null,null,null,"2.3",null,"Sous-tache",null,null,"Mary",{"$f":"IF(ISERROR(VLOOKUP(P29,Tools!$D$11:$J$57,7,FALSE)),\"\",VLOOKUP(P29,Tools!$D$11:$J$57,7,FALSE))","v":5},2,"2016-11-09",2,"j",2,"2016-11-10","2016-11-10","2016-11-10",{"$f":"IF(T29>0,S29,Y29)","v":"2016-11-09"},{"$f":"IF(T29>0,Y29,S29)","v":"2016-11-10"},0,{"$f":"INT(Z29+AB29*(AA29-Z29))","v":"2016-11-09"},{"$f":"IF(AND(AB29<1,AC29<$DC$7),0,1)","v":0},{"$f":"SUM(AE33:AE34)","v":1900},{"$f":"SUM(AF33:AF34)","v":0},{"$f":"IF(AND(AE29<>\"\",AF29<>\"\"),AF29/AE29,\"\")","v":0},0]
[null,null,null,null,null,null,null,null,null,null,"2.4",null,"Sous-tache",null,null,"Mary",{"$f":"IF(ISERROR(VLOOKUP(P30,Tools!$D$11:$J$57,7,FALSE)),\"\",VLOOKUP(P30,Tools!$D$11:$J$57,7,FALSE))","v":5},2,"2016-11-09",2,"j",2,"2016-11-10","2016-11-10","2016-11-10",{"$f":"IF(T30>0,S30,Y30)","v":"2016-11-09"},{"$f":"IF(T30>0,Y30,S30)","v":"2016-11-10"},0,{"$f":"INT(Z30+AB30*(AA30-Z30))","v":"2016-11-09"},{"$f":"IF(AND(AB30<1,AC30<$DC$7),0,1)","v":0},{"$f":"SUM(AE33:AE34)","v":1900},{"$f":"SUM(AF33:AF34)","v":0},{"$f":"IF(AND(AE30<>\"\",AF30<>\"\"),AF30/AE30,\"\")","v":0},0]
[null,null,null,null,null,null,null,null,null,null,"2.5",null,"Sous-tache",null,null,"Mary",{"$f":"IF(ISERROR(VLOOKUP(P31,Tools!$D$11:$J$57,7,FALSE)),\"\",VLOOKUP(P31,Tools!$D$11:$J$57,7,FALSE))","v":5},2,"2016-11-09",2,"j",2,"2016-11-10","2016-11-10","2016-11-10",{"$f":"IF(T31>0,S31,Y31)","v":"2016-11-09"},{"$f":"IF(T31>0,Y31,S31)","v":"2016-11-10"},{"$f":"SUMPRODUCT(AB33:AB34,ABS(T33:T34))/SUM(ABS(T33:T34))","v":0.20952405355100004},{"$f":"INT(Z31+AB31*(AA31-Z31))","v":"2016-11-09"},{"$f":"IF(AND(AB31<1,AC31<$DC$7),0,1)","v":0},{"$f":"SUM(AE33:AE34)","v":1900},{"$f":"SUM(AF33:AF34)","v":0},{"$f":"IF(AND(AE31<>\"\",AF31<>\"\"),AF31/AE31,\"\")","v":0},0]
[null,null,null,null,null,null,null,null,null,null,"2.6",null,"Sous-tache",null,null,"Mary",{"$f":"IF(ISERROR(VLOOKUP(P32,Tools!$D$11:$J$57,7,FALSE)),\"\",VLOOKUP(P32,Tools!$D$11:$J$57,7,FALSE))","v":5},2,"2016-11-09",2,"j",2,"2016-11-10","2016-11-10","2016-11-10",{"$f":"IF(T32>0,S32,Y32)","v":"2016-11-09"},{"$f":"IF(T32>0,Y32,S32)","v":"2016-11-10"},{"$f":"SUMPRODUCT(AB33:AB34,ABS(T33:T34))/SUM(ABS(T33:T34))","v":0.20952405355100004},{"$f":"INT(Z32+AB32*(AA32-Z32))","v":"2016-11-09"},{"$f":"IF(AND(AB32<1,AC32<$DC$7),0,1)","v":0},{"$f":"SUM(AE33:AE34)","v":1900},{"$f":"SUM(AF33:AF34)","v":0},{"$f":"IF(AND(AE32<>\"\",AF32<>\"\"),AF32/AE32,\"\")","v":0},0]
[null,null,null,null,null,null,null,null,null,null,3,null,"Tache",null,null,null,null,1,{"$f":"MIN(Z34:Z41)","v":"2016-11-06"},{"$f":"Y33-S33+1","v":18},null,null,null,null,{"$f":"MAX(AA34:AA41)","v":"2016-11-23"},null,null,{"$f":"SUMPRODUCT(--(R34:R41=2),ABS(T34:T41),AB34:AB41)/SUM(ABS(T34:T41))","v":9.4444729142833361E-2},{"$f":"S33-1+AB33*T33","v":"2016-11-06T16:48:00.443"},{"$f":"IF(AB33<>\"\",IF(AND(AB33<1,AC33<$DC$7),0,1))","v":0},{"$f":"SUMIF(R34:R41,2,AE34:AE41)","v":1800},{"$f":"SUM(AF34:AF37)","v":0},{"$f":"IF(AND(AE33<>\"\",AF33<>\"\",AE33<>0),AF33/AE33,\"\")","v":0},0]
[null,null,null,null,null,null,null,null,null,null,"3.1",null,"Sous-tache",null,null,"Mary",{"$f":"IF(ISERROR(VLOOKUP(P34,Tools!$D$11:$J$57,7,FALSE)),\"\",VLOOKUP(P34,Tools!$D$11:$J$57,7,FALSE))","v":5},2,"2016-11-11",3,"j",{"$f":"IF(U34=dur_type_d,T34,IF(U34=dur_type_w,IF(Work_D_Only_Bool,T34*5,T34*7),IF(U34=dur_type_m,IF(Work_D_Only_Bool,NETWORKDAYS.INTL(S34,DATE(YEAR(S34),MONTH(S34)+T34,DAY(S34)-1),WE_Days,Holiday_Days),DATE(YEAR(S34),MONTH(S34)+T34,DAY(S34))-S34),\"ERROR\")))","v":3},{"$f":"WORKDAY.INTL(S34,IF(V34>0,IF(OR(WEEKDAY(S34,2)>=6,COUNTIF(Holiday_Days,S34)>0),V34,V34-1),IF(OR(WEEKDAY(S34,2)>=6,COUNTIF(Holiday_Days,S34)>0),V34,V34+1)),HB$7,Holiday_Days)","v":"2016-11-15"},{"$f":"IF(V34>0,S34+V34-1,S34+V34+1)","v":"2016-11-13"},{"$f":"IF(S34<>\"\",IF($GE$7,W34,X34),\"\")","v":"2016-11-15"},{"$f":"IF(T34>0,S34,Y34)","v":"2016-11-11"},{"$f":"IF(T34>0,Y34,S34)","v":"2016-11-15"},0.9,{"$f":"INT(Z34+AB34*(AA34-Z34))","v":"2016-11-14"},{"$f":"IF(AND(AB34<1,AC34<$DC$7),0,1)","v":1},100,0,{"$f":"IF(AND(AE34<>\"\",AF34<>\"\"),AF34/AE34,\"\")","v":0},0]
[null,null,null,null,null,null,null,null,null,null,"3.2",null,"Sous-tache",null,null,"Mary",{"$f":"IF(ISERROR(VLOOKUP(P35,Tools!$D$11:$J$57,7,FALSE)),\"\",VLOOKUP(P35,Tools!$D$11:$J$57,7,FALSE))","v":5},2,{"$f":"MIN(Z36:Z37)","v":"2016-11-06"},{"$f":"Y35-S35+1","v":18},"j",{"$f":"IF(U35=dur_type_d,T35,IF(U35=dur_type_w,IF(Work_D_Only_Bool,T35*5,T35*7),IF(U35=dur_type_m,IF(Work_D_Only_Bool,NETWORKDAYS.INTL(S35,DATE(YEAR(S35),MONTH(S35)+T35,DAY(S35)-1),WE_Days,Holiday_Days),DATE(YEAR(S35),MONTH(S35)+T35,DAY(S35))-S35),\"ERROR\")))","v":18},{"$f":"WORKDAY.INTL(S35,IF(V35>0,IF(OR(WEEKDAY(S35,2)>=6,COUNTIF(Holiday_Days,S35)>0),V35,V35-1),IF(OR(WEEKDAY(S35,2)>=6,COUNTIF(Holiday_Days,S35)>0),V35,V35+1)),HB$7,Holiday_Days)","v":"2016-11-30"},"2016-11-23",{"$f":"MAX(AA36:AA37)","v":"2016-11-23"},"2016-11-06","2016-11-23",{"$f":"SUMPRODUCT(AA36:AA37,AB36:AB37)/SUM(AA36:AA37)","v":0},"2016-11-06",0,{"$f":"SUM(AE36:AE37)","v":200},{"$f":"SUM(AF36:AF37)","v":0},0,0]
[null,null,null,null,null,null,null,null,null,null,"3.3",null,"Sous-tache",null,null,"Mike",{"$f":"IF(ISERROR(VLOOKUP(P36,Tools!$D$11:$J$57,7,FALSE)),\"\",VLOOKUP(P36,Tools!$D$11:$J$57,7,FALSE))","v":0},3,"2016-11-15",7,"j",{"$f":"IF(U36=dur_type_d,T36,IF(U36=dur_type_w,IF(Work_D_Only_Bool,T36*5,T36*7),IF(U36=dur_type_m,IF(Work_D_Only_Bool,NETWORKDAYS.INTL(S36,DATE(YEAR(S36),MONTH(S36)+T36,DAY(S36)-1),WE_Days,Holiday_Days),DATE(YEAR(S36),MONTH(S36)+T36,DAY(S36))-S36),\"ERROR\")))","v":7},{"$f":"WORKDAY.INTL(S36,IF(V36>0,IF(OR(WEEKDAY(S36,2)>=6,COUNTIF(Holiday_Days,S36)>0),V36,V36-1),IF(OR(WEEKDAY(S36,2)>=6,COUNTIF(Holiday_Days,S36)>0),V36,V36+1)),HB$7,Holiday_Days)","v":"2016-11-23"},"2016-11-21",{"$f":"IF(S36<>\"\",IF($GE$7,W36,X36),\"\")","v":"2016-11-23"},"2016-11-15","2016-11-23",0,"2016-11-15",1,100,0,0,0]
[null,null,null,null,null,null,null,null,null,null,"3.4",null,"Sous-tache",null,null,"Mary",{"$f":"IF(ISERROR(VLOOKUP(P37,Tools!$D$11:$J$57,7,FALSE)),\"\",VLOOKUP(P37,Tools!$D$11:$J$57,7,FALSE))","v":5},3,"2016-11-06",2,"j",{"$f":"IF(U37=dur_type_d,T37,IF(U37=dur_type_w,IF(Work_D_Only_Bool,T37*5,T37*7),IF(U37=dur_type_m,IF(Work_D_Only_Bool,NETWORKDAYS.INTL(S37,DATE(YEAR(S37),MONTH(S37)+T37,DAY(S37)-1),WE_Days,Holiday_Days),DATE(YEAR(S37),MONTH(S37)+T37,DAY(S37))-S37),\"ERROR\")))","v":2},{"$f":"WORKDAY.INTL(S37,IF(V37>0,IF(OR(WEEKDAY(S37,2)>=6,COUNTIF(Holiday_Days,S37)>0),V37,V37-1),IF(OR(WEEKDAY(S37,2)>=6,COUNTIF(Holiday_Days,S37)>0),V37,V37+1)),HB$7,Holiday_Days)","v":"2016-11-08"},"2016-11-07",{"$f":"IF(S37<>\"\",IF($GE$7,W37,X37),\"\")","v":"2016-11-08"},"2016-11-06","2016-11-08",0,{"$f":"INT(Z37+AB37*(AA37-Z37))","v":"2016-11-06"},0,100,0,{"$f":"IF(AND(AE37<>\"\",AF37<>\"\"),AF37/AE37,\"\")","v":0},0]
[null,null,null,null,null,null,null,null,null,null,"3.5",null,"Jalon",null,null,null,null,0,"2016-11-10"]
[null,null,null,null,null,null,null,null,null,null,"3.6",null,"Sous-tache",null,null,"Mary",{"$f":"IF(ISERROR(VLOOKUP(P39,Tools!$D$11:$J$57,7,FALSE)),\"\",VLOOKUP(P39,Tools!$D$11:$J$57,7,FALSE))","v":5},2,"2016-11-09",2,"j",{"$f":"IF(U39=dur_type_d,T39,IF(U39=dur_type_w,IF(Work_D_Only_Bool,T39*5,T39*7),IF(U39=dur_type_m,IF(Work_D_Only_Bool,NETWORKDAYS.INTL(S39,DATE(YEAR(S39),MONTH(S39)+T39,DAY(S39)-1),WE_Days,Holiday_Days),DATE(YEAR(S39),MONTH(S39)+T39,DAY(S39))-S39),\"ERROR\")))","v":2},{"$f":"WORKDAY.INTL(S39,IF(V39>0,IF(OR(WEEKDAY(S39,2)>=6,COUNTIF(Holiday_Days,S39)>0),V39,V39-1),IF(OR(WEEKDAY(S39,2)>=6,COUNTIF(Holiday_Days,S39)>0),V39,V39+1)),HB$7,Holiday_Days)","v":"2016-11-10"},{"$f":"IF(V39>0,S39+V39-1,S39+V39+1)","v":"2016-11-10"},{"$f":"IF(S39<>\"\",IF($GE$7,W39,X39),\"\")","v":"2016-11-10"},{"$f":"IF(T39>0,S39,Y39)","v":"2016-11-09"},{"$f":"IF(T39>0,Y39,S39)","v":"2016-11-10"},{"$f":"SUMPRODUCT(AB42:AB43,ABS(T42:T43))/SUM(ABS(T42:T43))","v":0.11666837485700005},{"$f":"INT(Z39+AB39*(AA39-Z39))","v":"2016-11-09"},{"$f":"IF(AND(AB39<1,AC39<$DC$7),0,1)","v":0},{"$f":"SUM(AE42:AE43)","v":500},{"$f":"SUM(AF42:AF43)","v":0},{"$f":"IF(AND(AE39<>\"\",AF39<>\"\"),AF39/AE39,\"\")","v":0},{"$f":"AG39","v":0}]
[null,null,null,null,null,null,null,null,null,null,"3.7",null,"Sous-tache",null,null,"Mary",{"$f":"IF(ISERROR(VLOOKUP(P40,Tools!$D$11:$J$57,7,FALSE)),\"\",VLOOKUP(P40,Tools!$D$11:$J$57,7,FALSE))","v":5},2,"2016-11-09",2,"j",{"$f":"IF(U40=dur_type_d,T40,IF(U40=dur_type_w,IF(Work_D_Only_Bool,T40*5,T40*7),IF(U40=dur_type_m,IF(Work_D_Only_Bool,NETWORKDAYS.INTL(S40,DATE(YEAR(S40),MONTH(S40)+T40,DAY(S40)-1),WE_Days,Holiday_Days),DATE(YEAR(S40),MONTH(S40)+T40,DAY(S40))-S40),\"ERROR\")))","v":2},{"$f":"WORKDAY.INTL(S40,IF(V40>0,IF(OR(WEEKDAY(S40,2)>=6,COUNTIF(Holiday_Days,S40)>0),V40,V40-1),IF(OR(WEEKDAY(S40,2)>=6,COUNTIF(Holiday_Days,S40)>0),V40,V40+1)),HB$7,Holiday_Days)","v":"2016-11-10"},{"$f":"IF(V40>0,S40+V40-1,S40+V40+1)","v":"2016-11-10"},{"$f":"IF(S40<>\"\",IF($GE$7,W40,X40),\"\")","v":"2016-11-10"},{"$f":"IF(T40>0,S40,Y40)","v":"2016-11-09"},{"$f":"IF(T40>0,Y40,S40)","v":"2016-11-10"},{"$f":"SUMPRODUCT(AB42:AB43,ABS(T42:T43))/SUM(ABS(T42:T43))","v":0.11666837485700005},{"$f":"INT(Z40+AB40*(AA40-Z40))","v":"2016-11-09"},{"$f":"IF(AND(AB40<1,AC40<$DC$7),0,1)","v":0},{"$f":"SUM(AE42:AE43)","v":500},{"$f":"SUM(AF42:AF43)","v":0},{"$f":"IF(AND(AE40<>\"\",AF40<>\"\"),AF40/AE40,\"\")","v":0},0]
[null,null,null,null,null,null,null,null,null,null,"3.8",null,"Sous-tache",null,null,"Mary",{"$f":"IF(ISERROR(VLOOKUP(P41,Tools!$D$11:$J$57,7,FALSE)),\"\",VLOOKUP(P41,Tools!$D$11:$J$57,7,FALSE))","v":5},2,"2016-11-09",2,"j",{"$f":"IF(U41=dur_type_d,T41,IF(U41=dur_type_w,IF(Work_D_Only_Bool,T41*5,T41*7),IF(U41=dur_type_m,IF(Work_D_Only_Bool,NETWORKDAYS.INTL(S41,DATE(YEAR(S41),MONTH(S41)+T41,DAY(S41)-1),WE_Days,Holiday_Days),DATE(YEAR(S41),MONTH(S41)+T41,DAY(S41))-S41),\"ERROR\")))","v":2},{"$f":"WORKDAY.INTL(S41,IF(V41>0,IF(OR(WEEKDAY(S41,2)>=6,COUNTIF(Holiday_Days,S41)>0),V41,V41-1),IF(OR(WEEKDAY(S41,2)>=6,COUNTIF(Holiday_Days,S41)>0),V41,V41+1)),HB$7,Holiday_Days)","v":"2016-11-10"},{"$f":"IF(V41>0,S41+V41-1,S41+V41+1)","v":"2016-11-10"},{"$f":"IF(S41<>\"\",IF($GE$7,W41,X41),\"\")","v":"2016-11-10"},{"$f":"IF(T41>0,S41,Y41)","v":"2016-11-09"},{"$f":"IF(T41>0,Y41,S41)","v":"2016-11-10"},{"$f":"SUMPRODUCT(AB42:AB43,ABS(T42:T43))/SUM(ABS(T42:T43))","v":0.11666837485700005},{"$f":"INT(Z41+AB41*(AA41-Z41))","v":"2016-11-09"},{"$f":"IF(AND(AB41<1,AC41<$DC$7),0,1)","v":0},{"$f":"SUM(AE42:AE43)","v":500},{"$f":"SUM(AF42:AF43)","v":0},{"$f":"IF(AND(AE41<>\"\",AF41<>\"\"),AF41/AE41,\"\")","v":0},0]
[null,null,null,null,null,null,null,null,null,null,4,null,"Tache",null,null,null,null,1,{"$f":"MIN(Z43:Z47)","v":"2016-11-09"},{"$f":"Y42-S42+1","v":7},null,null,null,null,{"$f":"MAX(AA43:AA47)","v":"2016-11-15"},null,null,{"$f":"SUMPRODUCT(AA43:AA47,AB43:AB47)/SUM(AA43:AA47)","v":0.2000029283262858},{"$f":"S42-1+AB42*T42","v":"2016-11-09T09:36:01.771"},{"$f":"IF(AB42<>\"\",IF(AND(AB42<1,AC42<$DC$7),0,1))","v":0},{"$f":"SUM(AE43:AE47)","v":400},{"$f":"SUM(AF43:AF47)","v":0},{"$f":"IF(AND(AE42<>\"\",AF42<>\"\",AE42<>0),AF42/AE42,\"\")","v":0},0]
[null,null,null,null,null,null,null,null,null,null,"4.1",null,"Sous-tache",null,null,"Mary",{"$f":"IF(ISERROR(VLOOKUP(P43,Tools!$D$11:$J$57,7,FALSE)),\"\",VLOOKUP(P43,Tools!$D$11:$J$57,7,FALSE))","v":5},2,"2016-11-09",5,"j",{"$f":"IF(U43=dur_type_d,T43,IF(U43=dur_type_w,IF(Work_D_Only_Bool,T43*5,T43*7),IF(U43=dur_type_m,IF(Work_D_Only_Bool,NETWORKDAYS.INTL(S43,DATE(YEAR(S43),MONTH(S43)+T43,DAY(S43)-1),WE_Days,Holiday_Days),DATE(YEAR(S43),MONTH(S43)+T43,DAY(S43))-S43),\"ERROR\")))","v":5},{"$f":"WORKDAY.INTL(S43,IF(V43>0,IF(OR(WEEKDAY(S43,2)>=6,COUNTIF(Holiday_Days,S43)>0),V43,V43-1),IF(OR(WEEKDAY(S43,2)>=6,COUNTIF(Holiday_Days,S43)>0),V43,V43+1)),HB$7,Holiday_Days)","v":"2016-11-15"},{"$f":"IF(V43>0,S43+V43-1,S43+V43+1)","v":"2016-11-13"},{"$f":"IF(S43<>\"\",IF($GE$7,W43,X43),\"\")","v":"2016-11-15"},{"$f":"IF(T43>0,S43,Y43)","v":"2016-11-09"},{"$f":"IF(T43>0,Y43,S43)","v":"2016-11-15"},0,{"$f":"INT(Z43+AB43*(AA43-Z43))","v":"2016-11-09"},{"$f":"IF(AND(AB43<1,AC43<$DC$7),0,1)","v":0},100,0,{"$f":"IF(AND(AE43<>\"\",AF43<>\"\"),AF43/AE43,\"\")","v":0},0]
[null,null,null,null,null,null,null,null,null,null,"MS",null,"Jalon",null,null,null,null,0,"2016-11-01"]
[null,null,null,null,null,null,null,null,null,null,"4.2",null,"Sous-tache",null,null,"Mary",{"$f":"IF(ISERROR(VLOOKUP(P45,Tools!$D$11:$J$57,7,FALSE)),\"\",VLOOKUP(P45,Tools!$D$11:$J$57,7,FALSE))","v":5},2,"2016-11-09",5,"j",{"$f":"IF(U45=dur_type_d,T45,IF(U45=dur_type_w,IF(Work_D_Only_Bool,T45*5,T45*7),IF(U45=dur_type_m,IF(Work_D_Only_Bool,NETWORKDAYS.INTL(S45,DATE(YEAR(S45),MONTH(S45)+T45,DAY(S45)-1),WE_Days,Holiday_Days),DATE(YEAR(S45),MONTH(S45)+T45,DAY(S45))-S45),\"ERROR\")))","v":5},{"$f":"WORKDAY.INTL(S45,IF(V45>0,IF(OR(WEEKDAY(S45,2)>=6,COUNTIF(Holiday_Days,S45)>0),V45,V45-1),IF(OR(WEEKDAY(S45,2)>=6,COUNTIF(Holiday_Days,S45)>0),V45,V45+1)),HB$7,Holiday_Days)","v":"2016-11-15"},{"$f":"IF(V45>0,S45+V45-1,S45+V45+1)","v":"2016-11-13"},{"$f":"IF(S45<>\"\",IF($GE$7,W45,X45),\"\")","v":"2016-11-15"},{"$f":"IF(T45>0,S45,Y45)","v":"2016-11-09"},{"$f":"IF(T45>0,Y45,S45)","v":"2016-11-15"},0.5,"2016-11-12",{"$f":"IF(AND(AB45<1,AC45<$DC$7),0,1)","v":1},100,0,0,0]
[null,null,null,null,null,null,null,null,null,null,"4.3",null,"Sous-tache",null,null,"Mary",{"$f":"IF(ISERROR(VLOOKUP(P46,Tools!$D$11:$J$57,7,FALSE)),\"\",VLOOKUP(P46,Tools!$D$11:$J$57,7,FALSE))","v":5},2,{"$f":"MIN(Z47:Z47)","v":"2016-11-09"},{"$f":"Y46-S46+1","v":2},"j",{"$f":"IF(U46=dur_type_d,T46,IF(U46=dur_type_w,IF(Work_D_Only_Bool,T46*5,T46*7),IF(U46=dur_type_m,IF(Work_D_Only_Bool,NETWORKDAYS.INTL(S46,DATE(YEAR(S46),MONTH(S46)+T46,DAY(S46)-1),WE_Days,Holiday_Days),DATE(YEAR(S46),MONTH(S46)+T46,DAY(S46))-S46),\"ERROR\")))","v":2},{"$f":"WORKDAY.INTL(S46,IF(V46>0,IF(OR(WEEKDAY(S46,2)>=6,COUNTIF(Holiday_Days,S46)>0),V46,V46-1),IF(OR(WEEKDAY(S46,2)>=6,COUNTIF(Holiday_Days,S46)>0),V46,V46+1)),HB$7,Holiday_Days)","v":"2016-11-10"},{"$f":"IF(V46>0,S46+V46-1,S46+V46+1)","v":"2016-11-10"},{"$f":"MAX(AA47:AA47)","v":"2016-11-10"},{"$f":"IF(T46>0,S46,Y46)","v":"2016-11-09"},{"$f":"IF(T46>0,Y46,S46)","v":"2016-11-10"},0.3,"2016-11-09",{"$f":"IF(AND(AB46<1,AC46<$DC$7),0,1)","v":0},100,0,0,0]
[null,null,null,null,null,null,null,null,null,null,"4.3.1",null,"Sub-Task 2",null,null,"Mary",{"$f":"IF(ISERROR(VLOOKUP(P47,Tools!$D$11:$J$57,7,FALSE)),\"\",VLOOKUP(P47,Tools!$D$11:$J$57,7,FALSE))","v":5},3,"2016-11-09",2,"j",{"$f":"IF(U47=dur_type_d,T47,IF(U47=dur_type_w,IF(Work_D_Only_Bool,T47*5,T47*7),IF(U47=dur_type_m,IF(Work_D_Only_Bool,NETWORKDAYS.INTL(S47,DATE(YEAR(S47),MONTH(S47)+T47,DAY(S47)-1),WE_Days,Holiday_Days),DATE(YEAR(S47),MONTH(S47)+T47,DAY(S47))-S47),\"ERROR\")))","v":2},{"$f":"WORKDAY.INTL(S47,IF(V47>0,IF(OR(WEEKDAY(S47,2)>=6,COUNTIF(Holiday_Days,S47)>0),V47,V47-1),IF(OR(WEEKDAY(S47,2)>=6,COUNTIF(Holiday_Days,S47)>0),V47,V47+1)),HB$7,Holiday_Days)","v":"2016-11-10"},{"$f":"IF(V47>0,S47+V47-1,S47+V47+1)","v":"2016-11-10"},{"$f":"IF(S47<>\"\",IF($GE$7,W47,X47),\"\")","v":"2016-11-10"},{"$f":"IF(T47>0,S47,Y47)","v":"2016-11-09"},{"$f":"IF(T47>0,Y47,S47)","v":"2016-11-10"},0,{"$f":"INT(Z47+AB47*(AA47-Z47))","v":"2016-11-09"},{"$f":"IF(AND(AB47<1,AC47<$DC$7),0,1)","v":0},100,0,{"$f":"IF(AND(AE47<>\"\",AF47<>\"\"),AF47/AE47,\"\")","v":0},0]
[null,null,null,null,null,null,null,null,null,null,5,null,"Tache",null,null,null,null,1,{"$f":"MIN(Z49:Z51)","v":"2016-11-09"},{"$f":"Y48-S48+1","v":7},null,null,null,null,{"$f":"MAX(AA49:AA51)","v":"2016-11-15"},null,null,{"$f":"SUMPRODUCT(AA49:AA51,AB49:AB51)/SUM(AA49:AA51)","v":0},{"$f":"S48-1+AB48*T48","v":"2016-11-08"},{"$f":"IF(AB48<>\"\",IF(AND(AB48<1,AC48<$DC$7),0,1))","v":0},{"$f":"SUM(AE49:AE51)","v":300},{"$f":"SUM(AF49:AF51)","v":0},{"$f":"IF(AND(AE48<>\"\",AF48<>\"\",AE48<>0),AF48/AE48,\"\")","v":0},0]
[null,null,null,null,null,null,null,null,null,null,"5.1",null,"Sous-tache",null,null,"Mary",{"$f":"IF(ISERROR(VLOOKUP(P49,Tools!$D$11:$J$57,7,FALSE)),\"\",VLOOKUP(P49,Tools!$D$11:$J$57,7,FALSE))","v":5},2,"2016-11-09",5,"j",{"$f":"IF(U49=dur_type_d,T49,IF(U49=dur_type_w,IF(Work_D_Only_Bool,T49*5,T49*7),IF(U49=dur_type_m,IF(Work_D_Only_Bool,NETWORKDAYS.INTL(S49,DATE(YEAR(S49),MONTH(S49)+T49,DAY(S49)-1),WE_Days,Holiday_Days),DATE(YEAR(S49),MONTH(S49)+T49,DAY(S49))-S49),\"ERROR\")))","v":5},{"$f":"WORKDAY.INTL(S49,IF(V49>0,IF(OR(WEEKDAY(S49,2)>=6,COUNTIF(Holiday_Days,S49)>0),V49,V49-1),IF(OR(WEEKDAY(S49,2)>=6,COUNTIF(Holiday_Days,S49)>0),V49,V49+1)),HB$7,Holiday_Days)","v":"2016-11-15"},{"$f":"IF(V49>0,S49+V49-1,S49+V49+1)","v":"2016-11-13"},{"$f":"IF(S49<>\"\",IF($GE$7,W49,X49),\"\")","v":"2016-11-15"},{"$f":"IF(T49>0,S49,Y49)","v":"2016-11-09"},{"$f":"IF(T49>0,Y49,S49)","v":"2016-11-15"},0,{"$f":"INT(Z49+AB49*(AA49-Z49))","v":"2016-11-09"},{"$f":"IF(AND(AB49<1,AC49<$DC$7),0,1)","v":0},100,0,{"$f":"IF(AND(AE49<>\"\",AF49<>\"\"),AF49/AE49,\"\")","v":0},0]
[null,null,null,null,null,null,null,null,null,null,"5.2",null,"Sous-tache",null,null,"Mary",{"$f":"IF(ISERROR(VLOOKUP(P50,Tools!$D$11:$J$57,7,FALSE)),\"\",VLOOKUP(P50,Tools!$D$11:$J$57,7,FALSE))","v":5},2,"2016-11-09",5,"j",{"$f":"IF(U50=dur_type_d,T50,IF(U50=dur_type_w,IF(Work_D_Only_Bool,T50*5,T50*7),IF(U50=dur_type_m,IF(Work_D_Only_Bool,NETWORKDAYS.INTL(S50,DATE(YEAR(S50),MONTH(S50)+T50,DAY(S50)-1),WE_Days,Holiday_Days),DATE(YEAR(S50),MONTH(S50)+T50,DAY(S50))-S50),\"ERROR\")))","v":5},{"$f":"WORKDAY.INTL(S50,IF(V50>0,IF(OR(WEEKDAY(S50,2)>=6,COUNTIF(Holiday_Days,S50)>0),V50,V50-1),IF(OR(WEEKDAY(S50,2)>=6,COUNTIF(Holiday_Days,S50)>0),V50,V50+1)),HB$7,Holiday_Days)","v":"2016-11-15"},{"$f":"IF(V50>0,S50+V50-1,S50+V50+1)","v":"2016-11-13"},{"$f":"IF(S50<>\"\",IF($GE$7,W50,X50),\"\")","v":"2016-11-15"},{"$f":"IF(T50>0,S50,Y50)","v":"2016-11-09"},{"$f":"IF(T50>0,Y50,S50)","v":"2016-11-15"},0,"2016-11-09",{"$f":"IF(AND(AB50<1,AC50<$DC$7),0,1)","v":0},100,0,0,0]
[null,null,null,null,null,null,null,null,null,null,"5.3",null,"Sous-tache",null,null,"Mary",{"$f":"IF(ISERROR(VLOOKUP(P51,Tools!$D$11:$J$57,7,FALSE)),\"\",VLOOKUP(P51,Tools!$D$11:$J$57,7,FALSE))","v":5},2,"2016-11-09",5,"j",{"$f":"IF(U51=dur_type_d,T51,IF(U51=dur_type_w,IF(Work_D_Only_Bool,T51*5,T51*7),IF(U51=dur_type_m,IF(Work_D_Only_Bool,NETWORKDAYS.INTL(S51,DATE(YEAR(S51),MONTH(S51)+T51,DAY(S51)-1),WE_Days,Holiday_Days),DATE(YEAR(S51),MONTH(S51)+T51,DAY(S51))-S51),\"ERROR\")))","v":5},{"$f":"WORKDAY.INTL(S51,IF(V51>0,IF(OR(WEEKDAY(S51,2)>=6,COUNTIF(Holiday_Days,S51)>0),V51,V51-1),IF(OR(WEEKDAY(S51,2)>=6,COUNTIF(Holiday_Days,S51)>0),V51,V51+1)),HB$7,Holiday_Days)","v":"2016-11-15"},{"$f":"IF(V51>0,S51+V51-1,S51+V51+1)","v":"2016-11-13"},{"$f":"IF(S51<>\"\",IF($GE$7,W51,X51),\"\")","v":"2016-11-15"},{"$f":"IF(T51>0,S51,Y51)","v":"2016-11-09"},{"$f":"IF(T51>0,Y51,S51)","v":"2016-11-15"},0,"2016-11-09",{"$f":"IF(AND(AB51<1,AC51<$DC$7),0,1)","v":0},100,0,0,0]

{"sheet":"Everest Example","index":2,"n_rows":120,"n_cols":559,"rows_kept":120,"cut":false,"hidden":false,"merged":[[64,12,64,14],[70,12,70,14],[71,12,71,14],[72,12,72,14],[73,12,73,14],[69,12,69,14],[74,12,74,14],[75,12,75,14],[102,12,102,14],[99,12,99,14],[98,12,98,14],[81,12,81,14],[82,12,82,14],[83,12,83,14],[84,12,84,14],[85,12,85,14],[79,12,79,14],[80,12,80,14],[86,12,86,14],[88,12,88,14],[92,12,92,14],[93,12,93,14],[94,12,94,14],[101,12,101,14],[76,12,76,14],[77,12,77,14],[78,12,78,14],[103,12,103,14],[97,12,97,14],[100,12,100,14],[6,41,6,46],[6,47,6,50],[6,52,6,57],[13,32,13,33],[14,32,14,33],[14,35,14,41],[14,42,14,48],[14,49,14,55],[14,56,14,62],[16,16,16,29],[16,30,16,33],[16,34,17,34],[17,12,17,14],[17,32,17,33],[18,12,18,14],[19,12,19,14],[20,12,20,14],[21,12,21,14],[6,58,6,61],[6,62,6,64],[9,40,12,40],[9,41,12,41],[9,42,12,42],[9,43,12,43],[9,44,12,44],[9,45,12,45],[9,46,12,46],[9,47,12,47],[9,48,12,48],[9,49,12,49],[9,50,12,50],[9,51,12,51],[9,62,12,62],[9,63,12,63],[6,65,6,66],[6,86,6,89],[6,91,6,94],[6,95,6,98],[6,100,6,105],[6,106,6,109],[6,110,6,112],[6,67,6,69],[6,70,6,71],[6,72,6,74],[6,75,6,76],[6,77,6,78],[6,80,6,85],[6,438,6,441],[6,475,6,478],[9,35,12,35],[9,36,12,36],[9,37,12,37],[9,38,12,38],[9,39,12,39],[6,350,6,355],[6,359,6,364],[6,368,6,373],[6,377,6,382],[6,386,6,389],[6,393,6,396],[6,301,6,306],[6,310,6,313],[6,317,6,320],[6,324,6,327],[6,331,6,334],[6,337,6,342],[6,205,6,207],[6,211,6,213],[6,216,6,218],[6,219,6,221],[6,229,6,233],[6,401,6,404],[6,420,6,430],[6,431,6,433],[6,282,6,289],[6,171,6,173],[6,175,6,177],[6,179,6,184],[6,188,6,192],[6,194,6,195],[6,197,6,201],[6,159,6,160],[6,162,6,167],[6,168,6,170],[6,128,6,133],[6,134,6,137],[9,52,12,52],[9,53,12,53],[9,54,12,54],[9,55,12,55],[9,56,12,56],[9,57,12,57],[9,64,12,64],[9,65,12,65],[9,66,12,66],[9,67,12,67],[9,68,12,68],[9,69,12,69],[9,58,12,58],[9,59,12,59],[9,60,12,60],[9,61,12,61],[6,138,6,139],[6,140,6,141],[6,142,6,143],[9,70,12,70],[9,71,12,71],[9,72,12,72],[9,73,12,73],[9,74,12,74],[9,75,12,75],[6,151,6,154],[6,155,6,156],[6,157,6,158],[6,145,6,150],[6,113,6,114],[6,115,6,117],[6,118,6,119],[6,120,6,122],[6,123,6,124],[6,125,6,126],[9,82,12,82],[9,83,12,83],[9,84,12,84],[9,85,12,85],[9,86,12,86],[9,87,12,87],[9,76,12,76],[9,77,12,77],[9,106,12,106],[9,107,12,107],[9,78,12,78],[9,79,12,79],[9,80,12,80],[9,81,12,81],[9,94,12,94],[9,95,12,95],[9,96,12,96],[9,97,12,97],[9,98,12,98],[9,100,12,100],[9,101,12,101],[9,102,12,102],[9,103,12,103],[9,104,12,104],[9,105,12,105],[9,99,12,99],[9,88,12,88],[9,89,12,89],[9,90,12,90],[9,91,12,91],[9,92,12,92],[9,93,12,93],[9,112,12,112],[9,113,12,113],[9,114,12,114],[9,115,12,115],[9,116,12,116],[9,117,12,117],[9,108,12,108],[9,109,12,109],[9,110,12,110],[9,111,12,111],[9,124,12,124],[9,125,12,125],[9,126,12,126],[9,127,12,127],[9,128,12,128],[9,129,12,129],[9,118,12,118],[9,119,12,119],[9,120,12,120],[9,121,12,121],[9,122,12,122],[9,123,12,123],[9,136,12,136],[9,137,12,137],[9,138,12,138],[9,139,12,139],[9,140,12,140],[9,141,12,141],[9,130,12,130],[9,131,12,131],[9,132,12,132],[9,133,12,133],[9,134,12,134],[9,135,12,135],[9,148,12,148],[9,149,12,149],[9,150,12,150],[9,151,12,151],[9,152,12,152],[9,153,12,153],[9,142,12,142],[9,143,12,143],[9,144,12,144],[9,145,12,145],[9,146,12,146],[9,147,12,147],[9,160,12,160],[9,161,12,161],[9,162,12,162],[9,163,12,163],[9,164,12,164],[9,165,12,165],[9,154,12,154],[9,155,12,155],[9,156,12,156],[9,157,12,157],[9,158,12,158],[9,159,12,159],[9,172,12,172],[9,173,12,173],[9,174,12,174],[9,175,12,175],[9,176,12,176],[9,177,12,177],[9,166,12,166],[9,167,12,167],[9,168,12,168],[9,169,12,169],[9,170,12,170],[9,171,12,171],[9,184,12,184],[9,185,12,185],[9,186,12,186],[9,187,12,187],[9,188,12,188],[9,189,12,189],[9,178,12,178],[9,179,12,179],[9,180,12,180],[9,181,12,181],[9,182,12,182],[9,183,12,183],[9,196,12,196],[9,197,12,197],[9,198,12,198],[9,199,12,199],[9,200,12,200],[9,201,12,201],[9,190,12,190],[9,191,12,191],[9,192,12,192],[9,193,12,193],[9,194,12,194],[9,195,12,195],[9,208,12,208],[9,209,12,209],[9,210,12,210],[9,211,12,211],[9,212,12,212],[9,213,12,213],[9,202,12,202],[9,203,12,203],[9,204,12,204],[9,205,12,205],[9,206,12,206],[9,207,12,207],[9,220,12,220],[9,221,12,221],[9,222,12,222],[9,223,12,223],[9,224,12,224],[9,225,12,225],[9,214,12,214],[9,215,12,215],[9,216,12,216],[9,217,12,217],[9,218,12,218],[9,219,12,219],[9,232,12,232],[9,233,12,233],[9,234,12,234],[9,235,12,235],[9,236,12,236],[9,237,12,237],[9,226,12,226],[9,227,12,227],[9,228,12,228],[9,229,12,229],[9,230,12,230],[9,231,12,231],[9,244,12,244],[9,245,12,245],[9,246,12,246],[9,247,12,247],[9,248,12,248],[9,249,12,249],[9,238,12,238],[9,239,12,239],[9,240,12,240],[9,241,12,241],[9,242,12,242],[9,243,12,243],[9,256,12,256],[9,257,12,257],[9,258,12,258],[9,259,12,259],[9,260,12,260],[9,261,12,261],[9,250,12,250],[9,251,12,251],[9,252,12,252],[9,253,12,253],[9,254,12,254],[9,255,12,255],[9,268,12,268],[9,269,12,269],[9,270,12,270],[9,271,12,271],[9,272,12,272],[9,273,12,273],[9,262,12,262],[9,263,12,263],[9,264,12,264],[9,265,12,265],[9,266,12,266],[9,267,12,267],[9,280,12,280],[9,281,12,281],[9,282,12,282],[9,283,12,283],[9,284,12,284],[9,285,12,285],[9,274,12,274],[9,275,12,275],[9,276,12,276],[9,277,12,277],[9,278,12,278],[9,279,12,279],[9,292,12,292],[9,293,12,293],[9,294,12,294],[9,295,12,295],[9,296,12,296],[9,297,12,297],[9,286,12,286],[9,287,12,287],[9,288,12,288],[9,289,12,289],[9,290,12,290],[9,291,12,291],[9,304,12,304],[9,305,12,305],[9,306,12,306],[9,307,12,307],[9,308,12,308],[9,309,12,309],[9,298,12,298],[9,299,12,299],[9,300,12,300],[9,301,12,301],[9,302,12,302],[9,303,12,303],[9,316,12,316],[9,317,12,317],[9,318,12,318],[9,319,12,319],[9,320,12,320],[9,321,12,321],[9,310,12,310],[9,311,12,311],[9,312,12,312],[9,313,12,313],[9,314,12,314],[9,315,12,315],[9,328,12,328],[9,329,12,329],[9,330,12,330],[9,331,12,331],[9,332,12,332],[9,333,12,333],[9,322,12,322],[9,323,12,323],[9,324,12,324],[9,325,12,325],[9,326,12,326],[9,327,12,327],[9,340,12,340],[9,341,12,341],[9,342,12,342],[9,343,12,343],[9,344,12,344],[9,345,12,345],[9,334,12,334],[9,335,12,335],[9,336,12,336],[9,337,12,337],[9,338,12,338],[9,339,12,339],[9,352,12,352],[9,353,12,353],[9,354,12,354],[9,355,12,355],[9,356,12,356],[9,357,12,357],[9,346,12,346],[9,347,12,347],[9,348,12,348],[9,349,12,349],[9,350,12,350],[9,351,12,351],[9,364,12,364],[9,365,12,365],[9,366,12,366],[9,367,12,367],[9,368,12,368],[9,369,12,369],[9,358,12,358],[9,359,12,359],[9,360,12,360],[9,361,12,361],[9,362,12,362],[9,363,12,363],[9,376,12,376],[9,377,12,377],[9,378,12,378],[9,379,12,379],[9,380,12,380],[9,381,12,381],[9,370,12,370],[9,371,12,371],[9,372,12,372],[9,373,12,373],[9,374,12,374],[9,375,12,375],[9,388,12,388],[9,389,12,389],[9,390,12,390],[9,391,12,391],[9,392,12,392],[9,393,12,393],[9,382,12,382],[9,383,12,383],[9,384,12,384],[9,385,12,385],[9,386,12,386],[9,387,12,387],[9,400,12,400],[9,401,12,401],[9,402,12,402],[9,403,12,403],[9,404,12,404],[9,405,12,405],[9,394,12,394],[9,395,12,395],[9,396,12,396],[9,397,12,397],[9,398,12,398],[9,399,12,399],[9,412,12,412],[9,413,12,413],[9,414,12,414],[9,415,12,415],[9,416,12,416],[9,417,12,417],[9,406,12,406],[9,407,12,407],[9,408,12,408],[9,409,12,409],[9,410,12,410],[9,411,12,411],[9,424,12,424],[9,425,12,425],[9,426,12,426],[9,427,12,427],[9,428,12,428],[9,429,12,429],[9,418,12,418],[9,419,12,419],[9,420,12,420],[9,421,12,421],[9,422,12,422],[9,423,12,423],[9,436,12,436],[9,437,12,437],[9,438,12,438],[9,439,12,439],[9,440,12,440],[9,441,12,441],[9,430,12,430],[9,431,12,431],[9,432,12,432],[9,433,12,433],[9,434,12,434],[9,435,12,435],[9,448,12,448],[9,449,12,449],[9,450,12,450],[9,451,12,451],[9,452,12,452],[9,453,12,453],[9,442,12,442],[9,443,12,443],[9,444,12,444],[9,445,12,445],[9,446,12,446],[9,447,12,447],[9,460,12,460],[9,461,12,461],[9,462,12,462],[9,463,12,463],[9,464,12,464],[9,465,12,465],[9,454,12,454],[9,455,12,455],[9,456,12,456],[9,457,12,457],[9,458,12,458],[9,459,12,459],[9,472,12,472],[9,473,12,473],[9,474,12,474],[9,475,12,475],[9,476,12,476],[9,477,12,477],[9,466,12,466],[9,467,12,467],[9,468,12,468],[9,469,12,469],[9,470,12,470],[9,471,12,471],[9,484,12,484],[9,485,12,485],[9,486,12,486],[9,487,12,487],[9,488,12,488],[9,489,12,489],[9,478,12,478],[9,479,12,479],[9,480,12,480],[9,481,12,481],[9,482,12,482],[9,483,12,483],[9,506,12,506],[9,507,12,507],[9,496,12,496],[9,497,12,497],[9,498,12,498],[9,499,12,499],[9,500,12,500],[9,501,12,501],[9,490,12,490],[9,491,12,491],[9,492,12,492],[9,493,12,493],[9,494,12,494],[9,495,12,495],[14,63,14,69],[9,550,12,550],[9,551,12,551],[9,544,12,544],[9,545,12,545],[9,546,12,546],[9,547,12,547],[9,548,12,548],[9,549,12,549],[9,538,12,538],[9,539,12,539],[9,540,12,540],[9,541,12,541],[9,542,12,542],[9,543,12,543],[9,532,12,532],[9,533,12,533],[9,534,12,534],[14,70,14,76],[9,526,12,526],[9,527,12,527],[9,528,12,528],[9,529,12,529],[9,530,12,530],[9,531,12,531],[9,520,12,520],[9,521,12,521],[14,154,14,160],[9,522,12,522],[9,523,12,523],[9,524,12,524],[9,525,12,525],[9,514,12,514],[9,515,12,515],[9,516,12,516],[9,517,12,517],[9,518,12,518],[9,519,12,519],[9,508,12,508],[9,509,12,509],[9,510,12,510],[9,511,12,511],[9,512,12,512],[9,513,12,513],[9,502,12,502],[9,503,12,503],[9,504,12,504],[9,505,12,505],[9,556,12,556],[9,557,12,557],[9,558,12,558],[9,552,12,552],[9,553,12,553],[9,554,12,554],[9,555,12,555],[9,535,12,535],[9,536,12,536],[9,537,12,537],[14,308,14,314],[14,175,14,181],[14,182,14,188],[14,189,14,195],[14,259,14,265],[14,266,14,272],[14,273,14,279],[14,77,14,83],[14,84,14,90],[14,91,14,97],[14,98,14,104],[14,105,14,111],[14,119,14,125],[14,126,14,132],[14,133,14,139],[14,140,14,146],[14,147,14,153],[14,280,14,286],[14,287,14,293],[14,294,14,300],[14,301,14,307],[14,553,14,558],[14,532,14,538],[14,539,14,545],[14,546,14,552],[14,434,14,440],[14,441,14,447],[14,364,14,370],[14,371,14,377],[14,392,14,398],[14,406,14,412],[14,413,14,419],[14,420,14,426],[14,378,14,384],[14,385,14,391],[14,490,14,496],[14,497,14,503],[14,504,14,510],[14,511,14,517],[14,518,14,524],[14,469,14,475],[14,476,14,482],[14,483,14,489],[14,525,14,531],[14,448,14,454],[14,455,14,461],[14,462,14,468],[33,12,33,14],[14,336,14,342],[14,343,14,349],[14,350,14,356],[14,357,14,363],[14,427,14,433],[14,161,14,167],[14,168,14,174],[14,196,14,202],[14,203,14,209],[14,210,14,216],[14,217,14,223],[14,224,14,230],[14,231,14,237],[14,315,14,321],[14,238,14,244],[14,245,14,251],[14,252,14,258],[14,399,14,405],[14,322,14,328],[14,329,14,335],[14,112,14,118],[34,12,34,14],[22,12,22,14],[23,12,23,14],[24,12,24,14],[32,12,32,14],[25,12,25,14],[26,12,26,14],[27,12,27,14],[28,12,28,14],[30,12,30,14],[29,12,29,14],[31,12,31,14],[118,12,118,14],[113,12,113,14],[115,12,115,14],[116,12,116,14],[119,12,119,14],[112,12,112,14],[111,12,111,14],[104,12,104,14],[114,12,114,14],[117,12,117,14],[87,12,87,14],[89,12,89,14],[90,12,90,14],[91,12,91,14],[95,12,95,14],[96,12,96,14],[35,12,35,14],[37,12,37,14],[39,12,39,14],[40,12,40,14],[36,12,36,14],[38,12,38,14],[41,12,41,14],[46,12,46,14],[63,12,63,14],[43,12,43,14],[44,12,44,14],[45,12,45,14],[42,12,42,14],[51,12,51,14],[65,12,65,14],[66,12,66,14],[67,12,67,14],[68,12,68,14],[57,12,57,14],[58,12,58,14],[59,12,59,14],[60,12,60,14],[62,12,62,14],[47,12,47,14],[48,12,48,14],[49,12,49,14],[50,12,50,14],[61,12,61,14],[52,12,52,14],[53,12,53,14],[54,12,54,14],[55,12,55,14],[56,12,56,14]]}
[]
[]
[]
[]
[]
[]
[null,null,null,null,null,null,null,null,null,null,null,null,null,null,null,null,null,null,null,null,null,null,null,null,null,null,null,null,null,null,null,null,null,null,null,null,null,null,null,null,null,"Start Date (Fusion)",null,null,null,null,null,{"$f":"IF(CR7=\"Weekly\",CN7*1,BG7*1)","v":"2016-10-31"},null,8,null,null,"Start Date (Daily)",null,null,null,null,null,{"$f":"DATE(BZ7,BS7,BN7)","v":"2016-11-01"},null,8,null,"Day",null,26,1,26,"Month",null,10,11,10,"Year",null,7,7,7,{"$f":"BX7+2009","v":2016},null,null,"Start Date (Weekly)",null,7,null,null,null,{"$f":"BG7","v":"2016-11-01"},null,8,null,{"$f":"WEEKDAY(CI7,2)","v":2},{"$f":"CI7-CM7+1","v":"2016-10-31"},null,8,null,"Weekly",null,null,null,null,"Red Bookmark",null,null,null,null,null,{"$f":"DATE(DV7,DO7,DJ7)","v":"2017-03-17"},null,8,null,"Day",null,7,17,7,"Month",null,11,3,11,"Year",null,7,8,7,{"$f":"DT7+2009","v":2017},null,null,"First Day Today",null,7,null,null,null,{"$f":"TODAY()","v":"2017-06-06"},null,8,null,{"$f":"DAY(EE7)","v":6},null,{"$f":"MONTH(EE7)","v":6},null,{"$f":"YEAR(EE7)","v":2017},null,null,"First Day Lowest",null,null,null,null,null,"2016-11-01",null,8,null,{"$f":"DAY(EV7)","v":1},null,{"$f":"MONTH(EV7)","v":11},null,{"$f":"YEAR(EV7)","v":2016},null,null,"Options Add Tasks",null,null,null,null,null,"Below",null,null,false,null,null,1,true,null,null,null,"Work Days Only",null,null,null,null,1,2,{"$f":"IF(GD7=1,1,0)","v":0},null,"Weeks Name",null,null,null,1,2,{"$f":"OFFSET(HideValues!B51,GL7-1,0)","v":"W"},null,null,"First day week",null,null,1,1,1,{"$f":"OFFSET(HideValues!$J$45,GU7-1,0)","v":21},null,"WE days",null,1,1,{"$f":"OFFSET(HideValues!F45,HA7-1,0)","v":1},null,"Budget",null,null,true,null,"Comment",null,null,false,null,null,null,null,null,null,null,null,null,"Leader's List",null,null,null,null,{"$f":"IF(Tools!D11<>\"\",Tools!D11,\"\")","v":"Gibs"},{"$f":"IF(Tools!D12<>\"\",Tools!D12,\"\")","v":"Sara"},{"$f":"IF(Tools!D13<>\"\",Tools!D13,\"\")","v":"Mary"},{"$f":"IF(Tools!D14<>\"\",Tools!D14,\"\")","v":"Jade"},{"$f":"IF(Tools!D15<>\"\",Tools!D15,\"\")","v":"Reda"},{"$f":"IF(Tools!D16<>\"\",Tools!D16,\"\")","v":"Mike"},{"$f":"IF(Tools!D17<>\"\",Tools!D17,\"\")","v":"Rony"},{"$f":"IF(Tools!D18<>\"\",Tools!D18,\"\")","v":"Leo"},{"$f":"IF(Tools!D19<>\"\",Tools!D19,\"\")","v":""},{"$f":"IF(Tools!D20<>\"\",Tools!D20,\"\")","v":""},{"$f":"IF(Tools!D21<>\"\",Tools!D21,\"\")","v":""},{"$f":"IF(Tools!D22<>\"\",Tools!D22,\"\")","v":""},{"$f":"IF(Tools!D23<>\"\",Tools!D23,\"\")","v":""},{"$f":"IF(Tools!D24<>\"\",Tools!D24,\"\")","v":""},{"$f":"IF(Tools!D25<>\"\",Tools!D25,\"\")","v":""},{"$f":"IF(Tools!D26<>\"\",Tools!D26,\"\")","v":""},{"$f":"IF(Tools!D27<>\"\",Tools!D27,\"\")","v":""},{"$f":"IF(Tools!D28<>\"\",Tools!D28,\"\")","v":""},{"$f":"IF(Tools!D29<>\"\",Tools!D29,\"\")","v":""},{"$f":"IF(Tools!D30<>\"\",Tools!D30,\"\")","v":""},{"$f":"IF(Tools!D31<>\"\",Tools!D31,\"\")","v":""},{"$f":"IF(Tools!D32<>\"\",Tools!D32,\"\")","v":""},{"$f":"IF(Tools!D33<>\"\",Tools!D33,\"\")","v":""},{"$f":"IF(Tools!D34<>\"\",Tools!D34,\"\")","v":""},{"$f":"IF(Tools!D35<>\"\",Tools!D35,\"\")","v":""},{"$f":"IF(Tools!D36<>\"\",Tools!D36,\"\")","v":""},{"$f":"IF(Tools!D37<>\"\",Tools!D37,\"\")","v":""},{"$f":"IF(Tools!D38<>\"\",Tools!D38,\"\")","v":""},{"$f":"IF(Tools!D39<>\"\",Tools!D39,\"\")","v":""},{"$f":"IF(Tools!D40<>\"\",Tools!D40,\"\")","v":""},{"$f":"IF(Tools!D41<>\"\",Tools!D41,\"\")","v":""},{"$f":"IF(Tools!D42<>\"\",Tools!D42,\"\")","v":""},{"$f":"IF(Tools!D43<>\"\",Tools!D43,\"\")","v":""},{"$f":"IF(Tools!D44<>\"\",Tools!D44,\"\")","v":""},{"$f":"IF(Tools!D45<>\"\",Tools!D45,\"\")","v":""},{"$f":"IF(Tools!D46<>\"\",Tools!D46,\"\")","v":""},{"$f":"IF(Tools!D47<>\"\",Tools!D47,\"\")","v":""},{"$f":"IF(Tools!D48<>\"\",Tools!D48,\"\")","v":""},{"$f":"IF(Tools!D49<>\"\",Tools!D49,\"\")","v":""},{"$f":"IF(Tools!D50<>\"\",Tools!D50,\"\")","v":""},{"$f":"IF(Tools!D51<>\"\",Tools!D51,\"\")","v":""},{"$f":"IF(Tools!D52<>\"\",Tools!D52,\"\")","v":""},{"$f":"IF(Tools!D53<>\"\",Tools!D53,\"\")","v":""},{"$f":"IF(Tools!D54<>\"\",Tools!D54,\"\")","v":""},{"$f":"IF(Tools!D55<>\"\",Tools!D55,\"\")","v":""},{"$f":"IF(Tools!D56<>\"\",Tools!D56,\"\")","v":""},{"$f":"IF(Tools!D57<>\"\",Tools!D57,\"\")","v":""},null,"Drop List Start Date",null,null,null,null,null,null,null,{"$f":"IF(HideValues!A83<>\"\",HideValues!A83,\"\")","v":""},{"$f":"IF(HideValues!B83<>\"\",HideValues!B83,\"\")","v":""},{"$f":"IF(HideValues!C83<>\"\",HideValues!C83,\"\")","v":""},{"$f":"IF(HideValues!D83<>\"\",HideValues!D83,\"\")","v":""},{"$f":"IF(HideValues!E83<>\"\",HideValues!E83,\"\")","v":""},{"$f":"IF(HideValues!F83<>\"\",HideValues!F83,\"\")","v":""},{"$f":"IF(HideValues!G83<>\"\",HideValues!G83,\"\")","v":""},{"$f":"IF(HideValues!H83<>\"\",HideValues!H83,\"\")","v":""},{"$f":"IF(HideValues!I83<>\"\",HideValues!I83,\"\")","v":""},{"$f":"IF(HideValues!J83<>\"\",HideValues!J83,\"\")","v":""},null,"CF Gantt Engine 1",null,null,null,null,null,null,null,null,"CF Budget",null,null,null,null,null,null,"CF Round F",null,null,null,null,null,null,"CF Flags",null,null,null,null,null,null,"CF Type",null,null,1,1,1,"CF Gantt Engine 6",null,null,null,null,null,null,null,null,null,null,null,null,"CF Gantt Engine 2",null,null,null,null,null,null,null,null,"CF Gantt Engine 3",null,null,null,null,null,null,null,null,"CF Gantt Engine 4",null,null,null,null,null,null,null,null,"CF Gantt Engine 5",null,null,null,null,null,null,null,null,"CF Start",null,null,null,null,null,null,"CF Duration",null,null,null,null,null,null,null,"CF Dur. Type",null,null,null,null,null,null,null,null,null,null,null,null,null,null,null,null,null,null,"Target Cell Date Picker User Form",null,null,null,null,null,null,null,null,null,null,"Start_Date",null,null,null,null,null,null,"Filter",null,null,null,false,false,false,false,false,false,false,false,false,false,false,false,false,false,false,false,false,false,false,null,null,null,null,null,null,null,null,null,null,null,null,null,null,"Task Trans.",null,null,null,"Tache","Sous-tache","Jalon"]
[null,null,null,null,null,null,null,null,null,null,null,null,null,null,null,null,null,null,null,null,null,null,null,null," ¶¶¶ Please Hide these rows. Do not delete. ¶¶¶",null,null,null,null,null,null,null,null,null,"Week-End Flag",{"$f":"IF(Work_D_Only_Bool,NETWORKDAYS.INTL(AJ9,AJ9,WE_Days,Tools!$B$10:$B$55),1)","v":1},{"$f":"IF(Work_D_Only_Bool,NETWORKDAYS.INTL(AK9,AK9,WE_Days,Tools!$B$10:$B$55),1)","v":1},{"$f":"IF(Work_D_Only_Bool,NETWORKDAYS.INTL(AL9,AL9,WE_Days,Tools!$B$10:$B$55),1)","v":1},{"$f":"IF(Work_D_Only_Bool,NETWORKDAYS.INTL(AM9,AM9,WE_Days,Tools!$B$10:$B$55),1)","v":1},{"$f":"IF(Work_D_Only_Bool,NETWORKDAYS.INTL(AN9,AN9,WE_Days,Tools!$B$10:$B$55),1)","v":1},{"$f":"IF(Work_D_Only_Bool,NETWORKDAYS.INTL(AO9,AO9,WE_Days,Tools!$B$10:$B$55),1)","v":1},{"$f":"IF(Work_D_Only_Bool,NETWORKDAYS.INTL(AP9,AP9,WE_Days,Tools!$B$10:$B$55),1)","v":1},{"$f":"IF(Work_D_Only_Bool,NETWORKDAYS.INTL(AQ9,AQ9,WE_Days,Tools!$B$10:$B$55),1)","v":1},{"$f":"IF(Work_D_Only_Bool,NETWORKDAYS.INTL(AR9,AR9,WE_Days,Tools!$B$10:$B$55),1)","v":1},{"$f":"IF(Work_D_Only_Bool,NETWORKDAYS.INTL(AS9,AS9,WE_Days,Tools!$B$10:$B$55),1)","v":1},{"$f":"IF(Work_D_Only_Bool,NETWORKDAYS.INTL(AT9,AT9,WE_Days,Tools!$B$10:$B$55),1)","v":1},{"$f":"IF(Work_D_Only_Bool,NETWORKDAYS.INTL(AU9,AU9,WE_Days,Tools!$B$10:$B$55),1)","v":1},{"$f":"IF(Work_D_Only_Bool,NETWORKDAYS.INTL(AV9,AV9,WE_Days,Tools!$B$10:$B$55),1)","v":1},{"$f":"IF(Work_D_Only_Bool,NETWORKDAYS.INTL(AW9,AW9,WE_Days,Tools!$B$10:$B$55),1)","v":1},{"$f":"IF(Work_D_Only_Bool,NETWORKDAYS.INTL(AX9,AX9,WE_Days,Tools!$B$10:$B$55),1)","v":1},{"$f":"IF(Work_D_Only_Bool,NETWORKDAYS.INTL(AY9,AY9,WE_Days,Tools!$B$10:$B$55),1)","v":1},{"$f":"IF(Work_D_Only_Bool,NETWORKDAYS.INTL(AZ9,AZ9,WE_Days,Tools!$B$10:$B$55),1)","v":1},{"$f":"IF(Work_D_Only_Bool,NETWORKDAYS.INTL(BA9,BA9,WE_Days,Tools!$B$10:$B$55),1)","v":1},{"$f":"IF(Work_D_Only_Bool,NETWORKDAYS.INTL(BB9,BB9,WE_Days,Tools!$B$10:$B$55),1)","v":1},{"$f":"IF(Work_D_Only_Bool,NETWORKDAYS.INTL(BC9,BC9,WE_Days,Tools!$B$10:$B$55),1)","v":1},{"$f":"IF(Work_D_Only_Bool,NETWORKDAYS.INTL(BD9,BD9,WE_Days,Tools!$B$10:$B$55),1)","v":1},{"$f":"IF(Work_D_Only_Bool,NETWORKDAYS.INTL(BE9,BE9,WE_Days,Tools!$B$10:$B$55),1)","v":1},{"$f":"IF(Work_D_Only_Bool,NETWORKDAYS.INTL(BF9,BF9,WE_Days,Tools!$B$10:$B$55),1)","v":1},{"$f":"IF(Work_D_Only_Bool,NETWORKDAYS.INTL(BG9,BG9,WE_Days,Tools!$B$10:$B$55),1)","v":1},{"$f":"IF(Work_D_Only_Bool,NETWORKDAYS.INTL(BH9,BH9,WE_Days,Tools!$B$10:$B$55),1)","v":1},{"$f":"IF(Work_D_Only_Bool,NETWORKDAYS.INTL(BI9,BI9,WE_Days,Tools!$B$10:$B$55),1)","v":1},{"$f":"IF(Work_D_Only_Bool,NETWORKDAYS.INTL(BJ9,BJ9,WE_Days,Tools!$B$10:$B$55),1)","v":1},{"$f":"IF(Work_D_Only_Bool,NETWORKDAYS.INTL(BK9,BK9,WE_Days,Tools!$B$10:$B$55),1)","v":1},{"$f":"IF(Work_D_Only_Bool,NETWORKDAYS.INTL(BL9,BL9,WE_Days,Tools!$B$10:$B$55),1)","v":1},{"$f":"IF(Work_D_Only_Bool,NETWORKDAYS.INTL(BM9,BM9,WE_Days,Tools!$B$10:$B$55),1)","v":1},{"$f":"IF(Work_D_Only_Bool,NETWORKDAYS.INTL(BN9,BN9,WE_Days,Tools!$B$10:$B$55),1)","v":1},{"$f":"IF(Work_D_Only_Bool,NETWORKDAYS.INTL(BO9,BO9,WE_Days,Tools!$B$10:$B$55),1)","v":1},{"$f":"IF(Work_D_Only_Bool,NETWORKDAYS.INTL(BP9,BP9,WE_Days,Tools!$B$10:$B$55),1)","v":1},{"$f":"IF(Work_D_Only_Bool,NETWORKDAYS.INTL(BQ9,BQ9,WE_Days,Tools!$B$10:$B$55),1)","v":1},{"$f":"IF(Work_D_Only_Bool,NETWORKDAYS.INTL(BR9,BR9,WE_Days,Tools!$B$10:$B$55),1)","v":1},{"$f":"IF(Work_D_Only_Bool,NETWORKDAYS.INTL(BS9,BS9,WE_Days,Tools!$B$10:$B$55),1)","v":1},{"$f":"IF(Work_D_Only_Bool,NETWORKDAYS.INTL(BT9,BT9,WE_Days,Tools!$B$10:$B$55),1)","v":1},{"$f":"IF(Work_D_Only_Bool,NETWORKDAYS.INTL(BU9,BU9,WE_Days,Tools!$B$10:$B$55),1)","v":1},{"$f":"IF(Work_D_Only_Bool,NETWORKDAYS.INTL(BV9,BV9,WE_Days,Tools!$B$10:$B$55),1)","v":1},{"$f":"IF(Work_D_Only_Bool,NETWORKDAYS.INTL(BW9,BW9,WE_Days,Tools!$B$10:$B$55),1)","v":1},{"$f":"IF(Work_D_Only_Bool,NETWORKDAYS.INTL(BX9,BX9,WE_Days,Tools!$B$10:$B$55),1)","v":1},{"$f":"IF(Work_D_Only_Bool,NETWORKDAYS.INTL(BY9,BY9,WE_Days,Tools!$B$10:$B$55),1)","v":1},{"$f":"IF(Work_D_Only_Bool,NETWORKDAYS.INTL(BZ9,BZ9,WE_Days,Tools!$B$10:$B$55),1)","v":1},{"$f":"IF(Work_D_Only_Bool,NETWORKDAYS.INTL(CA9,CA9,WE_Days,Tools!$B$10:$B$55),1)","v":1},{"$f":"IF(Work_D_Only_Bool,NETWORKDAYS.INTL(CB9,CB9,WE_Days,Tools!$B$10:$B$55),1)","v":1},{"$f":"IF(Work_D_Only_Bool,NETWORKDAYS.INTL(CC9,CC9,WE_Days,Tools!$B$10:$B$55),1)","v":1},{"$f":"IF(Work_D_Only_Bool,NETWORKDAYS.INTL(CD9,CD9,WE_Days,Tools!$B$10:$B$55),1)","v":1},{"$f":"IF(Work_D_Only_Bool,NETWORKDAYS.INTL(CE9,CE9,WE_Days,Tools!$B$10:$B$55),1)","v":1},{"$f":"IF(Work_D_Only_Bool,NETWORKDAYS.INTL(CF9,CF9,WE_Days,Tools!$B$10:$B$55),1)","v":1},{"$f":"IF(Work_D_Only_Bool,NETWORKDAYS.INTL(CG9,CG9,WE_Days,Tools!$B$10:$B$55),1)","v":1},{"$f":"IF(Work_D_Only_Bool,NETWORKDAYS.INTL(CH9,CH9,WE_Days,Tools!$B$10:$B$55),1)","v":1},{"$f":"IF(Work_D_Only_Bool,NETWORKDAYS.INTL(CI9,CI9,WE_Days,Tools!$B$10:$B$55),1)","v":1},{"$f":"IF(Work_D_Only_Bool,NETWORKDAYS.INTL(CJ9,CJ9,WE_Days,Tools!$B$10:$B$55),1)","v":1},{"$f":"IF(Work_D_Only_Bool,NETWORKDAYS.INTL(CK9,CK9,WE_Days,Tools!$B$10:$B$55),1)","v":1},{"$f":"IF(Work_D_Only_Bool,NETWORKDAYS.INTL(CL9,CL9,WE_Days,Tools!$B$10:$B$55),1)","v":1},{"$f":"IF(Work_D_Only_Bool,NETWORKDAYS.INTL(CM9,CM9,WE_Days,Tools!$B$10:$B$55),1)","v":1},{"$f":"IF(Work_D_Only_Bool,NETWORKDAYS.INTL(CN9,CN9,WE_Days,Tools!$B$10:$B$55),1)","v":1},{"$f":"IF(Work_D_Only_Bool,NETWORKDAYS.INTL(CO9,CO9,WE_Days,Tools!$B$10:$B$55),1)","v":1},{"$f":"IF(Work_D_Only_Bool,NETWORKDAYS.INTL(CP9,CP9,WE_Days,Tools!$B$10:$B$55),1)","v":1},{"$f":"IF(Work_D_Only_Bool,NETWORKDAYS.INTL(CQ9,CQ9,WE_Days,Tools!$B$10:$B$55),1)","v":1},{"$f":"IF(Work_D_Only_Bool,NETWORKDAYS.INTL(CR9,CR9,WE_Days,Tools!$B$10:$B$55),1)","v":1},{"$f":"IF(Work_D_Only_Bool,NETWORKDAYS.INTL(CS9,CS9,WE_Days,Tools!$B$10:$B$55),1)","v":1},{"$f":"IF(Work_D_Only_Bool,NETWORKDAYS.INTL(CT9,CT9,WE_Days,Tools!$B$10:$B$55),1)","v":1},{"$f":"IF(Work_D_Only_Bool,NETWORKDAYS.INTL(CU9,CU9,WE_Days,Tools!$B$10:$B$55),1)","v":1},{"$f":"IF(Work_D_Only_Bool,NETWORKDAYS.INTL(CV9,CV9,WE_Days,Tools!$B$10:$B$55),1)","v":1},{"$f":"IF(Work_D_Only_Bool,NETWORKDAYS.INTL(CW9,CW9,WE_Days,Tools!$B$10:$B$55),1)","v":1},{"$f":"IF(Work_D_Only_Bool,NETWORKDAYS.INTL(CX9,CX9,WE_Days,Tools!$B$10:$B$55),1)","v":1},{"$f":"IF(Work_D_Only_Bool,NETWORKDAYS.INTL(CY9,CY9,WE_Days,Tools!$B$10:$B$55),1)","v":1},{"$f":"IF(Work_D_Only_Bool,NETWORKDAYS.INTL(CZ9,CZ9,WE_Days,Tools!$B$10:$B$55),1)","v":1},{"$f":"IF(Work_D_Only_Bool,NETWORKDAYS.INTL(DA9,DA9,WE_Days,Tools!$B$10:$B$55),1)","v":1},{"$f":"IF(Work_D_Only_Bool,NETWORKDAYS.INTL(DB9,DB9,WE_Days,Tools!$B$10:$B$55),1)","v":1},{"$f":"IF(Work_D_Only_Bool,NETWORKDAYS.INTL(DC9,DC9,WE_Days,Tools!$B$10:$B$55),1)","v":1},{"$f":"IF(Work_D_Only_Bool,NETWORKDAYS.INTL(DD9,DD9,WE_Days,Tools!$B$10:$B$55),1)","v":1},{"$f":"IF(Work_D_Only_Bool,NETWORKDAYS.INTL(DE9,DE9,WE_Days,Tools!$B$10:$B$55),1)","v":1},{"$f":"IF(Work_D_Only_Bool,NETWORKDAYS.INTL(DF9,DF9,WE_Days,Tools!$B$10:$B$55),1)","v":1},{"$f":"IF(Work_D_Only_Bool,NETWORKDAYS.INTL(DG9,DG9,WE_Days,Tools!$B$10:$B$55),1)","v":1},{"$f":"IF(Work_D_Only_Bool,NETWORKDAYS.INTL(DH9,DH9,WE_Days,Tools!$B$10:$B$55),1)","v":1},{"$f":"IF(Work_D_Only_Bool,NETWORKDAYS.INTL(DI9,DI9,WE_Days,Tools!$B$10:$B$55),1)","v":1},{"$f":"IF(Work_D_Only_Bool,NETWORKDAYS.INTL(DJ9,DJ9,WE_Days,Tools!$B$10:$B$55),1)","v":1},{"$f":"IF(Work_D_Only_Bool,NETWORKDAYS.INTL(DK9,DK9,WE_Days,Tools!$B$10:$B$55),1)","v":1},{"$f":"IF(Work_D_Only_Bool,NETWORKDAYS.INTL(DL9,DL9,WE_Days,Tools!$B$10:$B$55),1)","v":1},{"$f":"IF(Work_D_Only_Bool,NETWORKDAYS.INTL(DM9,DM9,WE_Days,Tools!$B$10:$B$55),1)","v":1},{"$f":"IF(Work_D_Only_Bool,NETWORKDAYS.INTL(DN9,DN9,WE_Days,Tools!$B$10:$B$55),1)","v":1},{"$f":"IF(Work_D_Only_Bool,NETWORKDAYS.INTL(DO9,DO9,WE_Days,Tools!$B$10:$B$55),1)","v":1},{"$f":"IF(Work_D_Only_Bool,NETWORKDAYS.INTL(DP9,DP9,WE_Days,Tools!$B$10:$B$55),1)","v":1},{"$f":"IF(Work_D_Only_Bool,NETWORKDAYS.INTL(DQ9,DQ9,WE_Days,Tools!$B$10:$B$55),1)","v":1},{"$f":"IF(Work_D_Only_Bool,NETWORKDAYS.INTL(DR9,DR9,WE_Days,Tools!$B$10:$B$55),1)","v":1},{"$f":"IF(Work_D_Only_Bool,NETWORKDAYS.INTL(DS9,DS9,WE_Days,Tools!$B$10:$B$55),1)","v":1},{"$f":"IF(Work_D_Only_Bool,NETWORKDAYS.INTL(DT9,DT9,WE_Days,Tools!$B$10:$B$55),1)","v":1},{"$f":"IF(Work_D_Only_Bool,NETWORKDAYS.INTL(DU9,DU9,WE_Days,Tools!$B$10:$B$55),1)","v":1},{"$f":"IF(Work_D_Only_Bool,NETWORKDAYS.INTL(DV9,DV9,WE_Days,Tools!$B$10:$B$55),1)","v":1},{"$f":"IF(Work_D_Only_Bool,NETWORKDAYS.INTL(DW9,DW9,WE_Days,Tools!$B$10:$B$55),1)","v":1},{"$f":"IF(Work_D_Only_Bool,NETWORKDAYS.INTL(DX9,DX9,WE_Days,Tools!$B$10:$B$55),1)","v":1},{"$f":"IF(Work_D_Only_Bool,NETWORKDAYS.INTL(DY9,DY9,WE_Days,Tools!$B$10:$B$55),1)","v":1},{"$f":"IF(Work_D_Only_Bool,NETWORKDAYS.INTL(DZ9,DZ9,WE_Days,Tools!$B$10:$B$55),1)","v":1},{"$f":"IF(Work_D_Only_Bool,NETWORKDAYS.INTL(EA9,EA9,WE_Days,Tools!$B$10:$B$55),1)","v":1},{"$f":"IF(Work_D_Only_Bool,NETWORKDAYS.INTL(EB9,EB9,WE_Days,Tools!$B$10:$B$55),1)","v":1},{"$f":"IF(Work_D_Only_Bool,NETWORKDAYS.INTL(EC9,EC9,WE_Days,Tools!$B$10:$B$55),1)","v":1},{"$f":"IF(Work_D_Only_Bool,NETWORKDAYS.INTL(ED9,ED9,WE_Days,Tools!$B$10:$B$55),1)","v":1},{"$f":"IF(Work_D_Only_Bool,NETWORKDAYS.INTL(EE9,EE9,WE_Days,Tools!$B$10:$B$55),1)","v":1},{"$f":"IF(Work_D_Only_Bool,NETWORKDAYS.INTL(EF9,EF9,WE_Days,Tools!$B$10:$B$55),1)","v":1},{"$f":"IF(Work_D_Only_Bool,NETWORKDAYS.INTL(EG9,EG9,WE_Days,Tools!$B$10:$B$55),1)","v":1},{"$f":"IF(Work_D_Only_Bool,NETWORKDAYS.INTL(EH9,EH9,WE_Days,Tools!$B$10:$B$55),1)","v":1},{"$f":"IF(Work_D_Only_Bool,NETWORKDAYS.INTL(EI9,EI9,WE_Days,Tools!$B$10:$B$55),1)","v":1},{"$f":"IF(Work_D_Only_Bool,NETWORKDAYS.INTL(EJ9,EJ9,WE_Days,Tools!$B$10:$B$55),1)","v":1},{"$f":"IF(Work_D_Only_Bool,NETWORKDAYS.INTL(EK9,EK9,WE_Days,Tools!$B$10:$B$55),1)","v":1},{"$f":"IF(Work_D_Only_Bool,NETWORKDAYS.INTL(EL9,EL9,WE_Days,Tools!$B$10:$B$55),1)","v":1},{"$f":"IF(Work_D_Only_Bool,NETWORKDAYS.INTL(EM9,EM9,WE_Days,Tools!$B$10:$B$55),1)","v":1},{"$f":"IF(Work_D_Only_Bool,NETWORKDAYS.INTL(EN9,EN9,WE_Days,Tools!$B$10:$B$55),1)","v":1},{"$f":"IF(Work_D_Only_Bool,NETWORKDAYS.INTL(EO9,EO9,WE_Days,Tools!$B$10:$B$55),1)","v":1},{"$f":"IF(Work_D_Only_Bool,NETWORKDAYS.INTL(EP9,EP9,WE_Days,Tools!$B$10:$B$55),1)","v":1},{"$f":"IF(Work_D_Only_Bool,NETWORKDAYS.INTL(EQ9,EQ9,WE_Days,Tools!$B$10:$B$55),1)","v":1},{"$f":"IF(Work_D_Only_Bool,NETWORKDAYS.INTL(ER9,ER9,WE_Days,Tools!$B$10:$B$55),1)","v":1},{"$f":"IF(Work_D_Only_Bool,NETWORKDAYS.INTL(ES9,ES9,WE_Days,Tools!$B$10:$B$55),1)","v":1},{"$f":"IF(Work_D_Only_Bool,NETWORKDAYS.INTL(ET9,ET9,WE_Days,Tools!$B$10:$B$55),1)","v":1},{"$f":"IF(Work_D_Only_Bool,NETWORKDAYS.INTL(EU9,EU9,WE_Days,Tools!$B$10:$B$55),1)","v":1},{"$f":"IF(Work_D_Only_Bool,NETWORKDAYS.INTL(EV9,EV9,WE_Days,Tools!$B$10:$B$55),1)","v":1},{"$f":"IF(Work_D_Only_Bool,NETWORKDAYS.INTL(EW9,EW9,WE_Days,Tools!$B$10:$B$55),1)","v":1},{"$f":"IF(Work_D_Only_Bool,NETWORKDAYS.INTL(EX9,EX9,WE_Days,Tools!$B$10:$B$55),1)","v":1},{"$f":"IF(Work_D_Only_Bool,NETWORKDAYS.INTL(EY9,EY9,WE_Days,Tools!$B$10:$B$55),1)","v":1},{"$f":"IF(Work_D_Only_Bool,NETWORKDAYS.INTL(EZ9,EZ9,WE_Days,Tools!$B$10:$B$55),1)","v":1},{"$f":"IF(Work_D_Only_Bool,NETWORKDAYS.INTL(FA9,FA9,WE_Days,Tools!$B$10:$B$55),1)","v":1},{"$f":"IF(Work_D_Only_Bool,NETWORKDAYS.INTL(FB9,FB9,WE_Days,Tools!$B$10:$B$55),1)","v":1},{"$f":"IF(Work_D_Only_Bool,NETWORKDAYS.INTL(FC9,FC9,WE_Days,Tools!$B$10:$B$55),1)","v":1},{"$f":"IF(Work_D_Only_Bool,NETWORKDAYS.INTL(FD9,FD9,WE_Days,Tools!$B$10:$B$55),1)","v":1},{"$f":"IF(Work_D_Only_Bool,NETWORKDAYS.INTL(FE9,FE9,WE_Days,Tools!$B$10:$B$55),1)","v":1},{"$f":"IF(Work_D_Only_Bool,NETWORKDAYS.INTL(FF9,FF9,WE_Days,Tools!$B$10:$B$55),1)","v":1},{"$f":"IF(Work_D_Only_Bool,NETWORKDAYS.INTL(FG9,FG9,WE_Days,Tools!$B$10:$B$55),1)","v":1},{"$f":"IF(Work_D_Only_Bool,NETWORKDAYS.INTL(FH9,FH9,WE_Days,Tools!$B$10:$B$55),1)","v":1},{"$f":"IF(Work_D_Only_Bool,NETWORKDAYS.INTL(FI9,FI9,WE_Days,Tools!$B$10:$B$55),1)","v":1},{"$f":"IF(Work_D_Only_Bool,NETWORKDAYS.INTL(FJ9,FJ9,WE_Days,Tools!$B$10:$B$55),1)","v":1},{"$f":"IF(Work_D_Only_Bool,NETWORKDAYS.INTL(FK9,FK9,WE_Days,Tools!$B$10:$B$55),1)","v":1},{"$f":"IF(Work_D_Only_Bool,NETWORKDAYS.INTL(FL9,FL9,WE_Days,Tools!$B$10:$B$55),1)","v":1},{"$f":"IF(Work_D_Only_Bool,NETWORKDAYS.INTL(FM9,FM9,WE_Days,Tools!$B$10:$B$55),1)","v":1},{"$f":"IF(Work_D_Only_Bool,NETWORKDAYS.INTL(FN9,FN9,WE_Days,Tools!$B$10:$B$55),1)","v":1},{"$f":"IF(Work_D_Only_Bool,NETWORKDAYS.INTL(FO9,FO9,WE_Days,Tools!$B$10:$B$55),1)","v":1},{"$f":"IF(Work_D_Only_Bool,NETWORKDAYS.INTL(FP9,FP9,WE_Days,Tools!$B$10:$B$55),1)","v":1},{"$f":"IF(Work_D_Only_Bool,NETWORKDAYS.INTL(FQ9,FQ9,WE_Days,Tools!$B$10:$B$55),1)","v":1},{"$f":"IF(Work_D_Only_Bool,NETWORKDAYS.INTL(FR9,FR9,WE_Days,Tools!$B$10:$B$55),1)","v":1},{"$f":"IF(Work_D_Only_Bool,NETWORKDAYS.INTL(FS9,FS9,WE_Days,Tools!$B$10:$B$55),1)","v":1},{"$f":"IF(Work_D_Only_Bool,NETWORKDAYS.INTL(FT9,FT9,WE_Days,Tools!$B$10:$B$55),1)","v":1},{"$f":"IF(Work_D_Only_Bool,NETWORKDAYS.INTL(FU9,FU9,WE_Days,Tools!$B$10:$B$55),1)","v":1},{"$f":"IF(Work_D_Only_Bool,NETWORKDAYS.INTL(FV9,FV9,WE_Days,Tools!$B$10:$B$55),1)","v":1},{"$f":"IF(Work_D_Only_Bool,NETWORKDAYS.INTL(FW9,FW9,WE_Days,Tools!$B$10:$B$55),1)","v":1},{"$f":"IF(Work_D_Only_Bool,NETWORKDAYS.INTL(FX9,FX9,WE_Days,Tools!$B$10:$B$55),1)","v":1},{"$f":"IF(Work_D_Only_Bool,NETWORKDAYS.INTL(FY9,FY9,WE_Days,Tools!$B$10:$B$55),1)","v":1},{"$f":"IF(Work_D_Only_Bool,NETWORKDAYS.INTL(FZ9,FZ9,WE_Days,Tools!$B$10:$B$55),1)","v":1},{"$f":"IF(Work_D_Only_Bool,NETWORKDAYS.INTL(GA9,GA9,WE_Days,Tools!$B$10:$B$55),1)","v":1},{"$f":"IF(Work_D_Only_Bool,NETWORKDAYS.INTL(GB9,GB9,WE_Days,Tools!$B$10:$B$55),1)","v":1},{"$f":"IF(Work_D_Only_Bool,NETWORKDAYS.INTL(GC9,GC9,WE_Days,Tools!$B$10:$B$55),1)","v":1},{"$f":"IF(Work_D_Only_Bool,NETWORKDAYS.INTL(GD9,GD9,WE_Days,Tools!$B$10:$B$55),1)","v":1},{"$f":"IF(Work_D_Only_Bool,NETWORKDAYS.INTL(GE9,GE9,WE_Days,Tools!$B$10:$B$55),1)","v":1},{"$f":"IF(Work_D_Only_Bool,NETWORKDAYS.INTL(GF9,GF9,WE_Days,Tools!$B$10:$B$55),1)","v":1},{"$f":"IF(Work_D_Only_Bool,NETWORKDAYS.INTL(GG9,GG9,WE_Days,Tools!$B$10:$B$55),1)","v":1},{"$f":"IF(Work_D_Only_Bool,NETWORKDAYS.INTL(GH9,GH9,WE_Days,Tools!$B$10:$B$55),1)","v":1},{"$f":"IF(Work_D_Only_Bool,NETWORKDAYS.INTL(GI9,GI9,WE_Days,Tools!$B$10:$B$55),1)","v":1},{"$f":"IF(Work_D_Only_Bool,NETWORKDAYS.INTL(GJ9,GJ9,WE_Days,Tools!$B$10:$B$55),1)","v":1},{"$f":"IF(Work_D_Only_Bool,NETWORKDAYS.INTL(GK9,GK9,WE_Days,Tools!$B$10:$B$55),1)","v":1},{"$f":"IF(Work_D_Only_Bool,NETWORKDAYS.INTL(GL9,GL9,WE_Days,Tools!$B$10:$B$55),1)","v":1},{"$f":"IF(Work_D_Only_Bool,NETWORKDAYS.INTL(GM9,GM9,WE_Days,Tools!$B$10:$B$55),1)","v":1},{"$f":"IF(Work_D_Only_Bool,NETWORKDAYS.INTL(GN9,GN9,WE_Days,Tools!$B$10:$B$55),1)","v":1},{"$f":"IF(Work_D_Only_Bool,NETWORKDAYS.INTL(GO9,GO9,WE_Days,Tools!$B$10:$B$55),1)","v":1},{"$f":"IF(Work_D_Only_Bool,NETWORKDAYS.INTL(GP9,GP9,WE_Days,Tools!$B$10:$B$55),1)","v":1},{"$f":"IF(Work_D_Only_Bool,NETWORKDAYS.INTL(GQ9,GQ9,WE_Days,Tools!$B$10:$B$55),1)","v":1},{"$f":"IF(Work_D_Only_Bool,NETWORKDAYS.INTL(GR9,GR9,WE_Days,Tools!$B$10:$B$55),1)","v":1},{"$f":"IF(Work_D_Only_Bool,NETWORKDAYS.INTL(GS9,GS9,WE_Days,Tools!$B$10:$B$55),1)","v":1},{"$f":"IF(Work_D_Only_Bool,NETWORKDAYS.INTL(GT9,GT9,WE_Days,Tools!$B$10:$B$55),1)","v":1},{"$f":"IF(Work_D_Only_Bool,NETWORKDAYS.INTL(GU9,GU9,WE_Days,Tools!$B$10:$B$55),1)","v":1},{"$f":"IF(Work_D_Only_Bool,NETWORKDAYS.INTL(GV9,GV9,WE_Days,Tools!$B$10:$B$55),1)","v":1},{"$f":"IF(Work_D_Only_Bool,NETWORKDAYS.INTL(GW9,GW9,WE_Days,Tools!$B$10:$B$55),1)","v":1},{"$f":"IF(Work_D_Only_Bool,NETWORKDAYS.INTL(GX9,GX9,WE_Days,Tools!$B$10:$B$55),1)","v":1},{"$f":"IF(Work_D_Only_Bool,NETWORKDAYS.INTL(GY9,GY9,WE_Days,Tools!$B$10:$B$55),1)","v":1},{"$f":"IF(Work_D_Only_Bool,NETWORKDAYS.INTL(GZ9,GZ9,WE_Days,Tools!$B$10:$B$55),1)","v":1},{"$f":"IF(Work_D_Only_Bool,NETWORKDAYS.INTL(HA9,HA9,WE_Days,Tools!$B$10:$B$55),1)","v":1},{"$f":"IF(Work_D_Only_Bool,NETWORKDAYS.INTL(HB9,HB9,WE_Days,Tools!$B$10:$B$55),1)","v":1},{"$f":"IF(Work_D_Only_Bool,NETWORKDAYS.INTL(HC9,HC9,WE_Days,Tools!$B$10:$B$55),1)","v":1},{"$f":"IF(Work_D_Only_Bool,NETWORKDAYS.INTL(HD9,HD9,WE_Days,Tools!$B$10:$B$55),1)","v":1},{"$f":"IF(Work_D_Only_Bool,NETWORKDAYS.INTL(HE9,HE9,WE_Days,Tools!$B$10:$B$55),1)","v":1},{"$f":"IF(Work_D_Only_Bool,NETWORKDAYS.INTL(HF9,HF9,WE_Days,Tools!$B$10:$B$55),1)","v":1},{"$f":"IF(Work_D_Only_Bool,NETWORKDAYS.INTL(HG9,HG9,WE_Days,Tools!$B$10:$B$55),1)","v":1},{"$f":"IF(Work_D_Only_Bool,NETWORKDAYS.INTL(HH9,HH9,WE_Days,Tools!$B$10:$B$55),1)","v":1},{"$f":"IF(Work_D_Only_Bool,NETWORKDAYS.INTL(HI9,HI9,WE_Days,Tools!$B$10:$B$55),1)","v":1},{"$f":"IF(Work_D_Only_Bool,NETWORKDAYS.INTL(HJ9,HJ9,WE_Days,Tools!$B$10:$B$55),1)","v":1},{"$f":"IF(Work_D_Only_Bool,NETWORKDAYS.INTL(HK9,HK9,WE_Days,Tools!$B$10:$B$55),1)","v":1},{"$f":"IF(Work_D_Only_Bool,NETWORKDAYS.INTL(HL9,HL9,WE_Days,Tools!$B$10:$B$55),1)","v":1},{"$f":"IF(Work_D_Only_Bool,NETWORKDAYS.INTL(HM9,HM9,WE_Days,Tools!$B$10:$B$55),1)","v":1},{"$f":"IF(Work_D_Only_Bool,NETWORKDAYS.INTL(HN9,HN9,WE_Days,Tools!$B$10:$B$55),1)","v":1},{"$f":"IF(Work_D_Only_Bool,NETWORKDAYS.INTL(HO9,HO9,WE_Days,Tools!$B$10:$B$55),1)","v":1},{"$f":"IF(Work_D_Only_Bool,NETWORKDAYS.INTL(HP9,HP9,WE_Days,Tools!$B$10:$B$55),1)","v":1},{"$f":"IF(Work_D_Only_Bool,NETWORKDAYS.INTL(HQ9,HQ9,WE_Days,Tools!$B$10:$B$55),1)","v":1},{"$f":"IF(Work_D_Only_Bool,NETWORKDAYS.INTL(HR9,HR9,WE_Days,Tools!$B$10:$B$55),1)","v":1},{"$f":"IF(Work_D_Only_Bool,NETWORKDAYS.INTL(HS9,HS9,WE_Days,Tools!$B$10:$B$55),1)","v":1},{"$f":"IF(Work_D_Only_Bool,NETWORKDAYS.INTL(HT9,HT9,WE_Days,Tools!$B$10:$B$55),1)","v":1},{"$f":"IF(Work_D_Only_Bool,NETWORKDAYS.INTL(HU9,HU9,WE_Days,Tools!$B$10:$B$55),1)","v":1},{"$f":"IF(Work_D_Only_Bool,NETWORKDAYS.INTL(HV9,HV9,WE_Days,Tools!$B$10:$B$55),1)","v":1},{"$f":"IF(Work_D_Only_Bool,NETWORKDAYS.INTL(HW9,HW9,WE_Days,Tools!$B$10:$B$55),1)","v":1},{"$f":"IF(Work_D_Only_Bool,NETWORKDAYS.INTL(HX9,HX9,WE_Days,Tools!$B$10:$B$55),1)","v":1},{"$f":"IF(Work_D_Only_Bool,NETWORKDAYS.INTL(HY9,HY9,WE_Days,Tools!$B$10:$B$55),1)","v":1},{"$f":"IF(Work_D_Only_Bool,NETWORKDAYS.INTL(HZ9,HZ9,WE_Days,Tools!$B$10:$B$55),1)","v":1},{"$f":"IF(Work_D_Only_Bool,NETWORKDAYS.INTL(IA9,IA9,WE_Days,Tools!$B$10:$B$55),1)","v":1},{"$f":"IF(Work_D_Only_Bool,NETWORKDAYS.INTL(IB9,IB9,WE_Days,Tools!$B$10:$B$55),1)","v":1},{"$f":"IF(Work_D_Only_Bool,NETWORKDAYS.INTL(IC9,IC9,WE_Days,Tools!$B$10:$B$55),1)","v":1},{"$f":"IF(Work_D_Only_Bool,NETWORKDAYS.INTL(ID9,ID9,WE_Days,Tools!$B$10:$B$55),1)","v":1},{"$f":"IF(Work_D_Only_Bool,NETWORKDAYS.INTL(IE9,IE9,WE_Days,Tools!$B$10:$B$55),1)","v":1},{"$f":"IF(Work_D_Only_Bool,NETWORKDAYS.INTL(IF9,IF9,WE_Days,Tools!$B$10:$B$55),1)","v":1},{"$f":"IF(Work_D_Only_Bool,NETWORKDAYS.INTL(IG9,IG9,WE_Days,Tools!$B$10:$B$55),1)","v":1},{"$f":"IF(Work_D_Only_Bool,NETWORKDAYS.INTL(IH9,IH9,WE_Days,Tools!$B$10:$B$55),1)","v":1},{"$f":"IF(Work_D_Only_Bool,NETWORKDAYS.INTL(II9,II9,WE_Days,Tools!$B$10:$B$55),1)","v":1},{"$f":"IF(Work_D_Only_Bool,NETWORKDAYS.INTL(IJ9,IJ9,WE_Days,Tools!$B$10:$B$55),1)","v":1},{"$f":"IF(Work_D_Only_Bool,NETWORKDAYS.INTL(IK9,IK9,WE_Days,Tools!$B$10:$B$55),1)","v":1},{"$f":"IF(Work_D_Only_Bool,NETWORKDAYS.INTL(IL9,IL9,WE_Days,Tools!$B$10:$B$55),1)","v":1},{"$f":"IF(Work_D_Only_Bool,NETWORKDAYS.INTL(IM9,IM9,WE_Days,Tools!$B$10:$B$55),1)","v":1},{"$f":"IF(Work_D_Only_Bool,NETWORKDAYS.INTL(IN9,IN9,WE_Days,Tools!$B$10:$B$55),1)","v":1},{"$f":"IF(Work_D_Only_Bool,NETWORKDAYS.INTL(IO9,IO9,WE_Days,Tools!$B$10:$B$55),1)","v":1},{"$f":"IF(Work_D_Only_Bool,NETWORKDAYS.INTL(IP9,IP9,WE_Days,Tools!$B$10:$B$55),1)","v":1},{"$f":"IF(Work_D_Only_Bool,NETWORKDAYS.INTL(IQ9,IQ9,WE_Days,Tools!$B$10:$B$55),1)","v":1},{"$f":"IF(Work_D_Only_Bool,NETWORKDAYS.INTL(IR9,IR9,WE_Days,Tools!$B$10:$B$55),1)","v":1},{"$f":"IF(Work_D_Only_Bool,NETWORKDAYS.INTL(IS9,IS9,WE_Days,Tools!$B$10:$B$55),1)","v":1},{"$f":"IF(Work_D_Only_Bool,NETWORKDAYS.INTL(IT9,IT9,WE_Days,Tools!$B$10:$B$55),1)","v":1},{"$f":"IF(Work_D_Only_Bool,NETWORKDAYS.INTL(IU9,IU9,WE_Days,Tools!$B$10:$B$55),1)","v":1},{"$f":"IF(Work_D_Only_Bool,NETWORKDAYS.INTL(IV9,IV9,WE_Days,Tools!$B$10:$B$55),1)","v":1},{"$f":"IF(Work_D_Only_Bool,NETWORKDAYS.INTL(IW9,IW9,WE_Days,Tools!$B$10:$B$55),1)","v":1},{"$f":"IF(Work_D_Only_Bool,NETWORKDAYS.INTL(IX9,IX9,WE_Days,Tools!$B$10:$B$55),1)","v":1},{"$f":"IF(Work_D_Only_Bool,NETWORKDAYS.INTL(IY9,IY9,WE_Days,Tools!$B$10:$B$55),1)","v":1},{"$f":"IF(Work_D_Only_Bool,NETWORKDAYS.INTL(IZ9,IZ9,WE_Days,Tools!$B$10:$B$55),1)","v":1},{"$f":"IF(Work_D_Only_Bool,NETWORKDAYS.INTL(JA9,JA9,WE_Days,Tools!$B$10:$B$55),1)","v":1},{"$f":"IF(Work_D_Only_Bool,NETWORKDAYS.INTL(JB9,JB9,WE_Days,Tools!$B$10:$B$55),1)","v":1},{"$f":"IF(Work_D_Only_Bool,NETWORKDAYS.INTL(JC9,JC9,WE_Days,Tools!$B$10:$B$55),1)","v":1},{"$f":"IF(Work_D_Only_Bool,NETWORKDAYS.INTL(JD9,JD9,WE_Days,Tools!$B$10:$B$55),1)","v":1},{"$f":"IF(Work_D_Only_Bool,NETWORKDAYS.INTL(JE9,JE9,WE_Days,Tools!$B$10:$B$55),1)","v":1},{"$f":"IF(Work_D_Only_Bool,NETWORKDAYS.INTL(JF9,JF9,WE_Days,Tools!$B$10:$B$55),1)","v":1},{"$f":"IF(Work_D_Only_Bool,NETWORKDAYS.INTL(JG9,JG9,WE_Days,Tools!$B$10:$B$55),1)","v":1},{"$f":"IF(Work_D_Only_Bool,NETWORKDAYS.INTL(JH9,JH9,WE_Days,Tools!$B$10:$B$55),1)","v":1},{"$f":"IF(Work_D_Only_Bool,NETWORKDAYS.INTL(JI9,JI9,WE_Days,Tools!$B$10:$B$55),1)","v":1},{"$f":"IF(Work_D_Only_Bool,NETWORKDAYS.INTL(JJ9,JJ9,WE_Days,Tools!$B$10:$B$55),1)","v":1},{"$f":"IF(Work_D_Only_Bool,NETWORKDAYS.INTL(JK9,JK9,WE_Days,Tools!$B$10:$B$55),1)","v":1},{"$f":"IF(Work_D_Only_Bool,NETWORKDAYS.INTL(JL9,JL9,WE_Days,Tools!$B$10:$B$55),1)","v":1},{"$f":"IF(Work_D_Only_Bool,NETWORKDAYS.INTL(JM9,JM9,WE_Days,Tools!$B$10:$B$55),1)","v":1},{"$f":"IF(Work_D_Only_Bool,NETWORKDAYS.INTL(JN9,JN9,WE_Days,Tools!$B$10:$B$55),1)","v":1},{"$f":"IF(Work_D_Only_Bool,NETWORKDAYS.INTL(JO9,JO9,WE_Days,Tools!$B$10:$B$55),1)","v":1},{"$f":"IF(Work_D_Only_Bool,NETWORKDAYS.INTL(JP9,JP9,WE_Days,Tools!$B$10:$B$55),1)","v":1},{"$f":"IF(Work_D_Only_Bool,NETWORKDAYS.INTL(JQ9,JQ9,WE_Days,Tools!$B$10:$B$55),1)","v":1},{"$f":"IF(Work_D_Only_Bool,NETWORKDAYS.INTL(JR9,JR9,WE_Days,Tools!$B$10:$B$55),1)","v":1},{"$f":"IF(Work_D_Only_Bool,NETWORKDAYS.INTL(JS9,JS9,WE_Days,Tools!$B$10:$B$55),1)","v":1},{"$f":"IF(Work_D_Only_Bool,NETWORKDAYS.INTL(JT9,JT9,WE_Days,Tools!$B$10:$B$55),1)","v":1},{"$f":"IF(Work_D_Only_Bool,NETWORKDAYS.INTL(JU9,JU9,WE_Days,Tools!$B$10:$B$55),1)","v":1},{"$f":"IF(Work_D_Only_Bool,NETWORKDAYS.INTL(JV9,JV9,WE_Days,Tools!$B$10:$B$55),1)","v":1},{"$f":"IF(Work_D_Only_Bool,NETWORKDAYS.INTL(JW9,JW9,WE_Days,Tools!$B$10:$B$55),1)","v":1},{"$f":"IF(Work_D_Only_Bool,NETWORKDAYS.INTL(JX9,JX9,WE_Days,Tools!$B$10:$B$55),1)","v":1},{"$f":"IF(Work_D_Only_Bool,NETWORKDAYS.INTL(JY9,JY9,WE_Days,Tools!$B$10:$B$55),1)","v":1},{"$f":"IF(Work_D_Only_Bool,NETWORKDAYS.INTL(JZ9,JZ9,WE_Days,Tools!$B$10:$B$55),1)","v":1},{"$f":"IF(Work_D_Only_Bool,NETWORKDAYS.INTL(KA9,KA9,WE_Days,Tools!$B$10:$B$55),1)","v":1},{"$f":"IF(Work_D_Only_Bool,NETWORKDAYS.INTL(KB9,KB9,WE_Days,Tools!$B$10:$B$55),1)","v":1},{"$f":"IF(Work_D_Only_Bool,NETWORKDAYS.INTL(KC9,KC9,WE_Days,Tools!$B$10:$B$55),1)","v":1},{"$f":"IF(Work_D_Only_Bool,NETWORKDAYS.INTL(KD9,KD9,WE_Days,Tools!$B$10:$B$55),1)","v":1},{"$f":"IF(Work_D_Only_Bool,NETWORKDAYS.INTL(KE9,KE9,WE_Days,Tools!$B$10:$B$55),1)","v":1},{"$f":"IF(Work_D_Only_Bool,NETWORKDAYS.INTL(KF9,KF9,WE_Days,Tools!$B$10:$B$55),1)","v":1},{"$f":"IF(Work_D_Only_Bool,NETWORKDAYS.INTL(KG9,KG9,WE_Days,Tools!$B$10:$B$55),1)","v":1},{"$f":"IF(Work_D_Only_Bool,NETWORKDAYS.INTL(KH9,KH9,WE_Days,Tools!$B$10:$B$55),1)","v":1},{"$f":"IF(Work_D_Only_Bool,NETWORKDAYS.INTL(KI9,KI9,WE_Days,Tools!$B$10:$B$55),1)","v":1},{"$f":"IF(Work_D_Only_Bool,NETWORKDAYS.INTL(KJ9,KJ9,WE_Days,Tools!$B$10:$B$55),1)","v":1},{"$f":"IF(Work_D_Only_Bool,NETWORKDAYS.INTL(KK9,KK9,WE_Days,Tools!$B$10:$B$55),1)","v":1},{"$f":"IF(Work_D_Only_Bool,NETWORKDAYS.INTL(KL9,KL9,WE_Days,Tools!$B$10:$B$55),1)","v":1},{"$f":"IF(Work_D_Only_Bool,NETWORKDAYS.INTL(KM9,KM9,WE_Days,Tools!$B$10:$B$55),1)","v":1},{"$f":"IF(Work_D_Only_Bool,NETWORKDAYS.INTL(KN9,KN9,WE_Days,Tools!$B$10:$B$55),1)","v":1},{"$f":"IF(Work_D_Only_Bool,NETWORKDAYS.INTL(KO9,KO9,WE_Days,Tools!$B$10:$B$55),1)","v":1},{"$f":"IF(Work_D_Only_Bool,NETWORKDAYS.INTL(KP9,KP9,WE_Days,Tools!$B$10:$B$55),1)","v":1},{"$f":"IF(Work_D_Only_Bool,NETWORKDAYS.INTL(KQ9,KQ9,WE_Days,Tools!$B$10:$B$55),1)","v":1},{"$f":"IF(Work_D_Only_Bool,NETWORKDAYS.INTL(KR9,KR9,WE_Days,Tools!$B$10:$B$55),1)","v":1},{"$f":"IF(Work_D_Only_Bool,NETWORKDAYS.INTL(KS9,KS9,WE_Days,Tools!$B$10:$B$55),1)","v":1},{"$f":"IF(Work_D_Only_Bool,NETWORKDAYS.INTL(KT9,KT9,WE_Days,Tools!$B$10:$B$55),1)","v":1},{"$f":"IF(Work_D_Only_Bool,NETWORKDAYS.INTL(KU9,KU9,WE_Days,Tools!$B$10:$B$55),1)","v":1},{"$f":"IF(Work_D_Only_Bool,NETWORKDAYS.INTL(KV9,KV9,WE_Days,Tools!$B$10:$B$55),1)","v":1},{"$f":"IF(Work_D_Only_Bool,NETWORKDAYS.INTL(KW9,KW9,WE_Days,Tools!$B$10:$B$55),1)","v":1},{"$f":"IF(Work_D_Only_Bool,NETWORKDAYS.INTL(KX9,KX9,WE_Days,Tools!$B$10:$B$55),1)","v":1},{"$f":"IF(Work_D_Only_Bool,NETWORKDAYS.INTL(KY9,KY9,WE_Days,Tools!$B$10:$B$55),1)","v":1},{"$f":"IF(Work_D_Only_Bool,NETWORKDAYS.INTL(KZ9,KZ9,WE_Days,Tools!$B$10:$B$55),1)","v":1},{"$f":"IF(Work_D_Only_Bool,NETWORKDAYS.INTL(LA9,LA9,WE_Days,Tools!$B$10:$B$55),1)","v":1},{"$f":"IF(Work_D_Only_Bool,NETWORKDAYS.INTL(LB9,LB9,WE_Days,Tools!$B$10:$B$55),1)","v":1},{"$f":"IF(Work_D_Only_Bool,NETWORKDAYS.INTL(LC9,LC9,WE_Days,Tools!$B$10:$B$55),1)","v":1},{"$f":"IF(Work_D_Only_Bool,NETWORKDAYS.INTL(LD9,LD9,WE_Days,Tools!$B$10:$B$55),1)","v":1},{"$f":"IF(Work_D_Only_Bool,NETWORKDAYS.INTL(LE9,LE9,WE_Days,Tools!$B$10:$B$55),1)","v":1},{"$f":"IF(Work_D_Only_Bool,NETWORKDAYS.INTL(LF9,LF9,WE_Days,Tools!$B$10:$B$55),1)","v":1},{"$f":"IF(Work_D_Only_Bool,NETWORKDAYS.INTL(LG9,LG9,WE_Days,Tools!$B$10:$B$55),1)","v":1},{"$f":"IF(Work_D_Only_Bool,NETWORKDAYS.INTL(LH9,LH9,WE_Days,Tools!$B$10:$B$55),1)","v":1},{"$f":"IF(Work_D_Only_Bool,NETWORKDAYS.INTL(LI9,LI9,WE_Days,Tools!$B$10:$B$55),1)","v":1},{"$f":"IF(Work_D_Only_Bool,NETWORKDAYS.INTL(LJ9,LJ9,WE_Days,Tools!$B$10:$B$55),1)","v":1},{"$f":"IF(Work_D_Only_Bool,NETWORKDAYS.INTL(LK9,LK9,WE_Days,Tools!$B$10:$B$55),1)","v":1},{"$f":"IF(Work_D_Only_Bool,NETWORKDAYS.INTL(LL9,LL9,WE_Days,Tools!$B$10:$B$55),1)","v":1},{"$f":"IF(Work_D_Only_Bool,NETWORKDAYS.INTL(LM9,LM9,WE_Days,Tools!$B$10:$B$55),1)","v":1},{"$f":"IF(Work_D_Only_Bool,NETWORKDAYS.INTL(LN9,LN9,WE_Days,Tools!$B$10:$B$55),1)","v":1},{"$f":"IF(Work_D_Only_Bool,NETWORKDAYS.INTL(LO9,LO9,WE_Days,Tools!$B$10:$B$55),1)","v":1},{"$f":"IF(Work_D_Only_Bool,NETWORKDAYS.INTL(LP9,LP9,WE_Days,Tools!$B$10:$B$55),1)","v":1},{"$f":"IF(Work_D_Only_Bool,NETWORKDAYS.INTL(LQ9,LQ9,WE_Days,Tools!$B$10:$B$55),1)","v":1},{"$f":"IF(Work_D_Only_Bool,NETWORKDAYS.INTL(LR9,LR9,WE_Days,Tools!$B$10:$B$55),1)","v":1},{"$f":"IF(Work_D_Only_Bool,NETWORKDAYS.INTL(LS9,LS9,WE_Days,Tools!$B$10:$B$55),1)","v":1},{"$f":"IF(Work_D_Only_Bool,NETWORKDAYS.INTL(LT9,LT9,WE_Days,Tools!$B$10:$B$55),1)","v":1},{"$f":"IF(Work_D_Only_Bool,NETWORKDAYS.INTL(LU9,LU9,WE_Days,Tools!$B$10:$B$55),1)","v":1},{"$f":"IF(Work_D_Only_Bool,NETWORKDAYS.INTL(LV9,LV9,WE_Days,Tools!$B$10:$B$55),1)","v":1},{"$f":"IF(Work_D_Only_Bool,NETWORKDAYS.INTL(LW9,LW9,WE_Days,Tools!$B$10:$B$55),1)","v":1},{"$f":"IF(Work_D_Only_Bool,NETWORKDAYS.INTL(LX9,LX9,WE_Days,Tools!$B$10:$B$55),1)","v":1},{"$f":"IF(Work_D_Only_Bool,NETWORKDAYS.INTL(LY9,LY9,WE_Days,Tools!$B$10:$B$55),1)","v":1},{"$f":"IF(Work_D_Only_Bool,NETWORKDAYS.INTL(LZ9,LZ9,WE_Days,Tools!$B$10:$B$55),1)","v":1},{"$f":"IF(Work_D_Only_Bool,NETWORKDAYS.INTL(MA9,MA9,WE_Days,Tools!$B$10:$B$55),1)","v":1},{"$f":"IF(Work_D_Only_Bool,NETWORKDAYS.INTL(MB9,MB9,WE_Days,Tools!$B$10:$B$55),1)","v":1},{"$f":"IF(Work_D_Only_Bool,NETWORKDAYS.INTL(MC9,MC9,WE_Days,Tools!$B$10:$B$55),1)","v":1},{"$f":"IF(Work_D_Only_Bool,NETWORKDAYS.INTL(MD9,MD9,WE_Days,Tools!$B$10:$B$55),1)","v":1},{"$f":"IF(Work_D_Only_Bool,NETWORKDAYS.INTL(ME9,ME9,WE_Days,Tools!$B$10:$B$55),1)","v":1},{"$f":"IF(Work_D_Only_Bool,NETWORKDAYS.INTL(MF9,MF9,WE_Days,Tools!$B$10:$B$55),1)","v":1},{"$f":"IF(Work_D_Only_Bool,NETWORKDAYS.INTL(MG9,MG9,WE_Days,Tools!$B$10:$B$55),1)","v":1},{"$f":"IF(Work_D_Only_Bool,NETWORKDAYS.INTL(MH9,MH9,WE_Days,Tools!$B$10:$B$55),1)","v":1},{"$f":"IF(Work_D_Only_Bool,NETWORKDAYS.INTL(MI9,MI9,WE_Days,Tools!$B$10:$B$55),1)","v":1},{"$f":"IF(Work_D_Only_Bool,NETWORKDAYS.INTL(MJ9,MJ9,WE_Days,Tools!$B$10:$B$55),1)","v":1},{"$f":"IF(Work_D_Only_Bool,NETWORKDAYS.INTL(MK9,MK9,WE_Days,Tools!$B$10:$B$55),1)","v":1},{"$f":"IF(Work_D_Only_Bool,NETWORKDAYS.INTL(ML9,ML9,WE_Days,Tools!$B$10:$B$55),1)","v":1},{"$f":"IF(Work_D_Only_Bool,NETWORKDAYS.INTL(MM9,MM9,WE_Days,Tools!$B$10:$B$55),1)","v":1},{"$f":"IF(Work_D_Only_Bool,NETWORKDAYS.INTL(MN9,MN9,WE_Days,Tools!$B$10:$B$55),1)","v":1},{"$f":"IF(Work_D_Only_Bool,NETWORKDAYS.INTL(MO9,MO9,WE_Days,Tools!$B$10:$B$55),1)","v":1},{"$f":"IF(Work_D_Only_Bool,NETWORKDAYS.INTL(MP9,MP9,WE_Days,Tools!$B$10:$B$55),1)","v":1},{"$f":"IF(Work_D_Only_Bool,NETWORKDAYS.INTL(MQ9,MQ9,WE_Days,Tools!$B$10:$B$55),1)","v":1},{"$f":"IF(Work_D_Only_Bool,NETWORKDAYS.INTL(MR9,MR9,WE_Days,Tools!$B$10:$B$55),1)","v":1},{"$f":"IF(Work_D_Only_Bool,NETWORKDAYS.INTL(MS9,MS9,WE_Days,Tools!$B$10:$B$55),1)","v":1},{"$f":"IF(Work_D_Only_Bool,NETWORKDAYS.INTL(MT9,MT9,WE_Days,Tools!$B$10:$B$55),1)","v":1},{"$f":"IF(Work_D_Only_Bool,NETWORKDAYS.INTL(MU9,MU9,WE_Days,Tools!$B$10:$B$55),1)","v":1},{"$f":"IF(Work_D_Only_Bool,NETWORKDAYS.INTL(MV9,MV9,WE_Days,Tools!$B$10:$B$55),1)","v":1},{"$f":"IF(Work_D_Only_Bool,NETWORKDAYS.INTL(MW9,MW9,WE_Days,Tools!$B$10:$B$55),1)","v":1},{"$f":"IF(Work_D_Only_Bool,NETWORKDAYS.INTL(MX9,MX9,WE_Days,Tools!$B$10:$B$55),1)","v":1},{"$f":"IF(Work_D_Only_Bool,NETWORKDAYS.INTL(MY9,MY9,WE_Days,Tools!$B$10:$B$55),1)","v":1},{"$f":"IF(Work_D_Only_Bool,NETWORKDAYS.INTL(MZ9,MZ9,WE_Days,Tools!$B$10:$B$55),1)","v":1},{"$f":"IF(Work_D_Only_Bool,NETWORKDAYS.INTL(NA9,NA9,WE_Days,Tools!$B$10:$B$55),1)","v":1},{"$f":"IF(Work_D_Only_Bool,NETWORKDAYS.INTL(NB9,NB9,WE_Days,Tools!$B$10:$B$55),1)","v":1},{"$f":"IF(Work_D_Only_Bool,NETWORKDAYS.INTL(NC9,NC9,WE_Days,Tools!$B$10:$B$55),1)","v":1},{"$f":"IF(Work_D_Only_Bool,NETWORKDAYS.INTL(ND9,ND9,WE_Days,Tools!$B$10:$B$55),1)","v":1},{"$f":"IF(Work_D_Only_Bool,NETWORKDAYS.INTL(NE9,NE9,WE_Days,Tools!$B$10:$B$55),1)","v":1},{"$f":"IF(Work_D_Only_Bool,NETWORKDAYS.INTL(NF9,NF9,WE_Days,Tools!$B$10:$B$55),1)","v":1},{"$f":"IF(Work_D_Only_Bool,NETWORKDAYS.INTL(NG9,NG9,WE_Days,Tools!$B$10:$B$55),1)","v":1},{"$f":"IF(Work_D_Only_Bool,NETWORKDAYS.INTL(NH9,NH9,WE_Days,Tools!$B$10:$B$55),1)","v":1},{"$f":"IF(Work_D_Only_Bool,NETWORKDAYS.INTL(NI9,NI9,WE_Days,Tools!$B$10:$B$55),1)","v":1},{"$f":"IF(Work_D_Only_Bool,NETWORKDAYS.INTL(NJ9,NJ9,WE_Days,Tools!$B$10:$B$55),1)","v":1},{"$f":"IF(Work_D_Only_Bool,NETWORKDAYS.INTL(NK9,NK9,WE_Days,Tools!$B$10:$B$55),1)","v":1},{"$f":"IF(Work_D_Only_Bool,NETWORKDAYS.INTL(NL9,NL9,WE_Days,Tools!$B$10:$B$55),1)","v":1},{"$f":"IF(Work_D_Only_Bool,NETWORKDAYS.INTL(NM9,NM9,WE_Days,Tools!$B$10:$B$55),1)","v":1},{"$f":"IF(Work_D_Only_Bool,NETWORKDAYS.INTL(NN9,NN9,WE_Days,Tools!$B$10:$B$55),1)","v":1},{"$f":"IF(Work_D_Only_Bool,NETWORKDAYS.INTL(NO9,NO9,WE_Days,Tools!$B$10:$B$55),1)","v":1},{"$f":"IF(Work_D_Only_Bool,NETWORKDAYS.INTL(NP9,NP9,WE_Days,Tools!$B$10:$B$55),1)","v":1},{"$f":"IF(Work_D_Only_Bool,NETWORKDAYS.INTL(NQ9,NQ9,WE_Days,Tools!$B$10:$B$55),1)","v":1},{"$f":"IF(Work_D_Only_Bool,NETWORKDAYS.INTL(NR9,NR9,WE_Days,Tools!$B$10:$B$55),1)","v":1},{"$f":"IF(Work_D_Only_Bool,NETWORKDAYS.INTL(NS9,NS9,WE_Days,Tools!$B$10:$B$55),1)","v":1},{"$f":"IF(Work_D_Only_Bool,NETWORKDAYS.INTL(NT9,NT9,WE_Days,Tools!$B$10:$B$55),1)","v":1},{"$f":"IF(Work_D_Only_Bool,NETWORKDAYS.INTL(NU9,NU9,WE_Days,Tools!$B$10:$B$55),1)","v":1},{"$f":"IF(Work_D_Only_Bool,NETWORKDAYS.INTL(NV9,NV9,WE_Days,Tools!$B$10:$B$55),1)","v":1},{"$f":"IF(Work_D_Only_Bool,NETWORKDAYS.INTL(NW9,NW9,WE_Days,Tools!$B$10:$B$55),1)","v":1},{"$f":"IF(Work_D_Only_Bool,NETWORKDAYS.INTL(NX9,NX9,WE_Days,Tools!$B$10:$B$55),1)","v":1},{"$f":"IF(Work_D_Only_Bool,NETWORKDAYS.INTL(NY9,NY9,WE_Days,Tools!$B$10:$B$55),1)","v":1},{"$f":"IF(Work_D_Only_Bool,NETWORKDAYS.INTL(NZ9,NZ9,WE_Days,Tools!$B$10:$B$55),1)","v":1},{"$f":"IF(Work_D_Only_Bool,NETWORKDAYS.INTL(OA9,OA9,WE_Days,Tools!$B$10:$B$55),1)","v":1},{"$f":"IF(Work_D_Only_Bool,NETWORKDAYS.INTL(OB9,OB9,WE_Days,Tools!$B$10:$B$55),1)","v":1},{"$f":"IF(Work_D_Only_Bool,NETWORKDAYS.INTL(OC9,OC9,WE_Days,Tools!$B$10:$B$55),1)","v":1},{"$f":"IF(Work_D_Only_Bool,NETWORKDAYS.INTL(OD9,OD9,WE_Days,Tools!$B$10:$B$55),1)","v":1},{"$f":"IF(Work_D_Only_Bool,NETWORKDAYS.INTL(OE9,OE9,WE_Days,Tools!$B$10:$B$55),1)","v":1},{"$f":"IF(Work_D_Only_Bool,NETWORKDAYS.INTL(OF9,OF9,WE_Days,Tools!$B$10:$B$55),1)","v":1},{"$f":"IF(Work_D_Only_Bool,NETWORKDAYS.INTL(OG9,OG9,WE_Days,Tools!$B$10:$B$55),1)","v":1},{"$f":"IF(Work_D_Only_Bool,NETWORKDAYS.INTL(OH9,OH9,WE_Days,Tools!$B$10:$B$55),1)","v":1},{"$f":"IF(Work_D_Only_Bool,NETWORKDAYS.INTL(OI9,OI9,WE_Days,Tools!$B$10:$B$55),1)","v":1},{"$f":"IF(Work_D_Only_Bool,NETWORKDAYS.INTL(OJ9,OJ9,WE_Days,Tools!$B$10:$B$55),1)","v":1},{"$f":"IF(Work_D_Only_Bool,NETWORKDAYS.INTL(OK9,OK9,WE_Days,Tools!$B$10:$B$55),1)","v":1},{"$f":"IF(Work_D_Only_Bool,NETWORKDAYS.INTL(OL9,OL9,WE_Days,Tools!$B$10:$B$55),1)","v":1},{"$f":"IF(Work_D_Only_Bool,NETWORKDAYS.INTL(OM9,OM9,WE_Days,Tools!$B$10:$B$55),1)","v":1},{"$f":"IF(Work_D_Only_Bool,NETWORKDAYS.INTL(ON9,ON9,WE_Days,Tools!$B$10:$B$55),1)","v":1},{"$f":"IF(Work_D_Only_Bool,NETWORKDAYS.INTL(OO9,OO9,WE_Days,Tools!$B$10:$B$55),1)","v":1},{"$f":"IF(Work_D_Only_Bool,NETWORKDAYS.INTL(OP9,OP9,WE_Days,Tools!$B$10:$B$55),1)","v":1},{"$f":"IF(Work_D_Only_Bool,NETWORKDAYS.INTL(OQ9,OQ9,WE_Days,Tools!$B$10:$B$55),1)","v":1},{"$f":"IF(Work_D_Only_Bool,NETWORKDAYS.INTL(OR9,OR9,WE_Days,Tools!$B$10:$B$55),1)","v":1},{"$f":"IF(Work_D_Only_Bool,NETWORKDAYS.INTL(OS9,OS9,WE_Days,Tools!$B$10:$B$55),1)","v":1},{"$f":"IF(Work_D_Only_Bool,NETWORKDAYS.INTL(OT9,OT9,WE_Days,Tools!$B$10:$B$55),1)","v":1},{"$f":"IF(Work_D_Only_Bool,NETWORKDAYS.INTL(OU9,OU9,WE_Days,Tools!$B$10:$B$55),1)","v":1},{"$f":"IF(Work_D_Only_Bool,NETWORKDAYS.INTL(OV9,OV9,WE_Days,Tools!$B$10:$B$55),1)","v":1},{"$f":"IF(Work_D_Only_Bool,NETWORKDAYS.INTL(OW9,OW9,WE_Days,Tools!$B$10:$B$55),1)","v":1},{"$f":"IF(Work_D_Only_Bool,NETWORKDAYS.INTL(OX9,OX9,WE_Days,Tools!$B$10:$B$55),1)","v":1},{"$f":"IF(Work_D_Only_Bool,NETWORKDAYS.INTL(OY9,OY9,WE_Days,Tools!$B$10:$B$55),1)","v":1},{"$f":"IF(Work_D_Only_Bool,NETWORKDAYS.INTL(OZ9,OZ9,WE_Days,Tools!$B$10:$B$55),1)","v":1},{"$f":"IF(Work_D_Only_Bool,NETWORKDAYS.INTL(PA9,PA9,WE_Days,Tools!$B$10:$B$55),1)","v":1},{"$f":"IF(Work_D_Only_Bool,NETWORKDAYS.INTL(PB9,PB9,WE_Days,Tools!$B$10:$B$55),1)","v":1},{"$f":"IF(Work_D_Only_Bool,NETWORKDAYS.INTL(PC9,PC9,WE_Days,Tools!$B$10:$B$55),1)","v":1},{"$f":"IF(Work_D_Only_Bool,NETWORKDAYS.INTL(PD9,PD9,WE_Days,Tools!$B$10:$B$55),1)","v":1},{"$f":"IF(Work_D_Only_Bool,NETWORKDAYS.INTL(PE9,PE9,WE_Days,Tools!$B$10:$B$55),1)","v":1},{"$f":"IF(Work_D_Only_Bool,NETWORKDAYS.INTL(PF9,PF9,WE_Days,Tools!$B$10:$B$55),1)","v":1},{"$f":"IF(Work_D_Only_Bool,NETWORKDAYS.INTL(PG9,PG9,WE_Days,Tools!$B$10:$B$55),1)","v":1},{"$f":"IF(Work_D_Only_Bool,NETWORKDAYS.INTL(PH9,PH9,WE_Days,Tools!$B$10:$B$55),1)","v":1},{"$f":"IF(Work_D_Only_Bool,NETWORKDAYS.INTL(PI9,PI9,WE_Days,Tools!$B$10:$B$55),1)","v":1},{"$f":"IF(Work_D_Only_Bool,NETWORKDAYS.INTL(PJ9,PJ9,WE_Days,Tools!$B$10:$B$55),1)","v":1},{"$f":"IF(Work_D_Only_Bool,NETWORKDAYS.INTL(PK9,PK9,WE_Days,Tools!$B$10:$B$55),1)","v":1},{"$f":"IF(Work_D_Only_Bool,NETWORKDAYS.INTL(PL9,PL9,WE_Days,Tools!$B$10:$B$55),1)","v":1},{"$f":"IF(Work_D_Only_Bool,NETWORKDAYS.INTL(PM9,PM9,WE_Days,Tools!$B$10:$B$55),1)","v":1},{"$f":"IF(Work_D_Only_Bool,NETWORKDAYS.INTL(PN9,PN9,WE_Days,Tools!$B$10:$B$55),1)","v":1},{"$f":"IF(Work_D_Only_Bool,NETWORKDAYS.INTL(PO9,PO9,WE_Days,Tools!$B$10:$B$55),1)","v":1},{"$f":"IF(Work_D_Only_Bool,NETWORKDAYS.INTL(PP9,PP9,WE_Days,Tools!$B$10:$B$55),1)","v":1},{"$f":"IF(Work_D_Only_Bool,NETWORKDAYS.INTL(PQ9,PQ9,WE_Days,Tools!$B$10:$B$55),1)","v":1},{"$f":"IF(Work_D_Only_Bool,NETWORKDAYS.INTL(PR9,PR9,WE_Days,Tools!$B$10:$B$55),1)","v":1},{"$f":"IF(Work_D_Only_Bool,NETWORKDAYS.INTL(PS9,PS9,WE_Days,Tools!$B$10:$B$55),1)","v":1},{"$f":"IF(Work_D_Only_Bool,NETWORKDAYS.INTL(PT9,PT9,WE_Days,Tools!$B$10:$B$55),1)","v":1},{"$f":"IF(Work_D_Only_Bool,NETWORKDAYS.INTL(PU9,PU9,WE_Days,Tools!$B$10:$B$55),1)","v":1},{"$f":"IF(Work_D_Only_Bool,NETWORKDAYS.INTL(PV9,PV9,WE_Days,Tools!$B$10:$B$55),1)","v":1},{"$f":"IF(Work_D_Only_Bool,NETWORKDAYS.INTL(PW9,PW9,WE_Days,Tools!$B$10:$B$55),1)","v":1},{"$f":"IF(Work_D_Only_Bool,NETWORKDAYS.INTL(PX9,PX9,WE_Days,Tools!$B$10:$B$55),1)","v":1},{"$f":"IF(Work_D_Only_Bool,NETWORKDAYS.INTL(PY9,PY9,WE_Days,Tools!$B$10:$B$55),1)","v":1},{"$f":"IF(Work_D_Only_Bool,NETWORKDAYS.INTL(PZ9,PZ9,WE_Days,Tools!$B$10:$B$55),1)","v":1},{"$f":"IF(Work_D_Only_Bool,NETWORKDAYS.INTL(QA9,QA9,WE_Days,Tools!$B$10:$B$55),1)","v":1},{"$f":"IF(Work_D_Only_Bool,NETWORKDAYS.INTL(QB9,QB9,WE_Days,Tools!$B$10:$B$55),1)","v":1},{"$f":"IF(Work_D_Only_Bool,NETWORKDAYS.INTL(QC9,QC9,WE_Days,Tools!$B$10:$B$55),1)","v":1},{"$f":"IF(Work_D_Only_Bool,NETWORKDAYS.INTL(QD9,QD9,WE_Days,Tools!$B$10:$B$55),1)","v":1},{"$f":"IF(Work_D_Only_Bool,NETWORKDAYS.INTL(QE9,QE9,WE_Days,Tools!$B$10:$B$55),1)","v":1},{"$f":"IF(Work_D_Only_Bool,NETWORKDAYS.INTL(QF9,QF9,WE_Days,Tools!$B$10:$B$55),1)","v":1},{"$f":"IF(Work_D_Only_Bool,NETWORKDAYS.INTL(QG9,QG9,WE_Days,Tools!$B$10:$B$55),1)","v":1},{"$f":"IF(Work_D_Only_Bool,NETWORKDAYS.INTL(QH9,QH9,WE_Days,Tools!$B$10:$B$55),1)","v":1},{"$f":"IF(Work_D_Only_Bool,NETWORKDAYS.INTL(QI9,QI9,WE_Days,Tools!$B$10:$B$55),1)","v":1},{"$f":"IF(Work_D_Only_Bool,NETWORKDAYS.INTL(QJ9,QJ9,WE_Days,Tools!$B$10:$B$55),1)","v":1},{"$f":"IF(Work_D_Only_Bool,NETWORKDAYS.INTL(QK9,QK9,WE_Days,Tools!$B$10:$B$55),1)","v":1},{"$f":"IF(Work_D_Only_Bool,NETWORKDAYS.INTL(QL9,QL9,WE_Days,Tools!$B$10:$B$55),1)","v":1},{"$f":"IF(Work_D_Only_Bool,NETWORKDAYS.INTL(QM9,QM9,WE_Days,Tools!$B$10:$B$55),1)","v":1},{"$f":"IF(Work_D_Only_Bool,NETWORKDAYS.INTL(QN9,QN9,WE_Days,Tools!$B$10:$B$55),1)","v":1},{"$f":"IF(Work_D_Only_Bool,NETWORKDAYS.INTL(QO9,QO9,WE_Days,Tools!$B$10:$B$55),1)","v":1},{"$f":"IF(Work_D_Only_Bool,NETWORKDAYS.INTL(QP9,QP9,WE_Days,Tools!$B$10:$B$55),1)","v":1},{"$f":"IF(Work_D_Only_Bool,NETWORKDAYS.INTL(QQ9,QQ9,WE_Days,Tools!$B$10:$B$55),1)","v":1},{"$f":"IF(Work_D_Only_Bool,NETWORKDAYS.INTL(QR9,QR9,WE_Days,Tools!$B$10:$B$55),1)","v":1},{"$f":"IF(Work_D_Only_Bool,NETWORKDAYS.INTL(QS9,QS9,WE_Days,Tools!$B$10:$B$55),1)","v":1},{"$f":"IF(Work_D_Only_Bool,NETWORKDAYS.INTL(QT9,QT9,WE_Days,Tools!$B$10:$B$55),1)","v":1},{"$f":"IF(Work_D_Only_Bool,NETWORKDAYS.INTL(QU9,QU9,WE_Days,Tools!$B$10:$B$55),1)","v":1},{"$f":"IF(Work_D_Only_Bool,NETWORKDAYS.INTL(QV9,QV9,WE_Days,Tools!$B$10:$B$55),1)","v":1},{"$f":"IF(Work_D_Only_Bool,NETWORKDAYS.INTL(QW9,QW9,WE_Days,Tools!$B$10:$B$55),1)","v":1},{"$f":"IF(Work_D_Only_Bool,NETWORKDAYS.INTL(QX9,QX9,WE_Days,Tools!$B$10:$B$55),1)","v":1},{"$f":"IF(Work_D_Only_Bool,NETWORKDAYS.INTL(QY9,QY9,WE_Days,Tools!$B$10:$B$55),1)","v":1},{"$f":"IF(Work_D_Only_Bool,NETWORKDAYS.INTL(QZ9,QZ9,WE_Days,Tools!$B$10:$B$55),1)","v":1},{"$f":"IF(Work_D_Only_Bool,NETWORKDAYS.INTL(RA9,RA9,WE_Days,Tools!$B$10:$B$55),1)","v":1},{"$f":"IF(Work_D_Only_Bool,NETWORKDAYS.INTL(RB9,RB9,WE_Days,Tools!$B$10:$B$55),1)","v":1},{"$f":"IF(Work_D_Only_Bool,NETWORKDAYS.INTL(RC9,RC9,WE_Days,Tools!$B$10:$B$55),1)","v":1},{"$f":"IF(Work_D_Only_Bool,NETWORKDAYS.INTL(RD9,RD9,WE_Days,Tools!$B$10:$B$55),1)","v":1},{"$f":"IF(Work_D_Only_Bool,NETWORKDAYS.INTL(RE9,RE9,WE_Days,Tools!$B$10:$B$55),1)","v":1},{"$f":"IF(Work_D_Only_Bool,NETWORKDAYS.INTL(RF9,RF9,WE_Days,Tools!$B$10:$B$55),1)","v":1},{"$f":"IF(Work_D_Only_Bool,NETWORKDAYS.INTL(RG9,RG9,WE_Days,Tools!$B$10:$B$55),1)","v":1},{"$f":"IF(Work_D_Only_Bool,NETWORKDAYS.INTL(RH9,RH9,WE_Days,Tools!$B$10:$B$55),1)","v":1},{"$f":"IF(Work_D_Only_Bool,NETWORKDAYS.INTL(RI9,RI9,WE_Days,Tools!$B$10:$B$55),1)","v":1},{"$f":"IF(Work_D_Only_Bool,NETWORKDAYS.INTL(RJ9,RJ9,WE_Days,Tools!$B$10:$B$55),1)","v":1},{"$f":"IF(Work_D_Only_Bool,NETWORKDAYS.INTL(RK9,RK9,WE_Days,Tools!$B$10:$B$55),1)","v":1},{"$f":"IF(Work_D_Only_Bool,NETWORKDAYS.INTL(RL9,RL9,WE_Days,Tools!$B$10:$B$55),1)","v":1},{"$f":"IF(Work_D_Only_Bool,NETWORKDAYS.INTL(RM9,RM9,WE_Days,Tools!$B$10:$B$55),1)","v":1},{"$f":"IF(Work_D_Only_Bool,NETWORKDAYS.INTL(RN9,RN9,WE_Days,Tools!$B$10:$B$55),1)","v":1},{"$f":"IF(Work_D_Only_Bool,NETWORKDAYS.INTL(RO9,RO9,WE_Days,Tools!$B$10:$B$55),1)","v":1},{"$f":"IF(Work_D_Only_Bool,NETWORKDAYS.INTL(RP9,RP9,WE_Days,Tools!$B$10:$B$55),1)","v":1},{"$f":"IF(Work_D_Only_Bool,NETWORKDAYS.INTL(RQ9,RQ9,WE_Days,Tools!$B$10:$B$55),1)","v":1},{"$f":"IF(Work_D_Only_Bool,NETWORKDAYS.INTL(RR9,RR9,WE_Days,Tools!$B$10:$B$55),1)","v":1},{"$f":"IF(Work_D_Only_Bool,NETWORKDAYS.INTL(RS9,RS9,WE_Days,Tools!$B$10:$B$55),1)","v":1},{"$f":"IF(Work_D_Only_Bool,NETWORKDAYS.INTL(RT9,RT9,WE_Days,Tools!$B$10:$B$55),1)","v":1},{"$f":"IF(Work_D_Only_Bool,NETWORKDAYS.INTL(RU9,RU9,WE_Days,Tools!$B$10:$B$55),1)","v":1},{"$f":"IF(Work_D_Only_Bool,NETWORKDAYS.INTL(RV9,RV9,WE_Days,Tools!$B$10:$B$55),1)","v":1},{"$f":"IF(Work_D_Only_Bool,NETWORKDAYS.INTL(RW9,RW9,WE_Days,Tools!$B$10:$B$55),1)","v":1},{"$f":"IF(Work_D_Only_Bool,NETWORKDAYS.INTL(RX9,RX9,WE_Days,Tools!$B$10:$B$55),1)","v":1},{"$f":"IF(Work_D_Only_Bool,NETWORKDAYS.INTL(RY9,RY9,WE_Days,Tools!$B$10:$B$55),1)","v":1},{"$f":"IF(Work_D_Only_Bool,NETWORKDAYS.INTL(RZ9,RZ9,WE_Days,Tools!$B$10:$B$55),1)","v":1},{"$f":"IF(Work_D_Only_Bool,NETWORKDAYS.INTL(SA9,SA9,WE_Days,Tools!$B$10:$B$55),1)","v":1},{"$f":"IF(Work_D_Only_Bool,NETWORKDAYS.INTL(SB9,SB9,WE_Days,Tools!$B$10:$B$55),1)","v":1},{"$f":"IF(Work_D_Only_Bool,NETWORKDAYS.INTL(SC9,SC9,WE_Days,Tools!$B$10:$B$55),1)","v":1},{"$f":"IF(Work_D_Only_Bool,NETWORKDAYS.INTL(SD9,SD9,WE_Days,Tools!$B$10:$B$55),1)","v":1},{"$f":"IF(Work_D_Only_Bool,NETWORKDAYS.INTL(SE9,SE9,WE_Days,Tools!$B$10:$B$55),1)","v":1},{"$f":"IF(Work_D_Only_Bool,NETWORKDAYS.INTL(SF9,SF9,WE_Days,Tools!$B$10:$B$55),1)","v":1},{"$f":"IF(Work_D_Only_Bool,NETWORKDAYS.INTL(SG9,SG9,WE_Days,Tools!$B$10:$B$55),1)","v":1},{"$f":"IF(Work_D_Only_Bool,NETWORKDAYS.INTL(SH9,SH9,WE_Days,Tools!$B$10:$B$55),1)","v":1},{"$f":"IF(Work_D_Only_Bool,NETWORKDAYS.INTL(SI9,SI9,WE_Days,Tools!$B$10:$B$55),1)","v":1},{"$f":"IF(Work_D_Only_Bool,NETWORKDAYS.INTL(SJ9,SJ9,WE_Days,Tools!$B$10:$B$55),1)","v":1},{"$f":"IF(Work_D_Only_Bool,NETWORKDAYS.INTL(SK9,SK9,WE_Days,Tools!$B$10:$B$55),1)","v":1},{"$f":"IF(Work_D_Only_Bool,NETWORKDAYS.INTL(SL9,SL9,WE_Days,Tools!$B$10:$B$55),1)","v":1},{"$f":"IF(Work_D_Only_Bool,NETWORKDAYS.INTL(SM9,SM9,WE_Days,Tools!$B$10:$B$55),1)","v":1},{"$f":"IF(Work_D_Only_Bool,NETWORKDAYS.INTL(SN9,SN9,WE_Days,Tools!$B$10:$B$55),1)","v":1},{"$f":"IF(Work_D_Only_Bool,NETWORKDAYS.INTL(SO9,SO9,WE_Days,Tools!$B$10:$B$55),1)","v":1},{"$f":"IF(Work_D_Only_Bool,NETWORKDAYS.INTL(SP9,SP9,WE_Days,Tools!$B$10:$B$55),1)","v":1},{"$f":"IF(Work_D_Only_Bool,NETWORKDAYS.INTL(SQ9,SQ9,WE_Days,Tools!$B$10:$B$55),1)","v":1},{"$f":"IF(Work_D_Only_Bool,NETWORKDAYS.INTL(SR9,SR9,WE_Days,Tools!$B$10:$B$55),1)","v":1},{"$f":"IF(Work_D_Only_Bool,NETWORKDAYS.INTL(SS9,SS9,WE_Days,Tools!$B$10:$B$55),1)","v":1},{"$f":"IF(Work_D_Only_Bool,NETWORKDAYS.INTL(ST9,ST9,WE_Days,Tools!$B$10:$B$55),1)","v":1},{"$f":"IF(Work_D_Only_Bool,NETWORKDAYS.INTL(SU9,SU9,WE_Days,Tools!$B$10:$B$55),1)","v":1},{"$f":"IF(Work_D_Only_Bool,NETWORKDAYS.INTL(SV9,SV9,WE_Days,Tools!$B$10:$B$55),1)","v":1},{"$f":"IF(Work_D_Only_Bool,NETWORKDAYS.INTL(SW9,SW9,WE_Days,Tools!$B$10:$B$55),1)","v":1},{"$f":"IF(Work_D_Only_Bool,NETWORKDAYS.INTL(SX9,SX9,WE_Days,Tools!$B$10:$B$55),1)","v":1},{"$f":"IF(Work_D_Only_Bool,NETWORKDAYS.INTL(SY9,SY9,WE_Days,Tools!$B$10:$B$55),1)","v":1},{"$f":"IF(Work_D_Only_Bool,NETWORKDAYS.INTL(SZ9,SZ9,WE_Days,Tools!$B$10:$B$55),1)","v":1},{"$f":"IF(Work_D_Only_Bool,NETWORKDAYS.INTL(TA9,TA9,WE_Days,Tools!$B$10:$B$55),1)","v":1},{"$f":"IF(Work_D_Only_Bool,NETWORKDAYS.INTL(TB9,TB9,WE_Days,Tools!$B$10:$B$55),1)","v":1},{"$f":"IF(Work_D_Only_Bool,NETWORKDAYS.INTL(TC9,TC9,WE_Days,Tools!$B$10:$B$55),1)","v":1},{"$f":"IF(Work_D_Only_Bool,NETWORKDAYS.INTL(TD9,TD9,WE_Days,Tools!$B$10:$B$55),1)","v":1},{"$f":"IF(Work_D_Only_Bool,NETWORKDAYS.INTL(TE9,TE9,WE_Days,Tools!$B$10:$B$55),1)","v":1},{"$f":"IF(Work_D_Only_Bool,NETWORKDAYS.INTL(TF9,TF9,WE_Days,Tools!$B$10:$B$55),1)","v":1},{"$f":"IF(Work_D_Only_Bool,NETWORKDAYS.INTL(TG9,TG9,WE_Days,Tools!$B$10:$B$55),1)","v":1},{"$f":"IF(Work_D_Only_Bool,NETWORKDAYS.INTL(TH9,TH9,WE_Days,Tools!$B$10:$B$55),1)","v":1},{"$f":"IF(Work_D_Only_Bool,NETWORKDAYS.INTL(TI9,TI9,WE_Days,Tools!$B$10:$B$55),1)","v":1},{"$f":"IF(Work_D_Only_Bool,NETWORKDAYS.INTL(TJ9,TJ9,WE_Days,Tools!$B$10:$B$55),1)","v":1},{"$f":"IF(Work_D_Only_Bool,NETWORKDAYS.INTL(TK9,TK9,WE_Days,Tools!$B$10:$B$55),1)","v":1},{"$f":"IF(Work_D_Only_Bool,NETWORKDAYS.INTL(TL9,TL9,WE_Days,Tools!$B$10:$B$55),1)","v":1},{"$f":"IF(Work_D_Only_Bool,NETWORKDAYS.INTL(TM9,TM9,WE_Days,Tools!$B$10:$B$55),1)","v":1},{"$f":"IF(Work_D_Only_Bool,NETWORKDAYS.INTL(TN9,TN9,WE_Days,Tools!$B$10:$B$55),1)","v":1},{"$f":"IF(Work_D_Only_Bool,NETWORKDAYS.INTL(TO9,TO9,WE_Days,Tools!$B$10:$B$55),1)","v":1},{"$f":"IF(Work_D_Only_Bool,NETWORKDAYS.INTL(TP9,TP9,WE_Days,Tools!$B$10:$B$55),1)","v":1},{"$f":"IF(Work_D_Only_Bool,NETWORKDAYS.INTL(TQ9,TQ9,WE_Days,Tools!$B$10:$B$55),1)","v":1},{"$f":"IF(Work_D_Only_Bool,NETWORKDAYS.INTL(TR9,TR9,WE_Days,Tools!$B$10:$B$55),1)","v":1},{"$f":"IF(Work_D_Only_Bool,NETWORKDAYS.INTL(TS9,TS9,WE_Days,Tools!$B$10:$B$55),1)","v":1},{"$f":"IF(Work_D_Only_Bool,NETWORKDAYS.INTL(TT9,TT9,WE_Days,Tools!$B$10:$B$55),1)","v":1},{"$f":"IF(Work_D_Only_Bool,NETWORKDAYS.INTL(TU9,TU9,WE_Days,Tools!$B$10:$B$55),1)","v":1},{"$f":"IF(Work_D_Only_Bool,NETWORKDAYS.INTL(TV9,TV9,WE_Days,Tools!$B$10:$B$55),1)","v":1},{"$f":"IF(Work_D_Only_Bool,NETWORKDAYS.INTL(TW9,TW9,WE_Days,Tools!$B$10:$B$55),1)","v":1},{"$f":"IF(Work_D_Only_Bool,NETWORKDAYS.INTL(TX9,TX9,WE_Days,Tools!$B$10:$B$55),1)","v":1},{"$f":"IF(Work_D_Only_Bool,NETWORKDAYS.INTL(TY9,TY9,WE_Days,Tools!$B$10:$B$55),1)","v":1},{"$f":"IF(Work_D_Only_Bool,NETWORKDAYS.INTL(TZ9,TZ9,WE_Days,Tools!$B$10:$B$55),1)","v":1},{"$f":"IF(Work_D_Only_Bool,NETWORKDAYS.INTL(UA9,UA9,WE_Days,Tools!$B$10:$B$55),1)","v":1},{"$f":"IF(Work_D_Only_Bool,NETWORKDAYS.INTL(UB9,UB9,WE_Days,Tools!$B$10:$B$55),1)","v":1},{"$f":"IF(Work_D_Only_Bool,NETWORKDAYS.INTL(UC9,UC9,WE_Days,Tools!$B$10:$B$55),1)","v":1},{"$f":"IF(Work_D_Only_Bool,NETWORKDAYS.INTL(UD9,UD9,WE_Days,Tools!$B$10:$B$55),1)","v":1},{"$f":"IF(Work_D_Only_Bool,NETWORKDAYS.INTL(UE9,UE9,WE_Days,Tools!$B$10:$B$55),1)","v":1},{"$f":"IF(Work_D_Only_Bool,NETWORKDAYS.INTL(UF9,UF9,WE_Days,Tools!$B$10:$B$55),1)","v":1},{"$f":"IF(Work_D_Only_Bool,NETWORKDAYS.INTL(UG9,UG9,WE_Days,Tools!$B$10:$B$55),1)","v":1},{"$f":"IF(Work_D_Only_Bool,NETWORKDAYS.INTL(UH9,UH9,WE_Days,Tools!$B$10:$B$55),1)","v":1},{"$f":"IF(Work_D_Only_Bool,NETWORKDAYS.INTL(UI9,UI9,WE_Days,Tools!$B$10:$B$55),1)","v":1},{"$f":"IF(Work_D_Only_Bool,NETWORKDAYS.INTL(UJ9,UJ9,WE_Days,Tools!$B$10:$B$55),1)","v":1},{"$f":"IF(Work_D_Only_Bool,NETWORKDAYS.INTL(UK9,UK9,WE_Days,Tools!$B$10:$B$55),1)","v":1},{"$f":"IF(Work_D_Only_Bool,NETWORKDAYS.INTL(UL9,UL9,WE_Days,Tools!$B$10:$B$55),1)","v":1},{"$f":"IF(Work_D_Only_Bool,NETWORKDAYS.INTL(UM9,UM9,WE_Days,Tools!$B$10:$B$55),1)","v":1}]
[null,null,null,null,null,null,null,null,null,null,null,null,null,null,null,null,null,null,null,null,null,null,null,null," ¶¶¶ Please Hide these rows. Do not delete. ¶¶¶",null,null,null,null,null,null,null,null,null,"Date",{"$f":"Start_Date_Fusion","v":"2016-10-31"},{"$f":"AJ9+1","v":"2016-11-01"},"2016-11-02","2016-11-03","2016-11-04","2016-11-05","2016-11-06","2016-11-07","2016-11-08","2016-11-09",{"$f":"AS9+1","v":"2016-11-10"},"2016-11-11","2016-11-12","2016-11-13","2016-11-14","2016-11-15","2016-11-16","2016-11-17","2016-11-18","2016-11-19","2016-11-20",{"$f":"BD9+1","v":"2016-11-21"},{"$f":"BE9+1","v":"2016-11-22"},"2016-11-23","2016-11-24","2016-11-25","2016-11-26","2016-11-27","2016-11-28","2016-11-29","2016-11-30","2016-12-01","2016-12-02","2016-12-03","2016-12-04","2016-12-05","2016-12-06","2016-12-07","2016-12-08","2016-12-09","2016-12-10","2016-12-11","2016-12-12","2016-12-13","2016-12-14","2016-12-15","2016-12-16","2016-12-17","2016-12-18","2016-12-19","2016-12-20","2016-12-21","2016-12-22","2016-12-23","2016-12-24","2016-12-25","2016-12-26","2016-12-27","2016-12-28","2016-12-29","2016-12-30","2016-12-31","2017-01-01","2017-01-02","2017-01-03",{"$f":"CV9+1","v":"2017-01-04"},"2017-01-05","2017-01-06","2017-01-07","2017-01-08","2017-01-09","2017-01-10","2017-01-11","2017-01-12","2017-01-13","2017-01-14","2017-01-15","2017-01-16","2017-01-17","2017-01-18","2017-01-19","2017-01-20","2017-01-21","2017-01-22","2017-01-23","2017-01-24","2017-01-25","2017-01-26","2017-01-27","2017-01-28","2017-01-29","2017-01-30","2017-01-31","2017-02-01","2017-02-02","2017-02-03","2017-02-04","2017-02-05","2017-02-06","2017-02-07","2017-02-08","2017-02-09","2017-02-10","2017-02-11","2017-02-12","2017-02-13","2017-02-14","2017-02-15","2017-02-16","2017-02-17","2017-02-18","2017-02-19","2017-02-20","2017-02-21","2017-02-22","2017-02-23","2017-02-24","2017-02-25","2017-02-26","2017-02-27","2017-02-28","2017-03-01","2017-03-02","2017-03-03","2017-03-04","2017-03-05","2017-03-06","2017-03-07","2017-03-08",{"$f":"FH9+1","v":"2017-03-09"},"2017-03-10","2017-03-11","2017-03-12","2017-03-13","2017-03-14","2017-03-15","2017-03-16","2017-03-17","2017-03-18","2017-03-19","2017-03-20","2017-03-21","2017-03-22","2017-03-23","2017-03-24","2017-03-25","2017-03-26","2017-03-27","2017-03-28","2017-03-29","2017-03-30","2017-03-31","2017-04-01","2017-04-02","2017-04-03","2017-04-04","2017-04-05","2017-04-06","2017-04-07","2017-04-08","2017-04-09","2017-04-10","2017-04-11","2017-04-12","2017-04-13","2017-04-14","2017-04-15","2017-04-16","2017-04-17","2017-04-18","2017-04-19","2017-04-20","2017-04-21","2017-04-22","2017-04-23","2017-04-24","2017-04-25","2017-04-26","2017-04-27","2017-04-28","2017-04-29","2017-04-30","2017-05-01","2017-05-02","2017-05-03","2017-05-04","2017-05-05","2017-05-06","2017-05-07","2017-05-08","2017-05-09","2017-05-10","2017-05-11",{"$f":"HT9+1","v":"2017-05-12"},"2017-05-13","2017-05-14","2017-05-15","2017-05-16","2017-05-17","2017-05-18","2017-05-19","2017-05-20","2017-05-21","2017-05-22","2017-05-23","2017-05-24","2017-05-25","2017-05-26","2017-05-27","2017-05-28","2017-05-29","2017-05-30","2017-05-31","2017-06-01","2017-06-02","2017-06-03","2017-06-04","2017-06-05","2017-06-06","2017-06-07","2017-06-08","2017-06-09","2017-06-10","2017-06-11","2017-06-12","2017-06-13","2017-06-14","2017-06-15","2017-06-16","2017-06-17","2017-06-18","2017-06-19","2017-06-20","2017-06-21","2017-06-22","2017-06-23","2017-06-24","2017-06-25","2017-06-26","2017-06-27","2017-06-28","2017-06-29","2017-06-30","2017-07-01","2017-07-02","2017-07-03","2017-07-04","2017-07-05","2017-07-06","2017-07-07","2017-07-08","2017-07-09","2017-07-10","2017-07-11","2017-07-12","2017-07-13","2017-07-14",{"$f":"KF9+1","v":"2017-07-15"},"2017-07-16","2017-07-17","2017-07-18","2017-07-19","2017-07-20","2017-07-21","2017-07-22","2017-07-23","2017-07-24","2017-07-25","2017-07-26","2017-07-27","2017-07-28","2017-07-29","2017-07-30","2017-07-31","2017-08-01","2017-08-02","2017-08-03","2017-08-04","2017-08-05","2017-08-06","2017-08-07","2017-08-08","2017-08-09","2017-08-10","2017-08-11","2017-08-12","2017-08-13","2017-08-14","2017-08-15","2017-08-16","2017-08-17","2017-08-18","2017-08-19","2017-08-20","2017-08-21","2017-08-22","2017-08-23","2017-08-24","2017-08-25","2017-08-26","2017-08-27","2017-08-28","2017-08-29","2017-08-30","2017-08-31","2017-09-01","2017-09-02","2017-09-03","2017-09-04","2017-09-05","2017-09-06","2017-09-07","2017-09-08","2017-09-09","2017-09-10","2017-09-11","2017-09-12","2017-09-13","2017-09-14","2017-09-15","2017-09-16",{"$f":"MR9+1","v":"2017-09-17"},"2017-09-18","2017-09-19","2017-09-20","2017-09-21","2017-09-22","2017-09-23","2017-09-24","2017-09-25","2017-09-26","2017-09-27","2017-09-28","2017-09-29","2017-09-30","2017-10-01","2017-10-02","2017-10-03","2017-10-04","2017-10-05","2017-10-06","2017-10-07","2017-10-08","2017-10-09","2017-10-10","2017-10-11","2017-10-12","2017-10-13","2017-10-14","2017-10-15","2017-10-16","2017-10-17","2017-10-18","2017-10-19","2017-10-20","2017-10-21","2017-10-22","2017-10-23","2017-10-24","2017-10-25","2017-10-26","2017-10-27","2017-10-28","2017-10-29","2017-10-30","2017-10-31","2017-11-01","2017-11-02","2017-11-03","2017-11-04","2017-11-05","2017-11-06","2017-11-07","2017-11-08","2017-11-09","2017-11-10","2017-11-11","2017-11-12","2017-11-13","2017-11-14","2017-11-15","2017-11-16","2017-11-17","2017-11-18","2017-11-19",{"$f":"PD9+1","v":"2017-11-20"},"2017-11-21","2017-11-22","2017-11-23","2017-11-24","2017-11-25","2017-11-26","2017-11-27","2017-11-28","2017-11-29","2017-11-30","2017-12-01","2017-12-02","2017-12-03","2017-12-04","2017-12-05","2017-12-06","2017-12-07","2017-12-08","2017-12-09","2017-12-10","2017-12-11","2017-12-12","2017-12-13","2017-12-14","2017-12-15","2017-12-16","2017-12-17","2017-12-18","2017-12-19","2017-12-20","2017-12-21","2017-12-22","2017-12-23","2017-12-24","2017-12-25","2017-12-26","2017-12-27","2017-12-28","2017-12-29","2017-12-30","2017-12-31","2018-01-01","2018-01-02","2018-01-03","2018-01-04","2018-01-05","2018-01-06","2018-01-07","2018-01-08","2018-01-09","2018-01-10","2018-01-11","2018-01-12","2018-01-13","2018-01-14","2018-01-15","2018-01-16","2018-01-17","2018-01-18","2018-01-19","2018-01-20","2018-01-21","2018-01-22",{"$f":"RP9+1","v":"2018-01-23"},"2018-01-24","2018-01-25","2018-01-26","2018-01-27","2018-01-28","2018-01-29","2018-01-30","2018-01-31","2018-02-01","2018-02-02","2018-02-03","2018-02-04","2018-02-05","2018-02-06","2018-02-07","2018-02-08","2018-02-09","2018-02-10","2018-02-11","2018-02-12","2018-02-13","2018-02-14","2018-02-15","2018-02-16","2018-02-17","2018-02-18","2018-02-19","2018-02-20","2018-02-21","2018-02-22","2018-02-23","2018-02-24","2018-02-25","2018-02-26","2018-02-27","2018-02-28","2018-03-01","2018-03-02","2018-03-03","2018-03-04","2018-03-05","2018-03-06","2018-03-07","2018-03-08","2018-03-09","2018-03-10","2018-03-11","2018-03-12","2018-03-13","2018-03-14","2018-03-15","2018-03-16","2018-03-17","2018-03-18","2018-03-19","2018-03-20","2018-03-21","2018-03-22","2018-03-23","2018-03-24","2018-03-25","2018-03-26","2018-03-27",{"$f":"UB9+1","v":"2018-03-28"},"2018-03-29","2018-03-30","2018-03-31","2018-04-01","2018-04-02","2018-04-03","2018-04-04","2018-04-05","2018-04-06","2018-04-07"]
[null,null,null,null,null,null,null,null,null,null,null,null,null,null,null,null,null,null,null,null,null,null,null,null,null,null,null,null,null,null,null,null,null,null,null,{"$f":"IF(DAY(AJ18)=1,AJ18,IF(AJ9=Red_Bookmark,\"TODAY\",\"\"))","v":""},"2016-11-01","","","","","","","","","","","","","","","","","","","","","","","","","","","","","","2016-12-01","","","","","","","","","","","","","","","","","","","","","","","","","","","","","","","2017-01-01","",{"$f":"IF(DAY(CV18)=1,CV18,IF(CV9=Red_Bookmark,\"TODAY\",\"\"))","v":""},"","","","","","","","","","","","","","","","","","","","","","","","","","","","","2017-02-01","","","","","","","","","","","","","","","","","","","","","","","","","","","","2017-03-01","","","","","","",{"$f":"IF(DAY(FH18)=1,FH18,IF(FH9=Red_Bookmark,\"TODAY\",\"\"))","v":""},"","","","","","","","","TODAY","","","","","","","","","","","","","","","2017-04-01","","","","","","","","","","","","","","","","","","","","","","","","","","","","","","2017-05-01","","","","","","","","","",{"$f":"IF(DAY(HT18)=1,HT18,IF(HT9=Red_Bookmark,\"TODAY\",\"\"))","v":""},"","","","","","","","","","","","","","","","","","","","","2017-06-01","","","","","","","","","","","","","","","","","","","","","","","","","","","","","","2017-07-01","","","","","","","","","","","","",{"$f":"IF(DAY(KF18)=1,KF18,IF(KF9=Red_Bookmark,\"TODAY\",\"\"))","v":""},"","","","","","","","","","","","","","","","","","2017-08-01","","","","","","","","","","","","","","","","","","","","","","","","","","","","","","","2017-09-01","","","","","","","","","","","","","","",{"$f":"IF(DAY(MR18)=1,MR18,IF(MR9=Red_Bookmark,\"TODAY\",\"\"))","v":""},"","","","","","","","","","","","","","","2017-10-01","","","","","","","","","","","","","","","","","","","","","","","","","","","","","","","2017-11-01","","","","","","","","","","","","","","","","","",{"$f":"IF(DAY(PD18)=1,PD18,IF(PD9=Red_Bookmark,\"TODAY\",\"\"))","v":""},"","","","","","","","","","","","2017-12-01","","","","","","","","","","","","","","","","","","","","","","","","","","","","","","","2018-01-01","","","","","","","","","","","","","","","","","","","","",{"$f":"IF(DAY(RP18)=1,RP18,IF(RP9=Red_Bookmark,\"TODAY\",\"\"))","v":""},"","","","","","","","","","2018-02-01","","","","","","","","","","","","","","","","","","","","","","","","","","","","2018-03-01","","","","","","","","","","","","","","","","","","","","","","","","","",{"$f":"IF(DAY(UB18)=1,UB18,IF(UB9=Red_Bookmark,\"TODAY\",\"\"))","v":""},"","","","","2018-04-01","","","","","",""]
[]
[]
[]
[null,null,null,null,null,null,null,null,null,null,null,null,null,null,null,{"$f":"IF($AG$14=\"%\",P15,\"\")","v":""},{"$f":"IF($AG$14=\"%\",Q15,\"\")","v":""},{"$f":"IF($AG$14=\"%\",R15,\"\")","v":""},{"$f":"IF($AG$14=\"%\",S15,\"\")","v":""},{"$f":"IF($AG$14=\"%\",T15,\"\")","v":""},null,{"$f":"IF($AG$14=\"%\",V15,\"\")","v":""},{"$f":"IF($AG$14=\"%\",W15,\"\")","v":""},{"$f":"IF($AG$14=\"%\",X15,\"\")","v":""},{"$f":"IF($AG$14=\"%\",Y15,\"\")","v":""},null,null,{"$f":"IF($AG$14=\"%\",AB15,\"\")","v":""},null,null,{"$f":"IF($AG$14=\"%\",AE15,\"\")","v":""},{"$f":"IF($AG$14=\"%\",AF15,\"\")","v":""},null,null,{"$f":"IF($AG$14=\"%\",AI15,\"\")","v":""},"11-2016",null,null,null,null,null,null,null,null,null,null,null,null,null,null,null,null,null,null,null,null,null,null,null,null,null,null,null,null,null,null,"12-2016",null,null,null,null,null,null,null,null,null,null,null,null,null,null,null,null,null,null,null,null,null,null,null,null,null,null,null,null,null,null,null,null,null,null,null,null,null,null,null,null,null,null,null,null,null,null,null,null,null,null,null,null,null,null,null,null,null,null,null,null,null,null,null,null,null,null,null,null,null,null,null,null,null,null,null,null,null,null,null,null,null,null,null,null,null,null,null,null,"3-2017",null,null,null,null,null,null,null,null,null,null,null,null,null,null,null,null,null,null,null,null,null,null,null,null,null,null,null,null,null,null,null,null,null,null,null,null,null,null,null,null,null,null,null,null,null,null,null,null,null,null,null,null,null,null,null,null,null,null,null,null,null,null,null,null,null,null,null,null,null,null,null,null,null,null,null,null,null,null,null,null,null,null,null,null,null,null,null,null,null,null,null,"6-2017",null,null,null,null,null,null,null,null,null,null,null,null,null,null,null,null,null,null,null,null,null,null,null,null,null,null,null,null,null,null,null,null,null,null,null,null,null,null,null,null,null,null,null,null,null,null,null,null,null,null,null,null,null,null,null,null,null,null,null,null,null,null,null,null,null,null,null,null,null,null,null,null,null,null,null,null,null,null,null,null,null,null,null,null,null,null,null,null,null,null,null,"9-2017",null,null,null,null,null,null,null,null,null,null,null,null,null,null,null,null,null,null,null,null,null,null,null,null,null,null,null,null,null,null,null,null,null,null,null,null,null,null,null,null,null,null,null,null,null,null,null,null,null,null,null,null,null,null,null,null,null,null,null,null,null,null,null,null,null,null,null,null,null,null,null,null,null,null,null,null,null,null,null,null,null,null,null,null,null,null,null,null,null,null,"12-2017",null,null,null,null,null,null,null,null,null,null,null,null,null,null,null,null,null,null,null,null,null,null,null,null,null,null,null,null,null,null,null,null,null,null,null,null,null,null,null,null,null,null,null,null,null,null,null,null,null,null,null,null,null,null,null,null,null,null,null,null,null,null,null,null,null,null,null,null,null,null,null,null,null,null,null,null,null,null,null,null,null,null,null,null,null,null,null,null,null,"3-2018"]
[null,null,null,null,null,null,null,null,null,null,null,null,null,null,null,"Resp.","Couleurs","Niv. Taches","Début","Durée",null,"Recal. Dur.","Jours ouvrés","Normal","Échéance",null,null,"Statut",null,null,"Estim.","Réel","%",null,"Commentaires",{"$f":"AJ16","v":"W44"},null,null,null,null,null,null,{"$f":"AQ16","v":"W45"},null,null,null,null,null,null,{"$f":"AX16","v":"W46"},null,null,null,null,null,null,{"$f":"BE16","v":"W47"},null,null,null,null,null,null,{"$f":"BL16","v":"W48"},null,null,null,null,null,null,{"$f":"BS16","v":"W49"},null,null,null,null,null,null,{"$f":"BZ16","v":"W50"},null,null,null,null,null,null,{"$f":"CG16","v":"W51"},null,null,null,null,null,null,{"$f":"CN16","v":"W52"},null,null,null,null,null,null,{"$f":"CU16","v":"W1"},null,null,null,null,null,null,{"$f":"DB16","v":"W2"},null,null,null,null,null,null,{"$f":"DI16","v":"W3"},null,null,null,null,null,null,{"$f":"DP16","v":"W4"},null,null,null,null,null,null,{"$f":"DW16","v":"W5"},null,null,null,null,null,null,{"$f":"ED16","v":"W6"},null,null,null,null,null,null,{"$f":"EK16","v":"W7"},null,null,null,null,null,null,{"$f":"ER16","v":"W8"},null,null,null,null,null,null,{"$f":"EY16","v":"W9"},null,null,null,null,null,null,{"$f":"FF16","v":"W10"},null,null,null,null,null,null,{"$f":"FM16","v":"W11"},null,null,null,null,null,null,{"$f":"FT16","v":"W12"},null,null,null,null,null,null,{"$f":"GA16","v":"W13"},null,null,null,null,null,null,{"$f":"GH16","v":"W14"},null,null,null,null,null,null,{"$f":"GO16","v":"W15"},null,null,null,null,null,null,{"$f":"GV16","v":"W16"},null,null,null,null,null,null,{"$f":"HC16","v":"W17"},null,null,null,null,null,null,{"$f":"HJ16","v":"W18"},null,null,null,null,null,null,{"$f":"HQ16","v":"W19"},null,null,null,null,null,null,{"$f":"HX16","v":"W20"},null,null,null,null,null,null,{"$f":"IE16","v":"W21"},null,null,null,null,null,null,{"$f":"IL16","v":"W22"},null,null,null,null,null,null,{"$f":"IS16","v":"W23"},null,null,null,null,null,null,{"$f":"IZ16","v":"W24"},null,null,null,null,null,null,{"$f":"JG16","v":"W25"},null,null,null,null,null,null,{"$f":"JN16","v":"W26"},null,null,null,null,null,null,{"$f":"JU16","v":"W27"},null,null,null,null,null,null,{"$f":"KB16","v":"W28"},null,null,null,null,null,null,{"$f":"KI16","v":"W29"},null,null,null,null,null,null,{"$f":"KP16","v":"W30"},null,null,null,null,null,null,{"$f":"KW16","v":"W31"},null,null,null,null,null,null,{"$f":"LD16","v":"W32"},null,null,null,null,null,null,{"$f":"LK16","v":"W33"},null,null,null,null,null,null,{"$f":"LR16","v":"W34"},null,null,null,null,null,null,{"$f":"LY16","v":"W35"},null,null,null,null,null,null,{"$f":"MF16","v":"W36"},null,null,null,null,null,null,{"$f":"MM16","v":"W37"},null,null,null,null,null,null,{"$f":"MT16","v":"W38"},null,null,null,null,null,null,{"$f":"NA16","v":"W39"},null,null,null,null,null,null,{"$f":"NH16","v":"W40"},null,null,null,null,null,null,{"$f":"NO16","v":"W41"},null,null,null,null,null,null,{"$f":"NV16","v":"W42"},null,null,null,null,null,null,{"$f":"OC16","v":"W43"},null,null,null,null,null,null,{"$f":"OJ16","v":"W44"},null,null,null,null,null,null,{"$f":"OQ16","v":"W45"},null,null,null,null,null,null,{"$f":"OX16","v":"W46"},null,null,null,null,null,null,{"$f":"PE16","v":"W47"},null,null,null,null,null,null,{"$f":"PL16","v":"W48"},null,null,null,null,null,null,{"$f":"PS16","v":"W49"},null,null,null,null,null,null,{"$f":"PZ16","v":"W50"},null,null,null,null,null,null,{"$f":"QG16","v":"W51"},null,null,null,null,null,null,{"$f":"QN16","v":"W52"},null,null,null,null,null,null,{"$f":"QU16","v":"W1"},null,null,null,null,null,null,{"$f":"RB16","v":"W2"},null,null,null,null,null,null,{"$f":"RI16","v":"W3"},null,null,null,null,null,null,{"$f":"RP16","v":"W4"},null,null,null,null,null,null,{"$f":"RW16","v":"W5"},null,null,null,null,null,null,{"$f":"SD16","v":"W6"},null,null,null,null,null,null,{"$f":"SK16","v":"W7"},null,null,null,null,null,null,{"$f":"SR16","v":"W8"},null,null,null,null,null,null,{"$f":"SY16","v":"W9"},null,null,null,null,null,null,{"$f":"TF16","v":"W10"},null,null,null,null,null,null,{"$f":"TM16","v":"W11"},null,null,null,null,null,null,{"$f":"TT16","v":"W12"},null,null,null,null,null,null,{"$f":"UA16","v":"W13"},null,null,null,null,null,null,{"$f":"UH16","v":"W14"}]
[null,null,null,null,null,null,null,null,null,null,null,null,null,null,null,null,null,null,null,null,null,null,null,null,null,null,null,null,null,null,null,null,null,null,null,{"$f":"Week_Name&WEEKNUM(AJ9,First_Day_Week2)","v":"W44"},"W44","W44","W44","W44","W44","W44","W45","W45","W45","W45","W45","W45","W45","W46","W46","W46","W46","W46","W46","W46","W47","W47","W47","W47","W47","W47","W47","W48","W48","W48","W48","W48","W48","W48","W49","W49","W49","W49","W49","W49","W49","W50","W50","W50","W50","W50","W50","W50","W51","W51","W51","W51","W51","W51","W51","W52","W52","W52","W52","W52","W52","W52","W1",{"$f":"Week_Name&WEEKNUM(CV9,First_Day_Week2)","v":"W1"},"W1","W1","W1","W1","W1","W2","W2","W2","W2","W2","W2","W2","W3","W3","W3","W3","W3","W3","W3","W4","W4","W4","W4","W4","W4","W4","W5","W5","W5","W5","W5","W5","W5","W6","W6","W6","W6","W6","W6","W6","W7","W7","W7","W7","W7","W7","W7","W8","W8","W8","W8","W8","W8","W8","W9","W9","W9","W9","W9","W9","W9","W10","W10",{"$f":"Week_Name&WEEKNUM(FH9,First_Day_Week2)","v":"W10"},"W10","W10","W10","W10","W11","W11","W11","W11","W11","W11","W11","W12","W12","W12","W12","W12","W12","W12","W13","W13","W13","W13","W13","W13","W13","W14","W14","W14","W14","W14","W14","W14","W15","W15","W15","W15","W15","W15","W15","W16","W16","W16","W16","W16","W16","W16","W17","W17","W17","W17","W17","W17","W17","W18","W18","W18","W18","W18","W18","W18","W19","W19","W19",{"$f":"Week_Name&WEEKNUM(HT9,First_Day_Week2)","v":"W19"},"W19","W19","W19","W20","W20","W20","W20","W20","W20","W20","W21","W21","W21","W21","W21","W21","W21","W22","W22","W22","W22","W22","W22","W22","W23","W23","W23","W23","W23","W23","W23","W24","W24","W24","W24","W24","W24","W24","W25","W25","W25","W25","W25","W25","W25","W26","W26","W26","W26","W26","W26","W26","W27","W27","W27","W27","W27","W27","W27","W28","W28","W28","W28",{"$f":"Week_Name&WEEKNUM(KF9,First_Day_Week2)","v":"W28"},"W28","W28","W29","W29","W29","W29","W29","W29","W29","W30","W30","W30","W30","W30","W30","W30","W31","W31","W31","W31","W31","W31","W31","W32","W32","W32","W32","W32","W32","W32","W33","W33","W33","W33","W33","W33","W33","W34","W34","W34","W34","W34","W34","W34","W35","W35","W35","W35","W35","W35","W35","W36","W36","W36","W36","W36","W36","W36","W37","W37","W37","W37","W37",{"$f":"Week_Name&WEEKNUM(MR9,First_Day_Week2)","v":"W37"},"W37","W38","W38","W38","W38","W38","W38","W38","W39","W39","W39","W39","W39","W39","W39","W40","W40","W40","W40","W40","W40","W40","W41","W41","W41","W41","W41","W41","W41","W42","W42","W42","W42","W42","W42","W42","W43","W43","W43","W43","W43","W43","W43","W44","W44","W44","W44","W44","W44","W44","W45","W45","W45","W45","W45","W45","W45","W46","W46","W46","W46","W46","W46",{"$f":"Week_Name&WEEKNUM(PD9,First_Day_Week2)","v":"W46"},"W47","W47","W47","W47","W47","W47","W47","W48","W48","W48","W48","W48","W48","W48","W49","W49","W49","W49","W49","W49","W49","W50","W50","W50","W50","W50","W50","W50","W51","W51","W51","W51","W51","W51","W51","W52","W52","W52","W52","W52","W52","W52","W1","W1","W1","W1","W1","W1","W1","W2","W2","W2","W2","W2","W2","W2","W3","W3","W3","W3","W3","W3","W3",{"$f":"Week_Name&WEEKNUM(RP9,First_Day_Week2)","v":"W4"},"W4","W4","W4","W4","W4","W4","W5","W5","W5","W5","W5","W5","W5","W6","W6","W6","W6","W6","W6","W6","W7","W7","W7","W7","W7","W7","W7","W8","W8","W8","W8","W8","W8","W8","W9","W9","W9","W9","W9","W9","W9","W10","W10","W10","W10","W10","W10","W10","W11","W11","W11","W11","W11","W11","W11","W12","W12","W12","W12","W12","W12","W12","W13",{"$f":"Week_Name&WEEKNUM(UB9,First_Day_Week2)","v":"W13"},"W13","W13","W13","W13","W13","W14","W14","W14","W14","W14","W14"]
[null,null,null,null,null,null,null,null,null,null,null,null,null,null,null,null,"Planning",null,null,null,null,null,null,null,null,null,null,null,null,null,"Budget",null,null,null,"Commentaires",{"$f":"IF(TEXT(AJ9,\"ddd\")=\"ddd\",UPPER(LEFT(TEXT(AJ9,\"jjj\"),1)),UPPER(LEFT(TEXT(AJ9,\"ddd\"),1)))","v":"L"},"M","M","J","V","S","D","L","M","M","J","V","S","D","L","M","M","J","V","S","D","L","M","M","J","V","S","D","L","M","M","J","V","S","D","L","M","M","J","V","S","D","L","M","M","J","V","S","D","L","M","M","J","V","S","D","L","M","M","J","V","S","D","L",{"$f":"IF(TEXT(CV9,\"ddd\")=\"ddd\",UPPER(LEFT(TEXT(CV9,\"jjj\"),1)),UPPER(LEFT(TEXT(CV9,\"ddd\"),1)))","v":"M"},"M","J","V","S","D","L","M","M","J","V","S","D","L","M","M","J","V","S","D","L","M","M","J","V","S","D","L","M","M","J","V","S","D","L","M","M","J","V","S","D","L","M","M","J","V","S","D","L","M","M","J","V","S","D","L","M","M","J","V","S","D","L","M",{"$f":"IF(TEXT(FH9,\"ddd\")=\"ddd\",UPPER(LEFT(TEXT(FH9,\"jjj\"),1)),UPPER(LEFT(TEXT(FH9,\"ddd\"),1)))","v":"M"},"J","V","S","D","L","M","M","J","V","S","D","L","M","M","J","V","S","D","L","M","M","J","V","S","D","L","M","M","J","V","S","D","L","M","M","J","V","S","D","L","M","M","J","V","S","D","L","M","M","J","V","S","D","L","M","M","J","V","S","D","L","M","M",{"$f":"IF(TEXT(HT9,\"ddd\")=\"ddd\",UPPER(LEFT(TEXT(HT9,\"jjj\"),1)),UPPER(LEFT(TEXT(HT9,\"ddd\"),1)))","v":"J"},"V","S","D","L","M","M","J","V","S","D","L","M","M","J","V","S","D","L","M","M","J","V","S","D","L","M","M","J","V","S","D","L","M","M","J","V","S","D","L","M","M","J","V","S","D","L","M","M","J","V","S","D","L","M","M","J","V","S","D","L","M","M","J",{"$f":"IF(TEXT(KF9,\"ddd\")=\"ddd\",UPPER(LEFT(TEXT(KF9,\"jjj\"),1)),UPPER(LEFT(TEXT(KF9,\"ddd\"),1)))","v":"V"},"S","D","L","M","M","J","V","S","D","L","M","M","J","V","S","D","L","M","M","J","V","S","D","L","M","M","J","V","S","D","L","M","M","J","V","S","D","L","M","M","J","V","S","D","L","M","M","J","V","S","D","L","M","M","J","V","S","D","L","M","M","J","V",{"$f":"IF(TEXT(MR9,\"ddd\")=\"ddd\",UPPER(LEFT(TEXT(MR9,\"jjj\"),1)),UPPER(LEFT(TEXT(MR9,\"ddd\"),1)))","v":"S"},"D","L","M","M","J","V","S","D","L","M","M","J","V","S","D","L","M","M","J","V","S","D","L","M","M","J","V","S","D","L","M","M","J","V","S","D","L","M","M","J","V","S","D","L","M","M","J","V","S","D","L","M","M","J","V","S","D","L","M","M","J","V","S",{"$f":"IF(TEXT(PD9,\"ddd\")=\"ddd\",UPPER(LEFT(TEXT(PD9,\"jjj\"),1)),UPPER(LEFT(TEXT(PD9,\"ddd\"),1)))","v":"D"},"L","M","M","J","V","S","D","L","M","M","J","V","S","D","L","M","M","J","V","S","D","L","M","M","J","V","S","D","L","M","M","J","V","S","D","L","M","M","J","V","S","D","L","M","M","J","V","S","D","L","M","M","J","V","S","D","L","M","M","J","V","S","D",{"$f":"IF(TEXT(RP9,\"ddd\")=\"ddd\",UPPER(LEFT(TEXT(RP9,\"jjj\"),1)),UPPER(LEFT(TEXT(RP9,\"ddd\"),1)))","v":"L"},"M","M","J","V","S","D","L","M","M","J","V","S","D","L","M","M","J","V","S","D","L","M","M","J","V","S","D","L","M","M","J","V","S","D","L","M","M","J","V","S","D","L","M","M","J","V","S","D","L","M","M","J","V","S","D","L","M","M","J","V","S","D","L",{"$f":"IF(TEXT(UB9,\"ddd\")=\"ddd\",UPPER(LEFT(TEXT(UB9,\"jjj\"),1)),UPPER(LEFT(TEXT(UB9,\"ddd\"),1)))","v":"M"},"M","J","V","S","D","L","M","M","J","V","S"]
[null,null,null,null,null,null,null,null,null,null,null,null,null,null,null,"Resp.","Couleurs","Niv. Taches","Début","Durée",null,"Recal. Dur.","Jours ouvrés","Normal","Échéance","Début Recalculé","Fin Recalculée","Statut",null,null,"Estim.","Réel","%",null,null,{"$f":"AJ9","v":"2016-10-31"},"2016-11-01","2016-11-02","2016-11-03","2016-11-04","2016-11-05","2016-11-06","2016-11-07","2016-11-08","2016-11-09","2016-11-10","2016-11-11","2016-11-12","2016-11-13","2016-11-14","2016-11-15","2016-11-16","2016-11-17","2016-11-18","2016-11-19","2016-11-20","2016-11-21","2016-11-22","2016-11-23","2016-11-24","2016-11-25","2016-11-26","2016-11-27","2016-11-28","2016-11-29","2016-11-30","2016-12-01","2016-12-02","2016-12-03","2016-12-04","2016-12-05","2016-12-06","2016-12-07","2016-12-08","2016-12-09","2016-12-10","2016-12-11","2016-12-12","2016-12-13","2016-12-14","2016-12-15","2016-12-16","2016-12-17","2016-12-18","2016-12-19","2016-12-20","2016-12-21","2016-12-22","2016-12-23","2016-12-24","2016-12-25","2016-12-26","2016-12-27","2016-12-28","2016-12-29","2016-12-30","2016-12-31","2017-01-01","2017-01-02",{"$f":"CV9","v":"2017-01-03"},"2017-01-04","2017-01-05","2017-01-06","2017-01-07","2017-01-08","2017-01-09","2017-01-10","2017-01-11","2017-01-12","2017-01-13","2017-01-14","2017-01-15","2017-01-16","2017-01-17","2017-01-18","2017-01-19","2017-01-20","2017-01-21","2017-01-22","2017-01-23","2017-01-24","2017-01-25","2017-01-26","2017-01-27","2017-01-28","2017-01-29","2017-01-30","2017-01-31","2017-02-01","2017-02-02","2017-02-03","2017-02-04","2017-02-05","2017-02-06","2017-02-07","2017-02-08","2017-02-09","2017-02-10","2017-02-11","2017-02-12","2017-02-13","2017-02-14","2017-02-15","2017-02-16","2017-02-17","2017-02-18","2017-02-19","2017-02-20","2017-02-21","2017-02-22","2017-02-23","2017-02-24","2017-02-25","2017-02-26","2017-02-27","2017-02-28","2017-03-01","2017-03-02","2017-03-03","2017-03-04","2017-03-05","2017-03-06","2017-03-07",{"$f":"FH9","v":"2017-03-08"},"2017-03-09","2017-03-10","2017-03-11","2017-03-12","2017-03-13","2017-03-14","2017-03-15","2017-03-16","2017-03-17","2017-03-18","2017-03-19","2017-03-20","2017-03-21","2017-03-22","2017-03-23","2017-03-24","2017-03-25","2017-03-26","2017-03-27","2017-03-28","2017-03-29","2017-03-30","2017-03-31","2017-04-01","2017-04-02","2017-04-03","2017-04-04","2017-04-05","2017-04-06","2017-04-07","2017-04-08","2017-04-09","2017-04-10","2017-04-11","2017-04-12","2017-04-13","2017-04-14","2017-04-15","2017-04-16","2017-04-17","2017-04-18","2017-04-19","2017-04-20","2017-04-21","2017-04-22","2017-04-23","2017-04-24","2017-04-25","2017-04-26","2017-04-27","2017-04-28","2017-04-29","2017-04-30","2017-05-01","2017-05-02","2017-05-03","2017-05-04","2017-05-05","2017-05-06","2017-05-07","2017-05-08","2017-05-09","2017-05-10",{"$f":"HT9","v":"2017-05-11"},"2017-05-12","2017-05-13","2017-05-14","2017-05-15","2017-05-16","2017-05-17","2017-05-18","2017-05-19","2017-05-20","2017-05-21","2017-05-22","2017-05-23","2017-05-24","2017-05-25","2017-05-26","2017-05-27","2017-05-28","2017-05-29","2017-05-30","2017-05-31","2017-06-01","2017-06-02","2017-06-03","2017-06-04","2017-06-05","2017-06-06","2017-06-07","2017-06-08","2017-06-09","2017-06-10","2017-06-11","2017-06-12","2017-06-13","2017-06-14","2017-06-15","2017-06-16","2017-06-17","2017-06-18","2017-06-19","2017-06-20","2017-06-21","2017-06-22","2017-06-23","2017-06-24","2017-06-25","2017-06-26","2017-06-27","2017-06-28","2017-06-29","2017-06-30","2017-07-01","2017-07-02","2017-07-03","2017-07-04","2017-07-05","2017-07-06","2017-07-07","2017-07-08","2017-07-09","2017-07-10","2017-07-11","2017-07-12","2017-07-13",{"$f":"KF9","v":"2017-07-14"},"2017-07-15","2017-07-16","2017-07-17","2017-07-18","2017-07-19","2017-07-20","2017-07-21","2017-07-22","2017-07-23","2017-07-24","2017-07-25","2017-07-26","2017-07-27","2017-07-28","2017-07-29","2017-07-30","2017-07-31","2017-08-01","2017-08-02","2017-08-03","2017-08-04","2017-08-05","2017-08-06","2017-08-07","2017-08-08","2017-08-09","2017-08-10","2017-08-11","2017-08-12","2017-08-13","2017-08-14","2017-08-15","2017-08-16","2017-08-17","2017-08-18","2017-08-19","2017-08-20","2017-08-21","2017-08-22","2017-08-23","2017-08-24","2017-08-25","2017-08-26","2017-08-27","2017-08-28","2017-08-29","2017-08-30","2017-08-31","2017-09-01","2017-09-02","2017-09-03","2017-09-04","2017-09-05","2017-09-06","2017-09-07","2017-09-08","2017-09-09","2017-09-10","2017-09-11","2017-09-12","2017-09-13","2017-09-14","2017-09-15",{"$f":"MR9","v":"2017-09-16"},"2017-09-17","2017-09-18","2017-09-19","2017-09-20","2017-09-21","2017-09-22","2017-09-23","2017-09-24","2017-09-25","2017-09-26","2017-09-27","2017-09-28","2017-09-29","2017-09-30","2017-10-01","2017-10-02","2017-10-03","2017-10-04","2017-10-05","2017-10-06","2017-10-07","2017-10-08","2017-10-09","2017-10-10","2017-10-11","2017-10-12","2017-10-13","2017-10-14","2017-10-15","2017-10-16","2017-10-17","2017-10-18","2017-10-19","2017-10-20","2017-10-21","2017-10-22","2017-10-23","2017-10-24","2017-10-25","2017-10-26","2017-10-27","2017-10-28","2017-10-29","2017-10-30","2017-10-31","2017-11-01","2017-11-02","2017-11-03","2017-11-04","2017-11-05","2017-11-06","2017-11-07","2017-11-08","2017-11-09","2017-11-10","2017-11-11","2017-11-12","2017-11-13","2017-11-14","2017-11-15","2017-11-16","2017-11-17","2017-11-18",{"$f":"PD9","v":"2017-11-19"},"2017-11-20","2017-11-21","2017-11-22","2017-11-23","2017-11-24","2017-11-25","2017-11-26","2017-11-27","2017-11-28","2017-11-29","2017-11-30","2017-12-01","2017-12-02","2017-12-03","2017-12-04","2017-12-05","2017-12-06","2017-12-07","2017-12-08","2017-12-09","2017-12-10","2017-12-11","2017-12-12","2017-12-13","2017-12-14","2017-12-15","2017-12-16","2017-12-17","2017-12-18","2017-12-19","2017-12-20","2017-12-21","2017-12-22","2017-12-23","2017-12-24","2017-12-25","2017-12-26","2017-12-27","2017-12-28","2017-12-29","2017-12-30","2017-12-31","2018-01-01","2018-01-02","2018-01-03","2018-01-04","2018-01-05","2018-01-06","2018-01-07","2018-01-08","2018-01-09","2018-01-10","2018-01-11","2018-01-12","2018-01-13","2018-01-14","2018-01-15","2018-01-16","2018-01-17","2018-01-18","2018-01-19","2018-01-20","2018-01-21",{"$f":"RP9","v":"2018-01-22"},"2018-01-23","2018-01-24","2018-01-25","2018-01-26","2018-01-27","2018-01-28","2018-01-29","2018-01-30","2018-01-31","2018-02-01","2018-02-02","2018-02-03","2018-02-04","2018-02-05","2018-02-06","2018-02-07","2018-02-08","2018-02-09","2018-02-10","2018-02-11","2018-02-12","2018-02-13","2018-02-14","2018-02-15","2018-02-16","2018-02-17","2018-02-18","2018-02-19","2018-02-20","2018-02-21","2018-02-22","2018-02-23","2018-02-24","2018-02-25","2018-02-26","2018-02-27","2018-02-28","2018-03-01","2018-03-02","2018-03-03","2018-03-04","2018-03-05","2018-03-06","2018-03-07","2018-03-08","2018-03-09","2018-03-10","2018-03-11","2018-03-12","2018-03-13","2018-03-14","2018-03-15","2018-03-16","2018-03-17","2018-03-18","2018-03-19","2018-03-20","2018-03-21","2018-03-22","2018-03-23","2018-03-24","2018-03-25","2018-03-26",{"$f":"UB9","v":"2018-03-27"},"2018-03-28","2018-03-29","2018-03-30","2018-03-31","2018-04-01","2018-04-02","2018-04-03","2018-04-04","2018-04-05","2018-04-06","2018-04-07"]
[null,null,null,null,null,null,null,null,null,null,"0",null,"Tache",null,null,null,null,1,{"$f":"MIN(Z20:Z21)","v":"2016-11-08"},{"$f":"Y19-S19+1","v":4},null,null,null,null,{"$f":"MAX(AA20:AA21)","v":"2016-11-11"},null,null,{"$f":"SUMPRODUCT(--(R20:R21=2),ABS(T20:T21),AB20:AB21)/SUM(ABS(T20:T21))","v":0.20000000000000004},{"$f":"S19-1+AB19*T19","v":"2016-11-07T19:12:00"},{"$f":"IF(AB19<>\"\",IF(AND(AB19<1,AC19<$DC$7),0,1))","v":0},{"$f":"SUMIF(R20:R21,2,AE20:AE21)","v":200},{"$f":"SUMIF(R20:R21,2,AF20:AF21)","v":0},{"$f":"IF(AND(AE19<>\"\",AF19<>\"\",AE19<>0),AF19/AE19,\"\")","v":0},{"$f":"AG19","v":0}]
[null,null,null,null,null,null,null,null,null,null,"0.1",null,"Sous-tache",null,null,"Mary",{"$f":"IF(ISERROR(VLOOKUP(P20,Tools!$D$11:$J$57,7,FALSE)),\"\",VLOOKUP(P20,Tools!$D$11:$J$57,7,FALSE))","v":5},2,"2016-11-09",2,"j",{"$f":"IF(U20=dur_type_d,T20,IF(U20=dur_type_w,IF(Work_D_Only_Bool,T20*5,T20*7),IF(U20=dur_type_m,IF(Work_D_Only_Bool,NETWORKDAYS.INTL(S20,DATE(YEAR(S20),MONTH(S20)+T20,DAY(S20)-1),WE_Days,Holiday_Days),DATE(YEAR(S20),MONTH(S20)+T20,DAY(S20))-S20),\"ERROR\")))","v":2},{"$f":"WORKDAY.INTL(S20,IF(V20>0,IF(OR(WEEKDAY(S20,2)>=6,COUNTIF(Holiday_Days,S20)>0),V20,V20-1),IF(OR(WEEKDAY(S20,2)>=6,COUNTIF(Holiday_Days,S20)>0),V20,V20+1)),HB$7,Holiday_Days)","v":"2016-11-10"},{"$f":"IF(V20>0,S20+V20-1,S20+V20+1)","v":"2016-11-10"},{"$f":"IF(S20<>\"\",IF($GE$7,W20,X20),\"\")","v":"2016-11-10"},{"$f":"IF(T20>0,S20,Y20)","v":"2016-11-09"},{"$f":"IF(T20>0,Y20,S20)","v":"2016-11-10"},{"$f":"SUMPRODUCT(AB21:AB22,ABS(T21:T22))/SUM(ABS(T21:T22))","v":0.2},{"$f":"INT(Z20+AB20*(AA20-Z20))","v":"2016-11-09"},{"$f":"IF(AND(AB20<1,AC20<$DC$7),0,1)","v":0},{"$f":"SUM(AE21:AE22)","v":100},{"$f":"SUM(AF21:AF22)","v":0},{"$f":"IF(AND(AE20<>\"\",AF20<>\"\"),AF20/AE20,\"\")","v":0},0]
[null,null,null,null,null,null,null,null,null,null,"0.2",null,"Sous-tache",null,null,"Jade",{"$f":"IF(ISERROR(VLOOKUP(P21,Tools!$D$11:$J$57,7,FALSE)),\"\",VLOOKUP(P21,Tools!$D$11:$J$57,7,FALSE))","v":6},2,{"$f":"$Y20+1","v":"2016-11-11"},-4,"j",{"$f":"IF(U21=dur_type_d,T21,IF(U21=dur_type_w,IF(Work_D_Only_Bool,T21*5,T21*7),IF(U21=dur_type_m,IF(Work_D_Only_Bool,NETWORKDAYS.INTL(S21,DATE(YEAR(S21),MONTH(S21)+T21,DAY(S21)-1),WE_Days,Holiday_Days),DATE(YEAR(S21),MONTH(S21)+T21,DAY(S21))-S21),\"ERROR\")))","v":-4},{"$f":"WORKDAY.INTL(S21,IF(V21>0,IF(OR(WEEKDAY(S21,2)>=6,COUNTIF(Holiday_Days,S21)>0),V21,V21-1),IF(OR(WEEKDAY(S21,2)>=6,COUNTIF(Holiday_Days,S21)>0),V21,V21+1)),HB$7,Holiday_Days)","v":"2016-11-08"},{"$f":"IF(V21>0,S21+V21-1,S21+V21+1)","v":"2016-11-08"},{"$f":"IF(S21<>\"\",IF($GE$7,W21,X21),\"\")","v":"2016-11-08"},{"$f":"IF(T21>0,S21,Y21)","v":"2016-11-08"},{"$f":"IF(T21>0,Y21,S21)","v":"2016-11-11"},0.2,{"$f":"INT(Z21+AB21*(AA21-Z21))","v":"2016-11-08"},{"$f":"IF(AND(AB21<1,AC21<$DC$7),0,1)","v":0},100,0,{"$f":"IF(AND(AE21<>\"\",AF21<>\"\"),AF21/AE21,\"\")","v":0},0]
[null,null,null,null,null,null,null,null,null,null,"MS",null,"Jalon",null,null,null,null,0,"2016-11-13"]
[null,null,null,null,null,null,null,null,null,null,1,null,"Project Kick-off",null,null,null,null,1,{"$f":"MIN(Z24:Z33)","v":"2016-11-02"},{"$f":"Y23-S23+1","v":57},null,null,null,null,{"$f":"MAX(AA24:AA33)","v":"2016-12-28"},null,null,{"$f":"SUMPRODUCT(AA24:AA33,AB24:AB33)/SUM(AA24:AA33)","v":1},{"$f":"S23-1+AB23*T23","v":"2016-12-28"},{"$f":"IF(AB23<>\"\",IF(AND(AB23<1,AC23<$DC$7),0,1))","v":1},{"$f":"SUMIF(R24:R33,2,AE24:AE33)","v":1300},{"$f":"SUMIF(R24:R33,2,AF24:AF33)","v":810},{"$f":"IF(AND(AE23<>\"\",AF23<>\"\",AE23<>0),AF23/AE23,\"\")","v":0.62307692307692308},{"$f":"AG23","v":0.62307692307692308}]
[null,null,null,null,null,null,null,null,null,null,"1.1",null,"Initial brainstorming & Jump-Start",null,null,"Jade",{"$f":"IF(ISERROR(VLOOKUP(P24,Tools!$D$11:$J$57,7,FALSE)),\"\",VLOOKUP(P24,Tools!$D$11:$J$57,7,FALSE))","v":6},2,{"$f":"MIN(Z25:Z30)","v":"2016-11-02"},{"$f":"Y24-S24+1","v":38},"j",{"$f":"IF(U24=dur_type_d,T24,IF(U24=dur_type_w,IF(Work_D_Only_Bool,T24*5,T24*7),IF(U24=dur_type_m,IF(Work_D_Only_Bool,NETWORKDAYS.INTL(S24,DATE(YEAR(S24),MONTH(S24)+T24,DAY(S24)-1),WE_Days,Holiday_Days),DATE(YEAR(S24),MONTH(S24)+T24,DAY(S24))-S24),\"ERROR\")))","v":38},{"$f":"WORKDAY.INTL(S24,IF(V24>0,IF(OR(WEEKDAY(S24,2)>=6,COUNTIF(Holiday_Days,S24)>0),V24,V24-1),IF(OR(WEEKDAY(S24,2)>=6,COUNTIF(Holiday_Days,S24)>0),V24,V24+1)),HB$7,Holiday_Days)","v":"2016-12-23"},{"$f":"IF(V24>0,S24+V24-1,S24+V24+1)","v":"2016-12-09"},{"$f":"MAX(AA25:AA30)","v":"2016-12-09"},{"$f":"IF(T24>0,S24,Y24)","v":"2016-11-02"},{"$f":"IF(T24>0,Y24,S24)","v":"2016-12-09"},1,{"$f":"INT(Z24+AB24*(AA24-Z24))","v":"2016-12-09"},{"$f":"IF(AND(AB24<1,AC24<$DC$7),0,1)","v":1},{"$f":"SUM(AE25:AE30)","v":800},{"$f":"SUM(AF25:AF30)","v":450},{"$f":"IF(AND(AE24<>\"\",AF24<>\"\"),AF24/AE24,\"\")","v":0.5625},{"$f":"AG24","v":0.5625}]
[null,null,null,null,null,null,null,null,null,null,"1.1.1",null,"Brainstorming about the potential ascent routes",null,null,"Jade",{"$f":"IF(ISERROR(VLOOKUP(P25,Tools!$D$11:$J$57,7,FALSE)),\"\",VLOOKUP(P25,Tools!$D$11:$J$57,7,FALSE))","v":6},3,"2016-11-02",7,"j",7,"2016-11-10","2016-11-08",{"$f":"IF(S25<>\"\",IF($GE$7,W25,X25),\"\")","v":"2016-11-08"},{"$f":"IF(T25>0,S25,Y25)","v":"2016-11-02"},{"$f":"IF(T25>0,Y25,S25)","v":"2016-11-08"},1,{"$f":"INT(Z25+AB25*(AA25-Z25))","v":"2016-11-08"},{"$f":"IF(AND(AB25<1,AC25<$DC$7),0,1)","v":1},null,null,{"$f":"IF(AND(AE25<>\"\",AF25<>\"\"),AF25/AE25,\"\")","v":""},""]
[null,null,null,null,null,null,null,null,null,null,"1.1.2",null,"Rough image about the time & schedule",null,null,"Jade",{"$f":"IF(ISERROR(VLOOKUP(P26,Tools!$D$11:$J$57,7,FALSE)),\"\",VLOOKUP(P26,Tools!$D$11:$J$57,7,FALSE))","v":6},3,{"$f":"Y25+1","v":"2016-11-09"},5,"j",5,"2016-11-15","2016-11-13","2016-11-13",{"$f":"IF(T26>0,S26,Y26)","v":"2016-11-09"},{"$f":"IF(T26>0,Y26,S26)","v":"2016-11-13"},1,{"$f":"INT(Z26+AB26*(AA26-Z26))","v":"2016-11-13"},{"$f":"IF(AND(AB26<1,AC26<$DC$7),0,1)","v":1},null,null,{"$f":"IF(AND(AE26<>\"\",AF26<>\"\"),AF26/AE26,\"\")","v":""},{"$f":"AG26","v":""}]
[null,null,null,null,null,null,null,null,null,null,"1.1.3",null,"Risks & Risk Management Ideas",null,null,"Jade",{"$f":"IF(ISERROR(VLOOKUP(P27,Tools!$D$11:$J$57,7,FALSE)),\"\",VLOOKUP(P27,Tools!$D$11:$J$57,7,FALSE))","v":6},3,{"$f":"Y26+1","v":"2016-11-14"},6,"j",6,"2016-11-21","2016-11-19","2016-11-19",{"$f":"IF(T27>0,S27,Y27)","v":"2016-11-14"},{"$f":"IF(T27>0,Y27,S27)","v":"2016-11-19"},1,{"$f":"INT(Z27+AB27*(AA27-Z27))","v":"2016-11-19"},{"$f":"IF(AND(AB27<1,AC27<$DC$7),0,1)","v":1},null,null,{"$f":"IF(AND(AE27<>\"\",AF27<>\"\"),AF27/AE27,\"\")","v":""},{"$f":"AG27","v":""}]
[null,null,null,null,null,null,null,null,null,null,"1.1.4",null,"Who is best at doing what in the team ?",null,null,"Jade",{"$f":"IF(ISERROR(VLOOKUP(P28,Tools!$D$11:$J$57,7,FALSE)),\"\",VLOOKUP(P28,Tools!$D$11:$J$57,7,FALSE))","v":6},3,{"$f":"Y27+1","v":"2016-11-20"},7,"j",7,"2016-11-29","2016-11-26","2016-11-26",{"$f":"IF(T28>0,S28,Y28)","v":"2016-11-20"},{"$f":"IF(T28>0,Y28,S28)","v":"2016-11-26"},1,{"$f":"INT(Z28+AB28*(AA28-Z28))","v":"2016-11-26"},{"$f":"IF(AND(AB28<1,AC28<$DC$7),0,1)","v":1},null,null,{"$f":"IF(AND(AE28<>\"\",AF28<>\"\"),AF28/AE28,\"\")","v":""},{"$f":"AG28","v":""}]
[null,null,null,null,null,null,null,null,null,null,"1.1.5",null,"Go & Meet People/Teams who did it",null,null,"Jade",{"$f":"IF(ISERROR(VLOOKUP(P29,Tools!$D$11:$J$57,7,FALSE)),\"\",VLOOKUP(P29,Tools!$D$11:$J$57,7,FALSE))","v":6},3,{"$f":"Y28+1","v":"2016-11-27"},7,"j",7,"2016-12-06","2016-12-03","2016-12-03",{"$f":"IF(T29>0,S29,Y29)","v":"2016-11-27"},{"$f":"IF(T29>0,Y29,S29)","v":"2016-12-03"},1,{"$f":"INT(Z29+AB29*(AA29-Z29))","v":"2016-12-03"},{"$f":"IF(AND(AB29<1,AC29<$DC$7),0,1)","v":1},800,450,{"$f":"IF(AND(AE29<>\"\",AF29<>\"\"),AF29/AE29,\"\")","v":0.5625},{"$f":"AG29","v":0.5625}]
[null,null,null,null,null,null,null,null,null,null,"1.1.6",null,"Ideas about funding & sponsoring",null,null,"Jade",{"$f":"IF(ISERROR(VLOOKUP(P30,Tools!$D$11:$J$57,7,FALSE)),\"\",VLOOKUP(P30,Tools!$D$11:$J$57,7,FALSE))","v":6},3,{"$f":"Y29+1","v":"2016-12-04"},6,"j",6,"2016-12-12","2016-12-09","2016-12-09",{"$f":"IF(T30>0,S30,Y30)","v":"2016-12-04"},{"$f":"IF(T30>0,Y30,S30)","v":"2016-12-09"},1,{"$f":"INT(Z30+AB30*(AA30-Z30))","v":"2016-12-09"},{"$f":"IF(AND(AB30<1,AC30<$DC$7),0,1)","v":1},null,null,{"$f":"IF(AND(AE30<>\"\",AF30<>\"\"),AF30/AE30,\"\")","v":""},{"$f":"AG30","v":""}]
[null,null,null,null,null,null,null,null,null,null,"1.2",null,"Draft Project Outline with preliminary planning",null,null,"Rony",{"$f":"IF(ISERROR(VLOOKUP(P31,Tools!$D$11:$J$57,7,FALSE)),\"\",VLOOKUP(P31,Tools!$D$11:$J$57,7,FALSE))","v":3},2,{"$f":"Y30+1","v":"2016-12-10"},14,"j",14,"2016-12-29","2016-12-23","2016-12-23","2016-12-10","2016-12-23",1,{"$f":"INT(Z31+AB31*(AA31-Z31))","v":"2016-12-23"},1,200,180,{"$f":"IF(AND(AE31<>\"\",AF31<>\"\"),AF31/AE31,\"\")","v":0.9},{"$f":"AG31","v":0.9}]
[null,null,null,null,null,null,null,null,null,null,"1.3",null,"Agree rough responsibility split & project leader",null,null,"Rony",{"$f":"IF(ISERROR(VLOOKUP(P32,Tools!$D$11:$J$57,7,FALSE)),\"\",VLOOKUP(P32,Tools!$D$11:$J$57,7,FALSE))","v":3},2,{"$f":"Y31+1","v":"2016-12-24"},4,"j",{"$f":"IF(U32=dur_type_d,T32,IF(U32=dur_type_w,IF(Work_D_Only_Bool,T32*5,T32*7),IF(U32=dur_type_m,IF(Work_D_Only_Bool,NETWORKDAYS.INTL(S32,DATE(YEAR(S32),MONTH(S32)+T32,DAY(S32)-1),WE_Days,Holiday_Days),DATE(YEAR(S32),MONTH(S32)+T32,DAY(S32))-S32),\"ERROR\")))","v":4},{"$f":"WORKDAY.INTL(S32,IF(V32>0,IF(OR(WEEKDAY(S32,2)>=6,COUNTIF(Holiday_Days,S32)>0),V32,V32-1),IF(OR(WEEKDAY(S32,2)>=6,COUNTIF(Holiday_Days,S32)>0),V32,V32+1)),HB$7,Holiday_Days)","v":"2016-12-29"},{"$f":"IF(V32>0,S32+V32-1,S32+V32+1)","v":"2016-12-27"},{"$f":"IF(S32<>\"\",IF($GE$7,W32,X32),\"\")","v":"2016-12-27"},{"$f":"IF(T32>0,S32,Y32)","v":"2016-12-24"},{"$f":"IF(T32>0,Y32,S32)","v":"2016-12-27"},1,{"$f":"INT(Z32+AB32*(AA32-Z32))","v":"2016-12-27"},{"$f":"IF(AND(AB32<1,AC32<$DC$7),0,1)","v":1},null,null,{"$f":"IF(AND(AE32<>\"\",AF32<>\"\"),AF32/AE32,\"\")","v":""},{"$f":"AG32","v":""}]
[null,null,null,null,null,null,null,null,null,null,"1.4",null,"Project Kick-off",null,null,"Rony",{"$f":"IF(ISERROR(VLOOKUP(P33,Tools!$D$11:$J$57,7,FALSE)),\"\",VLOOKUP(P33,Tools!$D$11:$J$57,7,FALSE))","v":3},2,{"$f":"Y32+1","v":"2016-12-28"},1,"j",1,"2016-12-28","2016-12-28","2016-12-28","2016-12-28","2016-12-28",1,{"$f":"INT(Z33+AB33*(AA33-Z33))","v":"2016-12-28"},1,300,180,{"$f":"IF(AND(AE33<>\"\",AF33<>\"\"),AF33/AE33,\"\")","v":0.6},{"$f":"AG33","v":0.6}]
[null,null,null,null,null,null,null,null,null,null,2,null,"Purchasing (Equipment & Services)",null,null,null,null,1,{"$f":"MIN(Z35:Z64)","v":"2016-11-11"},{"$f":"Y34-S34+1","v":100},null,null,null,null,{"$f":"MAX(AA35:AA64)","v":"2017-02-18"},null,null,{"$f":"SUMPRODUCT(AA35:AA64,AB35:AB64)/SUM(AA35:AA64)","v":1},{"$f":"S34-1+AB34*T34","v":"2017-02-18"},{"$f":"IF(AB34<>\"\",IF(AND(AB34<1,AC34<$DC$7),0,1))","v":1},{"$f":"SUMIF(R35:R64,2,AE35:AE64)","v":130900},{"$f":"SUMIF(R35:R64,2,AF35:AF64)","v":90580},{"$f":"IF(AND(AE34<>\"\",AF34<>\"\",AE34<>0),AF34/AE34,\"\")","v":0.69197860962566848},0.69197860962566848]
[null,null,null,null,null,null,null,null,null,null,"2.1",null,"Equipment",null,null,"Mary",{"$f":"IF(ISERROR(VLOOKUP(P35,Tools!$D$11:$J$57,7,FALSE)),\"\",VLOOKUP(P35,Tools!$D$11:$J$57,7,FALSE))","v":5},2,{"$f":"MIN(Z36:Z41)","v":"2016-12-29"},{"$f":"Y35-S35+1","v":52},"j",{"$f":"IF(U35=dur_type_d,T35,IF(U35=dur_type_w,IF(Work_D_Only_Bool,T35*5,T35*7),IF(U35=dur_type_m,IF(Work_D_Only_Bool,NETWORKDAYS.INTL(S35,DATE(YEAR(S35),MONTH(S35)+T35,DAY(S35)-1),WE_Days,Holiday_Days),DATE(YEAR(S35),MONTH(S35)+T35,DAY(S35))-S35),\"ERROR\")))","v":52},{"$f":"WORKDAY.INTL(S35,IF(V35>0,IF(OR(WEEKDAY(S35,2)>=6,COUNTIF(Holiday_Days,S35)>0),V35,V35-1),IF(OR(WEEKDAY(S35,2)>=6,COUNTIF(Holiday_Days,S35)>0),V35,V35+1)),HB$7,Holiday_Days)","v":"2017-03-10"},{"$f":"IF(V35>0,S35+V35-1,S35+V35+1)","v":"2017-02-18"},{"$f":"MAX(AA36:AA41)","v":"2017-02-18"},{"$f":"IF(T35>0,S35,Y35)","v":"2016-12-29"},{"$f":"IF(T35>0,Y35,S35)","v":"2017-02-18"},1,{"$f":"INT(Z35+AB35*(AA35-Z35))","v":"2017-02-18"},{"$f":"IF(AND(AB35<1,AC35<$DC$7),0,1)","v":1},{"$f":"SUM(AE36:AE41)","v":10100},{"$f":"SUM(AF36:AF41)","v":8930},{"$f":"IF(AND(AE35<>\"\",AF35<>\"\"),AF35/AE35,\"\")","v":0.88415841584158417},{"$f":"AG35","v":0.88415841584158417}]
[null,null,null,null,null,null,null,null,null,null,"2.1.1",null,"Define a list of necessary equipments",null,null,"Mary",{"$f":"IF(ISERROR(VLOOKUP(P36,Tools!$D$11:$J$57,7,FALSE)),\"\",VLOOKUP(P36,Tools!$D$11:$J$57,7,FALSE))","v":5},3,{"$f":"$Y$33+1","v":"2016-12-29"},4,"j",4,"2017-01-03","2017-01-01",{"$f":"IF(S36<>\"\",IF($GE$7,W36,X36),\"\")","v":"2017-01-01"},"2016-12-29","2017-01-01",1,"2017-01-01",1,null,null,"",""]
[null,null,null,null,null,null,null,null,null,null,"2.1.2",null,"List of who need what",null,null,"Mary",{"$f":"IF(ISERROR(VLOOKUP(P37,Tools!$D$11:$J$57,7,FALSE)),\"\",VLOOKUP(P37,Tools!$D$11:$J$57,7,FALSE))","v":5},3,{"$f":"Y36+1","v":"2017-01-02"},3,"j",3,"2017-01-04",{"$f":"IF(V37>0,S37+V37-1,S37+V37+1)","v":"2017-01-04"},"2017-01-04",{"$f":"IF(T37>0,S37,Y37)","v":"2017-01-02"},{"$f":"IF(T37>0,Y37,S37)","v":"2017-01-04"},1,{"$f":"INT(Z37+AB37*(AA37-Z37))","v":"2017-01-04"},{"$f":"IF(AND(AB37<1,AC37<$DC$7),0,1)","v":1},null,null,{"$f":"IF(AND(AE37<>\"\",AF37<>\"\"),AF37/AE37,\"\")","v":""},{"$f":"AG37","v":""}]
[null,null,null,null,null,null,null,null,null,null,"2.1.3",null,"Request for quotation to different suppliers",null,null,"Mary",{"$f":"IF(ISERROR(VLOOKUP(P38,Tools!$D$11:$J$57,7,FALSE)),\"\",VLOOKUP(P38,Tools!$D$11:$J$57,7,FALSE))","v":5},3,{"$f":"Y37+1","v":"2017-01-05"},14,"j",14,"2017-01-24",{"$f":"IF(V38>0,S38+V38-1,S38+V38+1)","v":"2017-01-18"},"2017-01-18",{"$f":"IF(T38>0,S38,Y38)","v":"2017-01-05"},{"$f":"IF(T38>0,Y38,S38)","v":"2017-01-18"},1,{"$f":"INT(Z38+AB38*(AA38-Z38))","v":"2017-01-18"},{"$f":"IF(AND(AB38<1,AC38<$DC$7),0,1)","v":1},100,30,{"$f":"IF(AND(AE38<>\"\",AF38<>\"\"),AF38/AE38,\"\")","v":0.3},{"$f":"AG38","v":0.3}]
[null,null,null,null,null,null,null,null,null,null,"2.1.4",null,"Compare buy/rent/make",null,null,"Mary",{"$f":"IF(ISERROR(VLOOKUP(P39,Tools!$D$11:$J$57,7,FALSE)),\"\",VLOOKUP(P39,Tools!$D$11:$J$57,7,FALSE))","v":5},3,"2017-01-19",7,"j",7,"2017-01-27",{"$f":"IF(V39>0,S39+V39-1,S39+V39+1)","v":"2017-01-25"},"2017-01-25",{"$f":"IF(T39>0,S39,Y39)","v":"2017-01-19"},{"$f":"IF(T39>0,Y39,S39)","v":"2017-01-25"},1,{"$f":"INT(Z39+AB39*(AA39-Z39))","v":"2017-01-25"},{"$f":"IF(AND(AB39<1,AC39<$DC$7),0,1)","v":1},null,null,{"$f":"IF(AND(AE39<>\"\",AF39<>\"\"),AF39/AE39,\"\")","v":""},{"$f":"AG39","v":""}]
[null,null,null,null,null,null,null,null,null,null,"2.1.5",null,"Discuss & agree final purchase list",null,null,"Mary",{"$f":"IF(ISERROR(VLOOKUP(P40,Tools!$D$11:$J$57,7,FALSE)),\"\",VLOOKUP(P40,Tools!$D$11:$J$57,7,FALSE))","v":5},3,"2017-01-26",21,"j",21,"2017-02-23","2017-02-15","2017-02-15","2017-01-26","2017-02-15",1,"2017-02-15",1,null,null,"",""]
[null,null,null,null,null,null,null,null,null,null,"2.1.6",null,"Purchase equipment",null,null,"Mary",{"$f":"IF(ISERROR(VLOOKUP(P41,Tools!$D$11:$J$57,7,FALSE)),\"\",VLOOKUP(P41,Tools!$D$11:$J$57,7,FALSE))","v":5},3,{"$f":"Y40+1","v":"2017-02-16"},3,"j",3,"2017-02-20","2017-02-18","2017-02-18","2017-02-16","2017-02-18",1,"2017-02-18",1,10000,8900,0.89,0.89]
[null,null,null,null,null,null,null,null,null,null,"2.2",null,"Flights",null,null,"Mary",{"$f":"IF(ISERROR(VLOOKUP(P42,Tools!$D$11:$J$57,7,FALSE)),\"\",VLOOKUP(P42,Tools!$D$11:$J$57,7,FALSE))","v":5},2,{"$f":"MIN(Z43:Z46)","v":"2016-12-29"},{"$f":"Y42-S42+1","v":43},"j",43,"2017-02-27","2017-02-09",{"$f":"MAX(AA43:AA46)","v":"2017-02-09"},"2016-12-29","2017-02-09",1,"2017-02-09",1,{"$f":"SUM(AE43:AE46)","v":30100},{"$f":"SUM(AF43:AF46)","v":27520},0.91428571428571426,0.91428571428571426]
[null,null,null,null,null,null,null,null,null,null,"2.2.1",2,"Define expectations",null,null,"Mary",{"$f":"IF(ISERROR(VLOOKUP(P43,Tools!$D$11:$J$57,7,FALSE)),\"\",VLOOKUP(P43,Tools!$D$11:$J$57,7,FALSE))","v":5},3,{"$f":"$Y$33+1","v":"2016-12-29"},5,"j",5,"2017-01-04",{"$f":"IF(V43>0,S43+V43-1,S43+V43+1)","v":"2017-01-02"},{"$f":"IF(S43<>\"\",IF($GE$7,W43,X43),\"\")","v":"2017-01-02"},{"$f":"IF(T43>0,S43,Y43)","v":"2016-12-29"},{"$f":"IF(T43>0,Y43,S43)","v":"2017-01-02"},1,{"$f":"INT(Z43+AB43*(AA43-Z43))","v":"2017-01-02"},{"$f":"IF(AND(AB43<1,AC43<$DC$7),0,1)","v":1},null,null,{"$f":"IF(AND(AE43<>\"\",AF43<>\"\"),AF43/AE43,\"\")","v":""},{"$f":"AG43","v":""}]
[null,null,null,null,null,null,null,null,null,null,"2.2.2",null,"Request for quotation to different suppliers",null,null,"Mary",{"$f":"IF(ISERROR(VLOOKUP(P44,Tools!$D$11:$J$57,7,FALSE)),\"\",VLOOKUP(P44,Tools!$D$11:$J$57,7,FALSE))","v":5},3,{"$f":"Y43+1","v":"2017-01-03"},14,"j",14,"2017-01-20","2017-01-16","2017-01-16","2017-01-03","2017-01-16",1,"2017-01-16",1,100,20,0.2,0.2]
[null,null,null,null,null,null,null,null,null,null,"2.2.3",null,"Discuss & agree the best offer",null,null,"Mary",{"$f":"IF(ISERROR(VLOOKUP(P45,Tools!$D$11:$J$57,7,FALSE)),\"\",VLOOKUP(P45,Tools!$D$11:$J$57,7,FALSE))","v":5},3,"2017-01-17",21,"j",21,"2017-02-14",{"$f":"IF(V45>0,S45+V45-1,S45+V45+1)","v":"2017-02-06"},"2017-02-06",{"$f":"IF(T45>0,S45,Y45)","v":"2017-01-17"},{"$f":"IF(T45>0,Y45,S45)","v":"2017-02-06"},1,{"$f":"INT(Z45+AB45*(AA45-Z45))","v":"2017-02-06"},{"$f":"IF(AND(AB45<1,AC45<$DC$7),0,1)","v":1},null,null,null,{"$f":"AG45","v":0}]
[null,null,null,null,null,null,null,null,null,null,"2.2.4",null,"Proceed with the booking of the flights",null,null,"Mary",{"$f":"IF(ISERROR(VLOOKUP(P46,Tools!$D$11:$J$57,7,FALSE)),\"\",VLOOKUP(P46,Tools!$D$11:$J$57,7,FALSE))","v":5},3,"2017-02-07",3,"j",3,"2017-02-09",{"$f":"IF(V46>0,S46+V46-1,S46+V46+1)","v":"2017-02-09"},"2017-02-09",{"$f":"IF(T46>0,S46,Y46)","v":"2017-02-07"},{"$f":"IF(T46>0,Y46,S46)","v":"2017-02-09"},1,{"$f":"INT(Z46+AB46*(AA46-Z46))","v":"2017-02-09"},{"$f":"IF(AND(AB46<1,AC46<$DC$7),0,1)","v":1},30000,27500,{"$f":"IF(AND(AE46<>\"\",AF46<>\"\"),AF46/AE46,\"\")","v":0.91666666666666663},{"$f":"AG46","v":0.91666666666666663}]
[null,null,null,null,null,null,null,null,null,null,"2.3",null,"Accomodation",null,null,"Mary",{"$f":"IF(ISERROR(VLOOKUP(P47,Tools!$D$11:$J$57,7,FALSE)),\"\",VLOOKUP(P47,Tools!$D$11:$J$57,7,FALSE))","v":5},2,{"$f":"MIN(Z48:Z51)","v":"2016-12-29"},{"$f":"Y47-S47+1","v":43},"j",43,"2017-02-27",{"$f":"IF(V47>0,S47+V47-1,S47+V47+1)","v":"2017-02-09"},{"$f":"MAX(AA48:AA51)","v":"2017-02-09"},{"$f":"IF(T47>0,S47,Y47)","v":"2016-12-29"},{"$f":"IF(T47>0,Y47,S47)","v":"2017-02-09"},1,{"$f":"INT(Z47+AB47*(AA47-Z47))","v":"2017-02-09"},{"$f":"IF(AND(AB47<1,AC47<$DC$7),0,1)","v":1},{"$f":"SUM(AE48:AE51)","v":15000},{"$f":"SUM(AF48:AF51)","v":9800},{"$f":"IF(AND(AE47<>\"\",AF47<>\"\"),AF47/AE47,\"\")","v":0.65333333333333332},{"$f":"AG47","v":0.65333333333333332}]
[null,null,null,null,null,null,null,null,null,null,"2.3.1",2,"Define expectations",null,null,"Mary",{"$f":"IF(ISERROR(VLOOKUP(P48,Tools!$D$11:$J$57,7,FALSE)),\"\",VLOOKUP(P48,Tools!$D$11:$J$57,7,FALSE))","v":5},3,{"$f":"$Y$33+1","v":"2016-12-29"},5,"j",5,"2017-01-04","2017-01-02","2017-01-02","2016-12-29","2017-01-02",1,"2017-01-02",1,null,null,"",""]
[null,null,null,null,null,null,null,null,null,null,"2.3.2",null,"Request for quotation to different suppliers",null,null,"Mary",{"$f":"IF(ISERROR(VLOOKUP(P49,Tools!$D$11:$J$57,7,FALSE)),\"\",VLOOKUP(P49,Tools!$D$11:$J$57,7,FALSE))","v":5},3,{"$f":"Y48+1","v":"2017-01-03"},14,"j",14,"2017-01-20","2017-01-16","2017-01-16","2017-01-03","2017-01-16",1,"2017-01-16",1,null,null,"",""]
[null,null,null,null,null,null,null,null,null,null,"2.3.3",null,"Discuss & Agree Best Offer",null,null,"Mary",{"$f":"IF(ISERROR(VLOOKUP(P50,Tools!$D$11:$J$57,7,FALSE)),\"\",VLOOKUP(P50,Tools!$D$11:$J$57,7,FALSE))","v":5},3,"2017-01-17",21,"j",21,"2017-02-14","2017-02-06","2017-02-06","2017-01-17","2017-02-06",1,"2017-02-06",1,null,null,"",""]
[null,null,null,null,null,null,null,null,null,null,"2.3.4",null,"Proceed with the booking",null,null,"Mary",{"$f":"IF(ISERROR(VLOOKUP(P51,Tools!$D$11:$J$57,7,FALSE)),\"\",VLOOKUP(P51,Tools!$D$11:$J$57,7,FALSE))","v":5},3,"2017-02-07",3,"j",3,"2017-02-09","2017-02-09","2017-02-09","2017-02-07","2017-02-09",1,"2017-02-09",1,15000,9800,0.65333333333333332,0.65333333333333332]
[null,null,null,null,null,null,null,null,null,null,"2.4",null,"Insurances",null,null,"Mary",{"$f":"IF(ISERROR(VLOOKUP(P52,Tools!$D$11:$J$57,7,FALSE)),\"\",VLOOKUP(P52,Tools!$D$11:$J$57,7,FALSE))","v":5},2,{"$f":"MIN(Z53:Z57)","v":"2016-12-29"},{"$f":"Y52-S52+1","v":46},"j",{"$f":"IF(U52=dur_type_d,T52,IF(U52=dur_type_w,IF(Work_D_Only_Bool,T52*5,T52*7),IF(U52=dur_type_m,IF(Work_D_Only_Bool,NETWORKDAYS.INTL(S52,DATE(YEAR(S52),MONTH(S52)+T52,DAY(S52)-1),WE_Days,Holiday_Days),DATE(YEAR(S52),MONTH(S52)+T52,DAY(S52))-S52),\"ERROR\")))","v":46},{"$f":"WORKDAY.INTL(S52,IF(V52>0,IF(OR(WEEKDAY(S52,2)>=6,COUNTIF(Holiday_Days,S52)>0),V52,V52-1),IF(OR(WEEKDAY(S52,2)>=6,COUNTIF(Holiday_Days,S52)>0),V52,V52+1)),HB$7,Holiday_Days)","v":"2017-03-02"},{"$f":"IF(V52>0,S52+V52-1,S52+V52+1)","v":"2017-02-12"},{"$f":"MAX(AA53:AA57)","v":"2017-02-12"},{"$f":"IF(T52>0,S52,Y52)","v":"2016-12-29"},{"$f":"IF(T52>0,Y52,S52)","v":"2017-02-12"},1,{"$f":"INT(Z52+AB52*(AA52-Z52))","v":"2017-02-12"},{"$f":"IF(AND(AB52<1,AC52<$DC$7),0,1)","v":1},{"$f":"SUM(AE53:AE57)","v":5600},{"$f":"SUM(AF53:AF57)","v":3220},{"$f":"IF(AND(AE52<>\"\",AF52<>\"\"),AF52/AE52,\"\")","v":0.57499999999999996},{"$f":"AG52","v":0.57499999999999996}]
[null,null,null,null,null,null,null,null,null,null,"2.4.1",2,"Define expectations",null,null,"Mary",{"$f":"IF(ISERROR(VLOOKUP(P53,Tools!$D$11:$J$57,7,FALSE)),\"\",VLOOKUP(P53,Tools!$D$11:$J$57,7,FALSE))","v":5},3,{"$f":"$Y$33+1","v":"2016-12-29"},5,"j",{"$f":"IF(U53=dur_type_d,T53,IF(U53=dur_type_w,IF(Work_D_Only_Bool,T53*5,T53*7),IF(U53=dur_type_m,IF(Work_D_Only_Bool,NETWORKDAYS.INTL(S53,DATE(YEAR(S53),MONTH(S53)+T53,DAY(S53)-1),WE_Days,Holiday_Days),DATE(YEAR(S53),MONTH(S53)+T53,DAY(S53))-S53),\"ERROR\")))","v":5},{"$f":"WORKDAY.INTL(S53,IF(V53>0,IF(OR(WEEKDAY(S53,2)>=6,COUNTIF(Holiday_Days,S53)>0),V53,V53-1),IF(OR(WEEKDAY(S53,2)>=6,COUNTIF(Holiday_Days,S53)>0),V53,V53+1)),HB$7,Holiday_Days)","v":"2017-01-04"},{"$f":"IF(V53>0,S53+V53-1,S53+V53+1)","v":"2017-01-02"},{"$f":"IF(S53<>\"\",IF($GE$7,W53,X53),\"\")","v":"2017-01-02"},{"$f":"IF(T53>0,S53,Y53)","v":"2016-12-29"},{"$f":"IF(T53>0,Y53,S53)","v":"2017-01-02"},1,{"$f":"INT(Z53+AB53*(AA53-Z53))","v":"2017-01-02"},{"$f":"IF(AND(AB53<1,AC53<$DC$7),0,1)","v":1},null,null,{"$f":"IF(AND(AE53<>\"\",AF53<>\"\"),AF53/AE53,\"\")","v":""},{"$f":"AG53","v":""}]
[null,null,null,null,null,null,null,null,null,null,"2.4.2",null,"Request for quotation to different suppliers",null,null,"Mary",{"$f":"IF(ISERROR(VLOOKUP(P54,Tools!$D$11:$J$57,7,FALSE)),\"\",VLOOKUP(P54,Tools!$D$11:$J$57,7,FALSE))","v":5},3,{"$f":"Y53+1","v":"2017-01-03"},14,"j",{"$f":"IF(U54=dur_type_d,T54,IF(U54=dur_type_w,IF(Work_D_Only_Bool,T54*5,T54*7),IF(U54=dur_type_m,IF(Work_D_Only_Bool,NETWORKDAYS.INTL(S54,DATE(YEAR(S54),MONTH(S54)+T54,DAY(S54)-1),WE_Days,Holiday_Days),DATE(YEAR(S54),MONTH(S54)+T54,DAY(S54))-S54),\"ERROR\")))","v":14},{"$f":"WORKDAY.INTL(S54,IF(V54>0,IF(OR(WEEKDAY(S54,2)>=6,COUNTIF(Holiday_Days,S54)>0),V54,V54-1),IF(OR(WEEKDAY(S54,2)>=6,COUNTIF(Holiday_Days,S54)>0),V54,V54+1)),HB$7,Holiday_Days)","v":"2017-01-20"},{"$f":"IF(V54>0,S54+V54-1,S54+V54+1)","v":"2017-01-16"},"2017-01-16",{"$f":"IF(T54>0,S54,Y54)","v":"2017-01-03"},{"$f":"IF(T54>0,Y54,S54)","v":"2017-01-16"},1,{"$f":"INT(Z54+AB54*(AA54-Z54))","v":"2017-01-16"},{"$f":"IF(AND(AB54<1,AC54<$DC$7),0,1)","v":1},100,20,{"$f":"IF(AND(AE54<>\"\",AF54<>\"\"),AF54/AE54,\"\")","v":0.2},{"$f":"AG54","v":0.2}]
[null,null,null,null,null,null,null,null,null,null,"2.4.3",null,"Discuss & agree the best offer",null,null,"Mary",{"$f":"IF(ISERROR(VLOOKUP(P55,Tools!$D$11:$J$57,7,FALSE)),\"\",VLOOKUP(P55,Tools!$D$11:$J$57,7,FALSE))","v":5},3,"2017-01-17",21,"j",{"$f":"IF(U55=dur_type_d,T55,IF(U55=dur_type_w,IF(Work_D_Only_Bool,T55*5,T55*7),IF(U55=dur_type_m,IF(Work_D_Only_Bool,NETWORKDAYS.INTL(S55,DATE(YEAR(S55),MONTH(S55)+T55,DAY(S55)-1),WE_Days,Holiday_Days),DATE(YEAR(S55),MONTH(S55)+T55,DAY(S55))-S55),\"ERROR\")))","v":21},{"$f":"WORKDAY.INTL(S55,IF(V55>0,IF(OR(WEEKDAY(S55,2)>=6,COUNTIF(Holiday_Days,S55)>0),V55,V55-1),IF(OR(WEEKDAY(S55,2)>=6,COUNTIF(Holiday_Days,S55)>0),V55,V55+1)),HB$7,Holiday_Days)","v":"2017-02-14"},{"$f":"IF(V55>0,S55+V55-1,S55+V55+1)","v":"2017-02-06"},"2017-02-06",{"$f":"IF(T55>0,S55,Y55)","v":"2017-01-17"},{"$f":"IF(T55>0,Y55,S55)","v":"2017-02-06"},1,{"$f":"INT(Z55+AB55*(AA55-Z55))","v":"2017-02-06"},{"$f":"IF(AND(AB55<1,AC55<$DC$7),0,1)","v":1},null,null,{"$f":"IF(AND(AE55<>\"\",AF55<>\"\"),AF55/AE55,\"\")","v":""},{"$f":"AG55","v":""}]
[null,null,null,null,null,null,null,null,null,null,"2.4.4",null,"Check in details contract & legal requirements",null,null,"Mary",{"$f":"IF(ISERROR(VLOOKUP(P56,Tools!$D$11:$J$57,7,FALSE)),\"\",VLOOKUP(P56,Tools!$D$11:$J$57,7,FALSE))","v":5},3,"2017-02-07",3,"j",{"$f":"IF(U56=dur_type_d,T56,IF(U56=dur_type_w,IF(Work_D_Only_Bool,T56*5,T56*7),IF(U56=dur_type_m,IF(Work_D_Only_Bool,NETWORKDAYS.INTL(S56,DATE(YEAR(S56),MONTH(S56)+T56,DAY(S56)-1),WE_Days,Holiday_Days),DATE(YEAR(S56),MONTH(S56)+T56,DAY(S56))-S56),\"ERROR\")))","v":3},{"$f":"WORKDAY.INTL(S56,IF(V56>0,IF(OR(WEEKDAY(S56,2)>=6,COUNTIF(Holiday_Days,S56)>0),V56,V56-1),IF(OR(WEEKDAY(S56,2)>=6,COUNTIF(Holiday_Days,S56)>0),V56,V56+1)),HB$7,Holiday_Days)","v":"2017-02-09"},{"$f":"IF(V56>0,S56+V56-1,S56+V56+1)","v":"2017-02-09"},"2017-02-09",{"$f":"IF(T56>0,S56,Y56)","v":"2017-02-07"},{"$f":"IF(T56>0,Y56,S56)","v":"2017-02-09"},1,{"$f":"INT(Z56+AB56*(AA56-Z56))","v":"2017-02-09"},{"$f":"IF(AND(AB56<1,AC56<$DC$7),0,1)","v":1},null,null,{"$f":"IF(AND(AE56<>\"\",AF56<>\"\"),AF56/AE56,\"\")","v":""},{"$f":"AG56","v":""}]
[null,null,null,null,null,null,null,null,null,null,"2.4.5",null,"Purchase services",null,null,"Mary",{"$f":"IF(ISERROR(VLOOKUP(P57,Tools!$D$11:$J$57,7,FALSE)),\"\",VLOOKUP(P57,Tools!$D$11:$J$57,7,FALSE))","v":5},3,"2017-02-10",3,"j",3,"2017-02-14","2017-02-12","2017-02-12","2017-02-10","2017-02-12",1,"2017-02-12",1,5500,3200,0.58181818181818179,0.58181818181818179]
[null,null,null,null,null,null,null,null,null,null,"2.5",null,"Other services (transferts, guides, sherpas, etc)",null,null,"Mary",{"$f":"IF(ISERROR(VLOOKUP(P58,Tools!$D$11:$J$57,7,FALSE)),\"\",VLOOKUP(P58,Tools!$D$11:$J$57,7,FALSE))","v":5},2,{"$f":"MIN(Z59:Z63)","v":"2016-12-29"},{"$f":"Y58-S58+1","v":48},"j",48,"2017-03-06","2017-02-14",{"$f":"MAX(AA59:AA63)","v":"2017-02-14"},"2016-12-29","2017-02-14",1,"2017-02-14",1,{"$f":"SUM(AE59:AE64)","v":60100},{"$f":"SUM(AF59:AF64)","v":39610},0.65906821963394346,0.65906821963394346]
[null,null,null,null,null,null,null,null,null,null,"2.5.1",null,"Define required services & expectations",null,null,"Mary",{"$f":"IF(ISERROR(VLOOKUP(P59,Tools!$D$11:$J$57,7,FALSE)),\"\",VLOOKUP(P59,Tools!$D$11:$J$57,7,FALSE))","v":5},3,{"$f":"$Y$33+1","v":"2016-12-29"},3,"j",3,"2017-01-02","2016-12-31","2016-12-31","2016-12-29","2016-12-31",1,"2016-12-31",1,null,null,"",""]
[null,null,null,null,null,null,null,null,null,null,"2.5.2",null,"Request for quotation to different suppliers",null,null,"Mary",{"$f":"IF(ISERROR(VLOOKUP(P60,Tools!$D$11:$J$57,7,FALSE)),\"\",VLOOKUP(P60,Tools!$D$11:$J$57,7,FALSE))","v":5},3,{"$f":"Y59+1","v":"2017-01-01"},14,"j",14,"2017-01-19","2017-01-14","2017-01-14","2017-01-01","2017-01-14",1,"2017-01-14",1,100,110,1.1000000000000001,1.1000000000000001]
[null,null,null,null,null,null,null,null,null,null,"2.5.3",null,"Discuss & agree the best offer",null,null,"Mary",{"$f":"IF(ISERROR(VLOOKUP(P61,Tools!$D$11:$J$57,7,FALSE)),\"\",VLOOKUP(P61,Tools!$D$11:$J$57,7,FALSE))","v":5},3,"2017-01-15",21,"j",21,"2017-02-13","2017-02-04","2017-02-04","2017-01-15","2017-02-04",1,"2017-02-04",1,null,null,"",""]
[null,null,null,null,null,null,null,null,null,null,"2.5.4",null,"Check in details contract & legel requirements",null,null,"Mary",{"$f":"IF(ISERROR(VLOOKUP(P62,Tools!$D$11:$J$57,7,FALSE)),\"\",VLOOKUP(P62,Tools!$D$11:$J$57,7,FALSE))","v":5},3,"2017-02-05",7,"j",{"$f":"IF(U62=dur_type_d,T62,IF(U62=dur_type_w,IF(Work_D_Only_Bool,T62*5,T62*7),IF(U62=dur_type_m,IF(Work_D_Only_Bool,NETWORKDAYS.INTL(S62,DATE(YEAR(S62),MONTH(S62)+T62,DAY(S62)-1),WE_Days,Holiday_Days),DATE(YEAR(S62),MONTH(S62)+T62,DAY(S62))-S62),\"ERROR\")))","v":7},{"$f":"WORKDAY.INTL(S62,IF(V62>0,IF(OR(WEEKDAY(S62,2)>=6,COUNTIF(Holiday_Days,S62)>0),V62,V62-1),IF(OR(WEEKDAY(S62,2)>=6,COUNTIF(Holiday_Days,S62)>0),V62,V62+1)),HB$7,Holiday_Days)","v":"2017-02-14"},{"$f":"IF(V62>0,S62+V62-1,S62+V62+1)","v":"2017-02-11"},{"$f":"IF(S62<>\"\",IF($GE$7,W62,X62),\"\")","v":"2017-02-11"},{"$f":"IF(T62>0,S62,Y62)","v":"2017-02-05"},{"$f":"IF(T62>0,Y62,S62)","v":"2017-02-11"},1,{"$f":"INT(Z62+AB62*(AA62-Z62))","v":"2017-02-11"},{"$f":"IF(AND(AB62<1,AC62<$DC$7),0,1)","v":1},null,null,{"$f":"IF(AND(AE62<>\"\",AF62<>\"\"),AF62/AE62,\"\")","v":""},{"$f":"AG62","v":""}]
[null,null,null,null,null,null,null,null,null,null,"2.5.5",null,"Purchase services",null,null,"Mary",{"$f":"IF(ISERROR(VLOOKUP(P63,Tools!$D$11:$J$57,7,FALSE)),\"\",VLOOKUP(P63,Tools!$D$11:$J$57,7,FALSE))","v":5},3,"2017-02-12",3,"j",3,"2017-02-15","2017-02-14","2017-02-14","2017-02-12","2017-02-14",1,"2017-02-14",1,50000,38000,0.76,0.76]
[null,null,null,null,null,null,null,null,null,null,"2.6",null,"Misc.",null,null,"Mary",{"$f":"IF(ISERROR(VLOOKUP(P64,Tools!$D$11:$J$57,7,FALSE)),\"\",VLOOKUP(P64,Tools!$D$11:$J$57,7,FALSE))","v":5},2,{"$f":"MIN(Z65:Z69)","v":"2016-11-11"},3,"s",21,"2016-12-09",{"$f":"IF(V64>0,S64+V64-1,S64+V64+1)","v":"2016-12-01"},"2016-12-01",{"$f":"IF(T64>0,S64,Y64)","v":"2016-11-11"},{"$f":"IF(T64>0,Y64,S64)","v":"2016-12-01"},1,{"$f":"INT(Z64+AB64*(AA64-Z64))","v":"2016-12-01"},{"$f":"IF(AND(AB64<1,AC64<$DC$7),0,1)","v":1},10000,1500,{"$f":"IF(AND(AE64<>\"\",AF64<>\"\"),AF64/AE64,\"\")","v":0.15},{"$f":"AG64","v":0.15}]
[null,null,null,null,null,null,null,null,null,null,3,null,"Administration",null,null,null,null,1,{"$f":"MIN(Z66:Z79)","v":"2016-11-11"},{"$f":"Y65-S65+1","v":3},null,null,null,null,{"$f":"MAX(AA66:AA79)","v":"2016-11-13"},null,null,{"$f":"SUMPRODUCT(AA66:AA79,AB66:AB79)/SUM(AA66:AA79)","v":1},{"$f":"S65-1+AB65*T65","v":"2016-11-13"},{"$f":"IF(AB65<>\"\",IF(AND(AB65<1,AC65<$DC$7),0,1))","v":1},{"$f":"SUM(AE66:AE79)","v":1200},{"$f":"SUM(AF66:AF79)","v":600},{"$f":"IF(AND(AE65<>\"\",AF65<>\"\",AE65<>0),AF65/AE65,\"\")","v":0.5},0.5]
[null,null,null,null,null,null,null,null,null,null,"3.1",null,"Official documents",null,null,"Mary",{"$f":"IF(ISERROR(VLOOKUP(P66,Tools!$D$11:$J$57,7,FALSE)),\"\",VLOOKUP(P66,Tools!$D$11:$J$57,7,FALSE))","v":5},2,{"$f":"MIN(Z67:Z69)","v":"2016-11-11"},{"$f":"Y66-S66+1","v":3},"j",{"$f":"IF(U66=dur_type_d,T66,IF(U66=dur_type_w,IF(Work_D_Only_Bool,T66*5,T66*7),IF(U66=dur_type_m,IF(Work_D_Only_Bool,NETWORKDAYS.INTL(S66,DATE(YEAR(S66),MONTH(S66)+T66,DAY(S66)-1),WE_Days,Holiday_Days),DATE(YEAR(S66),MONTH(S66)+T66,DAY(S66))-S66),\"ERROR\")))","v":3},{"$f":"WORKDAY.INTL(S66,IF(V66>0,IF(OR(WEEKDAY(S66,2)>=6,COUNTIF(Holiday_Days,S66)>0),V66,V66-1),IF(OR(WEEKDAY(S66,2)>=6,COUNTIF(Holiday_Days,S66)>0),V66,V66+1)),HB$7,Holiday_Days)","v":"2016-11-15"},{"$f":"IF(V66>0,S66+V66-1,S66+V66+1)","v":"2016-11-13"},{"$f":"MAX(AA67:AA69)","v":"2016-11-13"},{"$f":"IF(T66>0,S66,Y66)","v":"2016-11-11"},{"$f":"IF(T66>0,Y66,S66)","v":"2016-11-13"},1,{"$f":"INT(Z66+AB66*(AA66-Z66))","v":"2016-11-13"},{"$f":"IF(AND(AB66<1,AC66<$DC$7),0,1)","v":1},100,50,{"$f":"IF(AND(AE66<>\"\",AF66<>\"\"),AF66/AE66,\"\")","v":0.5},{"$f":"AG66","v":0.5}]
[null,null,null,null,null,null,null,null,null,null,"3.1.1",null,"List of who need what (passport, driving license, etc)",null,null,"Mary",{"$f":"IF(ISERROR(VLOOKUP(P67,Tools!$D$11:$J$57,7,FALSE)),\"\",VLOOKUP(P67,Tools!$D$11:$J$57,7,FALSE))","v":5},3,"2016-11-11",3,"j",3,"2016-11-15","2016-11-13",{"$f":"IF(S67<>\"\",IF($GE$7,W67,X67),\"\")","v":"2016-11-13"},"2016-11-11","2016-11-13",1,"2016-11-13",1,100,50,0.5,0.5]
[null,null,null,null,null,null,null,null,null,null,"3.1.2",null,"Apply for missing documents",null,null,"Mary",{"$f":"IF(ISERROR(VLOOKUP(P68,Tools!$D$11:$J$57,7,FALSE)),\"\",VLOOKUP(P68,Tools!$D$11:$J$57,7,FALSE))","v":5},3,"2016-11-11",3,"j",3,"2016-11-15","2016-11-13","2016-11-13","2016-11-11","2016-11-13",1,"2016-11-13",1,100,50,0.5,0.5]
[null,null,null,null,null,null,null,null,null,null,"3.1.3",null,"Final check before cut-of date",null,null,"Mary",{"$f":"IF(ISERROR(VLOOKUP(P69,Tools!$D$11:$J$57,7,FALSE)),\"\",VLOOKUP(P69,Tools!$D$11:$J$57,7,FALSE))","v":5},3,"2016-11-11",3,"j",3,"2016-11-15","2016-11-13","2016-11-13","2016-11-11","2016-11-13",1,"2016-11-13",1,100,50,0.5,0.5]
[null,null,null,null,null,null,null,null,null,null,"MS",null,"Cut-off date for documents",null,null,null,null,0,"2016-11-13"]
[null,null,null,null,null,null,null,null,null,null,"3.2",null,"Visas",null,null,"Mary",{"$f":"IF(ISERROR(VLOOKUP(P71,Tools!$D$11:$J$57,7,FALSE)),\"\",VLOOKUP(P71,Tools!$D$11:$J$57,7,FALSE))","v":5},2,{"$f":"MIN(Z72:Z75)","v":"2016-11-11"},{"$f":"Y71-S71+1","v":3},"j",{"$f":"IF(U71=dur_type_d,T71,IF(U71=dur_type_w,IF(Work_D_Only_Bool,T71*5,T71*7),IF(U71=dur_type_m,IF(Work_D_Only_Bool,NETWORKDAYS.INTL(S71,DATE(YEAR(S71),MONTH(S71)+T71,DAY(S71)-1),WE_Days,Holiday_Days),DATE(YEAR(S71),MONTH(S71)+T71,DAY(S71))-S71),\"ERROR\")))","v":3},{"$f":"WORKDAY.INTL(S71,IF(V71>0,IF(OR(WEEKDAY(S71,2)>=6,COUNTIF(Holiday_Days,S71)>0),V71,V71-1),IF(OR(WEEKDAY(S71,2)>=6,COUNTIF(Holiday_Days,S71)>0),V71,V71+1)),HB$7,Holiday_Days)","v":"2016-11-15"},{"$f":"IF(V71>0,S71+V71-1,S71+V71+1)","v":"2016-11-13"},{"$f":"MAX(AA72:AA75)","v":"2016-11-13"},{"$f":"IF(T71>0,S71,Y71)","v":"2016-11-11"},{"$f":"IF(T71>0,Y71,S71)","v":"2016-11-13"},1,{"$f":"INT(Z71+AB71*(AA71-Z71))","v":"2016-11-13"},{"$f":"IF(AND(AB71<1,AC71<$DC$7),0,1)","v":1},100,50,{"$f":"IF(AND(AE71<>\"\",AF71<>\"\"),AF71/AE71,\"\")","v":0.5},0.5]
[null,null,null,null,null,null,null,null,null,null,"3.2.1",null,"Define which visas are required (incl. transits)",null,null,"Mary",{"$f":"IF(ISERROR(VLOOKUP(P72,Tools!$D$11:$J$57,7,FALSE)),\"\",VLOOKUP(P72,Tools!$D$11:$J$57,7,FALSE))","v":5},3,"2016-11-11",3,"j",3,"2016-11-15","2016-11-13",{"$f":"IF(S72<>\"\",IF($GE$7,W72,X72),\"\")","v":"2016-11-13"},"2016-11-11","2016-11-13",1,"2016-11-13",1,100,50,0.5,0.5]
[null,null,null,null,null,null,null,null,null,null,"3.2.2",null,"Get list of req. documents and lead time",null,null,"Mary",{"$f":"IF(ISERROR(VLOOKUP(P73,Tools!$D$11:$J$57,7,FALSE)),\"\",VLOOKUP(P73,Tools!$D$11:$J$57,7,FALSE))","v":5},3,"2016-11-11",3,"j",3,"2016-11-15","2016-11-13","2016-11-13","2016-11-11","2016-11-13",1,"2016-11-13",1,100,50,0.5,0.5]
[null,null,null,null,null,null,null,null,null,null,"3.2.3",null,"Apply for visa",null,null,"Mary",{"$f":"IF(ISERROR(VLOOKUP(P74,Tools!$D$11:$J$57,7,FALSE)),\"\",VLOOKUP(P74,Tools!$D$11:$J$57,7,FALSE))","v":5},3,"2016-11-11",3,"j",3,"2016-11-15","2016-11-13","2016-11-13","2016-11-11","2016-11-13",1,"2016-11-13",1,100,50,0.5,0.5]
[null,null,null,null,null,null,null,null,null,null,"3.2.4",null,"Final check before cut-of date",null,null,"Mary",{"$f":"IF(ISERROR(VLOOKUP(P75,Tools!$D$11:$J$57,7,FALSE)),\"\",VLOOKUP(P75,Tools!$D$11:$J$57,7,FALSE))","v":5},3,"2016-11-11",3,"j",3,"2016-11-15","2016-11-13","2016-11-13","2016-11-11","2016-11-13",1,"2016-11-13",1,100,50,0.5,0.5]
[null,null,null,null,null,null,null,null,null,null,"MS",null,"Cut-off date for visas",null,null,null,null,0,"2016-11-13"]
[null,null,null,null,null,null,null,null,null,null,"3.3",null,"Finance",null,null,"Mary",{"$f":"IF(ISERROR(VLOOKUP(P77,Tools!$D$11:$J$57,7,FALSE)),\"\",VLOOKUP(P77,Tools!$D$11:$J$57,7,FALSE))","v":5},2,{"$f":"MIN(Z78:Z79)","v":"2016-11-11"},{"$f":"Y77-S77+1","v":3},"j",{"$f":"IF(U77=dur_type_d,T77,IF(U77=dur_type_w,IF(Work_D_Only_Bool,T77*5,T77*7),IF(U77=dur_type_m,IF(Work_D_Only_Bool,NETWORKDAYS.INTL(S77,DATE(YEAR(S77),MONTH(S77)+T77,DAY(S77)-1),WE_Days,Holiday_Days),DATE(YEAR(S77),MONTH(S77)+T77,DAY(S77))-S77),\"ERROR\")))","v":3},{"$f":"WORKDAY.INTL(S77,IF(V77>0,IF(OR(WEEKDAY(S77,2)>=6,COUNTIF(Holiday_Days,S77)>0),V77,V77-1),IF(OR(WEEKDAY(S77,2)>=6,COUNTIF(Holiday_Days,S77)>0),V77,V77+1)),HB$7,Holiday_Days)","v":"2016-11-15"},{"$f":"IF(V77>0,S77+V77-1,S77+V77+1)","v":"2016-11-13"},{"$f":"MAX(AA78:AA79)","v":"2016-11-13"},{"$f":"IF(T77>0,S77,Y77)","v":"2016-11-11"},{"$f":"IF(T77>0,Y77,S77)","v":"2016-11-13"},1,{"$f":"INT(Z77+AB77*(AA77-Z77))","v":"2016-11-13"},{"$f":"IF(AND(AB77<1,AC77<$DC$7),0,1)","v":1},100,50,{"$f":"IF(AND(AE77<>\"\",AF77<>\"\"),AF77/AE77,\"\")","v":0.5},{"$f":"AG77","v":0.5}]
[null,null,null,null,null,null,null,null,null,null,"3.3.1",2,"Define a leader",null,null,"Mary",{"$f":"IF(ISERROR(VLOOKUP(P78,Tools!$D$11:$J$57,7,FALSE)),\"\",VLOOKUP(P78,Tools!$D$11:$J$57,7,FALSE))","v":5},3,"2016-11-11",3,"j",3,"2016-11-15","2016-11-13",{"$f":"IF(S78<>\"\",IF($GE$7,W78,X78),\"\")","v":"2016-11-13"},"2016-11-11","2016-11-13",1,"2016-11-13",1,100,50,0.5,0.5]
[null,null,null,null,null,null,null,null,null,null,"3.3.2",null,"Track & report budget in a monthly basis",null,null,"Mary",{"$f":"IF(ISERROR(VLOOKUP(P79,Tools!$D$11:$J$57,7,FALSE)),\"\",VLOOKUP(P79,Tools!$D$11:$J$57,7,FALSE))","v":5},3,"2016-11-11",3,"j",3,"2016-11-15","2016-11-13","2016-11-13","2016-11-11","2016-11-13",1,"2016-11-13",1,100,50,0.5,0.5]
[null,null,null,null,null,null,null,null,null,null,4,null,"Preparation",null,null,null,null,1,{"$f":"MIN(Z81:Z81)","v":"2017-02-19"},{"$f":"Y80-S80+1","v":28},null,null,null,null,{"$f":"MAX(AA81:AA81)","v":"2017-03-18"},null,null,{"$f":"SUMPRODUCT(AA81:AA81,AB81:AB81)/SUM(AA81:AA81)","v":0.9},{"$f":"S80-1+AB80*T80","v":"2017-03-15T04:48:00"},{"$f":"IF(AB80<>\"\",IF(AND(AB80<1,AC80<$DC$7),0,1))","v":0},{"$f":"SUM(AE81:AE81)","v":100},{"$f":"SUM(AF81:AF81)","v":3},{"$f":"IF(AND(AE80<>\"\",AF80<>\"\",AE80<>0),AF80/AE80,\"\")","v":0.03},0.03]
[null,null,null,null,null,null,null,null,null,null,"4.1",null,"Mental & Physical Preparation",null,null,"Mary",{"$f":"IF(ISERROR(VLOOKUP(P81,Tools!$D$11:$J$57,7,FALSE)),\"\",VLOOKUP(P81,Tools!$D$11:$J$57,7,FALSE))","v":5},2,{"$f":"Y34+1","v":"2017-02-19"},1,"m",{"$f":"IF(U81=dur_type_d,T81,IF(U81=dur_type_w,IF(Work_D_Only_Bool,T81*5,T81*7),IF(U81=dur_type_m,IF(Work_D_Only_Bool,NETWORKDAYS.INTL(S81,DATE(YEAR(S81),MONTH(S81)+T81,DAY(S81)-1),WE_Days,Holiday_Days),DATE(YEAR(S81),MONTH(S81)+T81,DAY(S81))-S81),\"ERROR\")))","v":28},{"$f":"WORKDAY.INTL(S81,IF(V81>0,IF(OR(WEEKDAY(S81,2)>=6,COUNTIF(Holiday_Days,S81)>0),V81,V81-1),IF(OR(WEEKDAY(S81,2)>=6,COUNTIF(Holiday_Days,S81)>0),V81,V81+1)),HB$7,Holiday_Days)","v":"2017-03-29"},{"$f":"IF(V81>0,S81+V81-1,S81+V81+1)","v":"2017-03-18"},{"$f":"IF(S81<>\"\",IF($GE$7,W81,X81),\"\")","v":"2017-03-18"},{"$f":"IF(T81>0,S81,Y81)","v":"2017-02-19"},{"$f":"IF(T81>0,Y81,S81)","v":"2017-03-18"},0.9,{"$f":"INT(Z81+AB81*(AA81-Z81))","v":"2017-03-15"},{"$f":"IF(AND(AB81<1,AC81<$DC$7),0,1)","v":0},100,3,{"$f":"IF(AND(AE81<>\"\",AF81<>\"\"),AF81/AE81,\"\")","v":0.03},0.03]
[null,null,null,null,null,null,null,null,null,null,5,null,"Travel to Lukla",null,null,null,null,1,{"$f":"MIN(Z83:Z85)","v":"2017-03-19"},{"$f":"Y82-S82+1","v":3},null,null,null,null,{"$f":"MAX(AA83:AA85)","v":"2017-03-21"},null,null,{"$f":"SUMPRODUCT(AA83:AA85,AB83:AB85)/SUM(AA83:AA85)","v":0},{"$f":"S82-1+AB82*T82","v":"2017-03-18"},{"$f":"IF(AB82<>\"\",IF(AND(AB82<1,AC82<$DC$7),0,1))","v":1},{"$f":"SUM(AE83:AE85)","v":300},{"$f":"SUM(AF83:AF85)","v":290},{"$f":"IF(AND(AE82<>\"\",AF82<>\"\",AE82<>0),AF82/AE82,\"\")","v":0.96666666666666667},0.96666666666666667]
[null,null,null,null,null,null,null,null,null,null,"5.1",null,"Meet at airport, greetings & check-in",null,null,"Mary",{"$f":"IF(ISERROR(VLOOKUP(P83,Tools!$D$11:$J$57,7,FALSE)),\"\",VLOOKUP(P83,Tools!$D$11:$J$57,7,FALSE))","v":5},2,{"$f":"Y81+1","v":"2017-03-19"},1,"j",{"$f":"IF(U83=dur_type_d,T83,IF(U83=dur_type_w,IF(Work_D_Only_Bool,T83*5,T83*7),IF(U83=dur_type_m,IF(Work_D_Only_Bool,NETWORKDAYS.INTL(S83,DATE(YEAR(S83),MONTH(S83)+T83,DAY(S83)-1),WE_Days,Holiday_Days),DATE(YEAR(S83),MONTH(S83)+T83,DAY(S83))-S83),\"ERROR\")))","v":1},{"$f":"WORKDAY.INTL(S83,IF(V83>0,IF(OR(WEEKDAY(S83,2)>=6,COUNTIF(Holiday_Days,S83)>0),V83,V83-1),IF(OR(WEEKDAY(S83,2)>=6,COUNTIF(Holiday_Days,S83)>0),V83,V83+1)),HB$7,Holiday_Days)","v":"2017-03-20"},{"$f":"IF(V83>0,S83+V83-1,S83+V83+1)","v":"2017-03-19"},{"$f":"IF(S83<>\"\",IF($GE$7,W83,X83),\"\")","v":"2017-03-19"},{"$f":"IF(T83>0,S83,Y83)","v":"2017-03-19"},{"$f":"IF(T83>0,Y83,S83)","v":"2017-03-19"},0,{"$f":"INT(Z83+AB83*(AA83-Z83))","v":"2017-03-19"},{"$f":"IF(AND(AB83<1,AC83<$DC$7),0,1)","v":1},100,20,{"$f":"IF(AND(AE83<>\"\",AF83<>\"\"),AF83/AE83,\"\")","v":0.2},0.2]
[null,null,null,null,null,null,null,null,null,null,"5.2",null,"Flight from NY to Kathmandu",null,null,"Mary",{"$f":"IF(ISERROR(VLOOKUP(P84,Tools!$D$11:$J$57,7,FALSE)),\"\",VLOOKUP(P84,Tools!$D$11:$J$57,7,FALSE))","v":5},2,{"$f":"S83","v":"2017-03-19"},2,"j",{"$f":"IF(U84=dur_type_d,T84,IF(U84=dur_type_w,IF(Work_D_Only_Bool,T84*5,T84*7),IF(U84=dur_type_m,IF(Work_D_Only_Bool,NETWORKDAYS.INTL(S84,DATE(YEAR(S84),MONTH(S84)+T84,DAY(S84)-1),WE_Days,Holiday_Days),DATE(YEAR(S84),MONTH(S84)+T84,DAY(S84))-S84),\"ERROR\")))","v":2},{"$f":"WORKDAY.INTL(S84,IF(V84>0,IF(OR(WEEKDAY(S84,2)>=6,COUNTIF(Holiday_Days,S84)>0),V84,V84-1),IF(OR(WEEKDAY(S84,2)>=6,COUNTIF(Holiday_Days,S84)>0),V84,V84+1)),HB$7,Holiday_Days)","v":"2017-03-21"},{"$f":"IF(V84>0,S84+V84-1,S84+V84+1)","v":"2017-03-20"},{"$f":"IF(S84<>\"\",IF($GE$7,W84,X84),\"\")","v":"2017-03-20"},{"$f":"IF(T84>0,S84,Y84)","v":"2017-03-19"},{"$f":"IF(T84>0,Y84,S84)","v":"2017-03-20"},0,"2017-03-19",{"$f":"IF(AND(AB84<1,AC84<$DC$7),0,1)","v":1},100,120,1.2,1.2]
[null,null,null,null,null,null,null,null,null,null,"5.3",null,"Flight from Kathmandu to Lukla",null,null,"Mary",{"$f":"IF(ISERROR(VLOOKUP(P85,Tools!$D$11:$J$57,7,FALSE)),\"\",VLOOKUP(P85,Tools!$D$11:$J$57,7,FALSE))","v":5},2,{"$f":"Y84+1","v":"2017-03-21"},1,"j",{"$f":"IF(U85=dur_type_d,T85,IF(U85=dur_type_w,IF(Work_D_Only_Bool,T85*5,T85*7),IF(U85=dur_type_m,IF(Work_D_Only_Bool,NETWORKDAYS.INTL(S85,DATE(YEAR(S85),MONTH(S85)+T85,DAY(S85)-1),WE_Days,Holiday_Days),DATE(YEAR(S85),MONTH(S85)+T85,DAY(S85))-S85),\"ERROR\")))","v":1},{"$f":"WORKDAY.INTL(S85,IF(V85>0,IF(OR(WEEKDAY(S85,2)>=6,COUNTIF(Holiday_Days,S85)>0),V85,V85-1),IF(OR(WEEKDAY(S85,2)>=6,COUNTIF(Holiday_Days,S85)>0),V85,V85+1)),HB$7,Holiday_Days)","v":"2017-03-21"},{"$f":"IF(V85>0,S85+V85-1,S85+V85+1)","v":"2017-03-21"},{"$f":"IF(S85<>\"\",IF($GE$7,W85,X85),\"\")","v":"2017-03-21"},{"$f":"IF(T85>0,S85,Y85)","v":"2017-03-21"},{"$f":"IF(T85>0,Y85,S85)","v":"2017-03-21"},0,"2017-03-21",{"$f":"IF(AND(AB85<1,AC85<$DC$7),0,1)","v":1},100,150,1.5,1.5]
[null,null,null,null,null,null,null,null,null,null,6,null,"Trek to the Base Camp",null,null,null,null,1,{"$f":"MIN(Z87:Z93)","v":"2017-03-22"},{"$f":"Y86-S86+1","v":13},null,null,null,null,{"$f":"MAX(AA87:AA93)","v":"2017-04-03"},null,null,{"$f":"SUMPRODUCT(AA87:AA93,AB87:AB93)/SUM(AA87:AA93)","v":2.8568616854479832E-2},{"$f":"S86-1+AB86*T86","v":"2017-03-21T08:54:48.270"},{"$f":"IF(AB86<>\"\",IF(AND(AB86<1,AC86<$DC$7),0,1))","v":1},{"$f":"SUM(AE87:AE93)","v":0},{"$f":"SUM(AF87:AF93)","v":0},{"$f":"IF(AND(AE86<>\"\",AF86<>\"\",AE86<>0),AF86/AE86,\"\")","v":""},{"$f":"AG86","v":""}]
[null,null,null,null,null,null,null,null,null,null,"6.1",null,"Trek from Lukla to Namche Bazaar",null,null,"Jade",{"$f":"IF(ISERROR(VLOOKUP(P87,Tools!$D$11:$J$57,7,FALSE)),\"\",VLOOKUP(P87,Tools!$D$11:$J$57,7,FALSE))","v":6},2,{"$f":"Y85+1","v":"2017-03-22"},3,"j",{"$f":"IF(U87=dur_type_d,T87,IF(U87=dur_type_w,IF(Work_D_Only_Bool,T87*5,T87*7),IF(U87=dur_type_m,IF(Work_D_Only_Bool,NETWORKDAYS.INTL(S87,DATE(YEAR(S87),MONTH(S87)+T87,DAY(S87)-1),WE_Days,Holiday_Days),DATE(YEAR(S87),MONTH(S87)+T87,DAY(S87))-S87),\"ERROR\")))","v":3},{"$f":"WORKDAY.INTL(S87,IF(V87>0,IF(OR(WEEKDAY(S87,2)>=6,COUNTIF(Holiday_Days,S87)>0),V87,V87-1),IF(OR(WEEKDAY(S87,2)>=6,COUNTIF(Holiday_Days,S87)>0),V87,V87+1)),HB$7,Holiday_Days)","v":"2017-03-24"},{"$f":"IF(V87>0,S87+V87-1,S87+V87+1)","v":"2017-03-24"},{"$f":"IF(S87<>\"\",IF($GE$7,W87,X87),\"\")","v":"2017-03-24"},{"$f":"IF(T87>0,S87,Y87)","v":"2017-03-22"},{"$f":"IF(T87>0,Y87,S87)","v":"2017-03-24"},0.1,{"$f":"INT(Z87+AB87*(AA87-Z87))","v":"2017-03-22"},{"$f":"IF(AND(AB87<1,AC87<$DC$7),0,1)","v":1},null,null,{"$f":"IF(AND(AE87<>\"\",AF87<>\"\"),AF87/AE87,\"\")","v":""},{"$f":"AG87","v":""}]
[null,null,null,null,null,null,null,null,null,null,"6.2",null,"3 nights acclimatization at Namche Bazaar",null,null,"Jade",{"$f":"IF(ISERROR(VLOOKUP(P88,Tools!$D$11:$J$57,7,FALSE)),\"\",VLOOKUP(P88,Tools!$D$11:$J$57,7,FALSE))","v":6},2,{"$f":"Y87+1","v":"2017-03-25"},3,"j",3,"2017-03-29","2017-03-27","2017-03-27","2017-03-25","2017-03-27",0.1,"2017-03-25",1,null,null,"",""]
[null,null,null,null,null,null,null,null,null,null,"6.3",null,"Namche Bazaar to Tengbouche",null,null,"Jade",{"$f":"IF(ISERROR(VLOOKUP(P89,Tools!$D$11:$J$57,7,FALSE)),\"\",VLOOKUP(P89,Tools!$D$11:$J$57,7,FALSE))","v":6},2,"2017-03-28",1,"j",1,"2017-03-28","2017-03-28","2017-03-28","2017-03-28","2017-03-28",0,"2017-03-28",1,null,null,"",""]
[null,null,null,null,null,null,null,null,null,null,"6.4",null,"Tengbouche to Dingbouche + 1 night acc.",null,null,"Jade",{"$f":"IF(ISERROR(VLOOKUP(P90,Tools!$D$11:$J$57,7,FALSE)),\"\",VLOOKUP(P90,Tools!$D$11:$J$57,7,FALSE))","v":6},2,"2017-03-29",2,"j",2,"2017-03-30","2017-03-30","2017-03-30","2017-03-29","2017-03-30",0,"2017-03-29",1,null,null,"",""]
[null,null,null,null,null,null,null,null,null,null,"6.5",null,"Dingbouche to Lobuche",null,null,"Jade",{"$f":"IF(ISERROR(VLOOKUP(P91,Tools!$D$11:$J$57,7,FALSE)),\"\",VLOOKUP(P91,Tools!$D$11:$J$57,7,FALSE))","v":6},2,"2017-03-31",2,"j",2,"2017-04-03","2017-04-01","2017-04-01","2017-03-31","2017-04-01",0,"2017-03-31",1,null,null,"",""]
[null,null,null,null,null,null,null,null,null,null,"6.6",null,"Lobuche to Gorak Shep",null,null,"Jade",{"$f":"IF(ISERROR(VLOOKUP(P92,Tools!$D$11:$J$57,7,FALSE)),\"\",VLOOKUP(P92,Tools!$D$11:$J$57,7,FALSE))","v":6},2,"2017-04-02",1,"j",1,"2017-04-03","2017-04-02","2017-04-02","2017-04-02","2017-04-02",0,"2017-04-02",1,null,null,"",""]
[null,null,null,null,null,null,null,null,null,null,"6.7",null,"Reach base camp",null,null,"Rony",{"$f":"IF(ISERROR(VLOOKUP(P93,Tools!$D$11:$J$57,7,FALSE)),\"\",VLOOKUP(P93,Tools!$D$11:$J$57,7,FALSE))","v":3},2,"2017-04-03",1,"j",1,"2017-04-03","2017-04-03","2017-04-03",{"$f":"IF(T93>0,S93,Y93)","v":"2017-04-03"},{"$f":"IF(T93>0,Y93,S93)","v":"2017-04-03"},0,"2017-04-03",{"$f":"IF(AND(AB93<1,AC93<$DC$7),0,1)","v":1},null,null,"",""]
[null,null,null,null,null,null,null,null,null,null,7,null,"On-site preparation",null,null,null,null,1,{"$f":"MIN(Z95:Z104)","v":"2017-04-04"},{"$f":"Y94-S94+1","v":13},null,null,{"$f":"WORKDAY.INTL(S94,IF(T94>0,IF(OR(WEEKDAY(S94,2)>=6,COUNTIF(Holiday_Days,S94)>0),T94,T94-1),IF(OR(WEEKDAY(S94,2)>=6,COUNTIF(Holiday_Days,S94)>0),T94,T94+1)),HB$7,Holiday_Days)","v":"2017-04-20"},{"$f":"IF(T94>0,S94+T94-1,S94+T94+1)","v":"2017-04-16"},{"$f":"MAX(AA95:AA104)","v":"2017-04-16"},"2017-04-04","2017-04-16",{"$f":"SUMPRODUCT(AA95:AA102,AB95:AB102)/SUM(AA95:AA102)","v":0},"2017-04-04",1,{"$f":"SUM(AE95:AE102)","v":0},{"$f":"SUM(AF95:AF102)","v":0},{"$error":"#DIV/0!"},{"$error":"#DIV/0!"}]
[null,null,null,null,null,null,null,null,null,null,"7.1",null,"Acclimatization Treks",null,null,"Sara",{"$f":"IF(ISERROR(VLOOKUP(P95,Tools!$D$11:$J$57,7,FALSE)),\"\",VLOOKUP(P95,Tools!$D$11:$J$57,7,FALSE))","v":2},2,{"$f":"MIN(Z96:Z101)","v":"2017-04-04"},{"$f":"Y95-S95+1","v":11},"j",{"$f":"IF(U95=dur_type_d,T95,IF(U95=dur_type_w,IF(Work_D_Only_Bool,T95*5,T95*7),IF(U95=dur_type_m,IF(Work_D_Only_Bool,NETWORKDAYS.INTL(S95,DATE(YEAR(S95),MONTH(S95)+T95,DAY(S95)-1),WE_Days,Holiday_Days),DATE(YEAR(S95),MONTH(S95)+T95,DAY(S95))-S95),\"ERROR\")))","v":11},{"$f":"WORKDAY.INTL(S95,IF(V95>0,IF(OR(WEEKDAY(S95,2)>=6,COUNTIF(Holiday_Days,S95)>0),V95,V95-1),IF(OR(WEEKDAY(S95,2)>=6,COUNTIF(Holiday_Days,S95)>0),V95,V95+1)),HB$7,Holiday_Days)","v":"2017-04-18"},{"$f":"IF(V95>0,S95+V95-1,S95+V95+1)","v":"2017-04-14"},{"$f":"MAX(AA96:AA101)","v":"2017-04-14"},"2017-04-04","2017-04-14",0,{"$f":"INT(Z95+AB95*(AA95-Z95))","v":"2017-04-04"},1,null,null,{"$f":"IF(AND(AE95<>\"\",AF95<>\"\"),AF95/AE95,\"\")","v":""},{"$f":"AG95","v":""}]
[null,null,null,null,null,null,null,null,null,null,"7.1.1",null,"Acclimatization Trek 1 (1x / day)",null,null,"Rony",{"$f":"IF(ISERROR(VLOOKUP(P96,Tools!$D$11:$J$57,7,FALSE)),\"\",VLOOKUP(P96,Tools!$D$11:$J$57,7,FALSE))","v":3},3,{"$f":"Y93+1","v":"2017-04-04"},4,"j",4,"2017-04-07","2017-04-07",{"$f":"IF(S96<>\"\",IF($GE$7,W96,X96),\"\")","v":"2017-04-07"},{"$f":"IF(T96>0,S96,Y96)","v":"2017-04-04"},{"$f":"IF(T96>0,Y96,S96)","v":"2017-04-07"},0,{"$f":"INT(Z96+AB96*(AA96-Z96))","v":"2017-04-04"},{"$f":"IF(AND(AB96<1,AC96<$DC$7),0,1)","v":1},null,null,{"$f":"IF(AND(AE96<>\"\",AF96<>\"\"),AF96/AE96,\"\")","v":""},{"$f":"AG96","v":""}]
[null,null,null,null,null,null,null,null,null,null,"7.1.2",2,"Acclimatization Trek 2",null,null,"Rony",{"$f":"IF(ISERROR(VLOOKUP(P97,Tools!$D$11:$J$57,7,FALSE)),\"\",VLOOKUP(P97,Tools!$D$11:$J$57,7,FALSE))","v":3},3,{"$f":"Y96+1","v":"2017-04-08"},1,"j",1,"2017-04-10","2017-04-08","2017-04-08",{"$f":"IF(T97>0,S97,Y97)","v":"2017-04-08"},{"$f":"IF(T97>0,Y97,S97)","v":"2017-04-08"},0,{"$f":"INT(Z97+AB97*(AA97-Z97))","v":"2017-04-08"},{"$f":"IF(AND(AB97<1,AC97<$DC$7),0,1)","v":1},null,null,{"$f":"IF(AND(AE97<>\"\",AF97<>\"\"),AF97/AE97,\"\")","v":""},{"$f":"AG97","v":""}]
[null,null,null,null,null,null,null,null,null,null,"7.1.3",null,"2 days rest",null,null,"Rony",{"$f":"IF(ISERROR(VLOOKUP(P98,Tools!$D$11:$J$57,7,FALSE)),\"\",VLOOKUP(P98,Tools!$D$11:$J$57,7,FALSE))","v":3},3,"2017-04-09",2,"j",2,"2017-04-11","2017-04-10","2017-04-10",{"$f":"IF(T98>0,S98,Y98)","v":"2017-04-09"},{"$f":"IF(T98>0,Y98,S98)","v":"2017-04-10"},0,{"$f":"INT(Z98+AB98*(AA98-Z98))","v":"2017-04-09"},{"$f":"IF(AND(AB98<1,AC98<$DC$7),0,1)","v":1},null,null,{"$f":"IF(AND(AE98<>\"\",AF98<>\"\"),AF98/AE98,\"\")","v":""},{"$f":"AG98","v":""}]
[null,null,null,null,null,null,null,null,null,null,"7.1.4",3,"Acclimatization Trek 3",null,null,"Rony",{"$f":"IF(ISERROR(VLOOKUP(P99,Tools!$D$11:$J$57,7,FALSE)),\"\",VLOOKUP(P99,Tools!$D$11:$J$57,7,FALSE))","v":3},3,"2017-04-11",1,"j",1,"2017-04-11","2017-04-11","2017-04-11","2017-04-11","2017-04-11",0,"2017-04-11",1,null,null,"",""]
[null,null,null,null,null,null,null,null,null,null,"7.1.5",2,"Acclimatization Trek 4",null,null,"Rony",{"$f":"IF(ISERROR(VLOOKUP(P100,Tools!$D$11:$J$57,7,FALSE)),\"\",VLOOKUP(P100,Tools!$D$11:$J$57,7,FALSE))","v":3},3,"2017-04-12",1,"j",1,"2017-04-12","2017-04-12","2017-04-12",{"$f":"IF(T100>0,S100,Y100)","v":"2017-04-12"},{"$f":"IF(T100>0,Y100,S100)","v":"2017-04-12"},0,{"$f":"INT(Z100+AB100*(AA100-Z100))","v":"2017-04-12"},{"$f":"IF(AND(AB100<1,AC100<$DC$7),0,1)","v":1},null,null,{"$f":"IF(AND(AE100<>\"\",AF100<>\"\"),AF100/AE100,\"\")","v":""},{"$f":"AG100","v":""}]
[null,null,null,null,null,null,null,null,null,null,"7.1.6",null,"2 days rest",null,null,"Rony",{"$f":"IF(ISERROR(VLOOKUP(P101,Tools!$D$11:$J$57,7,FALSE)),\"\",VLOOKUP(P101,Tools!$D$11:$J$57,7,FALSE))","v":3},3,"2017-04-13",2,"j",2,"2017-04-14","2017-04-14","2017-04-14","2017-04-13","2017-04-14",0,"2017-04-13",1,null,null,"",""]
[null,null,null,null,null,null,null,null,null,null,"7.2",null,"Equipment Preparation",null,null,"Rony",{"$f":"IF(ISERROR(VLOOKUP(P102,Tools!$D$11:$J$57,7,FALSE)),\"\",VLOOKUP(P102,Tools!$D$11:$J$57,7,FALSE))","v":3},2,"2017-04-15",1,"j",1,"2017-04-17","2017-04-15","2017-04-15","2017-04-15","2017-04-15",0,"2017-04-15",1,null,null,"",""]
[null,null,null,null,null,null,null,null,null,null,"7.3",null,"Emergency Response Drills",null,null,"Rony",{"$f":"IF(ISERROR(VLOOKUP(P103,Tools!$D$11:$J$57,7,FALSE)),\"\",VLOOKUP(P103,Tools!$D$11:$J$57,7,FALSE))","v":3},2,{"$f":"S102","v":"2017-04-15"},1,"j",1,"2017-04-17","2017-04-15","2017-04-15",{"$f":"IF(T103>0,S103,Y103)","v":"2017-04-15"},{"$f":"IF(T103>0,Y103,S103)","v":"2017-04-15"},0,{"$f":"INT(Z103+AB103*(AA103-Z103))","v":"2017-04-15"},{"$f":"IF(AND(AB103<1,AC103<$DC$7),0,1)","v":1},null,null,{"$f":"IF(AND(AE103<>\"\",AF103<>\"\"),AF103/AE103,\"\")","v":""},{"$f":"AG103","v":""}]
[null,null,null,null,null,null,null,null,null,null,"7.4",null,"1 day rest",null,null,"Rony",{"$f":"IF(ISERROR(VLOOKUP(P104,Tools!$D$11:$J$57,7,FALSE)),\"\",VLOOKUP(P104,Tools!$D$11:$J$57,7,FALSE))","v":3},2,{"$f":"Y103+1","v":"2017-04-16"},1,"j",1,"2017-04-17","2017-04-16","2017-04-16",{"$f":"IF(T104>0,S104,Y104)","v":"2017-04-16"},{"$f":"IF(T104>0,Y104,S104)","v":"2017-04-16"},0,{"$f":"INT(Z104+AB104*(AA104-Z104))","v":"2017-04-16"},{"$f":"IF(AND(AB104<1,AC104<$DC$7),0,1)","v":1},null,null,{"$f":"IF(AND(AE104<>\"\",AF104<>\"\"),AF104/AE104,\"\")","v":""},{"$f":"AG104","v":""}]
[null,null,null,null,null,null,null,null,null,null,8,null,"Everest Ascent",null,null,null,null,1,{"$f":"MIN(Z106:Z111)","v":"2017-04-17"},{"$f":"Y105-S105+1","v":7},null,null,null,null,{"$f":"MAX(AA106:AA111)","v":"2017-04-23"},null,null,{"$f":"SUMPRODUCT(AA106:AA111,AB106:AB111)/SUM(AA106:AA111)","v":0},{"$f":"S105-1+AB105*T105","v":"2017-04-16"},{"$f":"IF(AB105<>\"\",IF(AND(AB105<1,AC105<$DC$7),0,1))","v":1},{"$f":"SUM(AE106:AE111)","v":100},{"$f":"SUM(AF106:AF111)","v":70},{"$f":"IF(AND(AE105<>\"\",AF105<>\"\",AE105<>0),AF105/AE105,\"\")","v":0.7},0.7]
[null,null,null,null,null,null,null,null,null,null,"8.1",null,"Climb to Camp I (6,065m)",null,null,"Mary",{"$f":"IF(ISERROR(VLOOKUP(P106,Tools!$D$11:$J$57,7,FALSE)),\"\",VLOOKUP(P106,Tools!$D$11:$J$57,7,FALSE))","v":5},2,{"$f":"Y104+1","v":"2017-04-17"},1,"j",{"$f":"IF(U106=dur_type_d,T106,IF(U106=dur_type_w,IF(Work_D_Only_Bool,T106*5,T106*7),IF(U106=dur_type_m,IF(Work_D_Only_Bool,NETWORKDAYS.INTL(S106,DATE(YEAR(S106),MONTH(S106)+T106,DAY(S106)-1),WE_Days,Holiday_Days),DATE(YEAR(S106),MONTH(S106)+T106,DAY(S106))-S106),\"ERROR\")))","v":1},{"$f":"WORKDAY.INTL(S106,IF(V106>0,IF(OR(WEEKDAY(S106,2)>=6,COUNTIF(Holiday_Days,S106)>0),V106,V106-1),IF(OR(WEEKDAY(S106,2)>=6,COUNTIF(Holiday_Days,S106)>0),V106,V106+1)),HB$7,Holiday_Days)","v":"2017-04-17"},{"$f":"IF(V106>0,S106+V106-1,S106+V106+1)","v":"2017-04-17"},{"$f":"IF(S106<>\"\",IF($GE$7,W106,X106),\"\")","v":"2017-04-17"},{"$f":"IF(T106>0,S106,Y106)","v":"2017-04-17"},{"$f":"IF(T106>0,Y106,S106)","v":"2017-04-17"},0,{"$f":"INT(Z106+AB106*(AA106-Z106))","v":"2017-04-17"},{"$f":"IF(AND(AB106<1,AC106<$DC$7),0,1)","v":1},100,50,{"$f":"IF(AND(AE106<>\"\",AF106<>\"\"),AF106/AE106,\"\")","v":0.5},0.5]
[null,null,null,null,null,null,null,null,null,null,"8.2",3,"Climb to Camp II ABC (6,500m)",null,null,"Mary",{"$f":"IF(ISERROR(VLOOKUP(P107,Tools!$D$11:$J$57,7,FALSE)),\"\",VLOOKUP(P107,Tools!$D$11:$J$57,7,FALSE))","v":5},2,{"$f":"$AA106+1","v":"2017-04-18"},1,"j",1,"2017-04-18","2017-04-18","2017-04-18","2017-04-18","2017-04-18",0,"2017-04-18",1,null,20,"",""]
[null,null,null,null,null,null,null,null,null,null,"8.3",null,"Climb to Camp III (7,470m)",null,null,"Mary",{"$f":"IF(ISERROR(VLOOKUP(P108,Tools!$D$11:$J$57,7,FALSE)),\"\",VLOOKUP(P108,Tools!$D$11:$J$57,7,FALSE))","v":5},2,{"$f":"$AA107+1","v":"2017-04-19"},1,"j",1,"2017-04-19",{"$f":"IF(V108>0,S108+V108-1,S108+V108+1)","v":"2017-04-19"},"2017-04-19",{"$f":"IF(T108>0,S108,Y108)","v":"2017-04-19"},{"$f":"IF(T108>0,Y108,S108)","v":"2017-04-19"},0,{"$f":"INT(Z108+AB108*(AA108-Z108))","v":"2017-04-19"},{"$f":"IF(AND(AB108<1,AC108<$DC$7),0,1)","v":1},null,null,{"$f":"IF(AND(AE108<>\"\",AF108<>\"\"),AF108/AE108,\"\")","v":""},{"$f":"AG108","v":""}]
[null,null,null,null,null,null,null,null,null,null,"8.4",3,"Climb to Camp IV (7,920m)",null,null,"Mary",{"$f":"IF(ISERROR(VLOOKUP(P109,Tools!$D$11:$J$57,7,FALSE)),\"\",VLOOKUP(P109,Tools!$D$11:$J$57,7,FALSE))","v":5},2,{"$f":"$AA108+1","v":"2017-04-20"},1,"j",1,"2017-04-20",{"$f":"IF(V109>0,S109+V109-1,S109+V109+1)","v":"2017-04-20"},"2017-04-20",{"$f":"IF(T109>0,S109,Y109)","v":"2017-04-20"},{"$f":"IF(T109>0,Y109,S109)","v":"2017-04-20"},0,{"$f":"INT(Z109+AB109*(AA109-Z109))","v":"2017-04-20"},{"$f":"IF(AND(AB109<1,AC109<$DC$7),0,1)","v":1},null,null,{"$f":"IF(AND(AE109<>\"\",AF109<>\"\"),AF109/AE109,\"\")","v":""},{"$f":"AG109","v":""}]
[null,null,null,null,null,null,null,null,null,null,"8.5",3,"Summit push and descent to Camp IV",null,null,"Mary",{"$f":"IF(ISERROR(VLOOKUP(P110,Tools!$D$11:$J$57,7,FALSE)),\"\",VLOOKUP(P110,Tools!$D$11:$J$57,7,FALSE))","v":5},2,{"$f":"$AA109+1","v":"2017-04-21"},1,"j",1,"2017-04-21",{"$f":"IF(V110>0,S110+V110-1,S110+V110+1)","v":"2017-04-21"},"2017-04-21",{"$f":"IF(T110>0,S110,Y110)","v":"2017-04-21"},{"$f":"IF(T110>0,Y110,S110)","v":"2017-04-21"},0,{"$f":"INT(Z110+AB110*(AA110-Z110))","v":"2017-04-21"},{"$f":"IF(AND(AB110<1,AC110<$DC$7),0,1)","v":1},null,null,{"$f":"IF(AND(AE110<>\"\",AF110<>\"\"),AF110/AE110,\"\")","v":""},{"$f":"AG110","v":""}]
[null,null,null,null,null,null,null,null,null,null,"8.6",1,"Descent to Base Camp",null,null,"Mary",{"$f":"IF(ISERROR(VLOOKUP(P111,Tools!$D$11:$J$57,7,FALSE)),\"\",VLOOKUP(P111,Tools!$D$11:$J$57,7,FALSE))","v":5},2,{"$f":"$AA110+1","v":"2017-04-22"},2,"j",2,"2017-04-25",{"$f":"IF(V111>0,S111+V111-1,S111+V111+1)","v":"2017-04-23"},"2017-04-23",{"$f":"IF(T111>0,S111,Y111)","v":"2017-04-22"},{"$f":"IF(T111>0,Y111,S111)","v":"2017-04-23"},0,{"$f":"INT(Z111+AB111*(AA111-Z111))","v":"2017-04-22"},{"$f":"IF(AND(AB111<1,AC111<$DC$7),0,1)","v":1},null,null,{"$f":"IF(AND(AE111<>\"\",AF111<>\"\"),AF111/AE111,\"\")","v":""},{"$f":"AG111","v":""}]
[null,null,null,null,null,null,null,null,null,null,9,null,"Trek from the Base Camp to Lukla",null,null,null,null,1,{"$f":"MIN(Z113:Z115)","v":"2017-04-24"},{"$f":"Y112-S112+1","v":6},null,null,null,null,{"$f":"MAX(AA113:AA115)","v":"2017-04-29"},null,null,{"$f":"SUMPRODUCT(AA113:AA114,AB113:AB114)/SUM(AA113:AA114)","v":0},{"$f":"INT(Z112+AB112*(AA112-Z112))","v":"00:00:00"},0,{"$f":"SUM(AE113:AE114)","v":0},{"$f":"SUM(AF113:AF114)","v":0},{"$f":"IF(AND(AE112<>\"\",AF112<>\"\"),AF112/AE112,\"\")","v":{"$error":"#DIV/0!"}},{"$f":"AG112","v":{"$error":"#DIV/0!"}}]
[null,null,null,null,null,null,null,null,null,null,"9.1",null,"Trek from the base camp to Namche Bazaar",null,null,"Rony",{"$f":"IF(ISERROR(VLOOKUP(P113,Tools!$D$11:$J$57,7,FALSE)),\"\",VLOOKUP(P113,Tools!$D$11:$J$57,7,FALSE))","v":3},2,{"$f":"Y111+1","v":"2017-04-24"},3,"j",{"$f":"IF(U113=dur_type_d,T113,IF(U113=dur_type_w,IF(Work_D_Only_Bool,T113*5,T113*7),IF(U113=dur_type_m,IF(Work_D_Only_Bool,NETWORKDAYS.INTL(S113,DATE(YEAR(S113),MONTH(S113)+T113,DAY(S113)-1),WE_Days,Holiday_Days),DATE(YEAR(S113),MONTH(S113)+T113,DAY(S113))-S113),\"ERROR\")))","v":3},{"$f":"WORKDAY.INTL(S113,IF(V113>0,IF(OR(WEEKDAY(S113,2)>=6,COUNTIF(Holiday_Days,S113)>0),V113,V113-1),IF(OR(WEEKDAY(S113,2)>=6,COUNTIF(Holiday_Days,S113)>0),V113,V113+1)),HB$7,Holiday_Days)","v":"2017-04-26"},{"$f":"IF(V113>0,S113+V113-1,S113+V113+1)","v":"2017-04-26"},{"$f":"IF(S113<>\"\",IF($GE$7,W113,X113),\"\")","v":"2017-04-26"},{"$f":"IF(T113>0,S113,Y113)","v":"2017-04-24"},{"$f":"IF(T113>0,Y113,S113)","v":"2017-04-26"},0,{"$f":"INT(Z113+AB113*(AA113-Z113))","v":"2017-04-24"},{"$f":"IF(AND(AB113<1,AC113<$DC$7),0,1)","v":1},null,null,{"$f":"IF(AND(AE113<>\"\",AF113<>\"\"),AF113/AE113,\"\")","v":""},{"$f":"AG113","v":""}]
[null,null,null,null,null,null,null,null,null,null,"9.2",null,"Trek from Namche Bazaar to Lukla",null,null,"Rony",{"$f":"IF(ISERROR(VLOOKUP(P114,Tools!$D$11:$J$57,7,FALSE)),\"\",VLOOKUP(P114,Tools!$D$11:$J$57,7,FALSE))","v":3},2,{"$f":"Y113+1","v":"2017-04-27"},2,"j",{"$f":"IF(U114=dur_type_d,T114,IF(U114=dur_type_w,IF(Work_D_Only_Bool,T114*5,T114*7),IF(U114=dur_type_m,IF(Work_D_Only_Bool,NETWORKDAYS.INTL(S114,DATE(YEAR(S114),MONTH(S114)+T114,DAY(S114)-1),WE_Days,Holiday_Days),DATE(YEAR(S114),MONTH(S114)+T114,DAY(S114))-S114),\"ERROR\")))","v":2},{"$f":"WORKDAY.INTL(S114,IF(V114>0,IF(OR(WEEKDAY(S114,2)>=6,COUNTIF(Holiday_Days,S114)>0),V114,V114-1),IF(OR(WEEKDAY(S114,2)>=6,COUNTIF(Holiday_Days,S114)>0),V114,V114+1)),HB$7,Holiday_Days)","v":"2017-04-28"},{"$f":"IF(V114>0,S114+V114-1,S114+V114+1)","v":"2017-04-28"},{"$f":"IF(S114<>\"\",IF($GE$7,W114,X114),\"\")","v":"2017-04-28"},{"$f":"IF(T114>0,S114,Y114)","v":"2017-04-27"},{"$f":"IF(T114>0,Y114,S114)","v":"2017-04-28"},0,{"$f":"INT(Z114+AB114*(AA114-Z114))","v":"2017-04-27"},{"$f":"IF(AND(AB114<1,AC114<$DC$7),0,1)","v":1},null,null,{"$f":"IF(AND(AE114<>\"\",AF114<>\"\"),AF114/AE114,\"\")","v":""},{"$f":"AG114","v":""}]
[null,null,null,null,null,null,null,null,null,null,"9.3",null,"1 night rest at Lukla",null,null,"Rony",{"$f":"IF(ISERROR(VLOOKUP(P115,Tools!$D$11:$J$57,7,FALSE)),\"\",VLOOKUP(P115,Tools!$D$11:$J$57,7,FALSE))","v":3},2,{"$f":"Y114+1","v":"2017-04-29"},1,"j",{"$f":"IF(U115=dur_type_d,T115,IF(U115=dur_type_w,IF(Work_D_Only_Bool,T115*5,T115*7),IF(U115=dur_type_m,IF(Work_D_Only_Bool,NETWORKDAYS.INTL(S115,DATE(YEAR(S115),MONTH(S115)+T115,DAY(S115)-1),WE_Days,Holiday_Days),DATE(YEAR(S115),MONTH(S115)+T115,DAY(S115))-S115),\"ERROR\")))","v":1},{"$f":"WORKDAY.INTL(S115,IF(V115>0,IF(OR(WEEKDAY(S115,2)>=6,COUNTIF(Holiday_Days,S115)>0),V115,V115-1),IF(OR(WEEKDAY(S115,2)>=6,COUNTIF(Holiday_Days,S115)>0),V115,V115+1)),HB$7,Holiday_Days)","v":"2017-05-01"},{"$f":"IF(V115>0,S115+V115-1,S115+V115+1)","v":"2017-04-29"},{"$f":"IF(S115<>\"\",IF($GE$7,W115,X115),\"\")","v":"2017-04-29"},{"$f":"IF(T115>0,S115,Y115)","v":"2017-04-29"},{"$f":"IF(T115>0,Y115,S115)","v":"2017-04-29"},0,{"$f":"INT(Z115+AB115*(AA115-Z115))","v":"2017-04-29"},{"$f":"IF(AND(AB115<1,AC115<$DC$7),0,1)","v":1},null,null,{"$f":"IF(AND(AE115<>\"\",AF115<>\"\"),AF115/AE115,\"\")","v":""},{"$f":"AG115","v":""}]
[null,null,null,null,null,null,null,null,null,null,10,null,"Return travel",null,null,null,null,1,{"$f":"MIN(Z117:Z1117)","v":"2017-04-30"},{"$f":"Y116-S116+1","v":2},null,null,null,null,{"$f":"MAX(AA117:AA1117)","v":"2017-05-01"},null,null,{"$f":"SUMPRODUCT(AA117:AA120,AB117:AB120)/SUM(AA117:AA120)","v":0},{"$f":"S116-1+AB116*T116","v":"2017-04-29"},{"$f":"IF(AB116<>\"\",IF(AND(AB116<1,AC116<$DC$7),0,1))","v":1},{"$f":"SUM(AE117:AE120)","v":0},{"$f":"SUM(AF117:AF120)","v":0},{"$f":"IF(AND(AE116<>\"\",AF116<>\"\",AE116<>0),AF116/AE116,\"\")","v":""},{"$f":"AG116","v":""}]
[null,null,null,null,null,null,null,null,null,null,"10.1",null,"Flight from Lukla to Kathmandu",null,null,"Mary",{"$f":"IF(ISERROR(VLOOKUP(P117,Tools!$D$11:$J$57,7,FALSE)),\"\",VLOOKUP(P117,Tools!$D$11:$J$57,7,FALSE))","v":5},2,{"$f":"Y115+1","v":"2017-04-30"},1,"j",{"$f":"IF(U117=dur_type_d,T117,IF(U117=dur_type_w,IF(Work_D_Only_Bool,T117*5,T117*7),IF(U117=dur_type_m,IF(Work_D_Only_Bool,NETWORKDAYS.INTL(S117,DATE(YEAR(S117),MONTH(S117)+T117,DAY(S117)-1),WE_Days,Holiday_Days),DATE(YEAR(S117),MONTH(S117)+T117,DAY(S117))-S117),\"ERROR\")))","v":1},{"$f":"WORKDAY.INTL(S117,IF(V117>0,IF(OR(WEEKDAY(S117,2)>=6,COUNTIF(Holiday_Days,S117)>0),V117,V117-1),IF(OR(WEEKDAY(S117,2)>=6,COUNTIF(Holiday_Days,S117)>0),V117,V117+1)),HB$7,Holiday_Days)","v":"2017-05-01"},{"$f":"IF(V117>0,S117+V117-1,S117+V117+1)","v":"2017-04-30"},{"$f":"IF(S117<>\"\",IF($GE$7,W117,X117),\"\")","v":"2017-04-30"},{"$f":"IF(T117>0,S117,Y117)","v":"2017-04-30"},{"$f":"IF(T117>0,Y117,S117)","v":"2017-04-30"},0,{"$f":"INT(Z117+AB117*(AA117-Z117))","v":"2017-04-30"},{"$f":"IF(AND(AB117<1,AC117<$DC$7),0,1)","v":1},null,null,{"$f":"IF(AND(AE117<>\"\",AF117<>\"\"),AF117/AE117,\"\")","v":""},""]
[null,null,null,null,null,null,null,null,null,null,"10.2",null,"12h connection time : free time for the team",null,null,"Mary",{"$f":"IF(ISERROR(VLOOKUP(P118,Tools!$D$11:$J$57,7,FALSE)),\"\",VLOOKUP(P118,Tools!$D$11:$J$57,7,FALSE))","v":5},2,{"$f":"Y115+1","v":"2017-04-30"},1,"j",{"$f":"IF(U118=dur_type_d,T118,IF(U118=dur_type_w,IF(Work_D_Only_Bool,T118*5,T118*7),IF(U118=dur_type_m,IF(Work_D_Only_Bool,NETWORKDAYS.INTL(S118,DATE(YEAR(S118),MONTH(S118)+T118,DAY(S118)-1),WE_Days,Holiday_Days),DATE(YEAR(S118),MONTH(S118)+T118,DAY(S118))-S118),\"ERROR\")))","v":1},{"$f":"WORKDAY.INTL(S118,IF(V118>0,IF(OR(WEEKDAY(S118,2)>=6,COUNTIF(Holiday_Days,S118)>0),V118,V118-1),IF(OR(WEEKDAY(S118,2)>=6,COUNTIF(Holiday_Days,S118)>0),V118,V118+1)),HB$7,Holiday_Days)","v":"2017-05-01"},{"$f":"IF(V118>0,S118+V118-1,S118+V118+1)","v":"2017-04-30"},{"$f":"IF(S118<>\"\",IF($GE$7,W118,X118),\"\")","v":"2017-04-30"},{"$f":"IF(T118>0,S118,Y118)","v":"2017-04-30"},{"$f":"IF(T118>0,Y118,S118)","v":"2017-04-30"},0,{"$f":"INT(Z118+AB118*(AA118-Z118))","v":"2017-04-30"},{"$f":"IF(AND(AB118<1,AC118<$DC$7),0,1)","v":1},null,null,{"$f":"IF(AND(AE118<>\"\",AF118<>\"\"),AF118/AE118,\"\")","v":""},{"$f":"AG118","v":""}]
[null,null,null,null,null,null,null,null,null,null,"10.3",null,"Flight from Kathmandu to NY",null,null,"Mary",{"$f":"IF(ISERROR(VLOOKUP(P119,Tools!$D$11:$J$57,7,FALSE)),\"\",VLOOKUP(P119,Tools!$D$11:$J$57,7,FALSE))","v":5},2,{"$f":"Y118","v":"2017-04-30"},2,"j",{"$f":"IF(U119=dur_type_d,T119,IF(U119=dur_type_w,IF(Work_D_Only_Bool,T119*5,T119*7),IF(U119=dur_type_m,IF(Work_D_Only_Bool,NETWORKDAYS.INTL(S119,DATE(YEAR(S119),MONTH(S119)+T119,DAY(S119)-1),WE_Days,Holiday_Days),DATE(YEAR(S119),MONTH(S119)+T119,DAY(S119))-S119),\"ERROR\")))","v":2},{"$f":"WORKDAY.INTL(S119,IF(V119>0,IF(OR(WEEKDAY(S119,2)>=6,COUNTIF(Holiday_Days,S119)>0),V119,V119-1),IF(OR(WEEKDAY(S119,2)>=6,COUNTIF(Holiday_Days,S119)>0),V119,V119+1)),HB$7,Holiday_Days)","v":"2017-05-02"},{"$f":"IF(V119>0,S119+V119-1,S119+V119+1)","v":"2017-05-01"},{"$f":"IF(S119<>\"\",IF($GE$7,W119,X119),\"\")","v":"2017-05-01"},{"$f":"IF(T119>0,S119,Y119)","v":"2017-04-30"},{"$f":"IF(T119>0,Y119,S119)","v":"2017-05-01"},0,"2017-04-30",{"$f":"IF(AND(AB119<1,AC119<$DC$7),0,1)","v":1},null,null,"",""]
[null,null,null,null,null,null,null,null,null,null,"10.4",null,"Greetings",null,null,"Mary",{"$f":"IF(ISERROR(VLOOKUP(P120,Tools!$D$11:$J$57,7,FALSE)),\"\",VLOOKUP(P120,Tools!$D$11:$J$57,7,FALSE))","v":5},2,{"$f":"Y119","v":"2017-05-01"},1,"j",{"$f":"IF(U120=dur_type_d,T120,IF(U120=dur_type_w,IF(Work_D_Only_Bool,T120*5,T120*7),IF(U120=dur_type_m,IF(Work_D_Only_Bool,NETWORKDAYS.INTL(S120,DATE(YEAR(S120),MONTH(S120)+T120,DAY(S120)-1),WE_Days,Holiday_Days),DATE(YEAR(S120),MONTH(S120)+T120,DAY(S120))-S120),\"ERROR\")))","v":1},{"$f":"WORKDAY.INTL(S120,IF(V120>0,IF(OR(WEEKDAY(S120,2)>=6,COUNTIF(Holiday_Days,S120)>0),V120,V120-1),IF(OR(WEEKDAY(S120,2)>=6,COUNTIF(Holiday_Days,S120)>0),V120,V120+1)),HB$7,Holiday_Days)","v":"2017-05-01"},{"$f":"IF(V120>0,S120+V120-1,S120+V120+1)","v":"2017-05-01"},{"$f":"IF(S120<>\"\",IF($GE$7,W120,X120),\"\")","v":"2017-05-01"},{"$f":"IF(T120>0,S120,Y120)","v":"2017-05-01"},{"$f":"IF(T120>0,Y120,S120)","v":"2017-05-01"},0,"2017-05-01",{"$f":"IF(AND(AB120<1,AC120<$DC$7),0,1)","v":1},null,null,"",""]

{"sheet":"Tools","index":3,"n_rows":18,"n_cols":10,"rows_kept":18,"cut":false,"hidden":false,"merged":[[8,3,8,9]]}
[]
[]
[]
[]
[]
[]
[]
[]
[null,"Jours de congé",null,"Equipe projet"]
[null,"2014-01-01",null,"Diminutif","Nom complet","Entreprise","Division","Email","Téléphone","Couleurs"]
[null,"2014-05-01",null,"Gibs","Gibs Solar","ABC Company","Project Leader","gibs.solar@abc.com","05-777-4556",1]
[null,"2014-12-25",null,"Sara","Sara Donaldson","ABC Company","Purchasing","sara.donaldson@abc.com","05-777-8904",2]
[null,null,null,"Mary","Mary Nichols","ABC Company","PE","mary.nichols@abc.com","05-777-4905",5]
[null,null,null,"Jade","Jade Rendal","ABC Company","QC","jade.rendal@abc.com","05-777-3489",6]
[null,null,null,"Reda","Reda Achraf","ABC Company","Marketing","reda.achraf@abc.com","05-777-3456",7]
[null,null,null,"Mike","Mike Tran","ABC Company","A&F","mike.tran@abc.com","05-777-2354"]
[null,null,null,"Rony","Rony Barlen","ABC Company","R&D","rony.barlen@abc.com","05-777-3453",3]
[null,null,null,"Leo","Leo Zadna","Supplier XYZ","Manufacturing","leo.zadna@xyz.com","09-333-6533"]

{"sheet":"Dashboard","index":4,"n_rows":2017,"n_cols":89,"rows_kept":2017,"cut":false,"hidden":false,"merged":[[15,16,15,21],[15,22,15,29],[58,48,58,59],[58,60,58,62],[6,14,6,15],[3,0,3,1],[4,0,4,1],[5,0,5,1],[6,0,6,1],[7,0,7,1],[8,0,8,1],[9,0,9,1],[10,0,10,1],[11,0,11,1],[12,0,12,1],[58,85,58,87],[58,88,58,92],[59,60,59,62],[59,63,59,66],[59,67,59,69],[59,70,59,73],[59,74,59,77],[59,78,59,81],[59,82,59,84],[59,85,59,87],[58,63,58,66],[58,67,58,69],[58,70,58,73],[58,74,58,77],[58,78,58,81],[58,82,58,84],[59,88,59,92],[60,60,60,62],[60,63,60,66],[60,67,60,69],[60,70,60,73],[60,74,60,77],[60,78,60,81],[60,82,60,84],[60,85,60,87],[60,88,60,92],[61,82,61,84],[61,85,61,87],[61,88,61,92],[62,60,62,62],[62,63,62,66],[62,67,62,69],[62,70,62,73],[62,74,62,77],[62,78,62,81],[62,82,62,84],[61,60,61,62],[61,63,61,66],[61,67,61,69],[61,70,61,73],[61,74,61,77],[61,78,61,81],[62,85,62,87],[62,88,62,92],[63,60,63,62],[63,63,63,66],[63,67,63,69],[63,70,63,73],[63,74,63,77],[63,78,63,81],[63,82,63,84],[63,85,63,87],[63,88,63,92],[64,60,64,62],[64,63,64,66],[64,67,64,69],[64,70,64,73],[64,74,64,77],[64,78,64,81],[64,82,64,84],[64,85,64,87],[64,88,64,92],[65,82,65,84],[65,85,65,87],[65,88,65,92],[66,60,66,62],[66,63,66,66],[66,67,66,69],[66,70,66,73],[66,74,66,77],[66,78,66,81],[66,82,66,84],[65,60,65,62],[65,63,65,66],[65,67,65,69],[65,70,65,73],[65,74,65,77],[65,78,65,81],[66,85,66,87],[66,88,66,92],[67,60,67,62],[67,63,67,66],[67,67,67,69],[67,70,67,73],[67,74,67,77],[67,78,67,81],[67,82,67,84],[67,85,67,87],[67,88,67,92],[68,60,68,62],[68,63,68,66],[68,67,68,69],[68,70,68,73],[68,74,68,77],[68,78,68,81],[68,82,68,84],[68,85,68,87],[68,88,68,92],[69,82,69,84],[69,85,69,87],[69,88,69,92],[70,60,70,62],[70,63,70,66],[70,67,70,69],[70,70,70,73],[70,74,70,77],[70,78,70,81],[70,82,70,84],[69,60,69,62],[69,63,69,66],[69,67,69,69],[69,70,69,73],[69,74,69,77],[69,78,69,81],[70,85,70,87],[70,88,70,92],[71,60,71,62],[71,63,71,66],[71,67,71,69],[71,70,71,73],[71,74,71,77],[71,78,71,81],[71,82,71,84],[71,85,71,87],[71,88,71,92],[72,60,72,62],[72,63,72,66],[72,67,72,69],[72,70,72,73],[72,74,72,77],[72,78,72,81],[72,82,72,84],[72,85,72,87],[72,88,72,92],[73,82,73,84],[73,85,73,87],[73,88,73,92],[74,60,74,62],[74,63,74,66],[74,67,74,69],[74,70,74,73],[74,74,74,77],[74,78,74,81],[74,82,74,84],[73,60,73,62],[73,63,73,66],[73,67,73,69],[73,70,73,73],[73,74,73,77],[73,78,73,81],[74,85,74,87],[74,88,74,92],[75,60,75,62],[75,63,75,66],[75,67,75,69],[75,70,75,73],[75,74,75,77],[75,78,75,81],[75,82,75,84],[75,85,75,87],[75,88,75,92],[76,60,76,62],[76,63,76,66],[76,67,76,69],[76,70,76,73],[76,74,76,77],[76,78,76,81],[76,82,76,84],[76,85,76,87],[76,88,76,92],[77,82,77,84],[77,85,77,87],[77,88,77,92],[78,60,78,62],[78,63,78,66],[78,67,78,69],[78,70,78,73],[78,74,78,77],[78,78,78,81],[78,82,78,84],[77,60,77,62],[77,63,77,66],[77,67,77,69],[77,70,77,73],[77,74,77,77],[77,78,77,81],[78,85,78,87],[78,88,78,92],[79,60,79,62],[79,63,79,66],[79,67,79,69],[79,70,79,73],[79,74,79,77],[79,78,79,81],[79,82,79,84],[79,85,79,87],[79,88,79,92],[80,60,80,62],[80,63,80,66],[80,67,80,69],[80,70,80,73],[80,74,80,77],[80,78,80,81],[80,82,80,84],[80,85,80,87],[80,88,80,92],[81,82,81,84],[81,85,81,87],[81,88,81,92],[82,60,82,62],[82,63,82,66],[82,67,82,69],[82,70,82,73],[82,74,82,77],[82,78,82,81],[82,82,82,84],[81,60,81,62],[81,63,81,66],[81,67,81,69],[81,70,81,73],[81,74,81,77],[81,78,81,81],[82,85,82,87],[82,88,82,92],[83,60,83,62],[83,63,83,66],[83,67,83,69],[83,70,83,73],[83,74,83,77],[83,78,83,81],[83,82,83,84],[83,85,83,87],[83,88,83,92],[84,60,84,62],[84,63,84,66],[84,67,84,69],[84,70,84,73],[84,74,84,77],[84,78,84,81],[84,82,84,84],[84,85,84,87],[84,88,84,92],[85,82,85,84],[85,85,85,87],[85,88,85,92],[86,60,86,62],[86,63,86,66],[86,67,86,69],[86,70,86,73],[86,74,86,77],[86,78,86,81],[86,82,86,84],[85,60,85,62],[85,63,85,66],[85,67,85,69],[85,70,85,73],[85,74,85,77],[85,78,85,81],[86,85,86,87],[86,88,86,92],[87,60,87,62],[87,63,87,66],[87,67,87,69],[87,70,87,73],[87,74,87,77],[87,78,87,81],[87,82,87,84],[87,85,87,87],[87,88,87,92],[88,60,88,62],[88,63,88,66],[88,67,88,69],[88,70,88,73],[88,74,88,77],[88,78,88,81],[88,82,88,84],[88,85,88,87],[88,88,88,92]]}
["Gantt Chart Raw Data"]
[null,null,null,null,null,null,null,null,null,null,null,null,null,null,null,null,null,null,null,null,null,null,null,null,null,null,null,null,null,null,null,null,null,"Keep","VRAI"]
["Overall",null,null,null,null,"Budget","Overall","YTD",null,"Task Progress","Count","Duration","%",null,"Flags",null,null,null,"Budget","Plan","Actual","Count",null,null,null,null,null,null,null,null,null,"Team Members"]
["Sheet Name",null,"Everest Example",null,null,"Plan",{"$f":"SUM(Y18:Y2000)","v":123600},{"$f":"SUM(AC18:AC2000)","v":123192.85714285714},null,"On-going",{"$f":"COUNTIF($S$18:$S$2000,1)","v":33},{"$f":"SUMIF(S$18:S$2000,1,$L$18:$L$2000)","v":50},{"$f":"K4/$K$9","v":0.31132075471698112},null,"Red",1,{"$f":"COUNTIF($C$18:$C$2000,P4)","v":1},null,"Under-spending",{"$f":"SUMIF(AD$18:AD$2000,S4,$AC$18:$AC$2000)","v":123092.85714285714},{"$f":"SUMIF(AD$18:AD$2000,S4,$Z$18:$Z$2000)","v":90233},{"$f":"COUNTIF($AD$18:$AD$2000,S4)","v":70},null,null,null,null,null,null,null,null,null,{"$f":"IF(AH6<>\"\",AH6,\"\")","v":"Mary"},null,"Count of Task Status","Étiquettes de colonnes"]
["Baseline",null,{"$f":"'Everest Example'!Red_Bookmark","v":"2017-03-17"},null,null,"Actual",{"$f":"SUM(Z18:Z2000)","v":90703},{"$f":"G5","v":90703},null,"Delay",{"$f":"COUNTIF($R$18:$R$2000,1)","v":0},{"$f":"SUMIF(R$18:R$2000,1,$L$18:$L$2000)","v":0},{"$f":"K5/$K$9","v":0},null,"Yellow",2,{"$f":"COUNTIF($C$18:$C$2000,P5)","v":6},null,"Over-Spending",{"$f":"SUMIF(AD$18:AD$2000,S5,$AC$18:$AC$2000)","v":100},{"$f":"SUMIF(AD$18:AD$2000,S5,$Z$18:$Z$2000)","v":470},{"$f":"COUNTIF($AD$18:$AD$2000,S5)","v":6},null,null,null,null,null,null,null,null,null,{"$f":"IF(AH7<>\"\",AH7,\"\")","v":"Rony"},null,"Étiquettes de lignes","On-going","Completed","Not Started","Total général"]
["Start date",null,{"$f":"MIN(J18:J2000)","v":"2016-11-02"},null,null,"%",{"$f":"G5/G4","v":0.73384304207119744},{"$f":"H5/H4","v":0.73626833652229373},null,"Not started",{"$f":"COUNTIF($Q$18:$Q$2000,1)","v":30},{"$f":"SUMIF(Q$18:Q$2000,1,$L$18:$L$2000)","v":43},{"$f":"K6/$K$9","v":0.28301886792452829},null,"Green",3,{"$f":"COUNTIF($C$18:$C$2000,P6)","v":4},null,"Not Started",{"$f":"SUMIF(AD$18:AD$2000,S6,$AC$18:$AC$2000)","v":0},{"$f":"SUMIF(AD$18:AD$2000,S6,$Z$18:$Z$2000)","v":0},{"$f":"COUNTIF($AD$18:$AD$2000,S6)","v":0},null,null,null,null,null,null,null,null,null,"Jade",null,"Mary",1,34,13,48]
["End date",null,{"$f":"MAX(M18:M2000)","v":"2017-05-01"},null,null,null,null,null,null,"Completed",{"$f":"COUNTIF($T$18:$T$2000,1)","v":43},{"$f":"SUMIF(T$18:T$2000,1,$L$18:$L$2000)","v":319},{"$f":"K7/$K$9","v":0.40566037735849059},null,"Total",null,{"$f":"SUM(Q4:Q6)","v":11},null,null,null,null,null,null,null,null,null,null,null,null,null,null,"",null,"Rony",null,3,13,16]
["Today",null,{"$f":"TODAY()","v":"2017-06-06"},null,null,null,null,null,null,"Unknown",{"$f":"COUNTIF($U$18:$U$2000,1)","v":0},{"$f":"SUMIF(U$18:U$2000,1,$L$18:$L$2000)","v":0},{"$f":"K8/$K$9","v":0},null,null,null,null,null,null,null,null,null,null,null,null,null,null,null,null,null,null,"",null,"Jade",2,6,4,12]
["Days since started",null,{"$f":"C8-C6","v":216},null,null,null,null,null,null,"Total",{"$f":"SUM(K4:K8)","v":106},{"$f":"SUM(L4:L8)","v":412},{"$f":"SUM(M4:M8)","v":1},null,null,null,null,null,"Total",{"$f":"SUM(T4:T8)","v":123192.85714285714},{"$f":"SUM(U4:U8)","v":90703},{"$f":"SUM(V4:V8)","v":76},null,null,null,null,null,null,null,null,null,""]
["Days till completion started",null,{"$f":"C7-C8","v":-36},null,null,null,null,null,null,null,null,null,null,null,null,null,null,null,null,null,null,null,null,null,null,null,null,null,null,null,null,""]
["Tasks completed",null,{"$f":"K7","v":43},null,null,null,null,null,null,null,null,null,null,null,null,null,null,null,null,null,null,null,null,null,null,null,null,null,null,null,null,""]
["Tasks open",null,{"$f":"K9-K7","v":63},null,null,null,null,null,null,null,null,null,null,null,null,null,null,null,null,null,null,null,null,null,null,null,null,null,null,null,null,""]
["Project Title",null,"2017 Everest Ascent Project",null,null,null,null,null,null,null,null,null,null,null,null,null,null,null,null,null,null,null,null,null,null,null,null,null,null,null,null,""]
[null,"Tasks List",null,null,null,null,null,null,null,null,null,null,null,null,null,null,null,null,null,null,null,null,null,null,null,null,null,null,null,null,null,""]
[null,"K","L",null,"M",null,"R",null,"P","Z",null,"T","AA",null,"AC","AB",null,null,null,null,null,null,"AE","AF",null,null,null,null,null,null,null,""]
[null,null,null,null,null,null,null,null,null,null,null,null,null,null,null,null,"Task Status",null,null,null,null,null,"Budget",null,null,null,null,null,null,null,null,""]
["ID","Task ID","Flag Data","Flag","Task","Task Title","Task Level","Keep","Leader","Start Date 1","Start Date","Duration","End Date 1","End Date","Progress Date","Progress","Not Started","Delay","On-going","Completed","Unknown","Task Status","Target 1","Actual 1","Target","Actual","%","YTD %","YTD","Budget Status",null,""]
[1,1,null,{"$f":"IF(H18,IF(C18=1,\"Red\",IF(C18=2,\"Yellow\",IF(C18=3,\"Green\",\"No Flag\"))),\"\")","v":""},"Project Kick-off",{"$f":"B18& \" \"&E18","v":"1 Project Kick-off"},1,{"$f":"AND(G18>=2,J18<>\"\",M18<>\"\",NOT(OR(AND(G18=1,G19=2),AND(G18=2,G19=3))))","v":false},null,null,{"$f":"IF(J18<>\"\",LocateDate(J18),\"\")","v":""},57,null,{"$f":"LocateDate(M18)","v":""},"2016-12-28",1,{"$f":"IF(H18,IF(AND($P18=0,$J18>Baseline),1,0),\"\")","v":""},{"$f":"IF(H18,IF(AND($P18<1,$J18<=Baseline, $M18<Baseline),1,0),\"\")","v":""},{"$f":"IF(H18,IF(AND($P18<1,$P18>=0,$M18>=Baseline),1,0),\"\")","v":""},{"$f":"IF(H18,IF($P18>=1,1,0),\"\")","v":""},{"$f":"IF(H18,IF(SUM(Q18:T18)=0,1,0),\"\")","v":""},{"$f":"IF(H18,IF(Q18,$Q$17,IF(R18,$R$17,IF(S18,$S$17,IF(T18,$T$17,IF(U18,$U$17,\"\"))))),\"\")","v":""},1300,810,{"$f":"IF(H18,W18,\"\")","v":""},{"$f":"IF(H18,X18,\"\")","v":""},{"$f":"IF(H18,IF(W18<>\"\",X18/W18,\"\"),\"\")","v":""},{"$f":"IF(H18,IF(AND(M18>=Baseline,J18<=Baseline),(Baseline-J18)/(M18-J18+1),IF(M18<=Baseline,1,0)),\"\")","v":""},{"$f":"IF(H18,AB18*W18,\"\")","v":""},{"$f":"IF(H18,IF(AND(X18<=AC18,AA18>0),\"Under-Spending\",IF(X18>AC18,\"Over-Spending\",IF(AA18=0,\"Not Started\",\"\"))),\"\")","v":""},null,""]
[2,1.1000000000000001,null,{"$f":"IF(H19,IF(C19=1,\"Red\",IF(C19=2,\"Yellow\",IF(C19=3,\"Green\",\"No Flag\"))),\"\")","v":""},"Initial brainstorming & Jump-Start",{"$f":"B19& \" \"&E19","v":"1,1 Initial brainstorming & Jump-Start"},2,{"$f":"AND(G19>=2,J19<>\"\",M19<>\"\",NOT(OR(AND(G19=1,G20=2),AND(G19=2,G20=3))))","v":false},"Jade","2016-11-02",{"$f":"IF(J19<>\"\",LocateDate(J19),\"\")","v":"7 months ago"},38,"2016-12-09",{"$f":"LocateDate(M19)","v":"6 months ago"},"2016-12-09",1,"","","",{"$f":"IF(H19,IF($P19>=1,1,0),\"\")","v":""},{"$f":"IF(H19,IF(SUM(Q19:T19)=0,1,0),\"\")","v":""},{"$f":"IF(H19,IF(Q19,$Q$17,IF(R19,$R$17,IF(S19,$S$17,IF(T19,$T$17,IF(U19,$U$17,\"\"))))),\"\")","v":""},800,450,{"$f":"IF(H19,W19,\"\")","v":""},{"$f":"IF(H19,X19,\"\")","v":""},{"$f":"IF(H19,IF(W19<>\"\",X19/W19,\"\"),\"\")","v":""},"",{"$f":"IF(H19,AB19*W19,\"\")","v":""},{"$f":"IF(H19,IF(AND(X19<=AC19,AA19>0),\"Under-Spending\",IF(X19>AC19,\"Over-Spending\",IF(AA19=0,\"Not Started\",\"\"))),\"\")","v":""},null,""]
[3,"1.1.1",null,"No Flag","Brainstorming about the potential ascent routes","1.1.1 Brainstorming about the potential ascent routes",3,true,"Jade","2016-11-02","7 months ago",7,"2016-11-08","7 months ago","2016-11-08",1,0,0,0,1,0,"Completed",null,null,0,0,"",1,{"$f":"IF(H20,AB20*W20,\"\")","v":0},{"$f":"IF(H20,IF(AND(X20<=AC20,AA20>0),\"Under-Spending\",IF(X20>AC20,\"Over-Spending\",IF(AA20=0,\"Not Started\",\"\"))),\"\")","v":"Under-Spending"},null,""]
[4,"1.1.2",null,"No Flag","Rough image about the time & schedule","1.1.2 Rough image about the time & schedule",3,true,"Jade","2016-11-09","7 months ago",5,"2016-11-13","7 months ago","2016-11-13",1,0,0,0,1,0,"Completed",null,null,0,0,"",1,0,"Under-Spending"]
[5,"1.1.3",null,"No Flag","Risks & Risk Management Ideas","1.1.3 Risks & Risk Management Ideas",3,true,"Jade","2016-11-14","7 months ago",6,"2016-11-19","7 months ago","2016-11-19",1,0,0,0,1,0,"Completed",null,null,0,0,"",1,0,"Under-Spending"]
[6,"1.1.4",null,"No Flag","Who is best at doing what in the team ?","1.1.4 Who is best at doing what in the team ?",3,true,"Jade","2016-11-20","7 months ago",7,"2016-11-26","7 months ago","2016-11-26",1,0,0,0,1,0,"Completed",null,null,0,0,"",1,0,"Under-Spending",null,null,null,"Keep","VRAI"]
[7,"1.1.5",null,"No Flag","Go & Meet People/Teams who did it","1.1.5 Go & Meet People/Teams who did it",3,true,"Jade","2016-11-27","7 months ago",7,"2016-12-03","6 months ago","2016-12-03",1,0,0,0,1,0,"Completed",800,450,800,450,0.5625,1,800,"Under-Spending"]
[8,"1.1.6",null,"No Flag","Ideas about funding & sponsoring","1.1.6 Ideas about funding & sponsoring",3,true,"Jade","2016-12-04","6 months ago",6,"2016-12-09","6 months ago","2016-12-09",1,0,0,0,1,0,"Completed",null,null,0,0,"",1,0,"Under-Spending",null,null,null,"Étiquettes de lignes","Task Title","Leader","Start Date","Duration","End Date","Flag Data","Flag","Target","Actual","Budget Status","Task Status","Progress"]
[9,1.2,null,"No Flag","Draft Project Outline with preliminary planning","1,2 Draft Project Outline with preliminary planning",2,true,"Rony","2016-12-10","6 months ago",14,"2016-12-23","6 months ago","2016-12-23",1,0,0,0,1,0,"Completed",200,180,200,180,0.9,1,200,"Under-Spending",null,null,null,3,"1.1.1 Brainstorming about the potential ascent routes","Jade","6 months ago",7,"6 months ago","(vide)","No Flag",0,0,"Under-Spending","Completed",1]
[10,1.3,null,"No Flag","Agree rough responsibility split & project leader","1,3 Agree rough responsibility split & project leader",2,true,"Rony","2016-12-24","6 months ago",4,"2016-12-27","6 months ago","2016-12-27",1,0,0,0,1,0,"Completed",null,null,0,0,"",1,0,"Under-Spending",null,null,null,4,"1.1.2 Rough image about the time & schedule","Jade","6 months ago",5,"6 months ago","(vide)","No Flag",0,0,"Under-Spending","Completed",1]
[11,1.4,null,"No Flag","Project Kick-off","1,4 Project Kick-off",2,true,"Rony","2016-12-28","6 months ago",1,"2016-12-28","6 months ago","2016-12-28",1,0,0,0,1,0,"Completed",300,180,300,180,0.6,1,300,"Under-Spending",null,null,null,5,"1.1.3 Risks & Risk Management Ideas","Jade","6 months ago",6,"6 months ago","(vide)","No Flag",0,0,"Under-Spending","Completed",1]
[12,2,null,"","Purchasing (Equipment & Services)","2 Purchasing (Equipment & Services)",1,false,null,null,"",100,null,"","2017-02-18",1,"","","","","","",130900,90580,"","","","","","",null,null,null,6,"1.1.4 Who is best at doing what in the team ?","Jade","6 months ago",7,"6 months ago","(vide)","No Flag",0,0,"Under-Spending","Completed",1]
[13,2.1,null,"","Equipment","2,1 Equipment",2,false,"Mary","2016-12-29","6 months ago",52,"2017-02-18","4 months ago","2017-02-18",1,"","","","","","",10100,8930,"","","","","","",null,null,null,7,"1.1.5 Go & Meet People/Teams who did it","Jade","6 months ago",7,"5 months ago","(vide)","No Flag",800,450,"Under-Spending","Completed",1]
[14,"2.1.1",null,"No Flag","Define a list of necessary equipments","2.1.1 Define a list of necessary equipments",3,true,"Mary","2016-12-29","6 months ago",4,"2017-01-01","5 months ago","2017-01-01",1,0,0,0,1,0,"Completed",null,null,0,0,"",1,0,"Under-Spending",null,null,null,8,"1.1.6 Ideas about funding & sponsoring","Jade","5 months ago",6,"5 months ago","(vide)","No Flag",0,0,"Under-Spending","Completed",1]
[15,"2.1.2",null,"No Flag","List of who need what","2.1.2 List of who need what",3,true,"Mary","2017-01-02","5 months ago",3,"2017-01-04","5 months ago","2017-01-04",1,0,0,0,1,0,"Completed",null,null,0,0,"",1,0,"Under-Spending",null,null,null,9,"1,2 Draft Project Outline with preliminary planning","Rony","5 months ago",14,"5 months ago","(vide)","No Flag",200,180,"Under-Spending","Completed",1]
[16,"2.1.3",null,"No Flag","Request for quotation to different suppliers","2.1.3 Request for quotation to different suppliers",3,true,"Mary","2017-01-05","5 months ago",14,"2017-01-18","5 months ago","2017-01-18",1,0,0,0,1,0,"Completed",100,30,100,30,0.3,1,100,"Under-Spending",null,null,null,10,"1,3 Agree rough responsibility split & project leader","Rony","5 months ago",4,"5 months ago","(vide)","No Flag",0,0,"Under-Spending","Completed",1]
[17,"2.1.4",null,"No Flag","Compare buy/rent/make","2.1.4 Compare buy/rent/make",3,true,"Mary","2017-01-19","5 months ago",7,"2017-01-25","5 months ago","2017-01-25",1,0,0,0,1,0,"Completed",null,null,0,0,"",1,0,"Under-Spending",null,null,null,11,"1,4 Project Kick-off","Rony","5 months ago",1,"5 months ago","(vide)","No Flag",300,180,"Under-Spending","Completed",1]
[18,"2.1.5",null,"No Flag","Discuss & agree final purchase list","2.1.5 Discuss & agree final purchase list",3,true,"Mary","2017-01-26","5 months ago",21,"2017-02-15","4 months ago","2017-02-15",1,0,0,0,1,0,"Completed",null,null,0,0,"",1,0,"Under-Spending",null,null,null,14,"2.1.1 Define a list of necessary equipments","Mary","5 months ago",4,"4 months ago","(vide)","No Flag",0,0,"Under-Spending","Completed",1]
[19,"2.1.6",null,"No Flag","Purchase equipment","2.1.6 Purchase equipment",3,true,"Mary","2017-02-16","4 months ago",3,"2017-02-18","4 months ago","2017-02-18",1,0,0,0,1,0,"Completed",10000,8900,10000,8900,0.89,1,10000,"Under-Spending",null,null,null,15,"2.1.2 List of who need what","Mary","4 months ago",3,"4 months ago","(vide)","No Flag",0,0,"Under-Spending","Completed",1]
[20,2.2000000000000002,null,"","Flights","2,2 Flights",2,false,"Mary","2016-12-29","6 months ago",43,"2017-02-09","4 months ago","2017-02-09",1,"","","","","","",30100,27520,"","","","","","",null,null,null,16,"2.1.3 Request for quotation to different suppliers","Mary","4 months ago",14,"4 months ago","(vide)","No Flag",100,30,"Under-Spending","Completed",1]
[21,"2.2.1",2,"Yellow","Define expectations","2.2.1 Define expectations",3,true,"Mary","2016-12-29","6 months ago",5,"2017-01-02","5 months ago","2017-01-02",1,0,0,0,1,0,"Completed",null,null,0,0,"",1,0,"Under-Spending",null,null,null,17,"2.1.4 Compare buy/rent/make","Mary","4 months ago",7,"4 months ago","(vide)","No Flag",0,0,"Under-Spending","Completed",1]
[22,"2.2.2",null,"No Flag","Request for quotation to different suppliers","2.2.2 Request for quotation to different suppliers",3,true,"Mary","2017-01-03","5 months ago",14,"2017-01-16","5 months ago","2017-01-16",1,0,0,0,1,0,"Completed",100,20,100,20,0.2,1,100,"Under-Spending",null,null,null,18,"2.1.5 Discuss & agree final purchase list","Mary","4 months ago",21,"3 months ago","(vide)","No Flag",0,0,"Under-Spending","Completed",1]
[23,"2.2.3",null,"No Flag","Discuss & agree the best offer","2.2.3 Discuss & agree the best offer",3,true,"Mary","2017-01-17","5 months ago",21,"2017-02-06","4 months ago","2017-02-06",1,0,0,0,1,0,"Completed",null,null,0,0,"",1,0,"Under-Spending",null,null,null,19,"2.1.6 Purchase equipment","Mary","3 months ago",3,"3 months ago","(vide)","No Flag",10000,8900,"Under-Spending","Completed",1]
[24,"2.2.4",null,"No Flag","Proceed with the booking of the flights","2.2.4 Proceed with the booking of the flights",3,true,"Mary","2017-02-07","4 months ago",3,"2017-02-09","4 months ago","2017-02-09",1,0,0,0,1,0,"Completed",30000,27500,30000,27500,0.91666666666666663,1,30000,"Under-Spending",null,null,null,21,"2.2.1 Define expectations","Mary","5 months ago",5,"4 months ago",2,"Yellow",0,0,"Under-Spending","Completed",1]
[25,2.2999999999999998,null,"","Accomodation","2,3 Accomodation",2,false,"Mary","2016-12-29","6 months ago",43,"2017-02-09","4 months ago","2017-02-09",1,"","","","","","",15000,9800,"","","","","","",null,null,null,22,"2.2.2 Request for quotation to different suppliers","Mary","4 months ago",14,"4 months ago","(vide)","No Flag",100,20,"Under-Spending","Completed",1]
[26,"2.3.1",2,"Yellow","Define expectations","2.3.1 Define expectations",3,true,"Mary","2016-12-29","6 months ago",5,"2017-01-02","5 months ago","2017-01-02",1,0,0,0,1,0,"Completed",null,null,0,0,"",1,0,"Under-Spending",null,null,null,23,"2.2.3 Discuss & agree the best offer","Mary","4 months ago",21,"3 months ago","(vide)","No Flag",0,0,"Under-Spending","Completed",1]
[27,"2.3.2",null,"No Flag","Request for quotation to different suppliers","2.3.2 Request for quotation to different suppliers",3,true,"Mary","2017-01-03","5 months ago",14,"2017-01-16","5 months ago","2017-01-16",1,0,0,0,1,0,"Completed",null,null,0,0,"",1,0,"Under-Spending",null,null,null,24,"2.2.4 Proceed with the booking of the flights","Mary","3 months ago",3,"3 months ago","(vide)","No Flag",30000,27500,"Under-Spending","Completed",1]
[28,"2.3.3",null,"No Flag","Discuss & Agree Best Offer","2.3.3 Discuss & Agree Best Offer",3,true,"Mary","2017-01-17","5 months ago",21,"2017-02-06","4 months ago","2017-02-06",1,0,0,0,1,0,"Completed",null,null,0,0,"",1,0,"Under-Spending",null,null,null,26,"2.3.1 Define expectations","Mary","5 months ago",5,"4 months ago",2,"Yellow",0,0,"Under-Spending","Completed",1]
[29,"2.3.4",null,"No Flag","Proceed with the booking","2.3.4 Proceed with the booking",3,true,"Mary","2017-02-07","4 months ago",3,"2017-02-09","4 months ago","2017-02-09",1,0,0,0,1,0,"Completed",15000,9800,15000,9800,0.65333333333333332,1,15000,"Under-Spending",null,null,null,27,"2.3.2 Request for quotation to different suppliers","Mary","4 months ago",14,"4 months ago","(vide)","No Flag",0,0,"Under-Spending","Completed",1]
[30,2.4,null,"","Insurances","2,4 Insurances",2,false,"Mary","2016-12-29","6 months ago",46,"2017-02-12","4 months ago","2017-02-12",1,"","","","","","",5600,3220,"","","","","","",null,null,null,28,"2.3.3 Discuss & Agree Best Offer","Mary","4 months ago",21,"3 months ago","(vide)","No Flag",0,0,"Under-Spending","Completed",1]
[31,"2.4.1",2,"Yellow","Define expectations","2.4.1 Define expectations",3,true,"Mary","2016-12-29","6 months ago",5,"2017-01-02","5 months ago","2017-01-02",1,0,0,0,1,0,"Completed",null,null,0,0,"",1,0,"Under-Spending",null,null,null,29,"2.3.4 Proceed with the booking","Mary","3 months ago",3,"3 months ago","(vide)","No Flag",15000,9800,"Under-Spending","Completed",1]
[32,"2.4.2",null,"No Flag","Request for quotation to different suppliers","2.4.2 Request for quotation to different suppliers",3,true,"Mary","2017-01-03","5 months ago",14,"2017-01-16","5 months ago","2017-01-16",1,0,0,0,1,0,"Completed",100,20,100,20,0.2,1,100,"Under-Spending",null,null,null,31,"2.4.1 Define expectations","Mary","5 months ago",5,"4 months ago",2,"Yellow",0,0,"Under-Spending","Completed",1]
[33,"2.4.3",null,"No Flag","Discuss & agree the best offer","2.4.3 Discuss & agree the best offer",3,true,"Mary","2017-01-17","5 months ago",21,"2017-02-06","4 months ago","2017-02-06",1,0,0,0,1,0,"Completed",null,null,0,0,"",1,0,"Under-Spending",null,null,null,32,"2.4.2 Request for quotation to different suppliers","Mary","4 months ago",14,"4 months ago","(vide)","No Flag",100,20,"Under-Spending","Completed",1]
[34,"2.4.4",null,"No Flag","Check in details contract & legal requirements","2.4.4 Check in details contract & legal requirements",3,true,"Mary","2017-02-07","4 months ago",3,"2017-02-09","4 months ago","2017-02-09",1,0,0,0,1,0,"Completed",null,null,0,0,"",1,0,"Under-Spending",null,null,null,33,"2.4.3 Discuss & agree the best offer","Mary","4 months ago",21,"3 months ago","(vide)","No Flag",0,0,"Under-Spending","Completed",1]
[35,"2.4.5",null,"No Flag","Purchase services","2.4.5 Purchase services",3,true,"Mary","2017-02-10","4 months ago",3,"2017-02-12","4 months ago","2017-02-12",1,0,0,0,1,0,"Completed",5500,3200,5500,3200,0.58181818181818179,1,5500,"Under-Spending",null,null,null,34,"2.4.4 Check in details contract & legal requirements","Mary","3 months ago",3,"3 months ago","(vide)","No Flag",0,0,"Under-Spending","Completed",1]
[36,2.5,null,"","Other services (transferts, guides, sherpas, etc)","2,5 Other services (transferts, guides, sherpas, etc)",2,false,"Mary","2016-12-29","6 months ago",48,"2017-02-14","4 months ago","2017-02-14",1,"","","","","","",60100,39610,"","","","","","",null,null,null,35,"2.4.5 Purchase services","Mary","3 months ago",3,"3 months ago","(vide)","No Flag",5500,3200,"Under-Spending","Completed",1]
[37,"2.5.1",null,"No Flag","Define required services & expectations","2.5.1 Define required services & expectations",3,true,"Mary","2016-12-29","6 months ago",3,"2016-12-31","6 months ago","2016-12-31",1,0,0,0,1,0,"Completed",null,null,0,0,"",1,0,"Under-Spending",null,null,null,37,"2.5.1 Define required services & expectations","Mary","5 months ago",3,"5 months ago","(vide)","No Flag",0,0,"Under-Spending","Completed",1]
[38,"2.5.2",null,"No Flag","Request for quotation to different suppliers","2.5.2 Request for quotation to different suppliers",3,true,"Mary","2017-01-01","5 months ago",14,"2017-01-14","5 months ago","2017-01-14",1,0,0,0,1,0,"Completed",100,110,100,110,1.1000000000000001,1,100,"Over-Spending",null,null,null,38,"2.5.2 Request for quotation to different suppliers","Mary","4 months ago",14,"4 months ago","(vide)","No Flag",100,110,"Over-Spending","Completed",1]
[39,"2.5.3",null,"No Flag","Discuss & agree the best offer","2.5.3 Discuss & agree the best offer",3,true,"Mary","2017-01-15","5 months ago",21,"2017-02-04","4 months ago","2017-02-04",1,0,0,0,1,0,"Completed",null,null,0,0,"",1,0,"Under-Spending",null,null,null,39,"2.5.3 Discuss & agree the best offer","Mary","4 months ago",21,"3 months ago","(vide)","No Flag",0,0,"Under-Spending","Completed",1]
[40,"2.5.4",null,"No Flag","Check in details contract & legel requirements","2.5.4 Check in details contract & legel requirements",3,true,"Mary","2017-02-05","4 months ago",7,"2017-02-11","4 months ago","2017-02-11",1,0,0,0,1,0,"Completed",null,null,0,0,"",1,0,"Under-Spending",null,null,null,40,"2.5.4 Check in details contract & legel requirements","Mary","3 months ago",7,"3 months ago","(vide)","No Flag",0,0,"Under-Spending","Completed",1]
[41,"2.5.5",null,"No Flag","Purchase services","2.5.5 Purchase services",3,true,"Mary","2017-02-12","4 months ago",3,"2017-02-14","4 months ago","2017-02-14",1,0,0,0,1,0,"Completed",50000,38000,50000,38000,0.76,1,50000,"Under-Spending",null,null,null,41,"2.5.5 Purchase services","Mary","3 months ago",3,"3 months ago","(vide)","No Flag",50000,38000,"Under-Spending","Completed",1]
[42,2.6,null,"No Flag","Misc.","2,6 Misc.",2,true,"Mary","2016-11-11","7 months ago",3,"2016-12-01","6 months ago","2016-12-01",1,0,0,0,1,0,"Completed",10000,1500,10000,1500,0.15,1,10000,"Under-Spending",null,null,null,42,"2,6 Misc.","Mary","6 months ago",3,"5 months ago","(vide)","No Flag",10000,1500,"Under-Spending","Completed",1,null,null,"Task",null,null,null,null,null,null,null,null,null,null,null,"Leader",null,null,"Start",null,null,null,"Duration",null,null,"End",null,null,null,"Progress",null,null,null,"Status",null,null,null,"Plan",null,null,"Actual",null,null,"Budget Status"]
[43,3,null,"","Administration","3 Administration",1,false,null,null,"",3,null,"","2016-11-13",1,"","","","","","",1200,600,"","","","","","",null,null,null,45,"3.1.1 List of who need what (passport, driving license, etc)","Mary","6 months ago",3,"6 months ago","(vide)","No Flag",100,50,"Under-Spending","Completed",1,null,null,{"$f":"IF(AND(AN26<>\"\",AN26<>\"(blank)\"),AN26,\"\")","v":"(vide)"},{"$f":"IF(AH26<>\"\",AI26,\"\")","v":"1.1.1 Brainstorming about the potential ascent routes"},null,null,null,null,null,null,null,null,null,null,{"$f":"IF(AJ26<>\"\",AJ26,\"\")","v":"Jade"},null,null,{"$f":"IF(AK26<>\"\",AK26,\"\")","v":"6 months ago"},null,null,null,{"$f":"IF(AL26<>\"\",AL26,\"\")","v":7},null,null,{"$f":"IF(AM26<>\"\",AM26,\"\")","v":"6 months ago"},null,null,null,{"$f":"IF(AT26<>\"\",AT26,\"\")","v":1},null,null,null,{"$f":"IF(AS26<>\"\",AS26,\"\")","v":"Completed"},null,null,null,{"$f":"IF(AP26<>\"\",AP26,\"\")","v":0},null,null,{"$f":"IF(AQ26<>\"\",AQ26,\"\")","v":0},null,null,{"$f":"IF(AR26<>\"\",AR26,\"\")","v":"Under-Spending"}]
[44,3.1,null,"","Official documents","3,1 Official documents",2,false,"Mary","2016-11-11","7 months ago",3,"2016-11-13","7 months ago","2016-11-13",1,"","","","","","",100,50,"","","","","","",null,null,null,46,"3.1.2 Apply for missing documents","Mary","6 months ago",3,"6 months ago","(vide)","No Flag",100,50,"Under-Spending","Completed",1,null,null,{"$f":"IF(AND(AN27<>\"\",AN27<>\"(blank)\"),AN27,\"\")","v":"(vide)"},{"$f":"IF(AH27<>\"\",AI27,\"\")","v":"1.1.2 Rough image about the time & schedule"},null,null,null,null,null,null,null,null,null,null,{"$f":"IF(AJ27<>\"\",AJ27,\"\")","v":"Jade"},null,null,{"$f":"IF(AK27<>\"\",AK27,\"\")","v":"6 months ago"},null,null,null,{"$f":"IF(AL27<>\"\",AL27,\"\")","v":5},null,null,{"$f":"IF(AM27<>\"\",AM27,\"\")","v":"6 months ago"},null,null,null,{"$f":"IF(AT27<>\"\",AT27,\"\")","v":1},null,null,null,{"$f":"IF(AS27<>\"\",AS27,\"\")","v":"Completed"},null,null,null,{"$f":"IF(AP27<>\"\",AP27,\"\")","v":0},null,null,{"$f":"IF(AQ27<>\"\",AQ27,\"\")","v":0},null,null,{"$f":"IF(AR27<>\"\",AR27,\"\")","v":"Under-Spending"}]
[45,"3.1.1",null,"No Flag","List of who need what (passport, driving license, etc)","3.1.1 List of who need what (passport, driving license, etc)",3,true,"Mary","2016-11-11","7 months ago",3,"2016-11-13","7 months ago","2016-11-13",1,0,0,0,1,0,"Completed",100,50,100,50,0.5,1,100,"Under-Spending",null,null,null,47,"3.1.3 Final check before cut-of date","Mary","6 months ago",3,"6 months ago","(vide)","No Flag",100,50,"Under-Spending","Completed",1,null,null,"(vide)","1.1.3 Risks & Risk Management Ideas",null,null,null,null,null,null,null,null,null,null,"Jade",null,null,"6 months ago",null,null,null,{"$f":"IF(AL28<>\"\",AL28,\"\")","v":6},null,null,{"$f":"IF(AM28<>\"\",AM28,\"\")","v":"6 months ago"},null,null,null,{"$f":"IF(AT28<>\"\",AT28,\"\")","v":1},null,null,null,{"$f":"IF(AS28<>\"\",AS28,\"\")","v":"Completed"},null,null,null,{"$f":"IF(AP28<>\"\",AP28,\"\")","v":0},null,null,{"$f":"IF(AQ28<>\"\",AQ28,\"\")","v":0},null,null,{"$f":"IF(AR28<>\"\",AR28,\"\")","v":"Under-Spending"}]
[46,"3.1.2",null,"No Flag","Apply for missing documents","3.1.2 Apply for missing documents",3,true,"Mary","2016-11-11","7 months ago",3,"2016-11-13","7 months ago","2016-11-13",1,0,0,0,1,0,"Completed",100,50,100,50,0.5,1,100,"Under-Spending",null,null,null,50,"3.2.1 Define which visas are required (incl. transits)","Mary","6 months ago",3,"6 months ago","(vide)","No Flag",100,50,"Under-Spending","Completed",1,null,null,"(vide)","1.1.4 Who is best at doing what in the team ?",null,null,null,null,null,null,null,null,null,null,"Jade",null,null,"6 months ago",null,null,null,7,null,null,"6 months ago",null,null,null,1,null,null,null,"Completed",null,null,null,0,null,null,0,null,null,"Under-Spending"]
[47,"3.1.3",null,"No Flag","Final check before cut-of date","3.1.3 Final check before cut-of date",3,true,"Mary","2016-11-11","7 months ago",3,"2016-11-13","7 months ago","2016-11-13",1,0,0,0,1,0,"Completed",100,50,100,50,0.5,1,100,"Under-Spending",null,null,null,51,"3.2.2 Get list of req. documents and lead time","Mary","6 months ago",3,"6 months ago","(vide)","No Flag",100,50,"Under-Spending","Completed",1,null,null,"(vide)","1.1.5 Go & Meet People/Teams who did it",null,null,null,null,null,null,null,null,null,null,"Jade",null,null,"6 months ago",null,null,null,7,null,null,"5 months ago",null,null,null,1,null,null,null,"Completed",null,null,null,800,null,null,450,null,null,"Under-Spending"]
[48,"MS",null,"","Cut-off date for documents","MS Cut-off date for documents",0,false,null,null,"",null,null,"",null,null,"","","","","","",null,null,"","","","","","",null,null,null,52,"3.2.3 Apply for visa","Mary","6 months ago",3,"6 months ago","(vide)","No Flag",100,50,"Under-Spending","Completed",1,null,null,"(vide)","1.1.6 Ideas about funding & sponsoring",null,null,null,null,null,null,null,null,null,null,"Jade",null,null,"5 months ago",null,null,null,6,null,null,"5 months ago",null,null,null,1,null,null,null,"Completed",null,null,null,0,null,null,0,null,null,"Under-Spending"]
[49,3.2,null,"","Visas","3,2 Visas",2,false,"Mary","2016-11-11","7 months ago",3,"2016-11-13","7 months ago","2016-11-13",1,"","","","","","",100,50,"","","","","","",null,null,null,53,"3.2.4 Final check before cut-of date","Mary","6 months ago",3,"6 months ago","(vide)","No Flag",100,50,"Under-Spending","Completed",1,null,null,"(vide)","1,2 Draft Project Outline with preliminary planning",null,null,null,null,null,null,null,null,null,null,"Rony",null,null,"5 months ago",null,null,null,14,null,null,"5 months ago",null,null,null,1,null,null,null,"Completed",null,null,null,200,null,null,180,null,null,"Under-Spending"]
[50,"3.2.1",null,"No Flag","Define which visas are required (incl. transits)","3.2.1 Define which visas are required (incl. transits)",3,true,"Mary","2016-11-11","7 months ago",3,"2016-11-13","7 months ago","2016-11-13",1,0,0,0,1,0,"Completed",100,50,100,50,0.5,1,100,"Under-Spending",null,null,null,56,"3.3.1 Define a leader","Mary","6 months ago",3,"6 months ago",2,"Yellow",100,50,"Under-Spending","Completed",1,null,null,"(vide)","1,3 Agree rough responsibility split & project leader",null,null,null,null,null,null,null,null,null,null,"Rony",null,null,"5 months ago",null,null,null,4,null,null,"5 months ago",null,null,null,1,null,null,null,"Completed",null,null,null,0,null,null,0,null,null,"Under-Spending"]
[51,"3.2.2",null,"No Flag","Get list of req. documents and lead time","3.2.2 Get list of req. documents and lead time",3,true,"Mary","2016-11-11","7 months ago",3,"2016-11-13","7 months ago","2016-11-13",1,0,0,0,1,0,"Completed",100,50,100,50,0.5,1,100,"Under-Spending",null,null,null,57,"3.3.2 Track & report budget in a monthly basis","Mary","6 months ago",3,"6 months ago","(vide)","No Flag",100,50,"Under-Spending","Completed",1,null,null,"(vide)","1,4 Project Kick-off",null,null,null,null,null,null,null,null,null,null,"Rony",null,null,"5 months ago",null,null,null,1,null,null,"5 months ago",null,null,null,1,null,null,null,"Completed",null,null,null,300,null,null,180,null,null,"Under-Spending"]
[52,"3.2.3",null,"No Flag","Apply for visa","3.2.3 Apply for visa",3,true,"Mary","2016-11-11","7 months ago",3,"2016-11-13","7 months ago","2016-11-13",1,0,0,0,1,0,"Completed",100,50,100,50,0.5,1,100,"Under-Spending",null,null,null,59,"4,1 Mental & Physical Preparation","Mary","3 months ago",1,"2 months ago","(vide)","No Flag",100,3,"Under-Spending","On-going",0.9,null,null,"(vide)","2.1.1 Define a list of necessary equipments",null,null,null,null,null,null,null,null,null,null,"Mary",null,null,"5 months ago",null,null,null,4,null,null,"4 months ago",null,null,null,1,null,null,null,"Completed",null,null,null,0,null,null,0,null,null,"Under-Spending"]
[53,"3.2.4",null,"No Flag","Final check before cut-of date","3.2.4 Final check before cut-of date",3,true,"Mary","2016-11-11","7 months ago",3,"2016-11-13","7 months ago","2016-11-13",1,0,0,0,1,0,"Completed",100,50,100,50,0.5,1,100,"Under-Spending",null,null,null,61,"5,1 Meet at airport, greetings & check-in","Mary","2 months ago",1,"2 months ago","(vide)","No Flag",100,20,"Over-Spending","Not Started",0,null,null,"(vide)","2.1.2 List of who need what",null,null,null,null,null,null,null,null,null,null,"Mary",null,null,"4 months ago",null,null,null,3,null,null,"4 months ago",null,null,null,1,null,null,null,"Completed",null,null,null,0,null,null,0,null,null,"Under-Spending"]
[54,"MS",null,"","Cut-off date for visas","MS Cut-off date for visas",0,false,null,null,"",null,null,"",null,null,"","","","","","",null,null,"","","","","","",null,null,null,62,"5,2 Flight from NY to Kathmandu","Mary","2 months ago",2,"2 months ago","(vide)","No Flag",100,120,"Over-Spending","Not Started",0,null,null,"(vide)","2.1.3 Request for quotation to different suppliers",null,null,null,null,null,null,null,null,null,null,"Mary",null,null,"4 months ago",null,null,null,14,null,null,"4 months ago",null,null,null,1,null,null,null,"Completed",null,null,null,100,null,null,30,null,null,"Under-Spending"]
[55,3.3,null,"","Finance","3,3 Finance",2,false,"Mary","2016-11-11","7 months ago",3,"2016-11-13","7 months ago","2016-11-13",1,"","","","","","",100,50,"","","","","","",null,null,null,63,"5,3 Flight from Kathmandu to Lukla","Mary","2 months ago",1,"2 months ago","(vide)","No Flag",100,150,"Over-Spending","Not Started",0,null,null,"(vide)","2.1.4 Compare buy/rent/make",null,null,null,null,null,null,null,null,null,null,"Mary",null,null,"4 months ago",null,null,null,7,null,null,"4 months ago",null,null,null,1,null,null,null,"Completed",null,null,null,0,null,null,0,null,null,"Under-Spending"]
[56,"3.3.1",2,"Yellow","Define a leader","3.3.1 Define a leader",3,true,"Mary","2016-11-11","7 months ago",3,"2016-11-13","7 months ago","2016-11-13",1,0,0,0,1,0,"Completed",100,50,100,50,0.5,1,100,"Under-Spending",null,null,null,65,"6,1 Trek from Lukla to Namche Bazaar","Jade","2 months ago",3,"2 months ago","(vide)","No Flag",0,0,"Under-Spending","On-going",0.1,null,null,"(vide)","2.1.5 Discuss & agree final purchase list",null,null,null,null,null,null,null,null,null,null,"Mary",null,null,"4 months ago",null,null,null,21,null,null,"3 months ago",null,null,null,1,null,null,null,"Completed",null,null,null,0,null,null,0,null,null,"Under-Spending"]
[57,"3.3.2",null,"No Flag","Track & report budget in a monthly basis","3.3.2 Track & report budget in a monthly basis",3,true,"Mary","2016-11-11","7 months ago",3,"2016-11-13","7 months ago","2016-11-13",1,0,0,0,1,0,"Completed",100,50,100,50,0.5,1,100,"Under-Spending",null,null,null,66,"6,2 3 nights acclimatization at Namche Bazaar","Jade","2 months ago",3,"2 months ago","(vide)","No Flag",0,0,"Under-Spending","On-going",0.1,null,null,"(vide)","2.1.6 Purchase equipment",null,null,null,null,null,null,null,null,null,null,"Mary",null,null,"3 months ago",null,null,null,3,null,null,"3 months ago",null,null,null,1,null,null,null,"Completed",null,null,null,10000,null,null,8900,null,null,"Under-Spending"]
[58,4,null,"","Preparation","4 Preparation",1,false,null,null,"",28,null,"","2017-03-15T04:48:00",0.9,"","","","","","",100,3,"","","","","","",null,null,null,67,"6,3 Namche Bazaar to Tengbouche","Jade","2 months ago",1,"2 months ago","(vide)","No Flag",0,0,"Under-Spending","Not Started",0,null,null,2,"2.2.1 Define expectations",null,null,null,null,null,null,null,null,null,null,"Mary",null,null,"5 months ago",null,null,null,5,null,null,"4 months ago",null,null,null,1,null,null,null,"Completed",null,null,null,0,null,null,0,null,null,"Under-Spending"]
[59,4.0999999999999996,null,"No Flag","Mental & Physical Preparation","4,1 Mental & Physical Preparation",2,true,"Mary","2017-02-19","4 months ago",1,"2017-03-18","3 months ago","2017-03-15",0.9,0,0,1,0,0,"On-going",100,3,100,3,0.03,0.9285714285714286,92.857142857142861,"Under-Spending",null,null,null,68,"6,4 Tengbouche to Dingbouche + 1 night acc.","Jade","2 months ago",2,"2 months ago","(vide)","No Flag",0,0,"Under-Spending","Not Started",0,null,null,"(vide)","2.2.2 Request for quotation to different suppliers",null,null,null,null,null,null,null,null,null,null,"Mary",null,null,"4 months ago",null,null,null,14,null,null,"4 months ago",null,null,null,1,null,null,null,"Completed",null,null,null,100,null,null,20,null,null,"Under-Spending"]
[60,5,null,"","Travel to Lukla","5 Travel to Lukla",1,false,null,null,"",3,null,"","2017-03-18",0,"","","","","","",300,290,"","","","","","",null,null,null,69,"6,5 Dingbouche to Lobuche","Jade","2 months ago",2,"Last month","(vide)","No Flag",0,0,"Under-Spending","Not Started",0,null,null,"(vide)","2.2.3 Discuss & agree the best offer",null,null,null,null,null,null,null,null,null,null,"Mary",null,null,"4 months ago",null,null,null,21,null,null,"3 months ago",null,null,null,1,null,null,null,"Completed",null,null,null,0,null,null,0,null,null,"Under-Spending"]
[61,5.0999999999999996,null,"No Flag","Meet at airport, greetings & check-in","5,1 Meet at airport, greetings & check-in",2,true,"Mary","2017-03-19","3 months ago",1,"2017-03-19","3 months ago","2017-03-19",0,1,0,1,0,0,"Not Started",100,20,100,20,0.2,0,0,"Over-Spending",null,null,null,70,"6,6 Lobuche to Gorak Shep","Jade","Last month",1,"Last month","(vide)","No Flag",0,0,"Under-Spending","Not Started",0,null,null,"(vide)","2.2.4 Proceed with the booking of the flights",null,null,null,null,null,null,null,null,null,null,"Mary",null,null,"3 months ago",null,null,null,3,null,null,"3 months ago",null,null,null,1,null,null,null,"Completed",null,null,null,30000,null,null,27500,null,null,"Under-Spending"]
[62,5.2,null,"No Flag","Flight from NY to Kathmandu","5,2 Flight from NY to Kathmandu",2,true,"Mary","2017-03-19","3 months ago",2,"2017-03-20","3 months ago","2017-03-19",0,1,0,1,0,0,"Not Started",100,120,100,120,1.2,0,0,"Over-Spending",null,null,null,71,"6,7 Reach base camp","Rony","Last month",1,"Last month","(vide)","No Flag",0,0,"Under-Spending","Not Started",0,null,null,2,"2.3.1 Define expectations",null,null,null,null,null,null,null,null,null,null,"Mary",null,null,"5 months ago",null,null,null,5,null,null,"4 months ago",null,null,null,1,null,null,null,"Completed",null,null,null,0,null,null,0,null,null,"Under-Spending"]
[63,5.3,null,"No Flag","Flight from Kathmandu to Lukla","5,3 Flight from Kathmandu to Lukla",2,true,"Mary","2017-03-21","3 months ago",1,"2017-03-21","3 months ago","2017-03-21",0,1,0,1,0,0,"Not Started",100,150,100,150,1.5,0,0,"Over-Spending",null,null,null,74,"7.1.1 Acclimatization Trek 1 (1x / day)","Rony","Last month",4,"Last month","(vide)","No Flag",0,0,"Under-Spending","Not Started",0,null,null,"(vide)","2.3.2 Request for quotation to different suppliers",null,null,null,null,null,null,null,null,null,null,"Mary",null,null,"4 months ago",null,null,null,14,null,null,"4 months ago",null,null,null,1,null,null,null,"Completed",null,null,null,0,null,null,0,null,null,"Under-Spending"]
[64,6,null,"","Trek to the Base Camp","6 Trek to the Base Camp",1,false,null,null,"",13,null,"","2017-03-21T08:54:48",2.8568616854479832E-2,"","","","","","",0,0,"","","","","","",null,null,null,75,"7.1.2 Acclimatization Trek 2","Rony","Last month",1,"Last month",2,"Yellow",0,0,"Under-Spending","Not Started",0,null,null,"(vide)","2.3.3 Discuss & Agree Best Offer",null,null,null,null,null,null,null,null,null,null,"Mary",null,null,"4 months ago",null,null,null,21,null,null,"3 months ago",null,null,null,1,null,null,null,"Completed",null,null,null,0,null,null,0,null,null,"Under-Spending"]
[65,6.1,null,"No Flag","Trek from Lukla to Namche Bazaar","6,1 Trek from Lukla to Namche Bazaar",2,true,"Jade","2017-03-22","3 months ago",3,"2017-03-24","3 months ago","2017-03-22",0.1,{"$f":"IF(H82,IF(AND($P82=0,$J82>Baseline),1,0),\"\")","v":0},{"$f":"IF(H82,IF(AND($P82<1,$J82<=Baseline, $M82<Baseline),1,0),\"\")","v":0},{"$f":"IF(H82,IF(AND($P82<1,$P82>=0,$M82>=Baseline),1,0),\"\")","v":1},0,0,"On-going",null,null,0,0,"",{"$f":"IF(H82,IF(AND(M82>=Baseline,J82<=Baseline),(Baseline-J82)/(M82-J82+1),IF(M82<=Baseline,1,0)),\"\")","v":0},0,"Under-Spending",null,null,null,76,"7.1.3 2 days rest","Rony","Last month",2,"Last month","(vide)","No Flag",0,0,"Under-Spending","Not Started",0,null,null,"(vide)","2.3.4 Proceed with the booking",null,null,null,null,null,null,null,null,null,null,"Mary",null,null,"3 months ago",null,null,null,3,null,null,"3 months ago",null,null,null,1,null,null,null,"Completed",null,null,null,15000,null,null,9800,null,null,"Under-Spending"]
[66,6.2,null,{"$f":"IF(H83,IF(C83=1,\"Red\",IF(C83=2,\"Yellow\",IF(C83=3,\"Green\",\"No Flag\"))),\"\")","v":"No Flag"},"3 nights acclimatization at Namche Bazaar",{"$f":"B83& \" \"&E83","v":"6,2 3 nights acclimatization at Namche Bazaar"},2,{"$f":"AND(G83>=2,J83<>\"\",M83<>\"\",NOT(OR(AND(G83=1,G84=2),AND(G83=2,G84=3))))","v":true},"Jade","2017-03-25",{"$f":"IF(J83<>\"\",LocateDate(J83),\"\")","v":"3 months ago"},3,"2017-03-27",{"$f":"LocateDate(M83)","v":"3 months ago"},"2017-03-25",0.1,0,0,1,{"$f":"IF(H83,IF($P83>=1,1,0),\"\")","v":0},{"$f":"IF(H83,IF(SUM(Q83:T83)=0,1,0),\"\")","v":0},{"$f":"IF(H83,IF(Q83,$Q$17,IF(R83,$R$17,IF(S83,$S$17,IF(T83,$T$17,IF(U83,$U$17,\"\"))))),\"\")","v":"On-going"},null,null,{"$f":"IF(H83,W83,\"\")","v":0},{"$f":"IF(H83,X83,\"\")","v":0},{"$f":"IF(H83,IF(W83<>\"\",X83/W83,\"\"),\"\")","v":""},0,{"$f":"IF(H83,AB83*W83,\"\")","v":0},{"$f":"IF(H83,IF(AND(X83<=AC83,AA83>0),\"Under-Spending\",IF(X83>AC83,\"Over-Spending\",IF(AA83=0,\"Not Started\",\"\"))),\"\")","v":"Under-Spending"},null,null,null,77,"7.1.4 Acclimatization Trek 3","Rony","Last month",1,"Last month",3,"Green",0,0,"Under-Spending","Not Started",0,null,null,2,"2.4.1 Define expectations",null,null,null,null,null,null,null,null,null,null,"Mary",null,null,"5 months ago",null,null,null,5,null,null,"4 months ago",null,null,null,1,null,null,null,"Completed",null,null,null,0,null,null,0,null,null,"Under-Spending"]
[67,6.3,null,"No Flag","Namche Bazaar to Tengbouche","6,3 Namche Bazaar to Tengbouche",2,true,"Jade","2017-03-28","3 months ago",1,"2017-03-28","3 months ago","2017-03-28",0,1,0,1,0,0,"Not Started",null,null,0,0,"",0,0,"Under-Spending",null,null,null,78,"7.1.5 Acclimatization Trek 4","Rony","Last month",1,"Last month",2,"Yellow",0,0,"Under-Spending","Not Started",0,null,null,"(vide)","2.4.2 Request for quotation to different suppliers",null,null,null,null,null,null,null,null,null,null,"Mary",null,null,"4 months ago",null,null,null,14,null,null,"4 months ago",null,null,null,1,null,null,null,"Completed",null,null,null,100,null,null,20,null,null,"Under-Spending"]
[68,6.4,null,"No Flag","Tengbouche to Dingbouche + 1 night acc.","6,4 Tengbouche to Dingbouche + 1 night acc.",2,true,"Jade","2017-03-29","3 months ago",2,"2017-03-30","3 months ago","2017-03-29",0,1,0,1,0,0,"Not Started",null,null,0,0,"",0,0,"Under-Spending",null,null,null,79,"7.1.6 2 days rest","Rony","Last month",2,"Last month","(vide)","No Flag",0,0,"Under-Spending","Not Started",0,null,null,"(vide)","2.4.3 Discuss & agree the best offer",null,null,null,null,null,null,null,null,null,null,"Mary",null,null,"4 months ago",null,null,null,21,null,null,"3 months ago",null,null,null,1,null,null,null,"Completed",null,null,null,0,null,null,0,null,null,"Under-Spending"]
[69,6.5,null,"No Flag","Dingbouche to Lobuche","6,5 Dingbouche to Lobuche",2,true,"Jade","2017-03-31","3 months ago",2,"2017-04-01","2 months ago","2017-03-31",0,1,0,1,0,0,"Not Started",null,null,0,0,"",0,0,"Under-Spending",null,null,null,80,"7,2 Equipment Preparation","Rony","Last month",1,"Last month","(vide)","No Flag",0,0,"Under-Spending","Not Started",0,null,null,"(vide)","2.4.4 Check in details contract & legal requirements",null,null,null,null,null,null,null,null,null,null,"Mary",null,null,"3 months ago",null,null,null,3,null,null,"3 months ago",null,null,null,1,null,null,null,"Completed",null,null,null,0,null,null,0,null,null,"Under-Spending"]
[70,6.6,null,"No Flag","Lobuche to Gorak Shep","6,6 Lobuche to Gorak Shep",2,true,"Jade","2017-04-02","2 months ago",1,"2017-04-02","2 months ago","2017-04-02",0,1,0,1,0,0,"Not Started",null,null,0,0,"",0,0,"Under-Spending",null,null,null,81,"7,3 Emergency Response Drills","Rony","Last month",1,"Last month","(vide)","No Flag",0,0,"Under-Spending","Not Started",0,null,null,"(vide)","2.4.5 Purchase services",null,null,null,null,null,null,null,null,null,null,"Mary",null,null,"3 months ago",null,null,null,3,null,null,"3 months ago",null,null,null,1,null,null,null,"Completed",null,null,null,5500,null,null,3200,null,null,"Under-Spending"]
[71,6.7,null,"No Flag","Reach base camp","6,7 Reach base camp",2,true,"Rony","2017-04-03","2 months ago",1,"2017-04-03","2 months ago","2017-04-03",0,1,0,1,0,0,"Not Started",null,null,0,0,"",0,0,"Under-Spending",null,null,null,82,"7,4 1 day rest","Rony","Last month",1,"Last month","(vide)","No Flag",0,0,"Under-Spending","Not Started",0,null,null,"(vide)","2.5.1 Define required services & expectations",null,null,null,null,null,null,null,null,null,null,"Mary",null,null,"5 months ago",null,null,null,3,null,null,"5 months ago",null,null,null,1,null,null,null,"Completed",null,null,null,0,null,null,0,null,null,"Under-Spending"]
[72,7,null,"","On-site preparation","7 On-site preparation",1,false,null,"2017-04-04","2 months ago",13,"2017-04-16","2 months ago","2017-04-04",0,"","","","","","",0,0,"","","","","","",null,null,null,84,"8,1 Climb to Camp I (6,065m)","Mary","3 weeks ago",1,"3 weeks ago","(vide)","No Flag",100,50,"Over-Spending","Not Started",0,null,null,"(vide)","2.5.2 Request for quotation to different suppliers",null,null,null,null,null,null,null,null,null,null,"Mary",null,null,"4 months ago",null,null,null,14,null,null,"4 months ago",null,null,null,1,null,null,null,"Completed",null,null,null,100,null,null,110,null,null,"Over-Spending"]
[73,7.1,null,"","Acclimatization Treks","7,1 Acclimatization Treks",2,false,"Sara","2017-04-04","2 months ago",11,"2017-04-14","2 months ago","2017-04-04",0,"","","","","","",null,null,"","","","","","",null,null,null,85,"8,2 Climb to Camp II ABC (6,500m)","Mary","3 weeks ago",1,"3 weeks ago",3,"Green",0,20,"Over-Spending","Not Started",0]
[74,"7.1.1",null,"No Flag","Acclimatization Trek 1 (1x / day)","7.1.1 Acclimatization Trek 1 (1x / day)",3,true,"Rony","2017-04-04","2 months ago",4,"2017-04-07","2 months ago","2017-04-04",0,1,0,1,0,0,"Not Started",null,null,0,0,"",0,0,"Under-Spending",null,null,null,86,"8,3 Climb to Camp III (7,470m)","Mary","3 weeks ago",1,"3 weeks ago","(vide)","No Flag",0,0,"Under-Spending","Not Started",0]
[75,"7.1.2",2,"Yellow","Acclimatization Trek 2","7.1.2 Acclimatization Trek 2",3,true,"Rony","2017-04-08","2 months ago",1,"2017-04-08","2 months ago","2017-04-08",0,1,0,1,0,0,"Not Started",null,null,0,0,"",0,0,"Under-Spending",null,null,null,87,"8,4 Climb to Camp IV (7,920m)","Mary","3 weeks ago",1,"3 weeks ago",3,"Green",0,0,"Under-Spending","Not Started",0]
[76,"7.1.3",null,"No Flag","2 days rest","7.1.3 2 days rest",3,true,"Rony","2017-04-09","2 months ago",2,"2017-04-10","2 months ago","2017-04-09",0,1,0,1,0,0,"Not Started",null,null,0,0,"",0,0,"Under-Spending",null,null,null,88,"8,5 Summit push and descent to Camp IV","Mary","3 weeks ago",1,"3 weeks ago",3,"Green",0,0,"Under-Spending","Not Started",0]
[77,"7.1.4",3,"Green","Acclimatization Trek 3","7.1.4 Acclimatization Trek 3",3,true,"Rony","2017-04-11","2 months ago",1,"2017-04-11","2 months ago","2017-04-11",0,1,0,1,0,0,"Not Started",null,null,0,0,"",0,0,"Under-Spending",null,null,null,89,"8,6 Descent to Base Camp","Mary","3 weeks ago",2,"3 weeks ago",1,"Red",0,0,"Under-Spending","Not Started",0]
[78,"7.1.5",2,"Yellow","Acclimatization Trek 4","7.1.5 Acclimatization Trek 4",3,true,"Rony","2017-04-12","2 months ago",1,"2017-04-12","2 months ago","2017-04-12",0,1,0,1,0,0,"Not Started",null,null,0,0,"",0,0,"Under-Spending",null,null,null,91,"9,1 Trek from the base camp to Namche Bazaar","Rony","2 weeks ago",3,"2 weeks ago","(vide)","No Flag",0,0,"Under-Spending","Not Started",0]
[79,"7.1.6",null,"No Flag","2 days rest","7.1.6 2 days rest",3,true,"Rony","2017-04-13","2 months ago",2,"2017-04-14","2 months ago","2017-04-13",0,1,0,1,0,0,"Not Started",null,null,0,0,"",0,0,"Under-Spending",null,null,null,92,"9,2 Trek from Namche Bazaar to Lukla","Rony","2 weeks ago",2,"2 weeks ago","(vide)","No Flag",0,0,"Under-Spending","Not Started",0]
[80,7.2,null,"No Flag","Equipment Preparation","7,2 Equipment Preparation",2,true,"Rony","2017-04-15","2 months ago",1,"2017-04-15","2 months ago","2017-04-15",0,1,0,1,0,0,"Not Started",null,null,0,0,"",0,0,"Under-Spending",null,null,null,93,"9,3 1 night rest at Lukla","Rony","2 weeks ago",1,"2 weeks ago","(vide)","No Flag",0,0,"Under-Spending","Not Started",0]
[81,7.3,null,"No Flag","Emergency Response Drills","7,3 Emergency Response Drills",2,true,"Rony","2017-04-15","2 months ago",1,"2017-04-15","2 months ago","2017-04-15",0,1,0,1,0,0,"Not Started",null,null,0,0,"",0,0,"Under-Spending",null,null,null,95,"10,1 Flight from Lukla to Kathmandu","Mary","2 weeks ago",1,"2 weeks ago","(vide)","No Flag",0,0,"Under-Spending","Not Started",0]
[82,7.4,null,"No Flag","1 day rest","7,4 1 day rest",2,true,"Rony","2017-04-16","2 months ago",1,"2017-04-16","2 months ago","2017-04-16",0,1,0,1,0,0,"Not Started",null,null,0,0,"",0,0,"Under-Spending",null,null,null,96,"10,2 12h connection time : free time for the team","Mary","2 weeks ago",1,"2 weeks ago","(vide)","No Flag",0,0,"Under-Spending","Not Started",0]
[83,8,null,"","Everest Ascent","8 Everest Ascent",1,false,null,null,"",7,null,"","2017-04-16",0,"","","","","","",100,70,"","","","","","",null,null,null,97,"10,3 Flight from Kathmandu to NY","Mary","2 weeks ago",2,"Last week","(vide)","No Flag",0,0,"Under-Spending","Not Started",0]
[84,8.1,null,"No Flag","Climb to Camp I (6,065m)","8,1 Climb to Camp I (6,065m)",2,true,"Mary","2017-04-17","2 months ago",1,"2017-04-17","2 months ago","2017-04-17",0,1,0,1,0,0,"Not Started",100,50,100,50,0.5,0,0,"Over-Spending",null,null,null,98,"10,4 Greetings","Mary","Last week",1,"Last week","(vide)","No Flag",0,0,"Under-Spending","Not Started",0]
[85,8.1999999999999993,3,"Green","Climb to Camp II ABC (6,500m)","8,2 Climb to Camp II ABC (6,500m)",2,true,"Mary","2017-04-18","2 months ago",1,"2017-04-18","2 months ago","2017-04-18",0,1,0,1,0,0,"Not Started",null,20,0,20,"",0,0,"Over-Spending"]
[86,8.3000000000000007,null,"No Flag","Climb to Camp III (7,470m)","8,3 Climb to Camp III (7,470m)",2,true,"Mary","2017-04-19","2 months ago",1,"2017-04-19","2 months ago","2017-04-19",0,1,0,1,0,0,"Not Started",null,null,0,0,"",0,0,"Under-Spending"]
[87,8.4,3,"Green","Climb to Camp IV (7,920m)","8,4 Climb to Camp IV (7,920m)",2,true,"Mary","2017-04-20","2 months ago",1,"2017-04-20","2 months ago","2017-04-20",0,1,0,1,0,0,"Not Started",null,null,0,0,"",0,0,"Under-Spending"]
[88,8.5,3,"Green","Summit push and descent to Camp IV","8,5 Summit push and descent to Camp IV",2,true,"Mary","2017-04-21","2 months ago",1,"2017-04-21","2 months ago","2017-04-21",0,1,0,1,0,0,"Not Started",null,null,0,0,"",0,0,"Under-Spending"]
[89,8.6,1,"Red","Descent to Base Camp","8,6 Descent to Base Camp",2,true,"Mary","2017-04-22","2 months ago",2,"2017-04-23","2 months ago","2017-04-22",0,1,0,1,0,0,"Not Started",null,null,0,0,"",0,0,"Under-Spending"]
[90,9,null,"","Trek from the Base Camp to Lukla","9 Trek from the Base Camp to Lukla",1,false,null,null,"",6,null,"","00:00:00",0,"","","","","","",0,0,"","","","","",""]
[91,9.1,null,"No Flag","Trek from the base camp to Namche Bazaar","9,1 Trek from the base camp to Namche Bazaar",2,true,"Rony","2017-04-24","2 months ago",3,"2017-04-26","2 months ago","2017-04-24",0,1,0,1,0,0,"Not Started",null,null,0,0,"",0,0,"Under-Spending"]
[92,9.1999999999999993,null,"No Flag","Trek from Namche Bazaar to Lukla","9,2 Trek from Namche Bazaar to Lukla",2,true,"Rony","2017-04-27","2 months ago",2,"2017-04-28","2 months ago","2017-04-27",0,1,0,1,0,0,"Not Started",null,null,0,0,"",0,0,"Under-Spending",null,null,null,null,null,null,null,null,null,null,null,null,null,null,null,null,null,null,"","",null,null,null,null,null,null,null,null,null,null,"",null,null,"",null,null,null,"",null,null,"",null,null,null,"",null,null,null,"",null,null,null,"",null,null,"",null,null,""]
[93,9.3000000000000007,null,"No Flag","1 night rest at Lukla","9,3 1 night rest at Lukla",2,true,"Rony","2017-04-29","2 months ago",1,"2017-04-29","2 months ago","2017-04-29",0,1,0,1,0,0,"Not Started",null,null,0,0,"",0,0,"Under-Spending"]
[94,10,null,"","Return travel","10 Return travel",1,false,null,null,"",2,null,"","2017-04-29",0,"","","","","","",0,0,"","","","","",""]
[95,10.1,null,"No Flag","Flight from Lukla to Kathmandu","10,1 Flight from Lukla to Kathmandu",2,true,"Mary","2017-04-30","2 months ago",1,"2017-04-30","2 months ago","2017-04-30",0,1,0,1,0,0,"Not Started",null,null,0,0,"",0,0,"Under-Spending"]
[96,10.199999999999999,null,"No Flag","12h connection time : free time for the team","10,2 12h connection time : free time for the team",2,true,"Mary","2017-04-30","2 months ago",1,"2017-04-30","2 months ago","2017-04-30",0,1,0,1,0,0,"Not Started",null,null,0,0,"",0,0,"Under-Spending"]
[97,10.3,null,"No Flag","Flight from Kathmandu to NY","10,3 Flight from Kathmandu to NY",2,true,"Mary","2017-04-30","2 months ago",2,"2017-05-01","Last month","2017-04-30",0,1,0,1,0,0,"Not Started",null,null,0,0,"",0,0,"Under-Spending"]
[98,10.4,null,"No Flag","Greetings","10,4 Greetings",2,true,"Mary","2017-05-01","Last month",1,"2017-05-01","Last month","2017-05-01",0,1,0,1,0,0,"Not Started",null,null,0,0,"",0,0,"Under-Spending"]
[99,null,null,"",null," ",null,false,null,null,"",null,null,"",null,null,"","","","","","",null,null,"","","","","",""]
[100,null,null,"",null," ",null,false,null,null,"",null,null,"",null,null,"","","","","","",null,null,"","","","","",""]
[101,null,null,"",null," ",null,false,null,null,"",null,null,"",null,null,"","","","","","",null,null,"","","","","",""]
[102,null,null,"",null," ",null,false,null,null,"",null,null,"",null,null,"","","","","","",null,null,"","","","","",""]
[103,null,null,"",null," ",null,false,null,null,"",null,null,"",null,null,"","","","","","",null,null,"","","","","",""]
[104,null,null,"",null," ",null,false,null,null,"",null,null,"",null,null,"","","","","","",null,null,"","","","","",""]
[105,null,null,"",null," ",null,false,null,null,"",null,null,"",null,null,"","","","","","",null,null,"","","","","",""]
[106,null,null,"",null," ",null,false,null,null,"",null,null,"",null,null,"","","","","","",null,null,"","","","","",""]
[107,null,null,"",null," ",null,false,null,null,"",null,null,"",null,null,"","","","","","",null,null,"","","","","",""]
[108,null,null,"",null," ",null,false,null,null,"",null,null,"",null,null,"","","","","","",null,null,"","","","","",""]
[109,null,null,"",null," ",null,false,null,null,"",null,null,"",null,null,"","","","","","",null,null,"","","","","",""]
[110,null,null,"",null," ",null,false,null,null,"",null,null,"",null,null,"","","","","","",null,null,"","","","","",""]
[111,null,null,"",null," ",null,false,null,null,"",null,null,"",null,null,"","","","","","",null,null,"","","","","",""]
[112,null,null,"",null," ",null,false,null,null,"",null,null,"",null,null,"","","","","","",null,null,"","","","","",""]
[113,null,null,"",null," ",null,false,null,null,"",null,null,"",null,null,"","","","","","",null,null,"","","","","",""]
[114,null,null,"",null," ",null,false,null,null,"",null,null,"",null,null,"","","","","","",null,null,"","","","","",""]
[115,null,null,"",null," ",null,false,null,null,"",null,null,"",null,null,"","","","","","",null,null,"","","","","",""]
[116,null,null,"",null," ",null,false,null,null,"",null,null,"",null,null,"","","","","","",null,null,"","","","","",""]
[117,null,null,"",null," ",null,false,null,null,"",null,null,"",null,null,"","","","","","",null,null,"","","","","",""]
[118,null,null,"",null," ",null,false,null,null,"",null,null,"",null,null,"","","","","","",null,null,"","","","","",""]
[119,null,null,"",null," ",null,false,null,null,"",null,null,"",null,null,"","","","","","",null,null,"","","","","",""]
[120,null,null,"",null," ",null,false,null,null,"",null,null,"",null,null,"","","","","","",null,null,"","","","","",""]
[121,null,null,"",null," ",null,false,null,null,"",null,null,"",null,null,"","","","","","",null,null,"","","","","",""]
[122,null,null,"",null," ",null,false,null,null,"",null,null,"",null,null,"","","","","","",null,null,"","","","","",""]
[123,null,null,"",null," ",null,false,null,null,"",null,null,"",null,null,"","","","","","",null,null,"","","","","",""]
[124,null,null,"",null," ",null,false,null,null,"",null,null,"",null,null,"","","","","","",null,null,"","","","","",""]
[125,null,null,"",null," ",null,false,null,null,"",null,null,"",null,null,"","","","","","",null,null,"","","","","",""]
[126,null,null,"",null," ",null,false,null,null,"",null,null,"",null,null,"","","","","","",null,null,"","","","","",""]
[127,null,null,"",null," ",null,false,null,null,"",null,null,"",null,null,"","","","","","",null,null,"","","","","",""]
[128,null,null,"",null," ",null,false,null,null,"",null,null,"",null,null,"","","","","","",null,null,"","","","","",""]
[129,null,null,"",null," ",null,false,null,null,"",null,null,"",null,null,{"$f":"IF(H146,IF(AND($P146=0,$J146>Baseline),1,0),\"\")","v":""},{"$f":"IF(H146,IF(AND($P146<1,$J146<=Baseline, $M146<Baseline),1,0),\"\")","v":""},{"$f":"IF(H146,IF(AND($P146<1,$P146>=0,$M146>=Baseline),1,0),\"\")","v":""},"","","",null,null,"","","",{"$f":"IF(H146,IF(AND(M146>=Baseline,J146<=Baseline),(Baseline-J146)/(M146-J146+1),IF(M146<=Baseline,1,0)),\"\")","v":""},"",""]
[130,null,null,{"$f":"IF(H147,IF(C147=1,\"Red\",IF(C147=2,\"Yellow\",IF(C147=3,\"Green\",\"No Flag\"))),\"\")","v":""},null,{"$f":"B147& \" \"&E147","v":" "},null,{"$f":"AND(G147>=2,J147<>\"\",M147<>\"\",NOT(OR(AND(G147=1,G148=2),AND(G147=2,G148=3))))","v":false},null,null,{"$f":"IF(J147<>\"\",LocateDate(J147),\"\")","v":""},null,null,{"$f":"LocateDate(M147)","v":""},null,null,"","","",{"$f":"IF(H147,IF($P147>=1,1,0),\"\")","v":""},{"$f":"IF(H147,IF(SUM(Q147:T147)=0,1,0),\"\")","v":""},{"$f":"IF(H147,IF(Q147,$Q$17,IF(R147,$R$17,IF(S147,$S$17,IF(T147,$T$17,IF(U147,$U$17,\"\"))))),\"\")","v":""},null,null,{"$f":"IF(H147,W147,\"\")","v":""},{"$f":"IF(H147,X147,\"\")","v":""},{"$f":"IF(H147,IF(W147<>\"\",X147/W147,\"\"),\"\")","v":""},"",{"$f":"IF(H147,AB147*W147,\"\")","v":""},{"$f":"IF(H147,IF(AND(X147<=AC147,AA147>0),\"Under-Spending\",IF(X147>AC147,\"Over-Spending\",IF(AA147=0,\"Not Started\",\"\"))),\"\")","v":""}]
[131,null,null,"",null," ",null,false,null,null,"",null,null,"",null,null,"","","","","","",null,null,"","","","","",""]
[132,null,null,"",null," ",null,false,null,null,"",null,null,"",null,null,"","","","","","",null,null,"","","","","",""]
[133,null,null,"",null," ",null,false,null,null,"",null,null,"",null,null,"","","","","","",null,null,"","","","","",""]
[134,null,null,"",null," ",null,false,null,null,"",null,null,"",null,null,"","","","","","",null,null,"","","","","",""]
[135,null,null,"",null," ",null,false,null,null,"",null,null,"",null,null,"","","","","","",null,null,"","","","","",""]
[136,null,null,"",null," ",null,false,null,null,"",null,null,"",null,null,"","","","","","",null,null,"","","","","",""]
[137,null,null,"",null," ",null,false,null,null,"",null,null,"",null,null,"","","","","","",null,null,"","","","","",""]
[138,null,null,"",null," ",null,false,null,null,"",null,null,"",null,null,"","","","","","",null,null,"","","","","",""]
[139,null,null,"",null," ",null,false,null,null,"",null,null,"",null,null,"","","","","","",null,null,"","","","","",""]
[140,null,null,"",null," ",null,false,null,null,"",null,null,"",null,null,"","","","","","",null,null,"","","","","",""]
[141,null,null,"",null," ",null,false,null,null,"",null,null,"",null,null,"","","","","","",null,null,"","","","","",""]
[142,null,null,"",null," ",null,false,null,null,"",null,null,"",null,null,"","","","","","",null,null,"","","","","",""]
[143,null,null,"",null," ",null,false,null,null,"",null,null,"",null,null,"","","","","","",null,null,"","","","","",""]
[144,null,null,"",null," ",null,false,null,null,"",null,null,"",null,null,"","","","","","",null,null,"","","","","",""]
[145,null,null,"",null," ",null,false,null,null,"",null,null,"",null,null,"","","","","","",null,null,"","","","","",""]
[146,null,null,"",null," ",null,false,null,null,"",null,null,"",null,null,"","","","","","",null,null,"","","","","",""]
[147,null,null,"",null," ",null,false,null,null,"",null,null,"",null,null,"","","","","","",null,null,"","","","","",""]
[148,null,null,"",null," ",null,false,null,null,"",null,null,"",null,null,"","","","","","",null,null,"","","","","",""]
[149,null,null,"",null," ",null,false,null,null,"",null,null,"",null,null,"","","","","","",null,null,"","","","","",""]
[150,null,null,"",null," ",null,false,null,null,"",null,null,"",null,null,"","","","","","",null,null,"","","","","",""]
[151,null,null,"",null," ",null,false,null,null,"",null,null,"",null,null,"","","","","","",null,null,"","","","","",""]
[152,null,null,"",null," ",null,false,null,null,"",null,null,"",null,null,"","","","","","",null,null,"","","","","",""]
[153,null,null,"",null," ",null,false,null,null,"",null,null,"",null,null,"","","","","","",null,null,"","","","","",""]
[154,null,null,"",null," ",null,false,null,null,"",null,null,"",null,null,"","","","","","",null,null,"","","","","",""]
[155,null,null,"",null," ",null,false,null,null,"",null,null,"",null,null,"","","","","","",null,null,"","","","","",""]
[156,null,null,"",null," ",null,false,null,null,"",null,null,"",null,null,"","","","","","",null,null,"","","","","",""]
[157,null,null,"",null," ",null,false,null,null,"",null,null,"",null,null,"","","","","","",null,null,"","","","","",""]
[158,null,null,"",null," ",null,false,null,null,"",null,null,"",null,null,"","","","","","",null,null,"","","","","",""]
[159,null,null,"",null," ",null,false,null,null,"",null,null,"",null,null,"","","","","","",null,null,"","","","","",""]
[160,null,null,"",null," ",null,false,null,null,"",null,null,"",null,null,"","","","","","",null,null,"","","","","",""]
[161,null,null,"",null," ",null,false,null,null,"",null,null,"",null,null,"","","","","","",null,null,"","","","","",""]
[162,null,null,"",null," ",null,false,null,null,"",null,null,"",null,null,"","","","","","",null,null,"","","","","",""]
[163,null,null,"",null," ",null,false,null,null,"",null,null,"",null,null,"","","","","","",null,null,"","","","","",""]
[164,null,null,"",null," ",null,false,null,null,"",null,null,"",null,null,"","","","","","",null,null,"","","","","",""]
[165,null,null,"",null," ",null,false,null,null,"",null,null,"",null,null,"","","","","","",null,null,"","","","","",""]
[166,null,null,"",null," ",null,false,null,null,"",null,null,"",null,null,"","","","","","",null,null,"","","","","",""]
[167,null,null,"",null," ",null,false,null,null,"",null,null,"",null,null,"","","","","","",null,null,"","","","","",""]
[168,null,null,"",null," ",null,false,null,null,"",null,null,"",null,null,"","","","","","",null,null,"","","","","",""]
[169,null,null,"",null," ",null,false,null,null,"",null,null,"",null,null,"","","","","","",null,null,"","","","","",""]
[170,null,null,"",null," ",null,false,null,null,"",null,null,"",null,null,"","","","","","",null,null,"","","","","",""]
[171,null,null,"",null," ",null,false,null,null,"",null,null,"",null,null,"","","","","","",null,null,"","","","","",""]
[172,null,null,"",null," ",null,false,null,null,"",null,null,"",null,null,"","","","","","",null,null,"","","","","",""]
[173,null,null,"",null," ",null,false,null,null,"",null,null,"",null,null,"","","","","","",null,null,"","","","","",""]
[174,null,null,"",null," ",null,false,null,null,"",null,null,"",null,null,"","","","","","",null,null,"","","","","",""]
[175,null,null,"",null," ",null,false,null,null,"",null,null,"",null,null,"","","","","","",null,null,"","","","","",""]
[176,null,null,"",null," ",null,false,null,null,"",null,null,"",null,null,"","","","","","",null,null,"","","","","",""]
[177,null,null,"",null," ",null,false,null,null,"",null,null,"",null,null,"","","","","","",null,null,"","","","","",""]
[178,null,null,"",null," ",null,false,null,null,"",null,null,"",null,null,"","","","","","",null,null,"","","","","",""]
[179,null,null,"",null," ",null,false,null,null,"",null,null,"",null,null,"","","","","","",null,null,"","","","","",""]
[180,null,null,"",null," ",null,false,null,null,"",null,null,"",null,null,"","","","","","",null,null,"","","","","",""]
[181,null,null,"",null," ",null,false,null,null,"",null,null,"",null,null,"","","","","","",null,null,"","","","","",""]
[182,null,null,"",null," ",null,false,null,null,"",null,null,"",null,null,"","","","","","",null,null,"","","","","",""]
[183,null,null,"",null," ",null,false,null,null,"",null,null,"",null,null,"","","","","","",null,null,"","","","","",""]
[184,null,null,"",null," ",null,false,null,null,"",null,null,"",null,null,"","","","","","",null,null,"","","","","",""]
[185,null,null,"",null," ",null,false,null,null,"",null,null,"",null,null,"","","","","","",null,null,"","","","","",""]
[186,null,null,"",null," ",null,false,null,null,"",null,null,"",null,null,"","","","","","",null,null,"","","","","",""]
[187,null,null,"",null," ",null,false,null,null,"",null,null,"",null,null,"","","","","","",null,null,"","","","","",""]
[188,null,null,"",null," ",null,false,null,null,"",null,null,"",null,null,"","","","","","",null,null,"","","","","",""]
[189,null,null,"",null," ",null,false,null,null,"",null,null,"",null,null,"","","","","","",null,null,"","","","","",""]
[190,null,null,"",null," ",null,false,null,null,"",null,null,"",null,null,"","","","","","",null,null,"","","","","",""]
[191,null,null,"",null," ",null,false,null,null,"",null,null,"",null,null,"","","","","","",null,null,"","","","","",""]
[192,null,null,"",null," ",null,false,null,null,"",null,null,"",null,null,"","","","","","",null,null,"","","","","",""]
[193,null,null,"",null," ",null,false,null,null,"",null,null,"",null,null,{"$f":"IF(H210,IF(AND($P210=0,$J210>Baseline),1,0),\"\")","v":""},{"$f":"IF(H210,IF(AND($P210<1,$J210<=Baseline, $M210<Baseline),1,0),\"\")","v":""},{"$f":"IF(H210,IF(AND($P210<1,$P210>=0,$M210>=Baseline),1,0),\"\")","v":""},"","","",null,null,"","","",{"$f":"IF(H210,IF(AND(M210>=Baseline,J210<=Baseline),(Baseline-J210)/(M210-J210+1),IF(M210<=Baseline,1,0)),\"\")","v":""},"",""]
[194,null,null,{"$f":"IF(H211,IF(C211=1,\"Red\",IF(C211=2,\"Yellow\",IF(C211=3,\"Green\",\"No Flag\"))),\"\")","v":""},null,{"$f":"B211& \" \"&E211","v":" "},null,{"$f":"AND(G211>=2,J211<>\"\",M211<>\"\",NOT(OR(AND(G211=1,G212=2),AND(G211=2,G212=3))))","v":false},null,null,{"$f":"IF(J211<>\"\",LocateDate(J211),\"\")","v":""},null,null,{"$f":"LocateDate(M211)","v":""},null,null,"","","",{"$f":"IF(H211,IF($P211>=1,1,0),\"\")","v":""},{"$f":"IF(H211,IF(SUM(Q211:T211)=0,1,0),\"\")","v":""},{"$f":"IF(H211,IF(Q211,$Q$17,IF(R211,$R$17,IF(S211,$S$17,IF(T211,$T$17,IF(U211,$U$17,\"\"))))),\"\")","v":""},null,null,{"$f":"IF(H211,W211,\"\")","v":""},{"$f":"IF(H211,X211,\"\")","v":""},{"$f":"IF(H211,IF(W211<>\"\",X211/W211,\"\"),\"\")","v":""},"",{"$f":"IF(H211,AB211*W211,\"\")","v":""},{"$f":"IF(H211,IF(AND(X211<=AC211,AA211>0),\"Under-Spending\",IF(X211>AC211,\"Over-Spending\",IF(AA211=0,\"Not Started\",\"\"))),\"\")","v":""}]
[195,null,null,"",null," ",null,false,null,null,"",null,null,"",null,null,"","","","","","",null,null,"","","","","",""]
[196,null,null,"",null," ",null,false,null,null,"",null,null,"",null,null,"","","","","","",null,null,"","","","","",""]
[197,null,null,"",null," ",null,false,null,null,"",null,null,"",null,null,"","","","","","",null,null,"","","","","",""]
[198,null,null,"",null," ",null,false,null,null,"",null,null,"",null,null,"","","","","","",null,null,"","","","","",""]
[199,null,null,"",null," ",null,false,null,null,"",null,null,"",null,null,"","","","","","",null,null,"","","","","",""]
[200,null,null,"",null," ",null,false,null,null,"",null,null,"",null,null,"","","","","","",null,null,"","","","","",""]
[201,null,null,"",null," ",null,false,null,null,"",null,null,"",null,null,"","","","","","",null,null,"","","","","",""]
[202,null,null,"",null," ",null,false,null,null,"",null,null,"",null,null,"","","","","","",null,null,"","","","","",""]
[203,null,null,"",null," ",null,false,null,null,"",null,null,"",null,null,"","","","","","",null,null,"","","","","",""]
[204,null,null,"",null," ",null,false,null,null,"",null,null,"",null,null,"","","","","","",null,null,"","","","","",""]
[205,null,null,"",null," ",null,false,null,null,"",null,null,"",null,null,"","","","","","",null,null,"","","","","",""]
[206,null,null,"",null," ",null,false,null,null,"",null,null,"",null,null,"","","","","","",null,null,"","","","","",""]
[207,null,null,"",null," ",null,false,null,null,"",null,null,"",null,null,"","","","","","",null,null,"","","","","",""]
[208,null,null,"",null," ",null,false,null,null,"",null,null,"",null,null,"","","","","","",null,null,"","","","","",""]
[209,null,null,"",null," ",null,false,null,null,"",null,null,"",null,null,"","","","","","",null,null,"","","","","",""]
[210,null,null,"",null," ",null,false,null,null,"",null,null,"",null,null,"","","","","","",null,null,"","","","","",""]
[211,null,null,"",null," ",null,false,null,null,"",null,null,"",null,null,"","","","","","",null,null,"","","","","",""]
[212,null,null,"",null," ",null,false,null,null,"",null,null,"",null,null,"","","","","","",null,null,"","","","","",""]
[213,null,null,"",null," ",null,false,null,null,"",null,null,"",null,null,"","","","","","",null,null,"","","","","",""]
[214,null,null,"",null," ",null,false,null,null,"",null,null,"",null,null,"","","","","","",null,null,"","","","","",""]
[215,null,null,"",null," ",null,false,null,null,"",null,null,"",null,null,"","","","","","",null,null,"","","","","",""]
[216,null,null,"",null," ",null,false,null,null,"",null,null,"",null,null,"","","","","","",null,null,"","","","","",""]
[217,null,null,"",null," ",null,false,null,null,"",null,null,"",null,null,"","","","","","",null,null,"","","","","",""]
[218,null,null,"",null," ",null,false,null,null,"",null,null,"",null,null,"","","","","","",null,null,"","","","","",""]
[219,null,null,"",null," ",null,false,null,null,"",null,null,"",null,null,"","","","","","",null,null,"","","","","",""]
[220,null,null,"",null," ",null,false,null,null,"",null,null,"",null,null,"","","","","","",null,null,"","","","","",""]
[221,null,null,"",null," ",null,false,null,null,"",null,null,"",null,null,"","","","","","",null,null,"","","","","",""]
[222,null,null,"",null," ",null,false,null,null,"",null,null,"",null,null,"","","","","","",null,null,"","","","","",""]
[223,null,null,"",null," ",null,false,null,null,"",null,null,"",null,null,"","","","","","",null,null,"","","","","",""]
[224,null,null,"",null," ",null,false,null,null,"",null,null,"",null,null,"","","","","","",null,null,"","","","","",""]
[225,null,null,"",null," ",null,false,null,null,"",null,null,"",null,null,"","","","","","",null,null,"","","","","",""]
[226,null,null,"",null," ",null,false,null,null,"",null,null,"",null,null,"","","","","","",null,null,"","","","","",""]
[227,null,null,"",null," ",null,false,null,null,"",null,null,"",null,null,"","","","","","",null,null,"","","","","",""]
[228,null,null,"",null," ",null,false,null,null,"",null,null,"",null,null,"","","","","","",null,null,"","","","","",""]
[229,null,null,"",null," ",null,false,null,null,"",null,null,"",null,null,"","","","","","",null,null,"","","","","",""]
[230,null,null,"",null," ",null,false,null,null,"",null,null,"",null,null,"","","","","","",null,null,"","","","","",""]
[231,null,null,"",null," ",null,false,null,null,"",null,null,"",null,null,"","","","","","",null,null,"","","","","",""]
[232,null,null,"",null," ",null,false,null,null,"",null,null,"",null,null,"","","","","","",null,null,"","","","","",""]
[233,null,null,"",null," ",null,false,null,null,"",null,null,"",null,null,"","","","","","",null,null,"","","","","",""]
[234,null,null,"",null," ",null,false,null,null,"",null,null,"",null,null,"","","","","","",null,null,"","","","","",""]
[235,null,null,"",null," ",null,false,null,null,"",null,null,"",null,null,"","","","","","",null,null,"","","","","",""]
[236,null,null,"",null," ",null,false,null,null,"",null,null,"",null,null,"","","","","","",null,null,"","","","","",""]
[237,null,null,"",null," ",null,false,null,null,"",null,null,"",null,null,"","","","","","",null,null,"","","","","",""]
[238,null,null,"",null," ",null,false,null,null,"",null,null,"",null,null,"","","","","","",null,null,"","","","","",""]
[239,null,null,"",null," ",null,false,null,null,"",null,null,"",null,null,"","","","","","",null,null,"","","","","",""]
[240,null,null,"",null," ",null,false,null,null,"",null,null,"",null,null,"","","","","","",null,null,"","","","","",""]
[241,null,null,"",null," ",null,false,null,null,"",null,null,"",null,null,"","","","","","",null,null,"","","","","",""]
[242,null,null,"",null," ",null,false,null,null,"",null,null,"",null,null,"","","","","","",null,null,"","","","","",""]
[243,null,null,"",null," ",null,false,null,null,"",null,null,"",null,null,"","","","","","",null,null,"","","","","",""]
[244,null,null,"",null," ",null,false,null,null,"",null,null,"",null,null,"","","","","","",null,null,"","","","","",""]
[245,null,null,"",null," ",null,false,null,null,"",null,null,"",null,null,"","","","","","",null,null,"","","","","",""]
[246,null,null,"",null," ",null,false,null,null,"",null,null,"",null,null,"","","","","","",null,null,"","","","","",""]
[247,null,null,"",null," ",null,false,null,null,"",null,null,"",null,null,"","","","","","",null,null,"","","","","",""]
[248,null,null,"",null," ",null,false,null,null,"",null,null,"",null,null,"","","","","","",null,null,"","","","","",""]
[249,null,null,"",null," ",null,false,null,null,"",null,null,"",null,null,"","","","","","",null,null,"","","","","",""]
[250,null,null,"",null," ",null,false,null,null,"",null,null,"",null,null,"","","","","","",null,null,"","","","","",""]
[251,null,null,"",null," ",null,false,null,null,"",null,null,"",null,null,"","","","","","",null,null,"","","","","",""]
[252,null,null,"",null," ",null,false,null,null,"",null,null,"",null,null,"","","","","","",null,null,"","","","","",""]
[253,null,null,"",null," ",null,false,null,null,"",null,null,"",null,null,"","","","","","",null,null,"","","","","",""]
[254,null,null,"",null," ",null,false,null,null,"",null,null,"",null,null,"","","","","","",null,null,"","","","","",""]
[255,null,null,"",null," ",null,false,null,null,"",null,null,"",null,null,"","","","","","",null,null,"","","","","",""]
[256,null,null,"",null," ",null,false,null,null,"",null,null,"",null,null,"","","","","","",null,null,"","","","","",""]
[257,null,null,"",null," ",null,false,null,null,"",null,null,"",null,null,{"$f":"IF(H274,IF(AND($P274=0,$J274>Baseline),1,0),\"\")","v":""},{"$f":"IF(H274,IF(AND($P274<1,$J274<=Baseline, $M274<Baseline),1,0),\"\")","v":""},{"$f":"IF(H274,IF(AND($P274<1,$P274>=0,$M274>=Baseline),1,0),\"\")","v":""},"","","",null,null,"","","",{"$f":"IF(H274,IF(AND(M274>=Baseline,J274<=Baseline),(Baseline-J274)/(M274-J274+1),IF(M274<=Baseline,1,0)),\"\")","v":""},"",""]
[258,null,null,{"$f":"IF(H275,IF(C275=1,\"Red\",IF(C275=2,\"Yellow\",IF(C275=3,\"Green\",\"No Flag\"))),\"\")","v":""},null,{"$f":"B275& \" \"&E275","v":" "},null,{"$f":"AND(G275>=2,J275<>\"\",M275<>\"\",NOT(OR(AND(G275=1,G276=2),AND(G275=2,G276=3))))","v":false},null,null,{"$f":"IF(J275<>\"\",LocateDate(J275),\"\")","v":""},null,null,{"$f":"LocateDate(M275)","v":""},null,null,"","","",{"$f":"IF(H275,IF($P275>=1,1,0),\"\")","v":""},{"$f":"IF(H275,IF(SUM(Q275:T275)=0,1,0),\"\")","v":""},{"$f":"IF(H275,IF(Q275,$Q$17,IF(R275,$R$17,IF(S275,$S$17,IF(T275,$T$17,IF(U275,$U$17,\"\"))))),\"\")","v":""},null,null,{"$f":"IF(H275,W275,\"\")","v":""},{"$f":"IF(H275,X275,\"\")","v":""},{"$f":"IF(H275,IF(W275<>\"\",X275/W275,\"\"),\"\")","v":""},"",{"$f":"IF(H275,AB275*W275,\"\")","v":""},{"$f":"IF(H275,IF(AND(X275<=AC275,AA275>0),\"Under-Spending\",IF(X275>AC275,\"Over-Spending\",IF(AA275=0,\"Not Started\",\"\"))),\"\")","v":""}]
[259,null,null,"",null," ",null,false,null,null,"",null,null,"",null,null,"","","","","","",null,null,"","","","","",""]
[260,null,null,"",null," ",null,false,null,null,"",null,null,"",null,null,"","","","","","",null,null,"","","","","",""]
[261,null,null,"",null," ",null,false,null,null,"",null,null,"",null,null,"","","","","","",null,null,"","","","","",""]
[262,null,null,"",null," ",null,false,null,null,"",null,null,"",null,null,"","","","","","",null,null,"","","","","",""]
[263,null,null,"",null," ",null,false,null,null,"",null,null,"",null,null,"","","","","","",null,null,"","","","","",""]
[264,null,null,"",null," ",null,false,null,null,"",null,null,"",null,null,"","","","","","",null,null,"","","","","",""]
[265,null,null,"",null," ",null,false,null,null,"",null,null,"",null,null,"","","","","","",null,null,"","","","","",""]
[266,null,null,"",null," ",null,false,null,null,"",null,null,"",null,null,"","","","","","",null,null,"","","","","",""]
[267,null,null,"",null," ",null,false,null,null,"",null,null,"",null,null,"","","","","","",null,null,"","","","","",""]
[268,null,null,"",null," ",null,false,null,null,"",null,null,"",null,null,"","","","","","",null,null,"","","","","",""]
[269,null,null,"",null," ",null,false,null,null,"",null,null,"",null,null,"","","","","","",null,null,"","","","","",""]
[270,null,null,"",null," ",null,false,null,null,"",null,null,"",null,null,"","","","","","",null,null,"","","","","",""]
[271,null,null,"",null," ",null,false,null,null,"",null,null,"",null,null,"","","","","","",null,null,"","","","","",""]
[272,null,null,"",null," ",null,false,null,null,"",null,null,"",null,null,"","","","","","",null,null,"","","","","",""]
[273,null,null,"",null," ",null,false,null,null,"",null,null,"",null,null,"","","","","","",null,null,"","","","","",""]
[274,null,null,"",null," ",null,false,null,null,"",null,null,"",null,null,"","","","","","",null,null,"","","","","",""]
[275,null,null,"",null," ",null,false,null,null,"",null,null,"",null,null,"","","","","","",null,null,"","","","","",""]
[276,null,null,"",null," ",null,false,null,null,"",null,null,"",null,null,"","","","","","",null,null,"","","","","",""]
[277,null,null,"",null," ",null,false,null,null,"",null,null,"",null,null,"","","","","","",null,null,"","","","","",""]
[278,null,null,"",null," ",null,false,null,null,"",null,null,"",null,null,"","","","","","",null,null,"","","","","",""]
[279,null,null,"",null," ",null,false,null,null,"",null,null,"",null,null,"","","","","","",null,null,"","","","","",""]
[280,null,null,"",null," ",null,false,null,null,"",null,null,"",null,null,"","","","","","",null,null,"","","","","",""]
[281,null,null,"",null," ",null,false,null,null,"",null,null,"",null,null,"","","","","","",null,null,"","","","","",""]
[282,null,null,"",null," ",null,false,null,null,"",null,null,"",null,null,"","","","","","",null,null,"","","","","",""]
[283,null,null,"",null," ",null,false,null,null,"",null,null,"",null,null,"","","","","","",null,null,"","","","","",""]
[284,null,null,"",null," ",null,false,null,null,"",null,null,"",null,null,"","","","","","",null,null,"","","","","",""]
[285,null,null,"",null," ",null,false,null,null,"",null,null,"",null,null,"","","","","","",null,null,"","","","","",""]
[286,null,null,"",null," ",null,false,null,null,"",null,null,"",null,null,"","","","","","",null,null,"","","","","",""]
[287,null,null,"",null," ",null,false,null,null,"",null,null,"",null,null,"","","","","","",null,null,"","","","","",""]
[288,null,null,"",null," ",null,false,null,null,"",null,null,"",null,null,"","","","","","",null,null,"","","","","",""]
[289,null,null,"",null," ",null,false,null,null,"",null,null,"",null,null,"","","","","","",null,null,"","","","","",""]
[290,null,null,"",null," ",null,false,null,null,"",null,null,"",null,null,"","","","","","",null,null,"","","","","",""]
[291,null,null,"",null," ",null,false,null,null,"",null,null,"",null,null,"","","","","","",null,null,"","","","","",""]
[292,null,null,"",null," ",null,false,null,null,"",null,null,"",null,null,"","","","","","",null,null,"","","","","",""]
[293,null,null,"",null," ",null,false,null,null,"",null,null,"",null,null,"","","","","","",null,null,"","","","","",""]
[294,null,null,"",null," ",null,false,null,null,"",null,null,"",null,null,"","","","","","",null,null,"","","","","",""]
[295,null,null,"",null," ",null,false,null,null,"",null,null,"",null,null,"","","","","","",null,null,"","","","","",""]
[296,null,null,"",null," ",null,false,null,null,"",null,null,"",null,null,"","","","","","",null,null,"","","","","",""]
[297,null,null,"",null," ",null,false,null,null,"",null,null,"",null,null,"","","","","","",null,null,"","","","","",""]
[298,null,null,"",null," ",null,false,null,null,"",null,null,"",null,null,"","","","","","",null,null,"","","","","",""]
[299,null,null,"",null," ",null,false,null,null,"",null,null,"",null,null,"","","","","","",null,null,"","","","","",""]
[300,null,null,"",null," ",null,false,null,null,"",null,null,"",null,null,"","","","","","",null,null,"","","","","",""]
[301,null,null,"",null," ",null,false,null,null,"",null,null,"",null,null,"","","","","","",null,null,"","","","","",""]
[302,null,null,"",null," ",null,false,null,null,"",null,null,"",null,null,"","","","","","",null,null,"","","","","",""]
[303,null,null,"",null," ",null,false,null,null,"",null,null,"",null,null,"","","","","","",null,null,"","","","","",""]
[304,null,null,"",null," ",null,false,null,null,"",null,null,"",null,null,"","","","","","",null,null,"","","","","",""]
[305,null,null,"",null," ",null,false,null,null,"",null,null,"",null,null,"","","","","","",null,null,"","","","","",""]
[306,null,null,"",null," ",null,false,null,null,"",null,null,"",null,null,"","","","","","",null,null,"","","","","",""]
[307,null,null,"",null," ",null,false,null,null,"",null,null,"",null,null,"","","","","","",null,null,"","","","","",""]
[308,null,null,"",null," ",null,false,null,null,"",null,null,"",null,null,"","","","","","",null,null,"","","","","",""]
[309,null,null,"",null," ",null,false,null,null,"",null,null,"",null,null,"","","","","","",null,null,"","","","","",""]
[310,null,null,"",null," ",null,false,null,null,"",null,null,"",null,null,"","","","","","",null,null,"","","","","",""]
[311,null,null,"",null," ",null,false,null,null,"",null,null,"",null,null,"","","","","","",null,null,"","","","","",""]
[312,null,null,"",null," ",null,false,null,null,"",null,null,"",null,null,"","","","","","",null,null,"","","","","",""]
[313,null,null,"",null," ",null,false,null,null,"",null,null,"",null,null,"","","","","","",null,null,"","","","","",""]
[314,null,null,"",null," ",null,false,null,null,"",null,null,"",null,null,"","","","","","",null,null,"","","","","",""]
[315,null,null,"",null," ",null,false,null,null,"",null,null,"",null,null,"","","","","","",null,null,"","","","","",""]
[316,null,null,"",null," ",null,false,null,null,"",null,null,"",null,null,"","","","","","",null,null,"","","","","",""]
[317,null,null,"",null," ",null,false,null,null,"",null,null,"",null,null,"","","","","","",null,null,"","","","","",""]
[318,null,null,"",null," ",null,false,null,null,"",null,null,"",null,null,"","","","","","",null,null,"","","","","",""]
[319,null,null,"",null," ",null,false,null,null,"",null,null,"",null,null,"","","","","","",null,null,"","","","","",""]
[320,null,null,"",null," ",null,false,null,null,"",null,null,"",null,null,"","","","","","",null,null,"","","","","",""]
[321,null,null,"",null," ",null,false,null,null,"",null,null,"",null,null,{"$f":"IF(H338,IF(AND($P338=0,$J338>Baseline),1,0),\"\")","v":""},{"$f":"IF(H338,IF(AND($P338<1,$J338<=Baseline, $M338<Baseline),1,0),\"\")","v":""},{"$f":"IF(H338,IF(AND($P338<1,$P338>=0,$M338>=Baseline),1,0),\"\")","v":""},"","","",null,null,"","","",{"$f":"IF(H338,IF(AND(M338>=Baseline,J338<=Baseline),(Baseline-J338)/(M338-J338+1),IF(M338<=Baseline,1,0)),\"\")","v":""},"",""]
[322,null,null,{"$f":"IF(H339,IF(C339=1,\"Red\",IF(C339=2,\"Yellow\",IF(C339=3,\"Green\",\"No Flag\"))),\"\")","v":""},null,{"$f":"B339& \" \"&E339","v":" "},null,{"$f":"AND(G339>=2,J339<>\"\",M339<>\"\",NOT(OR(AND(G339=1,G340=2),AND(G339=2,G340=3))))","v":false},null,null,{"$f":"IF(J339<>\"\",LocateDate(J339),\"\")","v":""},null,null,{"$f":"LocateDate(M339)","v":""},null,null,"","","",{"$f":"IF(H339,IF($P339>=1,1,0),\"\")","v":""},{"$f":"IF(H339,IF(SUM(Q339:T339)=0,1,0),\"\")","v":""},{"$f":"IF(H339,IF(Q339,$Q$17,IF(R339,$R$17,IF(S339,$S$17,IF(T339,$T$17,IF(U339,$U$17,\"\"))))),\"\")","v":""},null,null,{"$f":"IF(H339,W339,\"\")","v":""},{"$f":"IF(H339,X339,\"\")","v":""},{"$f":"IF(H339,IF(W339<>\"\",X339/W339,\"\"),\"\")","v":""},"",{"$f":"IF(H339,AB339*W339,\"\")","v":""},{"$f":"IF(H339,IF(AND(X339<=AC339,AA339>0),\"Under-Spending\",IF(X339>AC339,\"Over-Spending\",IF(AA339=0,\"Not Started\",\"\"))),\"\")","v":""}]
[323,null,null,"",null," ",null,false,null,null,"",null,null,"",null,null,"","","","","","",null,null,"","","","","",""]
[324,null,null,"",null," ",null,false,null,null,"",null,null,"",null,null,"","","","","","",null,null,"","","","","",""]
[325,null,null,"",null," ",null,false,null,null,"",null,null,"",null,null,"","","","","","",null,null,"","","","","",""]
[326,null,null,"",null," ",null,false,null,null,"",null,null,"",null,null,"","","","","","",null,null,"","","","","",""]
[327,null,null,"",null," ",null,false,null,null,"",null,null,"",null,null,"","","","","","",null,null,"","","","","",""]
[328,null,null,"",null," ",null,false,null,null,"",null,null,"",null,null,"","","","","","",null,null,"","","","","",""]
[329,null,null,"",null," ",null,false,null,null,"",null,null,"",null,null,"","","","","","",null,null,"","","","","",""]
[330,null,null,"",null," ",null,false,null,null,"",null,null,"",null,null,"","","","","","",null,null,"","","","","",""]
[331,null,null,"",null," ",null,false,null,null,"",null,null,"",null,null,"","","","","","",null,null,"","","","","",""]
[332,null,null,"",null," ",null,false,null,null,"",null,null,"",null,null,"","","","","","",null,null,"","","","","",""]
[333,null,null,"",null," ",null,false,null,null,"",null,null,"",null,null,"","","","","","",null,null,"","","","","",""]
[334,null,null,"",null," ",null,false,null,null,"",null,null,"",null,null,"","","","","","",null,null,"","","","","",""]
[335,null,null,"",null," ",null,false,null,null,"",null,null,"",null,null,"","","","","","",null,null,"","","","","",""]
[336,null,null,"",null," ",null,false,null,null,"",null,null,"",null,null,"","","","","","",null,null,"","","","","",""]
[337,null,null,"",null," ",null,false,null,null,"",null,null,"",null,null,"","","","","","",null,null,"","","","","",""]
[338,null,null,"",null," ",null,false,null,null,"",null,null,"",null,null,"","","","","","",null,null,"","","","","",""]
[339,null,null,"",null," ",null,false,null,null,"",null,null,"",null,null,"","","","","","",null,null,"","","","","",""]
[340,null,null,"",null," ",null,false,null,null,"",null,null,"",null,null,"","","","","","",null,null,"","","","","",""]
[341,null,null,"",null," ",null,false,null,null,"",null,null,"",null,null,"","","","","","",null,null,"","","","","",""]
[342,null,null,"",null," ",null,false,null,null,"",null,null,"",null,null,"","","","","","",null,null,"","","","","",""]
[343,null,null,"",null," ",null,false,null,null,"",null,null,"",null,null,"","","","","","",null,null,"","","","","",""]
[344,null,null,"",null," ",null,false,null,null,"",null,null,"",null,null,"","","","","","",null,null,"","","","","",""]
[345,null,null,"",null," ",null,false,null,null,"",null,null,"",null,null,"","","","","","",null,null,"","","","","",""]
[346,null,null,"",null," ",null,false,null,null,"",null,null,"",null,null,"","","","","","",null,null,"","","","","",""]
[347,null,null,"",null," ",null,false,null,null,"",null,null,"",null,null,"","","","","","",null,null,"","","","","",""]
[348,null,null,"",null," ",null,false,null,null,"",null,null,"",null,null,"","","","","","",null,null,"","","","","",""]
[349,null,null,"",null," ",null,false,null,null,"",null,null,"",null,null,"","","","","","",null,null,"","","","","",""]
[350,null,null,"",null," ",null,false,null,null,"",null,null,"",null,null,"","","","","","",null,null,"","","","","",""]
[351,null,null,"",null," ",null,false,null,null,"",null,null,"",null,null,"","","","","","",null,null,"","","","","",""]
[352,null,null,"",null," ",null,false,null,null,"",null,null,"",null,null,"","","","","","",null,null,"","","","","",""]
[353,null,null,"",null," ",null,false,null,null,"",null,null,"",null,null,"","","","","","",null,null,"","","","","",""]
[354,null,null,"",null," ",null,false,null,null,"",null,null,"",null,null,"","","","","","",null,null,"","","","","",""]
[355,null,null,"",null," ",null,false,null,null,"",null,null,"",null,null,"","","","","","",null,null,"","","","","",""]
[356,null,null,"",null," ",null,false,null,null,"",null,null,"",null,null,"","","","","","",null,null,"","","","","",""]
[357,null,null,"",null," ",null,false,null,null,"",null,null,"",null,null,"","","","","","",null,null,"","","","","",""]
[358,null,null,"",null," ",null,false,null,null,"",null,null,"",null,null,"","","","","","",null,null,"","","","","",""]
[359,null,null,"",null," ",null,false,null,null,"",null,null,"",null,null,"","","","","","",null,null,"","","","","",""]
[360,null,null,"",null," ",null,false,null,null,"",null,null,"",null,null,"","","","","","",null,null,"","","","","",""]
[361,null,null,"",null," ",null,false,null,null,"",null,null,"",null,null,"","","","","","",null,null,"","","","","",""]
[362,null,null,"",null," ",null,false,null,null,"",null,null,"",null,null,"","","","","","",null,null,"","","","","",""]
[363,null,null,"",null," ",null,false,null,null,"",null,null,"",null,null,"","","","","","",null,null,"","","","","",""]
[364,null,null,"",null," ",null,false,null,null,"",null,null,"",null,null,"","","","","","",null,null,"","","","","",""]
[365,null,null,"",null," ",null,false,null,null,"",null,null,"",null,null,"","","","","","",null,null,"","","","","",""]
[366,null,null,"",null," ",null,false,null,null,"",null,null,"",null,null,"","","","","","",null,null,"","","","","",""]
[367,null,null,"",null," ",null,false,null,null,"",null,null,"",null,null,"","","","","","",null,null,"","","","","",""]
[368,null,null,"",null," ",null,false,null,null,"",null,null,"",null,null,"","","","","","",null,null,"","","","","",""]
[369,null,null,"",null," ",null,false,null,null,"",null,null,"",null,null,"","","","","","",null,null,"","","","","",""]
[370,null,null,"",null," ",null,false,null,null,"",null,null,"",null,null,"","","","","","",null,null,"","","","","",""]
[371,null,null,"",null," ",null,false,null,null,"",null,null,"",null,null,"","","","","","",null,null,"","","","","",""]
[372,null,null,"",null," ",null,false,null,null,"",null,null,"",null,null,"","","","","","",null,null,"","","","","",""]
[373,null,null,"",null," ",null,false,null,null,"",null,null,"",null,null,"","","","","","",null,null,"","","","","",""]
[374,null,null,"",null," ",null,false,null,null,"",null,null,"",null,null,"","","","","","",null,null,"","","","","",""]
[375,null,null,"",null," ",null,false,null,null,"",null,null,"",null,null,"","","","","","",null,null,"","","","","",""]
[376,null,null,"",null," ",null,false,null,null,"",null,null,"",null,null,"","","","","","",null,null,"","","","","",""]
[377,null,null,"",null," ",null,false,null,null,"",null,null,"",null,null,"","","","","","",null,null,"","","","","",""]
[378,null,null,"",null," ",null,false,null,null,"",null,null,"",null,null,"","","","","","",null,null,"","","","","",""]
[379,null,null,"",null," ",null,false,null,null,"",null,null,"",null,null,"","","","","","",null,null,"","","","","",""]
[380,null,null,"",null," ",null,false,null,null,"",null,null,"",null,null,"","","","","","",null,null,"","","","","",""]
[381,null,null,"",null," ",null,false,null,null,"",null,null,"",null,null,"","","","","","",null,null,"","","","","",""]
[382,null,null,"",null," ",null,false,null,null,"",null,null,"",null,null,"","","","","","",null,null,"","","","","",""]
[383,null,null,"",null," ",null,false,null,null,"",null,null,"",null,null,"","","","","","",null,null,"","","","","",""]
[384,null,null,"",null," ",null,false,null,null,"",null,null,"",null,null,"","","","","","",null,null,"","","","","",""]
[385,null,null,"",null," ",null,false,null,null,"",null,null,"",null,null,{"$f":"IF(H402,IF(AND($P402=0,$J402>Baseline),1,0),\"\")","v":""},{"$f":"IF(H402,IF(AND($P402<1,$J402<=Baseline, $M402<Baseline),1,0),\"\")","v":""},{"$f":"IF(H402,IF(AND($P402<1,$P402>=0,$M402>=Baseline),1,0),\"\")","v":""},"","","",null,null,"","","",{"$f":"IF(H402,IF(AND(M402>=Baseline,J402<=Baseline),(Baseline-J402)/(M402-J402+1),IF(M402<=Baseline,1,0)),\"\")","v":""},"",""]
[386,null,null,{"$f":"IF(H403,IF(C403=1,\"Red\",IF(C403=2,\"Yellow\",IF(C403=3,\"Green\",\"No Flag\"))),\"\")","v":""},null,{"$f":"B403& \" \"&E403","v":" "},null,{"$f":"AND(G403>=2,J403<>\"\",M403<>\"\",NOT(OR(AND(G403=1,G404=2),AND(G403=2,G404=3))))","v":false},null,null,{"$f":"IF(J403<>\"\",LocateDate(J403),\"\")","v":""},null,null,{"$f":"LocateDate(M403)","v":""},null,null,"","","",{"$f":"IF(H403,IF($P403>=1,1,0),\"\")","v":""},{"$f":"IF(H403,IF(SUM(Q403:T403)=0,1,0),\"\")","v":""},{"$f":"IF(H403,IF(Q403,$Q$17,IF(R403,$R$17,IF(S403,$S$17,IF(T403,$T$17,IF(U403,$U$17,\"\"))))),\"\")","v":""},null,null,{"$f":"IF(H403,W403,\"\")","v":""},{"$f":"IF(H403,X403,\"\")","v":""},{"$f":"IF(H403,IF(W403<>\"\",X403/W403,\"\"),\"\")","v":""},"",{"$f":"IF(H403,AB403*W403,\"\")","v":""},{"$f":"IF(H403,IF(AND(X403<=AC403,AA403>0),\"Under-Spending\",IF(X403>AC403,\"Over-Spending\",IF(AA403=0,\"Not Started\",\"\"))),\"\")","v":""}]
[387,null,null,"",null," ",null,false,null,null,"",null,null,"",null,null,"","","","","","",null,null,"","","","","",""]
[388,null,null,"",null," ",null,false,null,null,"",null,null,"",null,null,"","","","","","",null,null,"","","","","",""]
[389,null,null,"",null," ",null,false,null,null,"",null,null,"",null,null,"","","","","","",null,null,"","","","","",""]
[390,null,null,"",null," ",null,false,null,null,"",null,null,"",null,null,"","","","","","",null,null,"","","","","",""]
[391,null,null,"",null," ",null,false,null,null,"",null,null,"",null,null,"","","","","","",null,null,"","","","","",""]
[392,null,null,"",null," ",null,false,null,null,"",null,null,"",null,null,"","","","","","",null,null,"","","","","",""]
[393,null,null,"",null," ",null,false,null,null,"",null,null,"",null,null,"","","","","","",null,null,"","","","","",""]
[394,null,null,"",null," ",null,false,null,null,"",null,null,"",null,null,"","","","","","",null,null,"","","","","",""]
[395,null,null,"",null," ",null,false,null,null,"",null,null,"",null,null,"","","","","","",null,null,"","","","","",""]
[396,null,null,"",null," ",null,false,null,null,"",null,null,"",null,null,"","","","","","",null,null,"","","","","",""]
[397,null,null,"",null," ",null,false,null,null,"",null,null,"",null,null,"","","","","","",null,null,"","","","","",""]
[398,null,null,"",null," ",null,false,null,null,"",null,null,"",null,null,"","","","","","",null,null,"","","","","",""]
[399,null,null,"",null," ",null,false,null,null,"",null,null,"",null,null,"","","","","","",null,null,"","","","","",""]
[400,null,null,"",null," ",null,false,null,null,"",null,null,"",null,null,"","","","","","",null,null,"","","","","",""]
[401,null,null,"",null," ",null,false,null,null,"",null,null,"",null,null,"","","","","","",null,null,"","","","","",""]
[402,null,null,"",null," ",null,false,null,null,"",null,null,"",null,null,"","","","","","",null,null,"","","","","",""]
[403,null,null,"",null," ",null,false,null,null,"",null,null,"",null,null,"","","","","","",null,null,"","","","","",""]
[404,null,null,"",null," ",null,false,null,null,"",null,null,"",null,null,"","","","","","",null,null,"","","","","",""]
[405,null,null,"",null," ",null,false,null,null,"",null,null,"",null,null,"","","","","","",null,null,"","","","","",""]
[406,null,null,"",null," ",null,false,null,null,"",null,null,"",null,null,"","","","","","",null,null,"","","","","",""]
[407,null,null,"",null," ",null,false,null,null,"",null,null,"",null,null,"","","","","","",null,null,"","","","","",""]
[408,null,null,"",null," ",null,false,null,null,"",null,null,"",null,null,"","","","","","",null,null,"","","","","",""]
[409,null,null,"",null," ",null,false,null,null,"",null,null,"",null,null,"","","","","","",null,null,"","","","","",""]
[410,null,null,"",null," ",null,false,null,null,"",null,null,"",null,null,"","","","","","",null,null,"","","","","",""]
[411,null,null,"",null," ",null,false,null,null,"",null,null,"",null,null,"","","","","","",null,null,"","","","","",""]
[412,null,null,"",null," ",null,false,null,null,"",null,null,"",null,null,"","","","","","",null,null,"","","","","",""]
[413,null,null,"",null," ",null,false,null,null,"",null,null,"",null,null,"","","","","","",null,null,"","","","","",""]
[414,null,null,"",null," ",null,false,null,null,"",null,null,"",null,null,"","","","","","",null,null,"","","","","",""]
[415,null,null,"",null," ",null,false,null,null,"",null,null,"",null,null,"","","","","","",null,null,"","","","","",""]
[416,null,null,"",null," ",null,false,null,null,"",null,null,"",null,null,"","","","","","",null,null,"","","","","",""]
[417,null,null,"",null," ",null,false,null,null,"",null,null,"",null,null,"","","","","","",null,null,"","","","","",""]
[418,null,null,"",null," ",null,false,null,null,"",null,null,"",null,null,"","","","","","",null,null,"","","","","",""]
[419,null,null,"",null," ",null,false,null,null,"",null,null,"",null,null,"","","","","","",null,null,"","","","","",""]
[420,null,null,"",null," ",null,false,null,null,"",null,null,"",null,null,"","","","","","",null,null,"","","","","",""]
[421,null,null,"",null," ",null,false,null,null,"",null,null,"",null,null,"","","","","","",null,null,"","","","","",""]
[422,null,null,"",null," ",null,false,null,null,"",null,null,"",null,null,"","","","","","",null,null,"","","","","",""]
[423,null,null,"",null," ",null,false,null,null,"",null,null,"",null,null,"","","","","","",null,null,"","","","","",""]
[424,null,null,"",null," ",null,false,null,null,"",null,null,"",null,null,"","","","","","",null,null,"","","","","",""]
[425,null,null,"",null," ",null,false,null,null,"",null,null,"",null,null,"","","","","","",null,null,"","","","","",""]
[426,null,null,"",null," ",null,false,null,null,"",null,null,"",null,null,"","","","","","",null,null,"","","","","",""]
[427,null,null,"",null," ",null,false,null,null,"",null,null,"",null,null,"","","","","","",null,null,"","","","","",""]
[428,null,null,"",null," ",null,false,null,null,"",null,null,"",null,null,"","","","","","",null,null,"","","","","",""]
[429,null,null,"",null," ",null,false,null,null,"",null,null,"",null,null,"","","","","","",null,null,"","","","","",""]
[430,null,null,"",null," ",null,false,null,null,"",null,null,"",null,null,"","","","","","",null,null,"","","","","",""]
[431,null,null,"",null," ",null,false,null,null,"",null,null,"",null,null,"","","","","","",null,null,"","","","","",""]
[432,null,null,"",null," ",null,false,null,null,"",null,null,"",null,null,"","","","","","",null,null,"","","","","",""]
[433,null,null,"",null," ",null,false,null,null,"",null,null,"",null,null,"","","","","","",null,null,"","","","","",""]
[434,null,null,"",null," ",null,false,null,null,"",null,null,"",null,null,"","","","","","",null,null,"","","","","",""]
[435,null,null,"",null," ",null,false,null,null,"",null,null,"",null,null,"","","","","","",null,null,"","","","","",""]
[436,null,null,"",null," ",null,false,null,null,"",null,null,"",null,null,"","","","","","",null,null,"","","","","",""]
[437,null,null,"",null," ",null,false,null,null,"",null,null,"",null,null,"","","","","","",null,null,"","","","","",""]
[438,null,null,"",null," ",null,false,null,null,"",null,null,"",null,null,"","","","","","",null,null,"","","","","",""]
[439,null,null,"",null," ",null,false,null,null,"",null,null,"",null,null,"","","","","","",null,null,"","","","","",""]
[440,null,null,"",null," ",null,false,null,null,"",null,null,"",null,null,"","","","","","",null,null,"","","","","",""]
[441,null,null,"",null," ",null,false,null,null,"",null,null,"",null,null,"","","","","","",null,null,"","","","","",""]
[442,null,null,"",null," ",null,false,null,null,"",null,null,"",null,null,"","","","","","",null,null,"","","","","",""]
[443,null,null,"",null," ",null,false,null,null,"",null,null,"",null,null,"","","","","","",null,null,"","","","","",""]
[444,null,null,"",null," ",null,false,null,null,"",null,null,"",null,null,"","","","","","",null,null,"","","","","",""]
[445,null,null,"",null," ",null,false,null,null,"",null,null,"",null,null,"","","","","","",null,null,"","","","","",""]
[446,null,null,"",null," ",null,false,null,null,"",null,null,"",null,null,"","","","","","",null,null,"","","","","",""]
[447,null,null,"",null," ",null,false,null,null,"",null,null,"",null,null,"","","","","","",null,null,"","","","","",""]
[448,null,null,"",null," ",null,false,null,null,"",null,null,"",null,null,"","","","","","",null,null,"","","","","",""]
[449,null,null,"",null," ",null,false,null,null,"",null,null,"",null,null,{"$f":"IF(H466,IF(AND($P466=0,$J466>Baseline),1,0),\"\")","v":""},{"$f":"IF(H466,IF(AND($P466<1,$J466<=Baseline, $M466<Baseline),1,0),\"\")","v":""},{"$f":"IF(H466,IF(AND($P466<1,$P466>=0,$M466>=Baseline),1,0),\"\")","v":""},"","","",null,null,"","","",{"$f":"IF(H466,IF(AND(M466>=Baseline,J466<=Baseline),(Baseline-J466)/(M466-J466+1),IF(M466<=Baseline,1,0)),\"\")","v":""},"",""]
[450,null,null,{"$f":"IF(H467,IF(C467=1,\"Red\",IF(C467=2,\"Yellow\",IF(C467=3,\"Green\",\"No Flag\"))),\"\")","v":""},null,{"$f":"B467& \" \"&E467","v":" "},null,{"$f":"AND(G467>=2,J467<>\"\",M467<>\"\",NOT(OR(AND(G467=1,G468=2),AND(G467=2,G468=3))))","v":false},null,null,{"$f":"IF(J467<>\"\",LocateDate(J467),\"\")","v":""},null,null,{"$f":"LocateDate(M467)","v":""},null,null,"","","",{"$f":"IF(H467,IF($P467>=1,1,0),\"\")","v":""},{"$f":"IF(H467,IF(SUM(Q467:T467)=0,1,0),\"\")","v":""},{"$f":"IF(H467,IF(Q467,$Q$17,IF(R467,$R$17,IF(S467,$S$17,IF(T467,$T$17,IF(U467,$U$17,\"\"))))),\"\")","v":""},null,null,{"$f":"IF(H467,W467,\"\")","v":""},{"$f":"IF(H467,X467,\"\")","v":""},{"$f":"IF(H467,IF(W467<>\"\",X467/W467,\"\"),\"\")","v":""},"",{"$f":"IF(H467,AB467*W467,\"\")","v":""},{"$f":"IF(H467,IF(AND(X467<=AC467,AA467>0),\"Under-Spending\",IF(X467>AC467,\"Over-Spending\",IF(AA467=0,\"Not Started\",\"\"))),\"\")","v":""}]
[451,null,null,"",null," ",null,false,null,null,"",null,null,"",null,null,"","","","","","",null,null,"","","","","",""]
[452,null,null,"",null," ",null,false,null,null,"",null,null,"",null,null,"","","","","","",null,null,"","","","","",""]
[453,null,null,"",null," ",null,false,null,null,"",null,null,"",null,null,"","","","","","",null,null,"","","","","",""]
[454,null,null,"",null," ",null,false,null,null,"",null,null,"",null,null,"","","","","","",null,null,"","","","","",""]
[455,null,null,"",null," ",null,false,null,null,"",null,null,"",null,null,"","","","","","",null,null,"","","","","",""]
[456,null,null,"",null," ",null,false,null,null,"",null,null,"",null,null,"","","","","","",null,null,"","","","","",""]
[457,null,null,"",null," ",null,false,null,null,"",null,null,"",null,null,"","","","","","",null,null,"","","","","",""]
[458,null,null,"",null," ",null,false,null,null,"",null,null,"",null,null,"","","","","","",null,null,"","","","","",""]
[459,null,null,"",null," ",null,false,null,null,"",null,null,"",null,null,"","","","","","",null,null,"","","","","",""]
[460,null,null,"",null," ",null,false,null,null,"",null,null,"",null,null,"","","","","","",null,null,"","","","","",""]
[461,null,null,"",null," ",null,false,null,null,"",null,null,"",null,null,"","","","","","",null,null,"","","","","",""]
[462,null,null,"",null," ",null,false,null,null,"",null,null,"",null,null,"","","","","","",null,null,"","","","","",""]
[463,null,null,"",null," ",null,false,null,null,"",null,null,"",null,null,"","","","","","",null,null,"","","","","",""]
[464,null,null,"",null," ",null,false,null,null,"",null,null,"",null,null,"","","","","","",null,null,"","","","","",""]
[465,null,null,"",null," ",null,false,null,null,"",null,null,"",null,null,"","","","","","",null,null,"","","","","",""]
[466,null,null,"",null," ",null,false,null,null,"",null,null,"",null,null,"","","","","","",null,null,"","","","","",""]
[467,null,null,"",null," ",null,false,null,null,"",null,null,"",null,null,"","","","","","",null,null,"","","","","",""]
[468,null,null,"",null," ",null,false,null,null,"",null,null,"",null,null,"","","","","","",null,null,"","","","","",""]
[469,null,null,"",null," ",null,false,null,null,"",null,null,"",null,null,"","","","","","",null,null,"","","","","",""]
[470,null,null,"",null," ",null,false,null,null,"",null,null,"",null,null,"","","","","","",null,null,"","","","","",""]
[471,null,null,"",null," ",null,false,null,null,"",null,null,"",null,null,"","","","","","",null,null,"","","","","",""]
[472,null,null,"",null," ",null,false,null,null,"",null,null,"",null,null,"","","","","","",null,null,"","","","","",""]
[473,null,null,"",null," ",null,false,null,null,"",null,null,"",null,null,"","","","","","",null,null,"","","","","",""]
[474,null,null,"",null," ",null,false,null,null,"",null,null,"",null,null,"","","","","","",null,null,"","","","","",""]
[475,null,null,"",null," ",null,false,null,null,"",null,null,"",null,null,"","","","","","",null,null,"","","","","",""]
[476,null,null,"",null," ",null,false,null,null,"",null,null,"",null,null,"","","","","","",null,null,"","","","","",""]
[477,null,null,"",null," ",null,false,null,null,"",null,null,"",null,null,"","","","","","",null,null,"","","","","",""]
[478,null,null,"",null," ",null,false,null,null,"",null,null,"",null,null,"","","","","","",null,null,"","","","","",""]
[479,null,null,"",null," ",null,false,null,null,"",null,null,"",null,null,"","","","","","",null,null,"","","","","",""]
[480,null,null,"",null," ",null,false,null,null,"",null,null,"",null,null,"","","","","","",null,null,"","","","","",""]
[481,null,null,"",null," ",null,false,null,null,"",null,null,"",null,null,"","","","","","",null,null,"","","","","",""]
[482,null,null,"",null," ",null,false,null,null,"",null,null,"",null,null,"","","","","","",null,null,"","","","","",""]
[483,null,null,"",null," ",null,false,null,null,"",null,null,"",null,null,"","","","","","",null,null,"","","","","",""]
[484,null,null,"",null," ",null,false,null,null,"",null,null,"",null,null,"","","","","","",null,null,"","","","","",""]
[485,null,null,"",null," ",null,false,null,null,"",null,null,"",null,null,"","","","","","",null,null,"","","","","",""]
[486,null,null,"",null," ",null,false,null,null,"",null,null,"",null,null,"","","","","","",null,null,"","","","","",""]
[487,null,null,"",null," ",null,false,null,null,"",null,null,"",null,null,"","","","","","",null,null,"","","","","",""]
[488,null,null,"",null," ",null,false,null,null,"",null,null,"",null,null,"","","","","","",null,null,"","","","","",""]
[489,null,null,"",null," ",null,false,null,null,"",null,null,"",null,null,"","","","","","",null,null,"","","","","",""]
[490,null,null,"",null," ",null,false,null,null,"",null,null,"",null,null,"","","","","","",null,null,"","","","","",""]
[491,null,null,"",null," ",null,false,null,null,"",null,null,"",null,null,"","","","","","",null,null,"","","","","",""]
[492,null,null,"",null," ",null,false,null,null,"",null,null,"",null,null,"","","","","","",null,null,"","","","","",""]
[493,null,null,"",null," ",null,false,null,null,"",null,null,"",null,null,"","","","","","",null,null,"","","","","",""]
[494,null,null,"",null," ",null,false,null,null,"",null,null,"",null,null,"","","","","","",null,null,"","","","","",""]
[495,null,null,"",null," ",null,false,null,null,"",null,null,"",null,null,"","","","","","",null,null,"","","","","",""]
[496,null,null,"",null," ",null,false,null,null,"",null,null,"",null,null,"","","","","","",null,null,"","","","","",""]
[497,null,null,"",null," ",null,false,null,null,"",null,null,"",null,null,"","","","","","",null,null,"","","","","",""]
[498,null,null,"",null," ",null,false,null,null,"",null,null,"",null,null,"","","","","","",null,null,"","","","","",""]
[499,null,null,"",null," ",null,false,null,null,"",null,null,"",null,null,"","","","","","",null,null,"","","","","",""]
[500,null,null,"",null," ",null,false,null,null,"",null,null,"",null,null,"","","","","","",null,null,"","","","","",""]
[501,null,null,"",null," ",null,false,null,null,"",null,null,"",null,null,"","","","","","",null,null,"","","","","",""]
[502,null,null,"",null," ",null,false,null,null,"",null,null,"",null,null,"","","","","","",null,null,"","","","","",""]
[503,null,null,"",null," ",null,false,null,null,"",null,null,"",null,null,"","","","","","",null,null,"","","","","",""]
[504,null,null,"",null," ",null,false,null,null,"",null,null,"",null,null,"","","","","","",null,null,"","","","","",""]
[505,null,null,"",null," ",null,false,null,null,"",null,null,"",null,null,"","","","","","",null,null,"","","","","",""]
[506,null,null,"",null," ",null,false,null,null,"",null,null,"",null,null,"","","","","","",null,null,"","","","","",""]
[507,null,null,"",null," ",null,false,null,null,"",null,null,"",null,null,"","","","","","",null,null,"","","","","",""]
[508,null,null,"",null," ",null,false,null,null,"",null,null,"",null,null,"","","","","","",null,null,"","","","","",""]
[509,null,null,"",null," ",null,false,null,null,"",null,null,"",null,null,"","","","","","",null,null,"","","","","",""]
[510,null,null,"",null," ",null,false,null,null,"",null,null,"",null,null,"","","","","","",null,null,"","","","","",""]
[511,null,null,"",null," ",null,false,null,null,"",null,null,"",null,null,"","","","","","",null,null,"","","","","",""]
[512,null,null,"",null," ",null,false,null,null,"",null,null,"",null,null,"","","","","","",null,null,"","","","","",""]
[513,null,null,"",null," ",null,false,null,null,"",null,null,"",null,null,{"$f":"IF(H530,IF(AND($P530=0,$J530>Baseline),1,0),\"\")","v":""},{"$f":"IF(H530,IF(AND($P530<1,$J530<=Baseline, $M530<Baseline),1,0),\"\")","v":""},{"$f":"IF(H530,IF(AND($P530<1,$P530>=0,$M530>=Baseline),1,0),\"\")","v":""},"","","",null,null,"","","",{"$f":"IF(H530,IF(AND(M530>=Baseline,J530<=Baseline),(Baseline-J530)/(M530-J530+1),IF(M530<=Baseline,1,0)),\"\")","v":""},"",""]
[514,null,null,{"$f":"IF(H531,IF(C531=1,\"Red\",IF(C531=2,\"Yellow\",IF(C531=3,\"Green\",\"No Flag\"))),\"\")","v":""},null,{"$f":"B531& \" \"&E531","v":" "},null,{"$f":"AND(G531>=2,J531<>\"\",M531<>\"\",NOT(OR(AND(G531=1,G532=2),AND(G531=2,G532=3))))","v":false},null,null,{"$f":"IF(J531<>\"\",LocateDate(J531),\"\")","v":""},null,null,{"$f":"LocateDate(M531)","v":""},null,null,"","","",{"$f":"IF(H531,IF($P531>=1,1,0),\"\")","v":""},{"$f":"IF(H531,IF(SUM(Q531:T531)=0,1,0),\"\")","v":""},{"$f":"IF(H531,IF(Q531,$Q$17,IF(R531,$R$17,IF(S531,$S$17,IF(T531,$T$17,IF(U531,$U$17,\"\"))))),\"\")","v":""},null,null,{"$f":"IF(H531,W531,\"\")","v":""},{"$f":"IF(H531,X531,\"\")","v":""},{"$f":"IF(H531,IF(W531<>\"\",X531/W531,\"\"),\"\")","v":""},"",{"$f":"IF(H531,AB531*W531,\"\")","v":""},{"$f":"IF(H531,IF(AND(X531<=AC531,AA531>0),\"Under-Spending\",IF(X531>AC531,\"Over-Spending\",IF(AA531=0,\"Not Started\",\"\"))),\"\")","v":""}]
[515,null,null,"",null," ",null,false,null,null,"",null,null,"",null,null,"","","","","","",null,null,"","","","","",""]
[516,null,null,"",null," ",null,false,null,null,"",null,null,"",null,null,"","","","","","",null,null,"","","","","",""]
[517,null,null,"",null," ",null,false,null,null,"",null,null,"",null,null,"","","","","","",null,null,"","","","","",""]
[518,null,null,"",null," ",null,false,null,null,"",null,null,"",null,null,"","","","","","",null,null,"","","","","",""]
[519,null,null,"",null," ",null,false,null,null,"",null,null,"",null,null,"","","","","","",null,null,"","","","","",""]
[520,null,null,"",null," ",null,false,null,null,"",null,null,"",null,null,"","","","","","",null,null,"","","","","",""]
[521,null,null,"",null," ",null,false,null,null,"",null,null,"",null,null,"","","","","","",null,null,"","","","","",""]
[522,null,null,"",null," ",null,false,null,null,"",null,null,"",null,null,"","","","","","",null,null,"","","","","",""]
[523,null,null,"",null," ",null,false,null,null,"",null,null,"",null,null,"","","","","","",null,null,"","","","","",""]
[524,null,null,"",null," ",null,false,null,null,"",null,null,"",null,null,"","","","","","",null,null,"","","","","",""]
[525,null,null,"",null," ",null,false,null,null,"",null,null,"",null,null,"","","","","","",null,null,"","","","","",""]
[526,null,null,"",null," ",null,false,null,null,"",null,null,"",null,null,"","","","","","",null,null,"","","","","",""]
[527,null,null,"",null," ",null,false,null,null,"",null,null,"",null,null,"","","","","","",null,null,"","","","","",""]
[528,null,null,"",null," ",null,false,null,null,"",null,null,"",null,null,"","","","","","",null,null,"","","","","",""]
[529,null,null,"",null," ",null,false,null,null,"",null,null,"",null,null,"","","","","","",null,null,"","","","","",""]
[530,null,null,"",null," ",null,false,null,null,"",null,null,"",null,null,"","","","","","",null,null,"","","","","",""]
[531,null,null,"",null," ",null,false,null,null,"",null,null,"",null,null,"","","","","","",null,null,"","","","","",""]
[532,null,null,"",null," ",null,false,null,null,"",null,null,"",null,null,"","","","","","",null,null,"","","","","",""]
[533,null,null,"",null," ",null,false,null,null,"",null,null,"",null,null,"","","","","","",null,null,"","","","","",""]
[534,null,null,"",null," ",null,false,null,null,"",null,null,"",null,null,"","","","","","",null,null,"","","","","",""]
[535,null,null,"",null," ",null,false,null,null,"",null,null,"",null,null,"","","","","","",null,null,"","","","","",""]
[536,null,null,"",null," ",null,false,null,null,"",null,null,"",null,null,"","","","","","",null,null,"","","","","",""]
[537,null,null,"",null," ",null,false,null,null,"",null,null,"",null,null,"","","","","","",null,null,"","","","","",""]
[538,null,null,"",null," ",null,false,null,null,"",null,null,"",null,null,"","","","","","",null,null,"","","","","",""]
[539,null,null,"",null," ",null,false,null,null,"",null,null,"",null,null,"","","","","","",null,null,"","","","","",""]
[540,null,null,"",null," ",null,false,null,null,"",null,null,"",null,null,"","","","","","",null,null,"","","","","",""]
[541,null,null,"",null," ",null,false,null,null,"",null,null,"",null,null,"","","","","","",null,null,"","","","","",""]
[542,null,null,"",null," ",null,false,null,null,"",null,null,"",null,null,"","","","","","",null,null,"","","","","",""]
[543,null,null,"",null," ",null,false,null,null,"",null,null,"",null,null,"","","","","","",null,null,"","","","","",""]
[544,null,null,"",null," ",null,false,null,null,"",null,null,"",null,null,"","","","","","",null,null,"","","","","",""]
[545,null,null,"",null," ",null,false,null,null,"",null,null,"",null,null,"","","","","","",null,null,"","","","","",""]
[546,null,null,"",null," ",null,false,null,null,"",null,null,"",null,null,"","","","","","",null,null,"","","","","",""]
[547,null,null,"",null," ",null,false,null,null,"",null,null,"",null,null,"","","","","","",null,null,"","","","","",""]
[548,null,null,"",null," ",null,false,null,null,"",null,null,"",null,null,"","","","","","",null,null,"","","","","",""]
[549,null,null,"",null," ",null,false,null,null,"",null,null,"",null,null,"","","","","","",null,null,"","","","","",""]
[550,null,null,"",null," ",null,false,null,null,"",null,null,"",null,null,"","","","","","",null,null,"","","","","",""]
[551,null,null,"",null," ",null,false,null,null,"",null,null,"",null,null,"","","","","","",null,null,"","","","","",""]
[552,null,null,"",null," ",null,false,null,null,"",null,null,"",null,null,"","","","","","",null,null,"","","","","",""]
[553,null,null,"",null," ",null,false,null,null,"",null,null,"",null,null,"","","","","","",null,null,"","","","","",""]
[554,null,null,"",null," ",null,false,null,null,"",null,null,"",null,null,"","","","","","",null,null,"","","","","",""]
[555,null,null,"",null," ",null,false,null,null,"",null,null,"",null,null,"","","","","","",null,null,"","","","","",""]
[556,null,null,"",null," ",null,false,null,null,"",null,null,"",null,null,"","","","","","",null,null,"","","","","",""]
[557,null,null,"",null," ",null,false,null,null,"",null,null,"",null,null,"","","","","","",null,null,"","","","","",""]
[558,null,null,"",null," ",null,false,null,null,"",null,null,"",null,null,"","","","","","",null,null,"","","","","",""]
[559,null,null,"",null," ",null,false,null,null,"",null,null,"",null,null,"","","","","","",null,null,"","","","","",""]
[560,null,null,"",null," ",null,false,null,null,"",null,null,"",null,null,"","","","","","",null,null,"","","","","",""]
[561,null,null,"",null," ",null,false,null,null,"",null,null,"",null,null,"","","","","","",null,null,"","","","","",""]
[562,null,null,"",null," ",null,false,null,null,"",null,null,"",null,null,"","","","","","",null,null,"","","","","",""]
[563,null,null,"",null," ",null,false,null,null,"",null,null,"",null,null,"","","","","","",null,null,"","","","","",""]
[564,null,null,"",null," ",null,false,null,null,"",null,null,"",null,null,"","","","","","",null,null,"","","","","",""]
[565,null,null,"",null," ",null,false,null,null,"",null,null,"",null,null,"","","","","","",null,null,"","","","","",""]
[566,null,null,"",null," ",null,false,null,null,"",null,null,"",null,null,"","","","","","",null,null,"","","","","",""]
[567,null,null,"",null," ",null,false,null,null,"",null,null,"",null,null,"","","","","","",null,null,"","","","","",""]
[568,null,null,"",null," ",null,false,null,null,"",null,null,"",null,null,"","","","","","",null,null,"","","","","",""]
[569,null,null,"",null," ",null,false,null,null,"",null,null,"",null,null,"","","","","","",null,null,"","","","","",""]
[570,null,null,"",null," ",null,false,null,null,"",null,null,"",null,null,"","","","","","",null,null,"","","","","",""]
[571,null,null,"",null," ",null,false,null,null,"",null,null,"",null,null,"","","","","","",null,null,"","","","","",""]
[572,null,null,"",null," ",null,false,null,null,"",null,null,"",null,null,"","","","","","",null,null,"","","","","",""]
[573,null,null,"",null," ",null,false,null,null,"",null,null,"",null,null,"","","","","","",null,null,"","","","","",""]
[574,null,null,"",null," ",null,false,null,null,"",null,null,"",null,null,"","","","","","",null,null,"","","","","",""]
[575,null,null,"",null," ",null,false,null,null,"",null,null,"",null,null,"","","","","","",null,null,"","","","","",""]
[576,null,null,"",null," ",null,false,null,null,"",null,null,"",null,null,"","","","","","",null,null,"","","","","",""]
[577,null,null,"",null," ",null,false,null,null,"",null,null,"",null,null,{"$f":"IF(H594,IF(AND($P594=0,$J594>Baseline),1,0),\"\")","v":""},{"$f":"IF(H594,IF(AND($P594<1,$J594<=Baseline, $M594<Baseline),1,0),\"\")","v":""},{"$f":"IF(H594,IF(AND($P594<1,$P594>=0,$M594>=Baseline),1,0),\"\")","v":""},"","","",null,null,"","","",{"$f":"IF(H594,IF(AND(M594>=Baseline,J594<=Baseline),(Baseline-J594)/(M594-J594+1),IF(M594<=Baseline,1,0)),\"\")","v":""},"",""]
[578,null,null,{"$f":"IF(H595,IF(C595=1,\"Red\",IF(C595=2,\"Yellow\",IF(C595=3,\"Green\",\"No Flag\"))),\"\")","v":""},null,{"$f":"B595& \" \"&E595","v":" "},null,{"$f":"AND(G595>=2,J595<>\"\",M595<>\"\",NOT(OR(AND(G595=1,G596=2),AND(G595=2,G596=3))))","v":false},null,null,{"$f":"IF(J595<>\"\",LocateDate(J595),\"\")","v":""},null,null,{"$f":"LocateDate(M595)","v":""},null,null,"","","",{"$f":"IF(H595,IF($P595>=1,1,0),\"\")","v":""},{"$f":"IF(H595,IF(SUM(Q595:T595)=0,1,0),\"\")","v":""},{"$f":"IF(H595,IF(Q595,$Q$17,IF(R595,$R$17,IF(S595,$S$17,IF(T595,$T$17,IF(U595,$U$17,\"\"))))),\"\")","v":""},null,null,{"$f":"IF(H595,W595,\"\")","v":""},{"$f":"IF(H595,X595,\"\")","v":""},{"$f":"IF(H595,IF(W595<>\"\",X595/W595,\"\"),\"\")","v":""},"",{"$f":"IF(H595,AB595*W595,\"\")","v":""},{"$f":"IF(H595,IF(AND(X595<=AC595,AA595>0),\"Under-Spending\",IF(X595>AC595,\"Over-Spending\",IF(AA595=0,\"Not Started\",\"\"))),\"\")","v":""}]
[579,null,null,"",null," ",null,false,null,null,"",null,null,"",null,null,"","","","","","",null,null,"","","","","",""]
[580,null,null,"",null," ",null,false,null,null,"",null,null,"",null,null,"","","","","","",null,null,"","","","","",""]
[581,null,null,"",null," ",null,false,null,null,"",null,null,"",null,null,"","","","","","",null,null,"","","","","",""]
[582,null,null,"",null," ",null,false,null,null,"",null,null,"",null,null,"","","","","","",null,null,"","","","","",""]
[583,null,null,"",null," ",null,false,null,null,"",null,null,"",null,null,"","","","","","",null,null,"","","","","",""]
[584,null,null,"",null," ",null,false,null,null,"",null,null,"",null,null,"","","","","","",null,null,"","","","","",""]
[585,null,null,"",null," ",null,false,null,null,"",null,null,"",null,null,"","","","","","",null,null,"","","","","",""]
[586,null,null,"",null," ",null,false,null,null,"",null,null,"",null,null,"","","","","","",null,null,"","","","","",""]
[587,null,null,"",null," ",null,false,null,null,"",null,null,"",null,null,"","","","","","",null,null,"","","","","",""]
[588,null,null,"",null," ",null,false,null,null,"",null,null,"",null,null,"","","","","","",null,null,"","","","","",""]
[589,null,null,"",null," ",null,false,null,null,"",null,null,"",null,null,"","","","","","",null,null,"","","","","",""]
[590,null,null,"",null," ",null,false,null,null,"",null,null,"",null,null,"","","","","","",null,null,"","","","","",""]
[591,null,null,"",null," ",null,false,null,null,"",null,null,"",null,null,"","","","","","",null,null,"","","","","",""]
[592,null,null,"",null," ",null,false,null,null,"",null,null,"",null,null,"","","","","","",null,null,"","","","","",""]
[593,null,null,"",null," ",null,false,null,null,"",null,null,"",null,null,"","","","","","",null,null,"","","","","",""]
[594,null,null,"",null," ",null,false,null,null,"",null,null,"",null,null,"","","","","","",null,null,"","","","","",""]
[595,null,null,"",null," ",null,false,null,null,"",null,null,"",null,null,"","","","","","",null,null,"","","","","",""]
[596,null,null,"",null," ",null,false,null,null,"",null,null,"",null,null,"","","","","","",null,null,"","","","","",""]
[597,null,null,"",null," ",null,false,null,null,"",null,null,"",null,null,"","","","","","",null,null,"","","","","",""]
[598,null,null,"",null," ",null,false,null,null,"",null,null,"",null,null,"","","","","","",null,null,"","","","","",""]
[599,null,null,"",null," ",null,false,null,null,"",null,null,"",null,null,"","","","","","",null,null,"","","","","",""]
[600,null,null,"",null," ",null,false,null,null,"",null,null,"",null,null,"","","","","","",null,null,"","","","","",""]
[601,null,null,"",null," ",null,false,null,null,"",null,null,"",null,null,"","","","","","",null,null,"","","","","",""]
[602,null,null,"",null," ",null,false,null,null,"",null,null,"",null,null,"","","","","","",null,null,"","","","","",""]
[603,null,null,"",null," ",null,false,null,null,"",null,null,"",null,null,"","","","","","",null,null,"","","","","",""]
[604,null,null,"",null," ",null,false,null,null,"",null,null,"",null,null,"","","","","","",null,null,"","","","","",""]
[605,null,null,"",null," ",null,false,null,null,"",null,null,"",null,null,"","","","","","",null,null,"","","","","",""]
[606,null,null,"",null," ",null,false,null,null,"",null,null,"",null,null,"","","","","","",null,null,"","","","","",""]
[607,null,null,"",null," ",null,false,null,null,"",null,null,"",null,null,"","","","","","",null,null,"","","","","",""]
[608,null,null,"",null," ",null,false,null,null,"",null,null,"",null,null,"","","","","","",null,null,"","","","","",""]
[609,null,null,"",null," ",null,false,null,null,"",null,null,"",null,null,"","","","","","",null,null,"","","","","",""]
[610,null,null,"",null," ",null,false,null,null,"",null,null,"",null,null,"","","","","","",null,null,"","","","","",""]
[611,null,null,"",null," ",null,false,null,null,"",null,null,"",null,null,"","","","","","",null,null,"","","","","",""]
[612,null,null,"",null," ",null,false,null,null,"",null,null,"",null,null,"","","","","","",null,null,"","","","","",""]
[613,null,null,"",null," ",null,false,null,null,"",null,null,"",null,null,"","","","","","",null,null,"","","","","",""]
[614,null,null,"",null," ",null,false,null,null,"",null,null,"",null,null,"","","","","","",null,null,"","","","","",""]
[615,null,null,"",null," ",null,false,null,null,"",null,null,"",null,null,"","","","","","",null,null,"","","","","",""]
[616,null,null,"",null," ",null,false,null,null,"",null,null,"",null,null,"","","","","","",null,null,"","","","","",""]
[617,null,null,"",null," ",null,false,null,null,"",null,null,"",null,null,"","","","","","",null,null,"","","","","",""]
[618,null,null,"",null," ",null,false,null,null,"",null,null,"",null,null,"","","","","","",null,null,"","","","","",""]
[619,null,null,"",null," ",null,false,null,null,"",null,null,"",null,null,"","","","","","",null,null,"","","","","",""]
[620,null,null,"",null," ",null,false,null,null,"",null,null,"",null,null,"","","","","","",null,null,"","","","","",""]
[621,null,null,"",null," ",null,false,null,null,"",null,null,"",null,null,"","","","","","",null,null,"","","","","",""]
[622,null,null,"",null," ",null,false,null,null,"",null,null,"",null,null,"","","","","","",null,null,"","","","","",""]
[623,null,null,"",null," ",null,false,null,null,"",null,null,"",null,null,"","","","","","",null,null,"","","","","",""]
[624,null,null,"",null," ",null,false,null,null,"",null,null,"",null,null,"","","","","","",null,null,"","","","","",""]
[625,null,null,"",null," ",null,false,null,null,"",null,null,"",null,null,"","","","","","",null,null,"","","","","",""]
[626,null,null,"",null," ",null,false,null,null,"",null,null,"",null,null,"","","","","","",null,null,"","","","","",""]
[627,null,null,"",null," ",null,false,null,null,"",null,null,"",null,null,"","","","","","",null,null,"","","","","",""]
[628,null,null,"",null," ",null,false,null,null,"",null,null,"",null,null,"","","","","","",null,null,"","","","","",""]
[629,null,null,"",null," ",null,false,null,null,"",null,null,"",null,null,"","","","","","",null,null,"","","","","",""]
[630,null,null,"",null," ",null,false,null,null,"",null,null,"",null,null,"","","","","","",null,null,"","","","","",""]
[631,null,null,"",null," ",null,false,null,null,"",null,null,"",null,null,"","","","","","",null,null,"","","","","",""]
[632,null,null,"",null," ",null,false,null,null,"",null,null,"",null,null,"","","","","","",null,null,"","","","","",""]
[633,null,null,"",null," ",null,false,null,null,"",null,null,"",null,null,"","","","","","",null,null,"","","","","",""]
[634,null,null,"",null," ",null,false,null,null,"",null,null,"",null,null,"","","","","","",null,null,"","","","","",""]
[635,null,null,"",null," ",null,false,null,null,"",null,null,"",null,null,"","","","","","",null,null,"","","","","",""]
[636,null,null,"",null," ",null,false,null,null,"",null,null,"",null,null,"","","","","","",null,null,"","","","","",""]
[637,null,null,"",null," ",null,false,null,null,"",null,null,"",null,null,"","","","","","",null,null,"","","","","",""]
[638,null,null,"",null," ",null,false,null,null,"",null,null,"",null,null,"","","","","","",null,null,"","","","","",""]
[639,null,null,"",null," ",null,false,null,null,"",null,null,"",null,null,"","","","","","",null,null,"","","","","",""]
[640,null,null,"",null," ",null,false,null,null,"",null,null,"",null,null,"","","","","","",null,null,"","","","","",""]
[641,null,null,"",null," ",null,false,null,null,"",null,null,"",null,null,{"$f":"IF(H658,IF(AND($P658=0,$J658>Baseline),1,0),\"\")","v":""},{"$f":"IF(H658,IF(AND($P658<1,$J658<=Baseline, $M658<Baseline),1,0),\"\")","v":""},{"$f":"IF(H658,IF(AND($P658<1,$P658>=0,$M658>=Baseline),1,0),\"\")","v":""},"","","",null,null,"","","",{"$f":"IF(H658,IF(AND(M658>=Baseline,J658<=Baseline),(Baseline-J658)/(M658-J658+1),IF(M658<=Baseline,1,0)),\"\")","v":""},"",""]
[642,null,null,{"$f":"IF(H659,IF(C659=1,\"Red\",IF(C659=2,\"Yellow\",IF(C659=3,\"Green\",\"No Flag\"))),\"\")","v":""},null,{"$f":"B659& \" \"&E659","v":" "},null,{"$f":"AND(G659>=2,J659<>\"\",M659<>\"\",NOT(OR(AND(G659=1,G660=2),AND(G659=2,G660=3))))","v":false},null,null,{"$f":"IF(J659<>\"\",LocateDate(J659),\"\")","v":""},null,null,{"$f":"LocateDate(M659)","v":""},null,null,"","","",{"$f":"IF(H659,IF($P659>=1,1,0),\"\")","v":""},{"$f":"IF(H659,IF(SUM(Q659:T659)=0,1,0),\"\")","v":""},{"$f":"IF(H659,IF(Q659,$Q$17,IF(R659,$R$17,IF(S659,$S$17,IF(T659,$T$17,IF(U659,$U$17,\"\"))))),\"\")","v":""},null,null,{"$f":"IF(H659,W659,\"\")","v":""},{"$f":"IF(H659,X659,\"\")","v":""},{"$f":"IF(H659,IF(W659<>\"\",X659/W659,\"\"),\"\")","v":""},"",{"$f":"IF(H659,AB659*W659,\"\")","v":""},{"$f":"IF(H659,IF(AND(X659<=AC659,AA659>0),\"Under-Spending\",IF(X659>AC659,\"Over-Spending\",IF(AA659=0,\"Not Started\",\"\"))),\"\")","v":""}]
[643,null,null,"",null," ",null,false,null,null,"",null,null,"",null,null,"","","","","","",null,null,"","","","","",""]
[644,null,null,"",null," ",null,false,null,null,"",null,null,"",null,null,"","","","","","",null,null,"","","","","",""]
[645,null,null,"",null," ",null,false,null,null,"",null,null,"",null,null,"","","","","","",null,null,"","","","","",""]
[646,null,null,"",null," ",null,false,null,null,"",null,null,"",null,null,"","","","","","",null,null,"","","","","",""]
[647,null,null,"",null," ",null,false,null,null,"",null,null,"",null,null,"","","","","","",null,null,"","","","","",""]
[648,null,null,"",null," ",null,false,null,null,"",null,null,"",null,null,"","","","","","",null,null,"","","","","",""]
[649,null,null,"",null," ",null,false,null,null,"",null,null,"",null,null,"","","","","","",null,null,"","","","","",""]
[650,null,null,"",null," ",null,false,null,null,"",null,null,"",null,null,"","","","","","",null,null,"","","","","",""]
[651,null,null,"",null," ",null,false,null,null,"",null,null,"",null,null,"","","","","","",null,null,"","","","","",""]
[652,null,null,"",null," ",null,false,null,null,"",null,null,"",null,null,"","","","","","",null,null,"","","","","",""]
[653,null,null,"",null," ",null,false,null,null,"",null,null,"",null,null,"","","","","","",null,null,"","","","","",""]
[654,null,null,"",null," ",null,false,null,null,"",null,null,"",null,null,"","","","","","",null,null,"","","","","",""]
[655,null,null,"",null," ",null,false,null,null,"",null,null,"",null,null,"","","","","","",null,null,"","","","","",""]
[656,null,null,"",null," ",null,false,null,null,"",null,null,"",null,null,"","","","","","",null,null,"","","","","",""]
[657,null,null,"",null," ",null,false,null,null,"",null,null,"",null,null,"","","","","","",null,null,"","","","","",""]
[658,null,null,"",null," ",null,false,null,null,"",null,null,"",null,null,"","","","","","",null,null,"","","","","",""]
[659,null,null,"",null," ",null,false,null,null,"",null,null,"",null,null,"","","","","","",null,null,"","","","","",""]
[660,null,null,"",null," ",null,false,null,null,"",null,null,"",null,null,"","","","","","",null,null,"","","","","",""]
[661,null,null,"",null," ",null,false,null,null,"",null,null,"",null,null,"","","","","","",null,null,"","","","","",""]
[662,null,null,"",null," ",null,false,null,null,"",null,null,"",null,null,"","","","","","",null,null,"","","","","",""]
[663,null,null,"",null," ",null,false,null,null,"",null,null,"",null,null,"","","","","","",null,null,"","","","","",""]
[664,null,null,"",null," ",null,false,null,null,"",null,null,"",null,null,"","","","","","",null,null,"","","","","",""]
[665,null,null,"",null," ",null,false,null,null,"",null,null,"",null,null,"","","","","","",null,null,"","","","","",""]
[666,null,null,"",null," ",null,false,null,null,"",null,null,"",null,null,"","","","","","",null,null,"","","","","",""]
[667,null,null,"",null," ",null,false,null,null,"",null,null,"",null,null,"","","","","","",null,null,"","","","","",""]
[668,null,null,"",null," ",null,false,null,null,"",null,null,"",null,null,"","","","","","",null,null,"","","","","",""]
[669,null,null,"",null," ",null,false,null,null,"",null,null,"",null,null,"","","","","","",null,null,"","","","","",""]
[670,null,null,"",null," ",null,false,null,null,"",null,null,"",null,null,"","","","","","",null,null,"","","","","",""]
[671,null,null,"",null," ",null,false,null,null,"",null,null,"",null,null,"","","","","","",null,null,"","","","","",""]
[672,null,null,"",null," ",null,false,null,null,"",null,null,"",null,null,"","","","","","",null,null,"","","","","",""]
[673,null,null,"",null," ",null,false,null,null,"",null,null,"",null,null,"","","","","","",null,null,"","","","","",""]
[674,null,null,"",null," ",null,false,null,null,"",null,null,"",null,null,"","","","","","",null,null,"","","","","",""]
[675,null,null,"",null," ",null,false,null,null,"",null,null,"",null,null,"","","","","","",null,null,"","","","","",""]
[676,null,null,"",null," ",null,false,null,null,"",null,null,"",null,null,"","","","","","",null,null,"","","","","",""]
[677,null,null,"",null," ",null,false,null,null,"",null,null,"",null,null,"","","","","","",null,null,"","","","","",""]
[678,null,null,"",null," ",null,false,null,null,"",null,null,"",null,null,"","","","","","",null,null,"","","","","",""]
[679,null,null,"",null," ",null,false,null,null,"",null,null,"",null,null,"","","","","","",null,null,"","","","","",""]
[680,null,null,"",null," ",null,false,null,null,"",null,null,"",null,null,"","","","","","",null,null,"","","","","",""]
[681,null,null,"",null," ",null,false,null,null,"",null,null,"",null,null,"","","","","","",null,null,"","","","","",""]
[682,null,null,"",null," ",null,false,null,null,"",null,null,"",null,null,"","","","","","",null,null,"","","","","",""]
[683,null,null,"",null," ",null,false,null,null,"",null,null,"",null,null,"","","","","","",null,null,"","","","","",""]
[684,null,null,"",null," ",null,false,null,null,"",null,null,"",null,null,"","","","","","",null,null,"","","","","",""]
[685,null,null,{"$f":"IF(H702,IF(C702=1,\"Red\",IF(C702=2,\"Yellow\",IF(C702=3,\"Green\",\"No Flag\"))),\"\")","v":""},null,{"$f":"B702& \" \"&E702","v":" "},null,{"$f":"AND(G702>=2,J702<>\"\",M702<>\"\",NOT(OR(AND(G702=1,G703=2),AND(G702=2,G703=3))))","v":false},null,null,{"$f":"IF(J702<>\"\",LocateDate(J702),\"\")","v":""},null,null,{"$f":"LocateDate(M702)","v":""},null,null,{"$f":"IF(H702,IF(AND($P702=0,$J702>Baseline),1,0),\"\")","v":""},{"$f":"IF(H702,IF(AND($P702<1,$J702<=Baseline, $M702<Baseline),1,0),\"\")","v":""},{"$f":"IF(H702,IF(AND($P702<1,$P702>=0,$M702>=Baseline),1,0),\"\")","v":""},{"$f":"IF(H702,IF($P702>=1,1,0),\"\")","v":""},{"$f":"IF(H702,IF(SUM(Q702:T702)=0,1,0),\"\")","v":""},{"$f":"IF(H702,IF(Q702,$Q$17,IF(R702,$R$17,IF(S702,$S$17,IF(T702,$T$17,IF(U702,$U$17,\"\"))))),\"\")","v":""},null,null,{"$f":"IF(H702,W702,\"\")","v":""},{"$f":"IF(H702,X702,\"\")","v":""},{"$f":"IF(H702,IF(W702<>\"\",X702/W702,\"\"),\"\")","v":""},{"$f":"IF(H702,IF(AND(M702>=Baseline,J702<=Baseline),(Baseline-J702)/(M702-J702+1),IF(M702<=Baseline,1,0)),\"\")","v":""},{"$f":"IF(H702,AB702*W702,\"\")","v":""},{"$f":"IF(H702,IF(AND(X702<=AC702,AA702>0),\"Under-Spending\",IF(X702>AC702,\"Over-Spending\",IF(AA702=0,\"Not Started\",\"\"))),\"\")","v":""}]
[686,null,null,"",null," ",null,false,null,null,"",null,null,"",null,null,"","","","","","",null,null,"","","","","",""]
[687,null,null,"",null," ",null,false,null,null,"",null,null,"",null,null,"","","","","","",null,null,"","","","","",""]
[688,null,null,"",null," ",null,false,null,null,"",null,null,"",null,null,"","","","","","",null,null,"","","","","",""]
[689,null,null,"",null," ",null,false,null,null,"",null,null,"",null,null,"","","","","","",null,null,"","","","","",""]
[690,null,null,"",null," ",null,false,null,null,"",null,null,"",null,null,"","","","","","",null,null,"","","","","",""]
[691,null,null,"",null," ",null,false,null,null,"",null,null,"",null,null,"","","","","","",null,null,"","","","","",""]
[692,null,null,"",null," ",null,false,null,null,"",null,null,"",null,null,"","","","","","",null,null,"","","","","",""]
[693,null,null,"",null," ",null,false,null,null,"",null,null,"",null,null,"","","","","","",null,null,"","","","","",""]
[694,null,null,"",null," ",null,false,null,null,"",null,null,"",null,null,"","","","","","",null,null,"","","","","",""]
[695,null,null,"",null," ",null,false,null,null,"",null,null,"",null,null,"","","","","","",null,null,"","","","","",""]
[696,null,null,"",null," ",null,false,null,null,"",null,null,"",null,null,"","","","","","",null,null,"","","","","",""]
[697,null,null,"",null," ",null,false,null,null,"",null,null,"",null,null,"","","","","","",null,null,"","","","","",""]
[698,null,null,"",null," ",null,false,null,null,"",null,null,"",null,null,"","","","","","",null,null,"","","","","",""]
[699,null,null,"",null," ",null,false,null,null,"",null,null,"",null,null,"","","","","","",null,null,"","","","","",""]
[700,null,null,"",null," ",null,false,null,null,"",null,null,"",null,null,"","","","","","",null,null,"","","","","",""]
[701,null,null,"",null," ",null,false,null,null,"",null,null,"",null,null,"","","","","","",null,null,"","","","","",""]
[702,null,null,"",null," ",null,false,null,null,"",null,null,"",null,null,"","","","","","",null,null,"","","","","",""]
[703,null,null,"",null," ",null,false,null,null,"",null,null,"",null,null,"","","","","","",null,null,"","","","","",""]
[704,null,null,"",null," ",null,false,null,null,"",null,null,"",null,null,"","","","","","",null,null,"","","","","",""]
[705,null,null,"",null," ",null,false,null,null,"",null,null,"",null,null,"","","","","","",null,null,"","","","","",""]
[706,null,null,"",null," ",null,false,null,null,"",null,null,"",null,null,"","","","","","",null,null,"","","","","",""]
[707,null,null,"",null," ",null,false,null,null,"",null,null,"",null,null,"","","","","","",null,null,"","","","","",""]
[708,null,null,"",null," ",null,false,null,null,"",null,null,"",null,null,"","","","","","",null,null,"","","","","",""]
[709,null,null,"",null," ",null,false,null,null,"",null,null,"",null,null,"","","","","","",null,null,"","","","","",""]
[710,null,null,"",null," ",null,false,null,null,"",null,null,"",null,null,"","","","","","",null,null,"","","","","",""]
[711,null,null,"",null," ",null,false,null,null,"",null,null,"",null,null,"","","","","","",null,null,"","","","","",""]
[712,null,null,"",null," ",null,false,null,null,"",null,null,"",null,null,"","","","","","",null,null,"","","","","",""]
[713,null,null,"",null," ",null,false,null,null,"",null,null,"",null,null,"","","","","","",null,null,"","","","","",""]
[714,null,null,"",null," ",null,false,null,null,"",null,null,"",null,null,"","","","","","",null,null,"","","","","",""]
[715,null,null,"",null," ",null,false,null,null,"",null,null,"",null,null,"","","","","","",null,null,"","","","","",""]
[716,null,null,"",null," ",null,false,null,null,"",null,null,"",null,null,"","","","","","",null,null,"","","","","",""]
[717,null,null,"",null," ",null,false,null,null,"",null,null,"",null,null,"","","","","","",null,null,"","","","","",""]
[718,null,null,"",null," ",null,false,null,null,"",null,null,"",null,null,"","","","","","",null,null,"","","","","",""]
[719,null,null,"",null," ",null,false,null,null,"",null,null,"",null,null,"","","","","","",null,null,"","","","","",""]
[720,null,null,"",null," ",null,false,null,null,"",null,null,"",null,null,"","","","","","",null,null,"","","","","",""]
[721,null,null,"",null," ",null,false,null,null,"",null,null,"",null,null,"","","","","","",null,null,"","","","","",""]
[722,null,null,"",null," ",null,false,null,null,"",null,null,"",null,null,"","","","","","",null,null,"","","","","",""]
[723,null,null,"",null," ",null,false,null,null,"",null,null,"",null,null,"","","","","","",null,null,"","","","","",""]
[724,null,null,"",null," ",null,false,null,null,"",null,null,"",null,null,"","","","","","",null,null,"","","","","",""]
[725,null,null,"",null," ",null,false,null,null,"",null,null,"",null,null,"","","","","","",null,null,"","","","","",""]
[726,null,null,"",null," ",null,false,null,null,"",null,null,"",null,null,"","","","","","",null,null,"","","","","",""]
[727,null,null,"",null," ",null,false,null,null,"",null,null,"",null,null,"","","","","","",null,null,"","","","","",""]
[728,null,null,"",null," ",null,false,null,null,"",null,null,"",null,null,"","","","","","",null,null,"","","","","",""]
[729,null,null,"",null," ",null,false,null,null,"",null,null,"",null,null,"","","","","","",null,null,"","","","","",""]
[730,null,null,"",null," ",null,false,null,null,"",null,null,"",null,null,"","","","","","",null,null,"","","","","",""]
[731,null,null,"",null," ",null,false,null,null,"",null,null,"",null,null,"","","","","","",null,null,"","","","","",""]
[732,null,null,"",null," ",null,false,null,null,"",null,null,"",null,null,"","","","","","",null,null,"","","","","",""]
[733,null,null,"",null," ",null,false,null,null,"",null,null,"",null,null,"","","","","","",null,null,"","","","","",""]
[734,null,null,"",null," ",null,false,null,null,"",null,null,"",null,null,"","","","","","",null,null,"","","","","",""]
[735,null,null,"",null," ",null,false,null,null,"",null,null,"",null,null,"","","","","","",null,null,"","","","","",""]
[736,null,null,"",null," ",null,false,null,null,"",null,null,"",null,null,"","","","","","",null,null,"","","","","",""]
[737,null,null,"",null," ",null,false,null,null,"",null,null,"",null,null,"","","","","","",null,null,"","","","","",""]
[738,null,null,"",null," ",null,false,null,null,"",null,null,"",null,null,"","","","","","",null,null,"","","","","",""]
[739,null,null,"",null," ",null,false,null,null,"",null,null,"",null,null,"","","","","","",null,null,"","","","","",""]
[740,null,null,"",null," ",null,false,null,null,"",null,null,"",null,null,"","","","","","",null,null,"","","","","",""]
[741,null,null,"",null," ",null,false,null,null,"",null,null,"",null,null,"","","","","","",null,null,"","","","","",""]
[742,null,null,"",null," ",null,false,null,null,"",null,null,"",null,null,"","","","","","",null,null,"","","","","",""]
[743,null,null,"",null," ",null,false,null,null,"",null,null,"",null,null,"","","","","","",null,null,"","","","","",""]
[744,null,null,"",null," ",null,false,null,null,"",null,null,"",null,null,"","","","","","",null,null,"","","","","",""]
[745,null,null,"",null," ",null,false,null,null,"",null,null,"",null,null,"","","","","","",null,null,"","","","","",""]
[746,null,null,"",null," ",null,false,null,null,"",null,null,"",null,null,"","","","","","",null,null,"","","","","",""]
[747,null,null,"",null," ",null,false,null,null,"",null,null,"",null,null,"","","","","","",null,null,"","","","","",""]
[748,null,null,"",null," ",null,false,null,null,"",null,null,"",null,null,"","","","","","",null,null,"","","","","",""]
[749,null,null,{"$f":"IF(H766,IF(C766=1,\"Red\",IF(C766=2,\"Yellow\",IF(C766=3,\"Green\",\"No Flag\"))),\"\")","v":""},null,{"$f":"B766& \" \"&E766","v":" "},null,{"$f":"AND(G766>=2,J766<>\"\",M766<>\"\",NOT(OR(AND(G766=1,G767=2),AND(G766=2,G767=3))))","v":false},null,null,{"$f":"IF(J766<>\"\",LocateDate(J766),\"\")","v":""},null,null,{"$f":"LocateDate(M766)","v":""},null,null,{"$f":"IF(H766,IF(AND($P766=0,$J766>Baseline),1,0),\"\")","v":""},{"$f":"IF(H766,IF(AND($P766<1,$J766<=Baseline, $M766<Baseline),1,0),\"\")","v":""},{"$f":"IF(H766,IF(AND($P766<1,$P766>=0,$M766>=Baseline),1,0),\"\")","v":""},{"$f":"IF(H766,IF($P766>=1,1,0),\"\")","v":""},{"$f":"IF(H766,IF(SUM(Q766:T766)=0,1,0),\"\")","v":""},{"$f":"IF(H766,IF(Q766,$Q$17,IF(R766,$R$17,IF(S766,$S$17,IF(T766,$T$17,IF(U766,$U$17,\"\"))))),\"\")","v":""},null,null,{"$f":"IF(H766,W766,\"\")","v":""},{"$f":"IF(H766,X766,\"\")","v":""},{"$f":"IF(H766,IF(W766<>\"\",X766/W766,\"\"),\"\")","v":""},{"$f":"IF(H766,IF(AND(M766>=Baseline,J766<=Baseline),(Baseline-J766)/(M766-J766+1),IF(M766<=Baseline,1,0)),\"\")","v":""},{"$f":"IF(H766,AB766*W766,\"\")","v":""},{"$f":"IF(H766,IF(AND(X766<=AC766,AA766>0),\"Under-Spending\",IF(X766>AC766,\"Over-Spending\",IF(AA766=0,\"Not Started\",\"\"))),\"\")","v":""}]
[750,null,null,"",null," ",null,false,null,null,"",null,null,"",null,null,"","","","","","",null,null,"","","","","",""]
[751,null,null,"",null," ",null,false,null,null,"",null,null,"",null,null,"","","","","","",null,null,"","","","","",""]
[752,null,null,"",null," ",null,false,null,null,"",null,null,"",null,null,"","","","","","",null,null,"","","","","",""]
[753,null,null,"",null," ",null,false,null,null,"",null,null,"",null,null,"","","","","","",null,null,"","","","","",""]
[754,null,null,"",null," ",null,false,null,null,"",null,null,"",null,null,"","","","","","",null,null,"","","","","",""]
[755,null,null,"",null," ",null,false,null,null,"",null,null,"",null,null,"","","","","","",null,null,"","","","","",""]
[756,null,null,"",null," ",null,false,null,null,"",null,null,"",null,null,"","","","","","",null,null,"","","","","",""]
[757,null,null,"",null," ",null,false,null,null,"",null,null,"",null,null,"","","","","","",null,null,"","","","","",""]
[758,null,null,"",null," ",null,false,null,null,"",null,null,"",null,null,"","","","","","",null,null,"","","","","",""]
[759,null,null,"",null," ",null,false,null,null,"",null,null,"",null,null,"","","","","","",null,null,"","","","","",""]
[760,null,null,"",null," ",null,false,null,null,"",null,null,"",null,null,"","","","","","",null,null,"","","","","",""]
[761,null,null,"",null," ",null,false,null,null,"",null,null,"",null,null,"","","","","","",null,null,"","","","","",""]
[762,null,null,"",null," ",null,false,null,null,"",null,null,"",null,null,"","","","","","",null,null,"","","","","",""]
[763,null,null,"",null," ",null,false,null,null,"",null,null,"",null,null,"","","","","","",null,null,"","","","","",""]
[764,null,null,"",null," ",null,false,null,null,"",null,null,"",null,null,"","","","","","",null,null,"","","","","",""]
[765,null,null,"",null," ",null,false,null,null,"",null,null,"",null,null,"","","","","","",null,null,"","","","","",""]
[766,null,null,"",null," ",null,false,null,null,"",null,null,"",null,null,"","","","","","",null,null,"","","","","",""]
[767,null,null,"",null," ",null,false,null,null,"",null,null,"",null,null,"","","","","","",null,null,"","","","","",""]
[768,null,null,"",null," ",null,false,null,null,"",null,null,"",null,null,"","","","","","",null,null,"","","","","",""]
[769,null,null,"",null," ",null,false,null,null,"",null,null,"",null,null,"","","","","","",null,null,"","","","","",""]
[770,null,null,"",null," ",null,false,null,null,"",null,null,"",null,null,"","","","","","",null,null,"","","","","",""]
[771,null,null,"",null," ",null,false,null,null,"",null,null,"",null,null,"","","","","","",null,null,"","","","","",""]
[772,null,null,"",null," ",null,false,null,null,"",null,null,"",null,null,"","","","","","",null,null,"","","","","",""]
[773,null,null,"",null," ",null,false,null,null,"",null,null,"",null,null,"","","","","","",null,null,"","","","","",""]
[774,null,null,"",null," ",null,false,null,null,"",null,null,"",null,null,"","","","","","",null,null,"","","","","",""]
[775,null,null,"",null," ",null,false,null,null,"",null,null,"",null,null,"","","","","","",null,null,"","","","","",""]
[776,null,null,"",null," ",null,false,null,null,"",null,null,"",null,null,"","","","","","",null,null,"","","","","",""]
[777,null,null,"",null," ",null,false,null,null,"",null,null,"",null,null,"","","","","","",null,null,"","","","","",""]
[778,null,null,"",null," ",null,false,null,null,"",null,null,"",null,null,"","","","","","",null,null,"","","","","",""]
[779,null,null,"",null," ",null,false,null,null,"",null,null,"",null,null,"","","","","","",null,null,"","","","","",""]
[780,null,null,"",null," ",null,false,null,null,"",null,null,"",null,null,"","","","","","",null,null,"","","","","",""]
[781,null,null,"",null," ",null,false,null,null,"",null,null,"",null,null,"","","","","","",null,null,"","","","","",""]
[782,null,null,"",null," ",null,false,null,null,"",null,null,"",null,null,"","","","","","",null,null,"","","","","",""]
[783,null,null,"",null," ",null,false,null,null,"",null,null,"",null,null,"","","","","","",null,null,"","","","","",""]
[784,null,null,"",null," ",null,false,null,null,"",null,null,"",null,null,"","","","","","",null,null,"","","","","",""]
[785,null,null,"",null," ",null,false,null,null,"",null,null,"",null,null,"","","","","","",null,null,"","","","","",""]
[786,null,null,"",null," ",null,false,null,null,"",null,null,"",null,null,"","","","","","",null,null,"","","","","",""]
[787,null,null,"",null," ",null,false,null,null,"",null,null,"",null,null,"","","","","","",null,null,"","","","","",""]
[788,null,null,"",null," ",null,false,null,null,"",null,null,"",null,null,"","","","","","",null,null,"","","","","",""]
[789,null,null,"",null," ",null,false,null,null,"",null,null,"",null,null,"","","","","","",null,null,"","","","","",""]
[790,null,null,"",null," ",null,false,null,null,"",null,null,"",null,null,"","","","","","",null,null,"","","","","",""]
[791,null,null,"",null," ",null,false,null,null,"",null,null,"",null,null,"","","","","","",null,null,"","","","","",""]
[792,null,null,"",null," ",null,false,null,null,"",null,null,"",null,null,"","","","","","",null,null,"","","","","",""]
[793,null,null,"",null," ",null,false,null,null,"",null,null,"",null,null,"","","","","","",null,null,"","","","","",""]
[794,null,null,"",null," ",null,false,null,null,"",null,null,"",null,null,"","","","","","",null,null,"","","","","",""]
[795,null,null,"",null," ",null,false,null,null,"",null,null,"",null,null,"","","","","","",null,null,"","","","","",""]
[796,null,null,"",null," ",null,false,null,null,"",null,null,"",null,null,"","","","","","",null,null,"","","","","",""]
[797,null,null,"",null," ",null,false,null,null,"",null,null,"",null,null,"","","","","","",null,null,"","","","","",""]
[798,null,null,"",null," ",null,false,null,null,"",null,null,"",null,null,"","","","","","",null,null,"","","","","",""]
[799,null,null,"",null," ",null,false,null,null,"",null,null,"",null,null,"","","","","","",null,null,"","","","","",""]
[800,null,null,"",null," ",null,false,null,null,"",null,null,"",null,null,"","","","","","",null,null,"","","","","",""]
[801,null,null,"",null," ",null,false,null,null,"",null,null,"",null,null,"","","","","","",null,null,"","","","","",""]
[802,null,null,"",null," ",null,false,null,null,"",null,null,"",null,null,"","","","","","",null,null,"","","","","",""]
[803,null,null,"",null," ",null,false,null,null,"",null,null,"",null,null,"","","","","","",null,null,"","","","","",""]
[804,null,null,"",null," ",null,false,null,null,"",null,null,"",null,null,"","","","","","",null,null,"","","","","",""]
[805,null,null,"",null," ",null,false,null,null,"",null,null,"",null,null,"","","","","","",null,null,"","","","","",""]
[806,null,null,"",null," ",null,false,null,null,"",null,null,"",null,null,"","","","","","",null,null,"","","","","",""]
[807,null,null,"",null," ",null,false,null,null,"",null,null,"",null,null,"","","","","","",null,null,"","","","","",""]
[808,null,null,"",null," ",null,false,null,null,"",null,null,"",null,null,"","","","","","",null,null,"","","","","",""]
[809,null,null,"",null," ",null,false,null,null,"",null,null,"",null,null,"","","","","","",null,null,"","","","","",""]
[810,null,null,"",null," ",null,false,null,null,"",null,null,"",null,null,"","","","","","",null,null,"","","","","",""]
[811,null,null,"",null," ",null,false,null,null,"",null,null,"",null,null,"","","","","","",null,null,"","","","","",""]
[812,null,null,"",null," ",null,false,null,null,"",null,null,"",null,null,"","","","","","",null,null,"","","","","",""]
[813,null,null,{"$f":"IF(H830,IF(C830=1,\"Red\",IF(C830=2,\"Yellow\",IF(C830=3,\"Green\",\"No Flag\"))),\"\")","v":""},null,{"$f":"B830& \" \"&E830","v":" "},null,{"$f":"AND(G830>=2,J830<>\"\",M830<>\"\",NOT(OR(AND(G830=1,G831=2),AND(G830=2,G831=3))))","v":false},null,null,{"$f":"IF(J830<>\"\",LocateDate(J830),\"\")","v":""},null,null,{"$f":"LocateDate(M830)","v":""},null,null,{"$f":"IF(H830,IF(AND($P830=0,$J830>Baseline),1,0),\"\")","v":""},{"$f":"IF(H830,IF(AND($P830<1,$J830<=Baseline, $M830<Baseline),1,0),\"\")","v":""},{"$f":"IF(H830,IF(AND($P830<1,$P830>=0,$M830>=Baseline),1,0),\"\")","v":""},{"$f":"IF(H830,IF($P830>=1,1,0),\"\")","v":""},{"$f":"IF(H830,IF(SUM(Q830:T830)=0,1,0),\"\")","v":""},{"$f":"IF(H830,IF(Q830,$Q$17,IF(R830,$R$17,IF(S830,$S$17,IF(T830,$T$17,IF(U830,$U$17,\"\"))))),\"\")","v":""},null,null,{"$f":"IF(H830,W830,\"\")","v":""},{"$f":"IF(H830,X830,\"\")","v":""},{"$f":"IF(H830,IF(W830<>\"\",X830/W830,\"\"),\"\")","v":""},{"$f":"IF(H830,IF(AND(M830>=Baseline,J830<=Baseline),(Baseline-J830)/(M830-J830+1),IF(M830<=Baseline,1,0)),\"\")","v":""},{"$f":"IF(H830,AB830*W830,\"\")","v":""},{"$f":"IF(H830,IF(AND(X830<=AC830,AA830>0),\"Under-Spending\",IF(X830>AC830,\"Over-Spending\",IF(AA830=0,\"Not Started\",\"\"))),\"\")","v":""}]
[814,null,null,"",null," ",null,false,null,null,"",null,null,"",null,null,"","","","","","",null,null,"","","","","",""]
[815,null,null,"",null," ",null,false,null,null,"",null,null,"",null,null,"","","","","","",null,null,"","","","","",""]
[816,null,null,"",null," ",null,false,null,null,"",null,null,"",null,null,"","","","","","",null,null,"","","","","",""]
[817,null,null,"",null," ",null,false,null,null,"",null,null,"",null,null,"","","","","","",null,null,"","","","","",""]
[818,null,null,"",null," ",null,false,null,null,"",null,null,"",null,null,"","","","","","",null,null,"","","","","",""]
[819,null,null,"",null," ",null,false,null,null,"",null,null,"",null,null,"","","","","","",null,null,"","","","","",""]
[820,null,null,"",null," ",null,false,null,null,"",null,null,"",null,null,"","","","","","",null,null,"","","","","",""]
[821,null,null,"",null," ",null,false,null,null,"",null,null,"",null,null,"","","","","","",null,null,"","","","","",""]
[822,null,null,"",null," ",null,false,null,null,"",null,null,"",null,null,"","","","","","",null,null,"","","","","",""]
[823,null,null,"",null," ",null,false,null,null,"",null,null,"",null,null,"","","","","","",null,null,"","","","","",""]
[824,null,null,"",null," ",null,false,null,null,"",null,null,"",null,null,"","","","","","",null,null,"","","","","",""]
[825,null,null,"",null," ",null,false,null,null,"",null,null,"",null,null,"","","","","","",null,null,"","","","","",""]
[826,null,null,"",null," ",null,false,null,null,"",null,null,"",null,null,"","","","","","",null,null,"","","","","",""]
[827,null,null,"",null," ",null,false,null,null,"",null,null,"",null,null,"","","","","","",null,null,"","","","","",""]
[828,null,null,"",null," ",null,false,null,null,"",null,null,"",null,null,"","","","","","",null,null,"","","","","",""]
[829,null,null,"",null," ",null,false,null,null,"",null,null,"",null,null,"","","","","","",null,null,"","","","","",""]
[830,null,null,"",null," ",null,false,null,null,"",null,null,"",null,null,"","","","","","",null,null,"","","","","",""]
[831,null,null,"",null," ",null,false,null,null,"",null,null,"",null,null,"","","","","","",null,null,"","","","","",""]
[832,null,null,"",null," ",null,false,null,null,"",null,null,"",null,null,"","","","","","",null,null,"","","","","",""]
[833,null,null,"",null," ",null,false,null,null,"",null,null,"",null,null,"","","","","","",null,null,"","","","","",""]
[834,null,null,"",null," ",null,false,null,null,"",null,null,"",null,null,"","","","","","",null,null,"","","","","",""]
[835,null,null,"",null," ",null,false,null,null,"",null,null,"",null,null,"","","","","","",null,null,"","","","","",""]
[836,null,null,"",null," ",null,false,null,null,"",null,null,"",null,null,"","","","","","",null,null,"","","","","",""]
[837,null,null,"",null," ",null,false,null,null,"",null,null,"",null,null,"","","","","","",null,null,"","","","","",""]
[838,null,null,"",null," ",null,false,null,null,"",null,null,"",null,null,"","","","","","",null,null,"","","","","",""]
[839,null,null,"",null," ",null,false,null,null,"",null,null,"",null,null,"","","","","","",null,null,"","","","","",""]
[840,null,null,"",null," ",null,false,null,null,"",null,null,"",null,null,"","","","","","",null,null,"","","","","",""]
[841,null,null,"",null," ",null,false,null,null,"",null,null,"",null,null,"","","","","","",null,null,"","","","","",""]
[842,null,null,"",null," ",null,false,null,null,"",null,null,"",null,null,"","","","","","",null,null,"","","","","",""]
[843,null,null,"",null," ",null,false,null,null,"",null,null,"",null,null,"","","","","","",null,null,"","","","","",""]
[844,null,null,"",null," ",null,false,null,null,"",null,null,"",null,null,"","","","","","",null,null,"","","","","",""]
[845,null,null,"",null," ",null,false,null,null,"",null,null,"",null,null,"","","","","","",null,null,"","","","","",""]
[846,null,null,"",null," ",null,false,null,null,"",null,null,"",null,null,"","","","","","",null,null,"","","","","",""]
[847,null,null,"",null," ",null,false,null,null,"",null,null,"",null,null,"","","","","","",null,null,"","","","","",""]
[848,null,null,"",null," ",null,false,null,null,"",null,null,"",null,null,"","","","","","",null,null,"","","","","",""]
[849,null,null,"",null," ",null,false,null,null,"",null,null,"",null,null,"","","","","","",null,null,"","","","","",""]
[850,null,null,"",null," ",null,false,null,null,"",null,null,"",null,null,"","","","","","",null,null,"","","","","",""]
[851,null,null,"",null," ",null,false,null,null,"",null,null,"",null,null,"","","","","","",null,null,"","","","","",""]
[852,null,null,"",null," ",null,false,null,null,"",null,null,"",null,null,"","","","","","",null,null,"","","","","",""]
[853,null,null,"",null," ",null,false,null,null,"",null,null,"",null,null,"","","","","","",null,null,"","","","","",""]
[854,null,null,"",null," ",null,false,null,null,"",null,null,"",null,null,"","","","","","",null,null,"","","","","",""]
[855,null,null,"",null," ",null,false,null,null,"",null,null,"",null,null,"","","","","","",null,null,"","","","","",""]
[856,null,null,"",null," ",null,false,null,null,"",null,null,"",null,null,"","","","","","",null,null,"","","","","",""]
[857,null,null,"",null," ",null,false,null,null,"",null,null,"",null,null,"","","","","","",null,null,"","","","","",""]
[858,null,null,"",null," ",null,false,null,null,"",null,null,"",null,null,"","","","","","",null,null,"","","","","",""]
[859,null,null,"",null," ",null,false,null,null,"",null,null,"",null,null,"","","","","","",null,null,"","","","","",""]
[860,null,null,"",null," ",null,false,null,null,"",null,null,"",null,null,"","","","","","",null,null,"","","","","",""]
[861,null,null,"",null," ",null,false,null,null,"",null,null,"",null,null,"","","","","","",null,null,"","","","","",""]
[862,null,null,"",null," ",null,false,null,null,"",null,null,"",null,null,"","","","","","",null,null,"","","","","",""]
[863,null,null,"",null," ",null,false,null,null,"",null,null,"",null,null,"","","","","","",null,null,"","","","","",""]
[864,null,null,"",null," ",null,false,null,null,"",null,null,"",null,null,"","","","","","",null,null,"","","","","",""]
[865,null,null,"",null," ",null,false,null,null,"",null,null,"",null,null,"","","","","","",null,null,"","","","","",""]
[866,null,null,"",null," ",null,false,null,null,"",null,null,"",null,null,"","","","","","",null,null,"","","","","",""]
[867,null,null,"",null," ",null,false,null,null,"",null,null,"",null,null,"","","","","","",null,null,"","","","","",""]
[868,null,null,"",null," ",null,false,null,null,"",null,null,"",null,null,"","","","","","",null,null,"","","","","",""]
[869,null,null,"",null," ",null,false,null,null,"",null,null,"",null,null,"","","","","","",null,null,"","","","","",""]
[870,null,null,"",null," ",null,false,null,null,"",null,null,"",null,null,"","","","","","",null,null,"","","","","",""]
[871,null,null,"",null," ",null,false,null,null,"",null,null,"",null,null,"","","","","","",null,null,"","","","","",""]
[872,null,null,"",null," ",null,false,null,null,"",null,null,"",null,null,"","","","","","",null,null,"","","","","",""]
[873,null,null,"",null," ",null,false,null,null,"",null,null,"",null,null,"","","","","","",null,null,"","","","","",""]
[874,null,null,"",null," ",null,false,null,null,"",null,null,"",null,null,"","","","","","",null,null,"","","","","",""]
[875,null,null,"",null," ",null,false,null,null,"",null,null,"",null,null,"","","","","","",null,null,"","","","","",""]
[876,null,null,"",null," ",null,false,null,null,"",null,null,"",null,null,"","","","","","",null,null,"","","","","",""]
[877,null,null,{"$f":"IF(H894,IF(C894=1,\"Red\",IF(C894=2,\"Yellow\",IF(C894=3,\"Green\",\"No Flag\"))),\"\")","v":""},null,{"$f":"B894& \" \"&E894","v":" "},null,{"$f":"AND(G894>=2,J894<>\"\",M894<>\"\",NOT(OR(AND(G894=1,G895=2),AND(G894=2,G895=3))))","v":false},null,null,{"$f":"IF(J894<>\"\",LocateDate(J894),\"\")","v":""},null,null,{"$f":"LocateDate(M894)","v":""},null,null,{"$f":"IF(H894,IF(AND($P894=0,$J894>Baseline),1,0),\"\")","v":""},{"$f":"IF(H894,IF(AND($P894<1,$J894<=Baseline, $M894<Baseline),1,0),\"\")","v":""},{"$f":"IF(H894,IF(AND($P894<1,$P894>=0,$M894>=Baseline),1,0),\"\")","v":""},{"$f":"IF(H894,IF($P894>=1,1,0),\"\")","v":""},{"$f":"IF(H894,IF(SUM(Q894:T894)=0,1,0),\"\")","v":""},{"$f":"IF(H894,IF(Q894,$Q$17,IF(R894,$R$17,IF(S894,$S$17,IF(T894,$T$17,IF(U894,$U$17,\"\"))))),\"\")","v":""},null,null,{"$f":"IF(H894,W894,\"\")","v":""},{"$f":"IF(H894,X894,\"\")","v":""},{"$f":"IF(H894,IF(W894<>\"\",X894/W894,\"\"),\"\")","v":""},{"$f":"IF(H894,IF(AND(M894>=Baseline,J894<=Baseline),(Baseline-J894)/(M894-J894+1),IF(M894<=Baseline,1,0)),\"\")","v":""},{"$f":"IF(H894,AB894*W894,\"\")","v":""},{"$f":"IF(H894,IF(AND(X894<=AC894,AA894>0),\"Under-Spending\",IF(X894>AC894,\"Over-Spending\",IF(AA894=0,\"Not Started\",\"\"))),\"\")","v":""}]
[878,null,null,"",null," ",null,false,null,null,"",null,null,"",null,null,"","","","","","",null,null,"","","","","",""]
[879,null,null,"",null," ",null,false,null,null,"",null,null,"",null,null,"","","","","","",null,null,"","","","","",""]
[880,null,null,"",null," ",null,false,null,null,"",null,null,"",null,null,"","","","","","",null,null,"","","","","",""]
[881,null,null,"",null," ",null,false,null,null,"",null,null,"",null,null,"","","","","","",null,null,"","","","","",""]
[882,null,null,"",null," ",null,false,null,null,"",null,null,"",null,null,"","","","","","",null,null,"","","","","",""]
[883,null,null,"",null," ",null,false,null,null,"",null,null,"",null,null,"","","","","","",null,null,"","","","","",""]
[884,null,null,"",null," ",null,false,null,null,"",null,null,"",null,null,"","","","","","",null,null,"","","","","",""]
[885,null,null,"",null," ",null,false,null,null,"",null,null,"",null,null,"","","","","","",null,null,"","","","","",""]
[886,null,null,"",null," ",null,false,null,null,"",null,null,"",null,null,"","","","","","",null,null,"","","","","",""]
[887,null,null,"",null," ",null,false,null,null,"",null,null,"",null,null,"","","","","","",null,null,"","","","","",""]
[888,null,null,"",null," ",null,false,null,null,"",null,null,"",null,null,"","","","","","",null,null,"","","","","",""]
[889,null,null,"",null," ",null,false,null,null,"",null,null,"",null,null,"","","","","","",null,null,"","","","","",""]
[890,null,null,"",null," ",null,false,null,null,"",null,null,"",null,null,"","","","","","",null,null,"","","","","",""]
[891,null,null,"",null," ",null,false,null,null,"",null,null,"",null,null,"","","","","","",null,null,"","","","","",""]
[892,null,null,"",null," ",null,false,null,null,"",null,null,"",null,null,"","","","","","",null,null,"","","","","",""]
[893,null,null,"",null," ",null,false,null,null,"",null,null,"",null,null,"","","","","","",null,null,"","","","","",""]
[894,null,null,"",null," ",null,false,null,null,"",null,null,"",null,null,"","","","","","",null,null,"","","","","",""]
[895,null,null,"",null," ",null,false,null,null,"",null,null,"",null,null,"","","","","","",null,null,"","","","","",""]
[896,null,null,"",null," ",null,false,null,null,"",null,null,"",null,null,"","","","","","",null,null,"","","","","",""]
[897,null,null,"",null," ",null,false,null,null,"",null,null,"",null,null,"","","","","","",null,null,"","","","","",""]
[898,null,null,"",null," ",null,false,null,null,"",null,null,"",null,null,"","","","","","",null,null,"","","","","",""]
[899,null,null,"",null," ",null,false,null,null,"",null,null,"",null,null,"","","","","","",null,null,"","","","","",""]
[900,null,null,"",null," ",null,false,null,null,"",null,null,"",null,null,"","","","","","",null,null,"","","","","",""]
[901,null,null,"",null," ",null,false,null,null,"",null,null,"",null,null,"","","","","","",null,null,"","","","","",""]
[902,null,null,"",null," ",null,false,null,null,"",null,null,"",null,null,"","","","","","",null,null,"","","","","",""]
[903,null,null,"",null," ",null,false,null,null,"",null,null,"",null,null,"","","","","","",null,null,"","","","","",""]
[904,null,null,"",null," ",null,false,null,null,"",null,null,"",null,null,"","","","","","",null,null,"","","","","",""]
[905,null,null,"",null," ",null,false,null,null,"",null,null,"",null,null,"","","","","","",null,null,"","","","","",""]
[906,null,null,"",null," ",null,false,null,null,"",null,null,"",null,null,"","","","","","",null,null,"","","","","",""]
[907,null,null,"",null," ",null,false,null,null,"",null,null,"",null,null,"","","","","","",null,null,"","","","","",""]
[908,null,null,"",null," ",null,false,null,null,"",null,null,"",null,null,"","","","","","",null,null,"","","","","",""]
[909,null,null,"",null," ",null,false,null,null,"",null,null,"",null,null,"","","","","","",null,null,"","","","","",""]
[910,null,null,"",null," ",null,false,null,null,"",null,null,"",null,null,"","","","","","",null,null,"","","","","",""]
[911,null,null,"",null," ",null,false,null,null,"",null,null,"",null,null,"","","","","","",null,null,"","","","","",""]
[912,null,null,"",null," ",null,false,null,null,"",null,null,"",null,null,"","","","","","",null,null,"","","","","",""]
[913,null,null,"",null," ",null,false,null,null,"",null,null,"",null,null,"","","","","","",null,null,"","","","","",""]
[914,null,null,"",null," ",null,false,null,null,"",null,null,"",null,null,"","","","","","",null,null,"","","","","",""]
[915,null,null,"",null," ",null,false,null,null,"",null,null,"",null,null,"","","","","","",null,null,"","","","","",""]
[916,null,null,"",null," ",null,false,null,null,"",null,null,"",null,null,"","","","","","",null,null,"","","","","",""]
[917,null,null,"",null," ",null,false,null,null,"",null,null,"",null,null,"","","","","","",null,null,"","","","","",""]
[918,null,null,"",null," ",null,false,null,null,"",null,null,"",null,null,"","","","","","",null,null,"","","","","",""]
[919,null,null,"",null," ",null,false,null,null,"",null,null,"",null,null,"","","","","","",null,null,"","","","","",""]
[920,null,null,"",null," ",null,false,null,null,"",null,null,"",null,null,"","","","","","",null,null,"","","","","",""]
[921,null,null,"",null," ",null,false,null,null,"",null,null,"",null,null,"","","","","","",null,null,"","","","","",""]
[922,null,null,"",null," ",null,false,null,null,"",null,null,"",null,null,"","","","","","",null,null,"","","","","",""]
[923,null,null,"",null," ",null,false,null,null,"",null,null,"",null,null,"","","","","","",null,null,"","","","","",""]
[924,null,null,"",null," ",null,false,null,null,"",null,null,"",null,null,"","","","","","",null,null,"","","","","",""]
[925,null,null,"",null," ",null,false,null,null,"",null,null,"",null,null,"","","","","","",null,null,"","","","","",""]
[926,null,null,"",null," ",null,false,null,null,"",null,null,"",null,null,"","","","","","",null,null,"","","","","",""]
[927,null,null,"",null," ",null,false,null,null,"",null,null,"",null,null,"","","","","","",null,null,"","","","","",""]
[928,null,null,"",null," ",null,false,null,null,"",null,null,"",null,null,"","","","","","",null,null,"","","","","",""]
[929,null,null,"",null," ",null,false,null,null,"",null,null,"",null,null,"","","","","","",null,null,"","","","","",""]
[930,null,null,"",null," ",null,false,null,null,"",null,null,"",null,null,"","","","","","",null,null,"","","","","",""]
[931,null,null,"",null," ",null,false,null,null,"",null,null,"",null,null,"","","","","","",null,null,"","","","","",""]
[932,null,null,"",null," ",null,false,null,null,"",null,null,"",null,null,"","","","","","",null,null,"","","","","",""]
[933,null,null,"",null," ",null,false,null,null,"",null,null,"",null,null,"","","","","","",null,null,"","","","","",""]
[934,null,null,"",null," ",null,false,null,null,"",null,null,"",null,null,"","","","","","",null,null,"","","","","",""]
[935,null,null,"",null," ",null,false,null,null,"",null,null,"",null,null,"","","","","","",null,null,"","","","","",""]
[936,null,null,"",null," ",null,false,null,null,"",null,null,"",null,null,"","","","","","",null,null,"","","","","",""]
[937,null,null,"",null," ",null,false,null,null,"",null,null,"",null,null,"","","","","","",null,null,"","","","","",""]
[938,null,null,"",null," ",null,false,null,null,"",null,null,"",null,null,"","","","","","",null,null,"","","","","",""]
[939,null,null,"",null," ",null,false,null,null,"",null,null,"",null,null,"","","","","","",null,null,"","","","","",""]
[940,null,null,"",null," ",null,false,null,null,"",null,null,"",null,null,"","","","","","",null,null,"","","","","",""]
[941,null,null,{"$f":"IF(H958,IF(C958=1,\"Red\",IF(C958=2,\"Yellow\",IF(C958=3,\"Green\",\"No Flag\"))),\"\")","v":""},null,{"$f":"B958& \" \"&E958","v":" "},null,{"$f":"AND(G958>=2,J958<>\"\",M958<>\"\",NOT(OR(AND(G958=1,G959=2),AND(G958=2,G959=3))))","v":false},null,null,{"$f":"IF(J958<>\"\",LocateDate(J958),\"\")","v":""},null,null,{"$f":"LocateDate(M958)","v":""},null,null,{"$f":"IF(H958,IF(AND($P958=0,$J958>Baseline),1,0),\"\")","v":""},{"$f":"IF(H958,IF(AND($P958<1,$J958<=Baseline, $M958<Baseline),1,0),\"\")","v":""},{"$f":"IF(H958,IF(AND($P958<1,$P958>=0,$M958>=Baseline),1,0),\"\")","v":""},{"$f":"IF(H958,IF($P958>=1,1,0),\"\")","v":""},{"$f":"IF(H958,IF(SUM(Q958:T958)=0,1,0),\"\")","v":""},{"$f":"IF(H958,IF(Q958,$Q$17,IF(R958,$R$17,IF(S958,$S$17,IF(T958,$T$17,IF(U958,$U$17,\"\"))))),\"\")","v":""},null,null,{"$f":"IF(H958,W958,\"\")","v":""},{"$f":"IF(H958,X958,\"\")","v":""},{"$f":"IF(H958,IF(W958<>\"\",X958/W958,\"\"),\"\")","v":""},{"$f":"IF(H958,IF(AND(M958>=Baseline,J958<=Baseline),(Baseline-J958)/(M958-J958+1),IF(M958<=Baseline,1,0)),\"\")","v":""},{"$f":"IF(H958,AB958*W958,\"\")","v":""},{"$f":"IF(H958,IF(AND(X958<=AC958,AA958>0),\"Under-Spending\",IF(X958>AC958,\"Over-Spending\",IF(AA958=0,\"Not Started\",\"\"))),\"\")","v":""}]
[942,null,null,"",null," ",null,false,null,null,"",null,null,"",null,null,"","","","","","",null,null,"","","","","",""]
[943,null,null,"",null," ",null,false,null,null,"",null,null,"",null,null,"","","","","","",null,null,"","","","","",""]
[944,null,null,"",null," ",null,false,null,null,"",null,null,"",null,null,"","","","","","",null,null,"","","","","",""]
[945,null,null,"",null," ",null,false,null,null,"",null,null,"",null,null,"","","","","","",null,null,"","","","","",""]
[946,null,null,"",null," ",null,false,null,null,"",null,null,"",null,null,"","","","","","",null,null,"","","","","",""]
[947,null,null,"",null," ",null,false,null,null,"",null,null,"",null,null,"","","","","","",null,null,"","","","","",""]
[948,null,null,"",null," ",null,false,null,null,"",null,null,"",null,null,"","","","","","",null,null,"","","","","",""]
[949,null,null,"",null," ",null,false,null,null,"",null,null,"",null,null,"","","","","","",null,null,"","","","","",""]
[950,null,null,"",null," ",null,false,null,null,"",null,null,"",null,null,"","","","","","",null,null,"","","","","",""]
[951,null,null,"",null," ",null,false,null,null,"",null,null,"",null,null,"","","","","","",null,null,"","","","","",""]
[952,null,null,"",null," ",null,false,null,null,"",null,null,"",null,null,"","","","","","",null,null,"","","","","",""]
[953,null,null,"",null," ",null,false,null,null,"",null,null,"",null,null,"","","","","","",null,null,"","","","","",""]
[954,null,null,"",null," ",null,false,null,null,"",null,null,"",null,null,"","","","","","",null,null,"","","","","",""]
[955,null,null,"",null," ",null,false,null,null,"",null,null,"",null,null,"","","","","","",null,null,"","","","","",""]
[956,null,null,"",null," ",null,false,null,null,"",null,null,"",null,null,"","","","","","",null,null,"","","","","",""]
[957,null,null,"",null," ",null,false,null,null,"",null,null,"",null,null,"","","","","","",null,null,"","","","","",""]
[958,null,null,"",null," ",null,false,null,null,"",null,null,"",null,null,"","","","","","",null,null,"","","","","",""]
[959,null,null,"",null," ",null,false,null,null,"",null,null,"",null,null,"","","","","","",null,null,"","","","","",""]
[960,null,null,"",null," ",null,false,null,null,"",null,null,"",null,null,"","","","","","",null,null,"","","","","",""]
[961,null,null,"",null," ",null,false,null,null,"",null,null,"",null,null,"","","","","","",null,null,"","","","","",""]
[962,null,null,"",null," ",null,false,null,null,"",null,null,"",null,null,"","","","","","",null,null,"","","","","",""]
[963,null,null,"",null," ",null,false,null,null,"",null,null,"",null,null,"","","","","","",null,null,"","","","","",""]
[964,null,null,"",null," ",null,false,null,null,"",null,null,"",null,null,"","","","","","",null,null,"","","","","",""]
[965,null,null,"",null," ",null,false,null,null,"",null,null,"",null,null,"","","","","","",null,null,"","","","","",""]
[966,null,null,"",null," ",null,false,null,null,"",null,null,"",null,null,"","","","","","",null,null,"","","","","",""]
[967,null,null,"",null," ",null,false,null,null,"",null,null,"",null,null,"","","","","","",null,null,"","","","","",""]
[968,null,null,"",null," ",null,false,null,null,"",null,null,"",null,null,"","","","","","",null,null,"","","","","",""]
[969,null,null,"",null," ",null,false,null,null,"",null,null,"",null,null,"","","","","","",null,null,"","","","","",""]
[970,null,null,"",null," ",null,false,null,null,"",null,null,"",null,null,"","","","","","",null,null,"","","","","",""]
[971,null,null,"",null," ",null,false,null,null,"",null,null,"",null,null,"","","","","","",null,null,"","","","","",""]
[972,null,null,"",null," ",null,false,null,null,"",null,null,"",null,null,"","","","","","",null,null,"","","","","",""]
[973,null,null,"",null," ",null,false,null,null,"",null,null,"",null,null,"","","","","","",null,null,"","","","","",""]
[974,null,null,"",null," ",null,false,null,null,"",null,null,"",null,null,"","","","","","",null,null,"","","","","",""]
[975,null,null,"",null," ",null,false,null,null,"",null,null,"",null,null,"","","","","","",null,null,"","","","","",""]
[976,null,null,"",null," ",null,false,null,null,"",null,null,"",null,null,"","","","","","",null,null,"","","","","",""]
[977,null,null,"",null," ",null,false,null,null,"",null,null,"",null,null,"","","","","","",null,null,"","","","","",""]
[978,null,null,"",null," ",null,false,null,null,"",null,null,"",null,null,"","","","","","",null,null,"","","","","",""]
[979,null,null,"",null," ",null,false,null,null,"",null,null,"",null,null,"","","","","","",null,null,"","","","","",""]
[980,null,null,"",null," ",null,false,null,null,"",null,null,"",null,null,"","","","","","",null,null,"","","","","",""]
[981,null,null,"",null," ",null,false,null,null,"",null,null,"",null,null,"","","","","","",null,null,"","","","","",""]
[982,null,null,"",null," ",null,false,null,null,"",null,null,"",null,null,"","","","","","",null,null,"","","","","",""]
[983,null,null,"",null," ",null,false,null,null,"",null,null,"",null,null,"","","","","","",null,null,"","","","","",""]
[984,null,null,"",null," ",null,false,null,null,"",null,null,"",null,null,"","","","","","",null,null,"","","","","",""]
[985,null,null,"",null," ",null,false,null,null,"",null,null,"",null,null,"","","","","","",null,null,"","","","","",""]
[986,null,null,"",null," ",null,false,null,null,"",null,null,"",null,null,"","","","","","",null,null,"","","","","",""]
[987,null,null,"",null," ",null,false,null,null,"",null,null,"",null,null,"","","","","","",null,null,"","","","","",""]
[988,null,null,"",null," ",null,false,null,null,"",null,null,"",null,null,"","","","","","",null,null,"","","","","",""]
[989,null,null,"",null," ",null,false,null,null,"",null,null,"",null,null,"","","","","","",null,null,"","","","","",""]
[990,null,null,"",null," ",null,false,null,null,"",null,null,"",null,null,"","","","","","",null,null,"","","","","",""]
[991,null,null,"",null," ",null,false,null,null,"",null,null,"",null,null,"","","","","","",null,null,"","","","","",""]
[992,null,null,"",null," ",null,false,null,null,"",null,null,"",null,null,"","","","","","",null,null,"","","","","",""]
[993,null,null,"",null," ",null,false,null,null,"",null,null,"",null,null,"","","","","","",null,null,"","","","","",""]
[994,null,null,"",null," ",null,false,null,null,"",null,null,"",null,null,"","","","","","",null,null,"","","","","",""]
[995,null,null,"",null," ",null,false,null,null,"",null,null,"",null,null,"","","","","","",null,null,"","","","","",""]
[996,null,null,"",null," ",null,false,null,null,"",null,null,"",null,null,"","","","","","",null,null,"","","","","",""]
[997,null,null,"",null," ",null,false,null,null,"",null,null,"",null,null,"","","","","","",null,null,"","","","","",""]
[998,null,null,"",null," ",null,false,null,null,"",null,null,"",null,null,"","","","","","",null,null,"","","","","",""]
[999,null,null,"",null," ",null,false,null,null,"",null,null,"",null,null,"","","","","","",null,null,"","","","","",""]
[1000,null,null,"",null," ",null,false,null,null,"",null,null,"",null,null,"","","","","","",null,null,"","","","","",""]
[1001,null,null,"",null," ",null,false,null,null,"",null,null,"",null,null,"","","","","","",null,null,"","","","","",""]
[1002,null,null,"",null," ",null,false,null,null,"",null,null,"",null,null,"","","","","","",null,null,"","","","","",""]
[1003,null,null,"",null," ",null,false,null,null,"",null,null,"",null,null,"","","","","","",null,null,"","","","","",""]
[1004,null,null,"",null," ",null,false,null,null,"",null,null,"",null,null,"","","","","","",null,null,"","","","","",""]
[1005,null,null,{"$f":"IF(H1022,IF(C1022=1,\"Red\",IF(C1022=2,\"Yellow\",IF(C1022=3,\"Green\",\"No Flag\"))),\"\")","v":""},null,{"$f":"B1022& \" \"&E1022","v":" "},null,{"$f":"AND(G1022>=2,J1022<>\"\",M1022<>\"\",NOT(OR(AND(G1022=1,G1023=2),AND(G1022=2,G1023=3))))","v":false},null,null,{"$f":"IF(J1022<>\"\",LocateDate(J1022),\"\")","v":""},null,null,{"$f":"LocateDate(M1022)","v":""},null,null,{"$f":"IF(H1022,IF(AND($P1022=0,$J1022>Baseline),1,0),\"\")","v":""},{"$f":"IF(H1022,IF(AND($P1022<1,$J1022<=Baseline, $M1022<Baseline),1,0),\"\")","v":""},{"$f":"IF(H1022,IF(AND($P1022<1,$P1022>=0,$M1022>=Baseline),1,0),\"\")","v":""},{"$f":"IF(H1022,IF($P1022>=1,1,0),\"\")","v":""},{"$f":"IF(H1022,IF(SUM(Q1022:T1022)=0,1,0),\"\")","v":""},{"$f":"IF(H1022,IF(Q1022,$Q$17,IF(R1022,$R$17,IF(S1022,$S$17,IF(T1022,$T$17,IF(U1022,$U$17,\"\"))))),\"\")","v":""},null,null,{"$f":"IF(H1022,W1022,\"\")","v":""},{"$f":"IF(H1022,X1022,\"\")","v":""},{"$f":"IF(H1022,IF(W1022<>\"\",X1022/W1022,\"\"),\"\")","v":""},{"$f":"IF(H1022,IF(AND(M1022>=Baseline,J1022<=Baseline),(Baseline-J1022)/(M1022-J1022+1),IF(M1022<=Baseline,1,0)),\"\")","v":""},{"$f":"IF(H1022,AB1022*W1022,\"\")","v":""},{"$f":"IF(H1022,IF(AND(X1022<=AC1022,AA1022>0),\"Under-Spending\",IF(X1022>AC1022,\"Over-Spending\",IF(AA1022=0,\"Not Started\",\"\"))),\"\")","v":""}]
[1006,null,null,"",null," ",null,false,null,null,"",null,null,"",null,null,"","","","","","",null,null,"","","","","",""]
[1007,null,null,"",null," ",null,false,null,null,"",null,null,"",null,null,"","","","","","",null,null,"","","","","",""]
[1008,null,null,"",null," ",null,false,null,null,"",null,null,"",null,null,"","","","","","",null,null,"","","","","",""]
[1009,null,null,"",null," ",null,false,null,null,"",null,null,"",null,null,"","","","","","",null,null,"","","","","",""]
[1010,null,null,"",null," ",null,false,null,null,"",null,null,"",null,null,"","","","","","",null,null,"","","","","",""]
[1011,null,null,"",null," ",null,false,null,null,"",null,null,"",null,null,"","","","","","",null,null,"","","","","",""]
[1012,null,null,"",null," ",null,false,null,null,"",null,null,"",null,null,"","","","","","",null,null,"","","","","",""]
[1013,null,null,"",null," ",null,false,null,null,"",null,null,"",null,null,"","","","","","",null,null,"","","","","",""]
[1014,null,null,"",null," ",null,false,null,null,"",null,null,"",null,null,"","","","","","",null,null,"","","","","",""]
[1015,null,null,"",null," ",null,false,null,null,"",null,null,"",null,null,"","","","","","",null,null,"","","","","",""]
[1016,null,null,"",null," ",null,false,null,null,"",null,null,"",null,null,"","","","","","",null,null,"","","","","",""]
[1017,null,null,"",null," ",null,false,null,null,"",null,null,"",null,null,"","","","","","",null,null,"","","","","",""]
[1018,null,null,"",null," ",null,false,null,null,"",null,null,"",null,null,"","","","","","",null,null,"","","","","",""]
[1019,null,null,"",null," ",null,false,null,null,"",null,null,"",null,null,"","","","","","",null,null,"","","","","",""]
[1020,null,null,"",null," ",null,false,null,null,"",null,null,"",null,null,"","","","","","",null,null,"","","","","",""]
[1021,null,null,"",null," ",null,false,null,null,"",null,null,"",null,null,"","","","","","",null,null,"","","","","",""]
[1022,null,null,"",null," ",null,false,null,null,"",null,null,"",null,null,"","","","","","",null,null,"","","","","",""]
[1023,null,null,"",null," ",null,false,null,null,"",null,null,"",null,null,"","","","","","",null,null,"","","","","",""]
[1024,null,null,"",null," ",null,false,null,null,"",null,null,"",null,null,"","","","","","",null,null,"","","","","",""]
[1025,null,null,"",null," ",null,false,null,null,"",null,null,"",null,null,"","","","","","",null,null,"","","","","",""]
[1026,null,null,"",null," ",null,false,null,null,"",null,null,"",null,null,"","","","","","",null,null,"","","","","",""]
[1027,null,null,"",null," ",null,false,null,null,"",null,null,"",null,null,"","","","","","",null,null,"","","","","",""]
[1028,null,null,"",null," ",null,false,null,null,"",null,null,"",null,null,"","","","","","",null,null,"","","","","",""]
[1029,null,null,"",null," ",null,false,null,null,"",null,null,"",null,null,"","","","","","",null,null,"","","","","",""]
[1030,null,null,"",null," ",null,false,null,null,"",null,null,"",null,null,"","","","","","",null,null,"","","","","",""]
[1031,null,null,"",null," ",null,false,null,null,"",null,null,"",null,null,"","","","","","",null,null,"","","","","",""]
[1032,null,null,"",null," ",null,false,null,null,"",null,null,"",null,null,"","","","","","",null,null,"","","","","",""]
[1033,null,null,"",null," ",null,false,null,null,"",null,null,"",null,null,"","","","","","",null,null,"","","","","",""]
[1034,null,null,"",null," ",null,false,null,null,"",null,null,"",null,null,"","","","","","",null,null,"","","","","",""]
[1035,null,null,"",null," ",null,false,null,null,"",null,null,"",null,null,"","","","","","",null,null,"","","","","",""]
[1036,null,null,"",null," ",null,false,null,null,"",null,null,"",null,null,"","","","","","",null,null,"","","","","",""]
[1037,null,null,"",null," ",null,false,null,null,"",null,null,"",null,null,"","","","","","",null,null,"","","","","",""]
[1038,null,null,"",null," ",null,false,null,null,"",null,null,"",null,null,"","","","","","",null,null,"","","","","",""]
[1039,null,null,"",null," ",null,false,null,null,"",null,null,"",null,null,"","","","","","",null,null,"","","","","",""]
[1040,null,null,"",null," ",null,false,null,null,"",null,null,"",null,null,"","","","","","",null,null,"","","","","",""]
[1041,null,null,"",null," ",null,false,null,null,"",null,null,"",null,null,"","","","","","",null,null,"","","","","",""]
[1042,null,null,"",null," ",null,false,null,null,"",null,null,"",null,null,"","","","","","",null,null,"","","","","",""]
[1043,null,null,"",null," ",null,false,null,null,"",null,null,"",null,null,"","","","","","",null,null,"","","","","",""]
[1044,null,null,"",null," ",null,false,null,null,"",null,null,"",null,null,"","","","","","",null,null,"","","","","",""]
[1045,null,null,"",null," ",null,false,null,null,"",null,null,"",null,null,"","","","","","",null,null,"","","","","",""]
[1046,null,null,"",null," ",null,false,null,null,"",null,null,"",null,null,"","","","","","",null,null,"","","","","",""]
[1047,null,null,"",null," ",null,false,null,null,"",null,null,"",null,null,"","","","","","",null,null,"","","","","",""]
[1048,null,null,"",null," ",null,false,null,null,"",null,null,"",null,null,"","","","","","",null,null,"","","","","",""]
[1049,null,null,"",null," ",null,false,null,null,"",null,null,"",null,null,"","","","","","",null,null,"","","","","",""]
[1050,null,null,"",null," ",null,false,null,null,"",null,null,"",null,null,"","","","","","",null,null,"","","","","",""]
[1051,null,null,"",null," ",null,false,null,null,"",null,null,"",null,null,"","","","","","",null,null,"","","","","",""]
[1052,null,null,"",null," ",null,false,null,null,"",null,null,"",null,null,"","","","","","",null,null,"","","","","",""]
[1053,null,null,"",null," ",null,false,null,null,"",null,null,"",null,null,"","","","","","",null,null,"","","","","",""]
[1054,null,null,"",null," ",null,false,null,null,"",null,null,"",null,null,"","","","","","",null,null,"","","","","",""]
[1055,null,null,"",null," ",null,false,null,null,"",null,null,"",null,null,"","","","","","",null,null,"","","","","",""]
[1056,null,null,"",null," ",null,false,null,null,"",null,null,"",null,null,"","","","","","",null,null,"","","","","",""]
[1057,null,null,"",null," ",null,false,null,null,"",null,null,"",null,null,"","","","","","",null,null,"","","","","",""]
[1058,null,null,"",null," ",null,false,null,null,"",null,null,"",null,null,"","","","","","",null,null,"","","","","",""]
[1059,null,null,"",null," ",null,false,null,null,"",null,null,"",null,null,"","","","","","",null,null,"","","","","",""]
[1060,null,null,"",null," ",null,false,null,null,"",null,null,"",null,null,"","","","","","",null,null,"","","","","",""]
[1061,null,null,"",null," ",null,false,null,null,"",null,null,"",null,null,"","","","","","",null,null,"","","","","",""]
[1062,null,null,"",null," ",null,false,null,null,"",null,null,"",null,null,"","","","","","",null,null,"","","","","",""]
[1063,null,null,"",null," ",null,false,null,null,"",null,null,"",null,null,"","","","","","",null,null,"","","","","",""]
[1064,null,null,"",null," ",null,false,null,null,"",null,null,"",null,null,"","","","","","",null,null,"","","","","",""]
[1065,null,null,"",null," ",null,false,null,null,"",null,null,"",null,null,"","","","","","",null,null,"","","","","",""]
[1066,null,null,"",null," ",null,false,null,null,"",null,null,"",null,null,"","","","","","",null,null,"","","","","",""]
[1067,null,null,"",null," ",null,false,null,null,"",null,null,"",null,null,"","","","","","",null,null,"","","","","",""]
[1068,null,null,"",null," ",null,false,null,null,"",null,null,"",null,null,"","","","","","",null,null,"","","","","",""]
[1069,null,null,{"$f":"IF(H1086,IF(C1086=1,\"Red\",IF(C1086=2,\"Yellow\",IF(C1086=3,\"Green\",\"No Flag\"))),\"\")","v":""},null,{"$f":"B1086& \" \"&E1086","v":" "},null,{"$f":"AND(G1086>=2,J1086<>\"\",M1086<>\"\",NOT(OR(AND(G1086=1,G1087=2),AND(G1086=2,G1087=3))))","v":false},null,null,{"$f":"IF(J1086<>\"\",LocateDate(J1086),\"\")","v":""},null,null,{"$f":"LocateDate(M1086)","v":""},null,null,{"$f":"IF(H1086,IF(AND($P1086=0,$J1086>Baseline),1,0),\"\")","v":""},{"$f":"IF(H1086,IF(AND($P1086<1,$J1086<=Baseline, $M1086<Baseline),1,0),\"\")","v":""},{"$f":"IF(H1086,IF(AND($P1086<1,$P1086>=0,$M1086>=Baseline),1,0),\"\")","v":""},{"$f":"IF(H1086,IF($P1086>=1,1,0),\"\")","v":""},{"$f":"IF(H1086,IF(SUM(Q1086:T1086)=0,1,0),\"\")","v":""},{"$f":"IF(H1086,IF(Q1086,$Q$17,IF(R1086,$R$17,IF(S1086,$S$17,IF(T1086,$T$17,IF(U1086,$U$17,\"\"))))),\"\")","v":""},null,null,{"$f":"IF(H1086,W1086,\"\")","v":""},{"$f":"IF(H1086,X1086,\"\")","v":""},{"$f":"IF(H1086,IF(W1086<>\"\",X1086/W1086,\"\"),\"\")","v":""},{"$f":"IF(H1086,IF(AND(M1086>=Baseline,J1086<=Baseline),(Baseline-J1086)/(M1086-J1086+1),IF(M1086<=Baseline,1,0)),\"\")","v":""},{"$f":"IF(H1086,AB1086*W1086,\"\")","v":""},{"$f":"IF(H1086,IF(AND(X1086<=AC1086,AA1086>0),\"Under-Spending\",IF(X1086>AC1086,\"Over-Spending\",IF(AA1086=0,\"Not Started\",\"\"))),\"\")","v":""}]
[1070,null,null,"",null," ",null,false,null,null,"",null,null,"",null,null,"","","","","","",null,null,"","","","","",""]
[1071,null,null,"",null," ",null,false,null,null,"",null,null,"",null,null,"","","","","","",null,null,"","","","","",""]
[1072,null,null,"",null," ",null,false,null,null,"",null,null,"",null,null,"","","","","","",null,null,"","","","","",""]
[1073,null,null,"",null," ",null,false,null,null,"",null,null,"",null,null,"","","","","","",null,null,"","","","","",""]
[1074,null,null,"",null," ",null,false,null,null,"",null,null,"",null,null,"","","","","","",null,null,"","","","","",""]
[1075,null,null,"",null," ",null,false,null,null,"",null,null,"",null,null,"","","","","","",null,null,"","","","","",""]
[1076,null,null,"",null," ",null,false,null,null,"",null,null,"",null,null,"","","","","","",null,null,"","","","","",""]
[1077,null,null,"",null," ",null,false,null,null,"",null,null,"",null,null,"","","","","","",null,null,"","","","","",""]
[1078,null,null,"",null," ",null,false,null,null,"",null,null,"",null,null,"","","","","","",null,null,"","","","","",""]
[1079,null,null,"",null," ",null,false,null,null,"",null,null,"",null,null,"","","","","","",null,null,"","","","","",""]
[1080,null,null,"",null," ",null,false,null,null,"",null,null,"",null,null,"","","","","","",null,null,"","","","","",""]
[1081,null,null,"",null," ",null,false,null,null,"",null,null,"",null,null,"","","","","","",null,null,"","","","","",""]
[1082,null,null,"",null," ",null,false,null,null,"",null,null,"",null,null,"","","","","","",null,null,"","","","","",""]
[1083,null,null,"",null," ",null,false,null,null,"",null,null,"",null,null,"","","","","","",null,null,"","","","","",""]
[1084,null,null,"",null," ",null,false,null,null,"",null,null,"",null,null,"","","","","","",null,null,"","","","","",""]
[1085,null,null,"",null," ",null,false,null,null,"",null,null,"",null,null,"","","","","","",null,null,"","","","","",""]
[1086,null,null,"",null," ",null,false,null,null,"",null,null,"",null,null,"","","","","","",null,null,"","","","","",""]
[1087,null,null,"",null," ",null,false,null,null,"",null,null,"",null,null,"","","","","","",null,null,"","","","","",""]
[1088,null,null,"",null," ",null,false,null,null,"",null,null,"",null,null,"","","","","","",null,null,"","","","","",""]
[1089,null,null,"",null," ",null,false,null,null,"",null,null,"",null,null,"","","","","","",null,null,"","","","","",""]
[1090,null,null,"",null," ",null,false,null,null,"",null,null,"",null,null,"","","","","","",null,null,"","","","","",""]
[1091,null,null,"",null," ",null,false,null,null,"",null,null,"",null,null,"","","","","","",null,null,"","","","","",""]
[1092,null,null,"",null," ",null,false,null,null,"",null,null,"",null,null,"","","","","","",null,null,"","","","","",""]
[1093,null,null,"",null," ",null,false,null,null,"",null,null,"",null,null,"","","","","","",null,null,"","","","","",""]
[1094,null,null,"",null," ",null,false,null,null,"",null,null,"",null,null,"","","","","","",null,null,"","","","","",""]
[1095,null,null,"",null," ",null,false,null,null,"",null,null,"",null,null,"","","","","","",null,null,"","","","","",""]
[1096,null,null,"",null," ",null,false,null,null,"",null,null,"",null,null,"","","","","","",null,null,"","","","","",""]
[1097,null,null,"",null," ",null,false,null,null,"",null,null,"",null,null,"","","","","","",null,null,"","","","","",""]
[1098,null,null,"",null," ",null,false,null,null,"",null,null,"",null,null,"","","","","","",null,null,"","","","","",""]
[1099,null,null,"",null," ",null,false,null,null,"",null,null,"",null,null,"","","","","","",null,null,"","","","","",""]
[1100,null,null,"",null," ",null,false,null,null,"",null,null,"",null,null,"","","","","","",null,null,"","","","","",""]
[1101,null,null,"",null," ",null,false,null,null,"",null,null,"",null,null,"","","","","","",null,null,"","","","","",""]
[1102,null,null,"",null," ",null,false,null,null,"",null,null,"",null,null,"","","","","","",null,null,"","","","","",""]
[1103,null,null,"",null," ",null,false,null,null,"",null,null,"",null,null,"","","","","","",null,null,"","","","","",""]
[1104,null,null,"",null," ",null,false,null,null,"",null,null,"",null,null,"","","","","","",null,null,"","","","","",""]
[1105,null,null,"",null," ",null,false,null,null,"",null,null,"",null,null,"","","","","","",null,null,"","","","","",""]
[1106,null,null,"",null," ",null,false,null,null,"",null,null,"",null,null,"","","","","","",null,null,"","","","","",""]
[1107,null,null,"",null," ",null,false,null,null,"",null,null,"",null,null,"","","","","","",null,null,"","","","","",""]
[1108,null,null,"",null," ",null,false,null,null,"",null,null,"",null,null,"","","","","","",null,null,"","","","","",""]
[1109,null,null,"",null," ",null,false,null,null,"",null,null,"",null,null,"","","","","","",null,null,"","","","","",""]
[1110,null,null,"",null," ",null,false,null,null,"",null,null,"",null,null,"","","","","","",null,null,"","","","","",""]
[1111,null,null,"",null," ",null,false,null,null,"",null,null,"",null,null,"","","","","","",null,null,"","","","","",""]
[1112,null,null,"",null," ",null,false,null,null,"",null,null,"",null,null,"","","","","","",null,null,"","","","","",""]
[1113,null,null,"",null," ",null,false,null,null,"",null,null,"",null,null,"","","","","","",null,null,"","","","","",""]
[1114,null,null,"",null," ",null,false,null,null,"",null,null,"",null,null,"","","","","","",null,null,"","","","","",""]
[1115,null,null,"",null," ",null,false,null,null,"",null,null,"",null,null,"","","","","","",null,null,"","","","","",""]
[1116,null,null,"",null," ",null,false,null,null,"",null,null,"",null,null,"","","","","","",null,null,"","","","","",""]
[1117,null,null,"",null," ",null,false,null,null,"",null,null,"",null,null,"","","","","","",null,null,"","","","","",""]
[1118,null,null,"",null," ",null,false,null,null,"",null,null,"",null,null,"","","","","","",null,null,"","","","","",""]
[1119,null,null,"",null," ",null,false,null,null,"",null,null,"",null,null,"","","","","","",null,null,"","","","","",""]
[1120,null,null,"",null," ",null,false,null,null,"",null,null,"",null,null,"","","","","","",null,null,"","","","","",""]
[1121,null,null,"",null," ",null,false,null,null,"",null,null,"",null,null,"","","","","","",null,null,"","","","","",""]
[1122,null,null,"",null," ",null,false,null,null,"",null,null,"",null,null,"","","","","","",null,null,"","","","","",""]
[1123,null,null,"",null," ",null,false,null,null,"",null,null,"",null,null,"","","","","","",null,null,"","","","","",""]
[1124,null,null,"",null," ",null,false,null,null,"",null,null,"",null,null,"","","","","","",null,null,"","","","","",""]
[1125,null,null,"",null," ",null,false,null,null,"",null,null,"",null,null,"","","","","","",null,null,"","","","","",""]
[1126,null,null,"",null," ",null,false,null,null,"",null,null,"",null,null,"","","","","","",null,null,"","","","","",""]
[1127,null,null,"",null," ",null,false,null,null,"",null,null,"",null,null,"","","","","","",null,null,"","","","","",""]
[1128,null,null,"",null," ",null,false,null,null,"",null,null,"",null,null,"","","","","","",null,null,"","","","","",""]
[1129,null,null,"",null," ",null,false,null,null,"",null,null,"",null,null,"","","","","","",null,null,"","","","","",""]
[1130,null,null,"",null," ",null,false,null,null,"",null,null,"",null,null,"","","","","","",null,null,"","","","","",""]
[1131,null,null,"",null," ",null,false,null,null,"",null,null,"",null,null,"","","","","","",null,null,"","","","","",""]
[1132,null,null,"",null," ",null,false,null,null,"",null,null,"",null,null,"","","","","","",null,null,"","","","","",""]
[1133,null,null,{"$f":"IF(H1150,IF(C1150=1,\"Red\",IF(C1150=2,\"Yellow\",IF(C1150=3,\"Green\",\"No Flag\"))),\"\")","v":""},null,{"$f":"B1150& \" \"&E1150","v":" "},null,{"$f":"AND(G1150>=2,J1150<>\"\",M1150<>\"\",NOT(OR(AND(G1150=1,G1151=2),AND(G1150=2,G1151=3))))","v":false},null,null,{"$f":"IF(J1150<>\"\",LocateDate(J1150),\"\")","v":""},null,null,{"$f":"LocateDate(M1150)","v":""},null,null,{"$f":"IF(H1150,IF(AND($P1150=0,$J1150>Baseline),1,0),\"\")","v":""},{"$f":"IF(H1150,IF(AND($P1150<1,$J1150<=Baseline, $M1150<Baseline),1,0),\"\")","v":""},{"$f":"IF(H1150,IF(AND($P1150<1,$P1150>=0,$M1150>=Baseline),1,0),\"\")","v":""},{"$f":"IF(H1150,IF($P1150>=1,1,0),\"\")","v":""},{"$f":"IF(H1150,IF(SUM(Q1150:T1150)=0,1,0),\"\")","v":""},{"$f":"IF(H1150,IF(Q1150,$Q$17,IF(R1150,$R$17,IF(S1150,$S$17,IF(T1150,$T$17,IF(U1150,$U$17,\"\"))))),\"\")","v":""},null,null,{"$f":"IF(H1150,W1150,\"\")","v":""},{"$f":"IF(H1150,X1150,\"\")","v":""},{"$f":"IF(H1150,IF(W1150<>\"\",X1150/W1150,\"\"),\"\")","v":""},{"$f":"IF(H1150,IF(AND(M1150>=Baseline,J1150<=Baseline),(Baseline-J1150)/(M1150-J1150+1),IF(M1150<=Baseline,1,0)),\"\")","v":""},{"$f":"IF(H1150,AB1150*W1150,\"\")","v":""},{"$f":"IF(H1150,IF(AND(X1150<=AC1150,AA1150>0),\"Under-Spending\",IF(X1150>AC1150,\"Over-Spending\",IF(AA1150=0,\"Not Started\",\"\"))),\"\")","v":""}]
[1134,null,null,"",null," ",null,false,null,null,"",null,null,"",null,null,"","","","","","",null,null,"","","","","",""]
[1135,null,null,"",null," ",null,false,null,null,"",null,null,"",null,null,"","","","","","",null,null,"","","","","",""]
[1136,null,null,"",null," ",null,false,null,null,"",null,null,"",null,null,"","","","","","",null,null,"","","","","",""]
[1137,null,null,"",null," ",null,false,null,null,"",null,null,"",null,null,"","","","","","",null,null,"","","","","",""]
[1138,null,null,"",null," ",null,false,null,null,"",null,null,"",null,null,"","","","","","",null,null,"","","","","",""]
[1139,null,null,"",null," ",null,false,null,null,"",null,null,"",null,null,"","","","","","",null,null,"","","","","",""]
[1140,null,null,"",null," ",null,false,null,null,"",null,null,"",null,null,"","","","","","",null,null,"","","","","",""]
[1141,null,null,"",null," ",null,false,null,null,"",null,null,"",null,null,"","","","","","",null,null,"","","","","",""]
[1142,null,null,"",null," ",null,false,null,null,"",null,null,"",null,null,"","","","","","",null,null,"","","","","",""]
[1143,null,null,"",null," ",null,false,null,null,"",null,null,"",null,null,"","","","","","",null,null,"","","","","",""]
[1144,null,null,"",null," ",null,false,null,null,"",null,null,"",null,null,"","","","","","",null,null,"","","","","",""]
[1145,null,null,"",null," ",null,false,null,null,"",null,null,"",null,null,"","","","","","",null,null,"","","","","",""]
[1146,null,null,"",null," ",null,false,null,null,"",null,null,"",null,null,"","","","","","",null,null,"","","","","",""]
[1147,null,null,"",null," ",null,false,null,null,"",null,null,"",null,null,"","","","","","",null,null,"","","","","",""]
[1148,null,null,"",null," ",null,false,null,null,"",null,null,"",null,null,"","","","","","",null,null,"","","","","",""]
[1149,null,null,"",null," ",null,false,null,null,"",null,null,"",null,null,"","","","","","",null,null,"","","","","",""]
[1150,null,null,"",null," ",null,false,null,null,"",null,null,"",null,null,"","","","","","",null,null,"","","","","",""]
[1151,null,null,"",null," ",null,false,null,null,"",null,null,"",null,null,"","","","","","",null,null,"","","","","",""]
[1152,null,null,"",null," ",null,false,null,null,"",null,null,"",null,null,"","","","","","",null,null,"","","","","",""]
[1153,null,null,"",null," ",null,false,null,null,"",null,null,"",null,null,"","","","","","",null,null,"","","","","",""]
[1154,null,null,"",null," ",null,false,null,null,"",null,null,"",null,null,"","","","","","",null,null,"","","","","",""]
[1155,null,null,"",null," ",null,false,null,null,"",null,null,"",null,null,"","","","","","",null,null,"","","","","",""]
[1156,null,null,"",null," ",null,false,null,null,"",null,null,"",null,null,"","","","","","",null,null,"","","","","",""]
[1157,null,null,"",null," ",null,false,null,null,"",null,null,"",null,null,"","","","","","",null,null,"","","","","",""]
[1158,null,null,"",null," ",null,false,null,null,"",null,null,"",null,null,"","","","","","",null,null,"","","","","",""]
[1159,null,null,"",null," ",null,false,null,null,"",null,null,"",null,null,"","","","","","",null,null,"","","","","",""]
[1160,null,null,"",null," ",null,false,null,null,"",null,null,"",null,null,"","","","","","",null,null,"","","","","",""]
[1161,null,null,"",null," ",null,false,null,null,"",null,null,"",null,null,"","","","","","",null,null,"","","","","",""]
[1162,null,null,"",null," ",null,false,null,null,"",null,null,"",null,null,"","","","","","",null,null,"","","","","",""]
[1163,null,null,"",null," ",null,false,null,null,"",null,null,"",null,null,"","","","","","",null,null,"","","","","",""]
[1164,null,null,"",null," ",null,false,null,null,"",null,null,"",null,null,"","","","","","",null,null,"","","","","",""]
[1165,null,null,"",null," ",null,false,null,null,"",null,null,"",null,null,"","","","","","",null,null,"","","","","",""]
[1166,null,null,"",null," ",null,false,null,null,"",null,null,"",null,null,"","","","","","",null,null,"","","","","",""]
[1167,null,null,"",null," ",null,false,null,null,"",null,null,"",null,null,"","","","","","",null,null,"","","","","",""]
[1168,null,null,"",null," ",null,false,null,null,"",null,null,"",null,null,"","","","","","",null,null,"","","","","",""]
[1169,null,null,"",null," ",null,false,null,null,"",null,null,"",null,null,"","","","","","",null,null,"","","","","",""]
[1170,null,null,"",null," ",null,false,null,null,"",null,null,"",null,null,"","","","","","",null,null,"","","","","",""]
[1171,null,null,"",null," ",null,false,null,null,"",null,null,"",null,null,"","","","","","",null,null,"","","","","",""]
[1172,null,null,"",null," ",null,false,null,null,"",null,null,"",null,null,"","","","","","",null,null,"","","","","",""]
[1173,null,null,"",null," ",null,false,null,null,"",null,null,"",null,null,"","","","","","",null,null,"","","","","",""]
[1174,null,null,"",null," ",null,false,null,null,"",null,null,"",null,null,"","","","","","",null,null,"","","","","",""]
[1175,null,null,"",null," ",null,false,null,null,"",null,null,"",null,null,"","","","","","",null,null,"","","","","",""]
[1176,null,null,"",null," ",null,false,null,null,"",null,null,"",null,null,"","","","","","",null,null,"","","","","",""]
[1177,null,null,"",null," ",null,false,null,null,"",null,null,"",null,null,"","","","","","",null,null,"","","","","",""]
[1178,null,null,"",null," ",null,false,null,null,"",null,null,"",null,null,"","","","","","",null,null,"","","","","",""]
[1179,null,null,"",null," ",null,false,null,null,"",null,null,"",null,null,"","","","","","",null,null,"","","","","",""]
[1180,null,null,"",null," ",null,false,null,null,"",null,null,"",null,null,"","","","","","",null,null,"","","","","",""]
[1181,null,null,"",null," ",null,false,null,null,"",null,null,"",null,null,"","","","","","",null,null,"","","","","",""]
[1182,null,null,"",null," ",null,false,null,null,"",null,null,"",null,null,"","","","","","",null,null,"","","","","",""]
[1183,null,null,"",null," ",null,false,null,null,"",null,null,"",null,null,"","","","","","",null,null,"","","","","",""]
[1184,null,null,"",null," ",null,false,null,null,"",null,null,"",null,null,"","","","","","",null,null,"","","","","",""]
[1185,null,null,"",null," ",null,false,null,null,"",null,null,"",null,null,"","","","","","",null,null,"","","","","",""]
[1186,null,null,"",null," ",null,false,null,null,"",null,null,"",null,null,"","","","","","",null,null,"","","","","",""]
[1187,null,null,"",null," ",null,false,null,null,"",null,null,"",null,null,"","","","","","",null,null,"","","","","",""]
[1188,null,null,"",null," ",null,false,null,null,"",null,null,"",null,null,"","","","","","",null,null,"","","","","",""]
[1189,null,null,"",null," ",null,false,null,null,"",null,null,"",null,null,"","","","","","",null,null,"","","","","",""]
[1190,null,null,"",null," ",null,false,null,null,"",null,null,"",null,null,"","","","","","",null,null,"","","","","",""]
[1191,null,null,"",null," ",null,false,null,null,"",null,null,"",null,null,"","","","","","",null,null,"","","","","",""]
[1192,null,null,"",null," ",null,false,null,null,"",null,null,"",null,null,"","","","","","",null,null,"","","","","",""]
[1193,null,null,"",null," ",null,false,null,null,"",null,null,"",null,null,"","","","","","",null,null,"","","","","",""]
[1194,null,null,"",null," ",null,false,null,null,"",null,null,"",null,null,"","","","","","",null,null,"","","","","",""]
[1195,null,null,"",null," ",null,false,null,null,"",null,null,"",null,null,"","","","","","",null,null,"","","","","",""]
[1196,null,null,"",null," ",null,false,null,null,"",null,null,"",null,null,"","","","","","",null,null,"","","","","",""]
[1197,null,null,{"$f":"IF(H1214,IF(C1214=1,\"Red\",IF(C1214=2,\"Yellow\",IF(C1214=3,\"Green\",\"No Flag\"))),\"\")","v":""},null,{"$f":"B1214& \" \"&E1214","v":" "},null,{"$f":"AND(G1214>=2,J1214<>\"\",M1214<>\"\",NOT(OR(AND(G1214=1,G1215=2),AND(G1214=2,G1215=3))))","v":false},null,null,{"$f":"IF(J1214<>\"\",LocateDate(J1214),\"\")","v":""},null,null,{"$f":"LocateDate(M1214)","v":""},null,null,{"$f":"IF(H1214,IF(AND($P1214=0,$J1214>Baseline),1,0),\"\")","v":""},{"$f":"IF(H1214,IF(AND($P1214<1,$J1214<=Baseline, $M1214<Baseline),1,0),\"\")","v":""},{"$f":"IF(H1214,IF(AND($P1214<1,$P1214>=0,$M1214>=Baseline),1,0),\"\")","v":""},{"$f":"IF(H1214,IF($P1214>=1,1,0),\"\")","v":""},{"$f":"IF(H1214,IF(SUM(Q1214:T1214)=0,1,0),\"\")","v":""},{"$f":"IF(H1214,IF(Q1214,$Q$17,IF(R1214,$R$17,IF(S1214,$S$17,IF(T1214,$T$17,IF(U1214,$U$17,\"\"))))),\"\")","v":""},null,null,{"$f":"IF(H1214,W1214,\"\")","v":""},{"$f":"IF(H1214,X1214,\"\")","v":""},{"$f":"IF(H1214,IF(W1214<>\"\",X1214/W1214,\"\"),\"\")","v":""},{"$f":"IF(H1214,IF(AND(M1214>=Baseline,J1214<=Baseline),(Baseline-J1214)/(M1214-J1214+1),IF(M1214<=Baseline,1,0)),\"\")","v":""},{"$f":"IF(H1214,AB1214*W1214,\"\")","v":""},{"$f":"IF(H1214,IF(AND(X1214<=AC1214,AA1214>0),\"Under-Spending\",IF(X1214>AC1214,\"Over-Spending\",IF(AA1214=0,\"Not Started\",\"\"))),\"\")","v":""}]
[1198,null,null,"",null," ",null,false,null,null,"",null,null,"",null,null,"","","","","","",null,null,"","","","","",""]
[1199,null,null,"",null," ",null,false,null,null,"",null,null,"",null,null,"","","","","","",null,null,"","","","","",""]
[1200,null,null,"",null," ",null,false,null,null,"",null,null,"",null,null,"","","","","","",null,null,"","","","","",""]
[1201,null,null,"",null," ",null,false,null,null,"",null,null,"",null,null,"","","","","","",null,null,"","","","","",""]
[1202,null,null,"",null," ",null,false,null,null,"",null,null,"",null,null,"","","","","","",null,null,"","","","","",""]
[1203,null,null,"",null," ",null,false,null,null,"",null,null,"",null,null,"","","","","","",null,null,"","","","","",""]
[1204,null,null,"",null," ",null,false,null,null,"",null,null,"",null,null,"","","","","","",null,null,"","","","","",""]
[1205,null,null,"",null," ",null,false,null,null,"",null,null,"",null,null,"","","","","","",null,null,"","","","","",""]
[1206,null,null,"",null," ",null,false,null,null,"",null,null,"",null,null,"","","","","","",null,null,"","","","","",""]
[1207,null,null,"",null," ",null,false,null,null,"",null,null,"",null,null,"","","","","","",null,null,"","","","","",""]
[1208,null,null,"",null," ",null,false,null,null,"",null,null,"",null,null,"","","","","","",null,null,"","","","","",""]
[1209,null,null,"",null," ",null,false,null,null,"",null,null,"",null,null,"","","","","","",null,null,"","","","","",""]
[1210,null,null,"",null," ",null,false,null,null,"",null,null,"",null,null,"","","","","","",null,null,"","","","","",""]
[1211,null,null,"",null," ",null,false,null,null,"",null,null,"",null,null,"","","","","","",null,null,"","","","","",""]
[1212,null,null,"",null," ",null,false,null,null,"",null,null,"",null,null,"","","","","","",null,null,"","","","","",""]
[1213,null,null,"",null," ",null,false,null,null,"",null,null,"",null,null,"","","","","","",null,null,"","","","","",""]
[1214,null,null,"",null," ",null,false,null,null,"",null,null,"",null,null,"","","","","","",null,null,"","","","","",""]
[1215,null,null,"",null," ",null,false,null,null,"",null,null,"",null,null,"","","","","","",null,null,"","","","","",""]
[1216,null,null,"",null," ",null,false,null,null,"",null,null,"",null,null,"","","","","","",null,null,"","","","","",""]
[1217,null,null,"",null," ",null,false,null,null,"",null,null,"",null,null,"","","","","","",null,null,"","","","","",""]
[1218,null,null,"",null," ",null,false,null,null,"",null,null,"",null,null,"","","","","","",null,null,"","","","","",""]
[1219,null,null,"",null," ",null,false,null,null,"",null,null,"",null,null,"","","","","","",null,null,"","","","","",""]
[1220,null,null,"",null," ",null,false,null,null,"",null,null,"",null,null,"","","","","","",null,null,"","","","","",""]
[1221,null,null,"",null," ",null,false,null,null,"",null,null,"",null,null,"","","","","","",null,null,"","","","","",""]
[1222,null,null,"",null," ",null,false,null,null,"",null,null,"",null,null,"","","","","","",null,null,"","","","","",""]
[1223,null,null,"",null," ",null,false,null,null,"",null,null,"",null,null,"","","","","","",null,null,"","","","","",""]
[1224,null,null,"",null," ",null,false,null,null,"",null,null,"",null,null,"","","","","","",null,null,"","","","","",""]
[1225,null,null,"",null," ",null,false,null,null,"",null,null,"",null,null,"","","","","","",null,null,"","","","","",""]
[1226,null,null,"",null," ",null,false,null,null,"",null,null,"",null,null,"","","","","","",null,null,"","","","","",""]
[1227,null,null,"",null," ",null,false,null,null,"",null,null,"",null,null,"","","","","","",null,null,"","","","","",""]
[1228,null,null,"",null," ",null,false,null,null,"",null,null,"",null,null,"","","","","","",null,null,"","","","","",""]
[1229,null,null,"",null," ",null,false,null,null,"",null,null,"",null,null,"","","","","","",null,null,"","","","","",""]
[1230,null,null,"",null," ",null,false,null,null,"",null,null,"",null,null,"","","","","","",null,null,"","","","","",""]
[1231,null,null,"",null," ",null,false,null,null,"",null,null,"",null,null,"","","","","","",null,null,"","","","","",""]
[1232,null,null,"",null," ",null,false,null,null,"",null,null,"",null,null,"","","","","","",null,null,"","","","","",""]
[1233,null,null,"",null," ",null,false,null,null,"",null,null,"",null,null,"","","","","","",null,null,"","","","","",""]
[1234,null,null,"",null," ",null,false,null,null,"",null,null,"",null,null,"","","","","","",null,null,"","","","","",""]
[1235,null,null,"",null," ",null,false,null,null,"",null,null,"",null,null,"","","","","","",null,null,"","","","","",""]
[1236,null,null,"",null," ",null,false,null,null,"",null,null,"",null,null,"","","","","","",null,null,"","","","","",""]
[1237,null,null,"",null," ",null,false,null,null,"",null,null,"",null,null,"","","","","","",null,null,"","","","","",""]
[1238,null,null,"",null," ",null,false,null,null,"",null,null,"",null,null,"","","","","","",null,null,"","","","","",""]
[1239,null,null,"",null," ",null,false,null,null,"",null,null,"",null,null,"","","","","","",null,null,"","","","","",""]
[1240,null,null,"",null," ",null,false,null,null,"",null,null,"",null,null,"","","","","","",null,null,"","","","","",""]
[1241,null,null,"",null," ",null,false,null,null,"",null,null,"",null,null,"","","","","","",null,null,"","","","","",""]
[1242,null,null,"",null," ",null,false,null,null,"",null,null,"",null,null,"","","","","","",null,null,"","","","","",""]
[1243,null,null,"",null," ",null,false,null,null,"",null,null,"",null,null,"","","","","","",null,null,"","","","","",""]
[1244,null,null,"",null," ",null,false,null,null,"",null,null,"",null,null,"","","","","","",null,null,"","","","","",""]
[1245,null,null,"",null," ",null,false,null,null,"",null,null,"",null,null,"","","","","","",null,null,"","","","","",""]
[1246,null,null,"",null," ",null,false,null,null,"",null,null,"",null,null,"","","","","","",null,null,"","","","","",""]
[1247,null,null,"",null," ",null,false,null,null,"",null,null,"",null,null,"","","","","","",null,null,"","","","","",""]
[1248,null,null,"",null," ",null,false,null,null,"",null,null,"",null,null,"","","","","","",null,null,"","","","","",""]
[1249,null,null,"",null," ",null,false,null,null,"",null,null,"",null,null,"","","","","","",null,null,"","","","","",""]
[1250,null,null,"",null," ",null,false,null,null,"",null,null,"",null,null,"","","","","","",null,null,"","","","","",""]
[1251,null,null,"",null," ",null,false,null,null,"",null,null,"",null,null,"","","","","","",null,null,"","","","","",""]
[1252,null,null,"",null," ",null,false,null,null,"",null,null,"",null,null,"","","","","","",null,null,"","","","","",""]
[1253,null,null,"",null," ",null,false,null,null,"",null,null,"",null,null,"","","","","","",null,null,"","","","","",""]
[1254,null,null,"",null," ",null,false,null,null,"",null,null,"",null,null,"","","","","","",null,null,"","","","","",""]
[1255,null,null,"",null," ",null,false,null,null,"",null,null,"",null,null,"","","","","","",null,null,"","","","","",""]
[1256,null,null,"",null," ",null,false,null,null,"",null,null,"",null,null,"","","","","","",null,null,"","","","","",""]
[1257,null,null,"",null," ",null,false,null,null,"",null,null,"",null,null,"","","","","","",null,null,"","","","","",""]
[1258,null,null,"",null," ",null,false,null,null,"",null,null,"",null,null,"","","","","","",null,null,"","","","","",""]
[1259,null,null,"",null," ",null,false,null,null,"",null,null,"",null,null,"","","","","","",null,null,"","","","","",""]
[1260,null,null,"",null," ",null,false,null,null,"",null,null,"",null,null,"","","","","","",null,null,"","","","","",""]
[1261,null,null,{"$f":"IF(H1278,IF(C1278=1,\"Red\",IF(C1278=2,\"Yellow\",IF(C1278=3,\"Green\",\"No Flag\"))),\"\")","v":""},null,{"$f":"B1278& \" \"&E1278","v":" "},null,{"$f":"AND(G1278>=2,J1278<>\"\",M1278<>\"\",NOT(OR(AND(G1278=1,G1279=2),AND(G1278=2,G1279=3))))","v":false},null,null,{"$f":"IF(J1278<>\"\",LocateDate(J1278),\"\")","v":""},null,null,{"$f":"LocateDate(M1278)","v":""},null,null,{"$f":"IF(H1278,IF(AND($P1278=0,$J1278>Baseline),1,0),\"\")","v":""},{"$f":"IF(H1278,IF(AND($P1278<1,$J1278<=Baseline, $M1278<Baseline),1,0),\"\")","v":""},{"$f":"IF(H1278,IF(AND($P1278<1,$P1278>=0,$M1278>=Baseline),1,0),\"\")","v":""},{"$f":"IF(H1278,IF($P1278>=1,1,0),\"\")","v":""},{"$f":"IF(H1278,IF(SUM(Q1278:T1278)=0,1,0),\"\")","v":""},{"$f":"IF(H1278,IF(Q1278,$Q$17,IF(R1278,$R$17,IF(S1278,$S$17,IF(T1278,$T$17,IF(U1278,$U$17,\"\"))))),\"\")","v":""},null,null,{"$f":"IF(H1278,W1278,\"\")","v":""},{"$f":"IF(H1278,X1278,\"\")","v":""},{"$f":"IF(H1278,IF(W1278<>\"\",X1278/W1278,\"\"),\"\")","v":""},{"$f":"IF(H1278,IF(AND(M1278>=Baseline,J1278<=Baseline),(Baseline-J1278)/(M1278-J1278+1),IF(M1278<=Baseline,1,0)),\"\")","v":""},{"$f":"IF(H1278,AB1278*W1278,\"\")","v":""},{"$f":"IF(H1278,IF(AND(X1278<=AC1278,AA1278>0),\"Under-Spending\",IF(X1278>AC1278,\"Over-Spending\",IF(AA1278=0,\"Not Started\",\"\"))),\"\")","v":""}]
[1262,null,null,"",null," ",null,false,null,null,"",null,null,"",null,null,"","","","","","",null,null,"","","","","",""]
[1263,null,null,"",null," ",null,false,null,null,"",null,null,"",null,null,"","","","","","",null,null,"","","","","",""]
[1264,null,null,"",null," ",null,false,null,null,"",null,null,"",null,null,"","","","","","",null,null,"","","","","",""]
[1265,null,null,"",null," ",null,false,null,null,"",null,null,"",null,null,"","","","","","",null,null,"","","","","",""]
[1266,null,null,"",null," ",null,false,null,null,"",null,null,"",null,null,"","","","","","",null,null,"","","","","",""]
[1267,null,null,"",null," ",null,false,null,null,"",null,null,"",null,null,"","","","","","",null,null,"","","","","",""]
[1268,null,null,"",null," ",null,false,null,null,"",null,null,"",null,null,"","","","","","",null,null,"","","","","",""]
[1269,null,null,"",null," ",null,false,null,null,"",null,null,"",null,null,"","","","","","",null,null,"","","","","",""]
[1270,null,null,"",null," ",null,false,null,null,"",null,null,"",null,null,"","","","","","",null,null,"","","","","",""]
[1271,null,null,"",null," ",null,false,null,null,"",null,null,"",null,null,"","","","","","",null,null,"","","","","",""]
[1272,null,null,"",null," ",null,false,null,null,"",null,null,"",null,null,"","","","","","",null,null,"","","","","",""]
[1273,null,null,"",null," ",null,false,null,null,"",null,null,"",null,null,"","","","","","",null,null,"","","","","",""]
[1274,null,null,"",null," ",null,false,null,null,"",null,null,"",null,null,"","","","","","",null,null,"","","","","",""]
[1275,null,null,"",null," ",null,false,null,null,"",null,null,"",null,null,"","","","","","",null,null,"","","","","",""]
[1276,null,null,"",null," ",null,false,null,null,"",null,null,"",null,null,"","","","","","",null,null,"","","","","",""]
[1277,null,null,"",null," ",null,false,null,null,"",null,null,"",null,null,"","","","","","",null,null,"","","","","",""]
[1278,null,null,"",null," ",null,false,null,null,"",null,null,"",null,null,"","","","","","",null,null,"","","","","",""]
[1279,null,null,"",null," ",null,false,null,null,"",null,null,"",null,null,"","","","","","",null,null,"","","","","",""]
[1280,null,null,"",null," ",null,false,null,null,"",null,null,"",null,null,"","","","","","",null,null,"","","","","",""]
[1281,null,null,"",null," ",null,false,null,null,"",null,null,"",null,null,"","","","","","",null,null,"","","","","",""]
[1282,null,null,"",null," ",null,false,null,null,"",null,null,"",null,null,"","","","","","",null,null,"","","","","",""]
[1283,null,null,"",null," ",null,false,null,null,"",null,null,"",null,null,"","","","","","",null,null,"","","","","",""]
[1284,null,null,"",null," ",null,false,null,null,"",null,null,"",null,null,"","","","","","",null,null,"","","","","",""]
[1285,null,null,"",null," ",null,false,null,null,"",null,null,"",null,null,"","","","","","",null,null,"","","","","",""]
[1286,null,null,"",null," ",null,false,null,null,"",null,null,"",null,null,"","","","","","",null,null,"","","","","",""]
[1287,null,null,"",null," ",null,false,null,null,"",null,null,"",null,null,"","","","","","",null,null,"","","","","",""]
[1288,null,null,"",null," ",null,false,null,null,"",null,null,"",null,null,"","","","","","",null,null,"","","","","",""]
[1289,null,null,"",null," ",null,false,null,null,"",null,null,"",null,null,"","","","","","",null,null,"","","","","",""]
[1290,null,null,"",null," ",null,false,null,null,"",null,null,"",null,null,"","","","","","",null,null,"","","","","",""]
[1291,null,null,"",null," ",null,false,null,null,"",null,null,"",null,null,"","","","","","",null,null,"","","","","",""]
[1292,null,null,"",null," ",null,false,null,null,"",null,null,"",null,null,"","","","","","",null,null,"","","","","",""]
[1293,null,null,"",null," ",null,false,null,null,"",null,null,"",null,null,"","","","","","",null,null,"","","","","",""]
[1294,null,null,"",null," ",null,false,null,null,"",null,null,"",null,null,"","","","","","",null,null,"","","","","",""]
[1295,null,null,"",null," ",null,false,null,null,"",null,null,"",null,null,"","","","","","",null,null,"","","","","",""]
[1296,null,null,"",null," ",null,false,null,null,"",null,null,"",null,null,"","","","","","",null,null,"","","","","",""]
[1297,null,null,"",null," ",null,false,null,null,"",null,null,"",null,null,"","","","","","",null,null,"","","","","",""]
[1298,null,null,"",null," ",null,false,null,null,"",null,null,"",null,null,"","","","","","",null,null,"","","","","",""]
[1299,null,null,"",null," ",null,false,null,null,"",null,null,"",null,null,"","","","","","",null,null,"","","","","",""]
[1300,null,null,"",null," ",null,false,null,null,"",null,null,"",null,null,"","","","","","",null,null,"","","","","",""]
[1301,null,null,"",null," ",null,false,null,null,"",null,null,"",null,null,"","","","","","",null,null,"","","","","",""]
[1302,null,null,"",null," ",null,false,null,null,"",null,null,"",null,null,"","","","","","",null,null,"","","","","",""]
[1303,null,null,"",null," ",null,false,null,null,"",null,null,"",null,null,"","","","","","",null,null,"","","","","",""]
[1304,null,null,"",null," ",null,false,null,null,"",null,null,"",null,null,"","","","","","",null,null,"","","","","",""]
[1305,null,null,"",null," ",null,false,null,null,"",null,null,"",null,null,"","","","","","",null,null,"","","","","",""]
[1306,null,null,"",null," ",null,false,null,null,"",null,null,"",null,null,"","","","","","",null,null,"","","","","",""]
[1307,null,null,"",null," ",null,false,null,null,"",null,null,"",null,null,"","","","","","",null,null,"","","","","",""]
[1308,null,null,"",null," ",null,false,null,null,"",null,null,"",null,null,"","","","","","",null,null,"","","","","",""]
[1309,null,null,"",null," ",null,false,null,null,"",null,null,"",null,null,"","","","","","",null,null,"","","","","",""]
[1310,null,null,"",null," ",null,false,null,null,"",null,null,"",null,null,"","","","","","",null,null,"","","","","",""]
[1311,null,null,"",null," ",null,false,null,null,"",null,null,"",null,null,"","","","","","",null,null,"","","","","",""]
[1312,null,null,"",null," ",null,false,null,null,"",null,null,"",null,null,"","","","","","",null,null,"","","","","",""]
[1313,null,null,"",null," ",null,false,null,null,"",null,null,"",null,null,"","","","","","",null,null,"","","","","",""]
[1314,null,null,"",null," ",null,false,null,null,"",null,null,"",null,null,"","","","","","",null,null,"","","","","",""]
[1315,null,null,"",null," ",null,false,null,null,"",null,null,"",null,null,"","","","","","",null,null,"","","","","",""]
[1316,null,null,"",null," ",null,false,null,null,"",null,null,"",null,null,"","","","","","",null,null,"","","","","",""]
[1317,null,null,"",null," ",null,false,null,null,"",null,null,"",null,null,"","","","","","",null,null,"","","","","",""]
[1318,null,null,"",null," ",null,false,null,null,"",null,null,"",null,null,"","","","","","",null,null,"","","","","",""]
[1319,null,null,"",null," ",null,false,null,null,"",null,null,"",null,null,"","","","","","",null,null,"","","","","",""]
[1320,null,null,"",null," ",null,false,null,null,"",null,null,"",null,null,"","","","","","",null,null,"","","","","",""]
[1321,null,null,"",null," ",null,false,null,null,"",null,null,"",null,null,"","","","","","",null,null,"","","","","",""]
[1322,null,null,"",null," ",null,false,null,null,"",null,null,"",null,null,"","","","","","",null,null,"","","","","",""]
[1323,null,null,"",null," ",null,false,null,null,"",null,null,"",null,null,"","","","","","",null,null,"","","","","",""]
[1324,null,null,"",null," ",null,false,null,null,"",null,null,"",null,null,"","","","","","",null,null,"","","","","",""]
[1325,null,null,{"$f":"IF(H1342,IF(C1342=1,\"Red\",IF(C1342=2,\"Yellow\",IF(C1342=3,\"Green\",\"No Flag\"))),\"\")","v":""},null,{"$f":"B1342& \" \"&E1342","v":" "},null,{"$f":"AND(G1342>=2,J1342<>\"\",M1342<>\"\",NOT(OR(AND(G1342=1,G1343=2),AND(G1342=2,G1343=3))))","v":false},null,null,{"$f":"IF(J1342<>\"\",LocateDate(J1342),\"\")","v":""},null,null,{"$f":"LocateDate(M1342)","v":""},null,null,{"$f":"IF(H1342,IF(AND($P1342=0,$J1342>Baseline),1,0),\"\")","v":""},{"$f":"IF(H1342,IF(AND($P1342<1,$J1342<=Baseline, $M1342<Baseline),1,0),\"\")","v":""},{"$f":"IF(H1342,IF(AND($P1342<1,$P1342>=0,$M1342>=Baseline),1,0),\"\")","v":""},{"$f":"IF(H1342,IF($P1342>=1,1,0),\"\")","v":""},{"$f":"IF(H1342,IF(SUM(Q1342:T1342)=0,1,0),\"\")","v":""},{"$f":"IF(H1342,IF(Q1342,$Q$17,IF(R1342,$R$17,IF(S1342,$S$17,IF(T1342,$T$17,IF(U1342,$U$17,\"\"))))),\"\")","v":""},null,null,{"$f":"IF(H1342,W1342,\"\")","v":""},{"$f":"IF(H1342,X1342,\"\")","v":""},{"$f":"IF(H1342,IF(W1342<>\"\",X1342/W1342,\"\"),\"\")","v":""},{"$f":"IF(H1342,IF(AND(M1342>=Baseline,J1342<=Baseline),(Baseline-J1342)/(M1342-J1342+1),IF(M1342<=Baseline,1,0)),\"\")","v":""},{"$f":"IF(H1342,AB1342*W1342,\"\")","v":""},{"$f":"IF(H1342,IF(AND(X1342<=AC1342,AA1342>0),\"Under-Spending\",IF(X1342>AC1342,\"Over-Spending\",IF(AA1342=0,\"Not Started\",\"\"))),\"\")","v":""}]
[1326,null,null,"",null," ",null,false,null,null,"",null,null,"",null,null,"","","","","","",null,null,"","","","","",""]
[1327,null,null,"",null," ",null,false,null,null,"",null,null,"",null,null,"","","","","","",null,null,"","","","","",""]
[1328,null,null,"",null," ",null,false,null,null,"",null,null,"",null,null,"","","","","","",null,null,"","","","","",""]
[1329,null,null,"",null," ",null,false,null,null,"",null,null,"",null,null,"","","","","","",null,null,"","","","","",""]
[1330,null,null,"",null," ",null,false,null,null,"",null,null,"",null,null,"","","","","","",null,null,"","","","","",""]
[1331,null,null,"",null," ",null,false,null,null,"",null,null,"",null,null,"","","","","","",null,null,"","","","","",""]
[1332,null,null,"",null," ",null,false,null,null,"",null,null,"",null,null,"","","","","","",null,null,"","","","","",""]
[1333,null,null,"",null," ",null,false,null,null,"",null,null,"",null,null,"","","","","","",null,null,"","","","","",""]
[1334,null,null,"",null," ",null,false,null,null,"",null,null,"",null,null,"","","","","","",null,null,"","","","","",""]
[1335,null,null,"",null," ",null,false,null,null,"",null,null,"",null,null,"","","","","","",null,null,"","","","","",""]
[1336,null,null,"",null," ",null,false,null,null,"",null,null,"",null,null,"","","","","","",null,null,"","","","","",""]
[1337,null,null,"",null," ",null,false,null,null,"",null,null,"",null,null,"","","","","","",null,null,"","","","","",""]
[1338,null,null,"",null," ",null,false,null,null,"",null,null,"",null,null,"","","","","","",null,null,"","","","","",""]
[1339,null,null,"",null," ",null,false,null,null,"",null,null,"",null,null,"","","","","","",null,null,"","","","","",""]
[1340,null,null,"",null," ",null,false,null,null,"",null,null,"",null,null,"","","","","","",null,null,"","","","","",""]
[1341,null,null,"",null," ",null,false,null,null,"",null,null,"",null,null,"","","","","","",null,null,"","","","","",""]
[1342,null,null,"",null," ",null,false,null,null,"",null,null,"",null,null,"","","","","","",null,null,"","","","","",""]
[1343,null,null,"",null," ",null,false,null,null,"",null,null,"",null,null,"","","","","","",null,null,"","","","","",""]
[1344,null,null,"",null," ",null,false,null,null,"",null,null,"",null,null,"","","","","","",null,null,"","","","","",""]
[1345,null,null,"",null," ",null,false,null,null,"",null,null,"",null,null,"","","","","","",null,null,"","","","","",""]
[1346,null,null,"",null," ",null,false,null,null,"",null,null,"",null,null,"","","","","","",null,null,"","","","","",""]
[1347,null,null,"",null," ",null,false,null,null,"",null,null,"",null,null,"","","","","","",null,null,"","","","","",""]
[1348,null,null,"",null," ",null,false,null,null,"",null,null,"",null,null,"","","","","","",null,null,"","","","","",""]
[1349,null,null,"",null," ",null,false,null,null,"",null,null,"",null,null,"","","","","","",null,null,"","","","","",""]
[1350,null,null,"",null," ",null,false,null,null,"",null,null,"",null,null,"","","","","","",null,null,"","","","","",""]
[1351,null,null,"",null," ",null,false,null,null,"",null,null,"",null,null,"","","","","","",null,null,"","","","","",""]
[1352,null,null,"",null," ",null,false,null,null,"",null,null,"",null,null,"","","","","","",null,null,"","","","","",""]
[1353,null,null,"",null," ",null,false,null,null,"",null,null,"",null,null,"","","","","","",null,null,"","","","","",""]
[1354,null,null,"",null," ",null,false,null,null,"",null,null,"",null,null,"","","","","","",null,null,"","","","","",""]
[1355,null,null,"",null," ",null,false,null,null,"",null,null,"",null,null,"","","","","","",null,null,"","","","","",""]
[1356,null,null,"",null," ",null,false,null,null,"",null,null,"",null,null,"","","","","","",null,null,"","","","","",""]
[1357,null,null,"",null," ",null,false,null,null,"",null,null,"",null,null,"","","","","","",null,null,"","","","","",""]
[1358,null,null,"",null," ",null,false,null,null,"",null,null,"",null,null,"","","","","","",null,null,"","","","","",""]
[1359,null,null,"",null," ",null,false,null,null,"",null,null,"",null,null,"","","","","","",null,null,"","","","","",""]
[1360,null,null,"",null," ",null,false,null,null,"",null,null,"",null,null,"","","","","","",null,null,"","","","","",""]
[1361,null,null,"",null," ",null,false,null,null,"",null,null,"",null,null,"","","","","","",null,null,"","","","","",""]
[1362,null,null,"",null," ",null,false,null,null,"",null,null,"",null,null,"","","","","","",null,null,"","","","","",""]
[1363,null,null,"",null," ",null,false,null,null,"",null,null,"",null,null,"","","","","","",null,null,"","","","","",""]
[1364,null,null,"",null," ",null,false,null,null,"",null,null,"",null,null,"","","","","","",null,null,"","","","","",""]
[1365,null,null,"",null," ",null,false,null,null,"",null,null,"",null,null,"","","","","","",null,null,"","","","","",""]
[1366,null,null,"",null," ",null,false,null,null,"",null,null,"",null,null,"","","","","","",null,null,"","","","","",""]
[1367,null,null,"",null," ",null,false,null,null,"",null,null,"",null,null,"","","","","","",null,null,"","","","","",""]
[1368,null,null,"",null," ",null,false,null,null,"",null,null,"",null,null,"","","","","","",null,null,"","","","","",""]
[1369,null,null,"",null," ",null,false,null,null,"",null,null,"",null,null,"","","","","","",null,null,"","","","","",""]
[1370,null,null,"",null," ",null,false,null,null,"",null,null,"",null,null,"","","","","","",null,null,"","","","","",""]
[1371,null,null,"",null," ",null,false,null,null,"",null,null,"",null,null,"","","","","","",null,null,"","","","","",""]
[1372,null,null,"",null," ",null,false,null,null,"",null,null,"",null,null,"","","","","","",null,null,"","","","","",""]
[1373,null,null,"",null," ",null,false,null,null,"",null,null,"",null,null,"","","","","","",null,null,"","","","","",""]
[1374,null,null,"",null," ",null,false,null,null,"",null,null,"",null,null,"","","","","","",null,null,"","","","","",""]
[1375,null,null,"",null," ",null,false,null,null,"",null,null,"",null,null,"","","","","","",null,null,"","","","","",""]
[1376,null,null,"",null," ",null,false,null,null,"",null,null,"",null,null,"","","","","","",null,null,"","","","","",""]
[1377,null,null,"",null," ",null,false,null,null,"",null,null,"",null,null,"","","","","","",null,null,"","","","","",""]
[1378,null,null,"",null," ",null,false,null,null,"",null,null,"",null,null,"","","","","","",null,null,"","","","","",""]
[1379,null,null,"",null," ",null,false,null,null,"",null,null,"",null,null,"","","","","","",null,null,"","","","","",""]
[1380,null,null,"",null," ",null,false,null,null,"",null,null,"",null,null,"","","","","","",null,null,"","","","","",""]
[1381,null,null,"",null," ",null,false,null,null,"",null,null,"",null,null,"","","","","","",null,null,"","","","","",""]
[1382,null,null,"",null," ",null,false,null,null,"",null,null,"",null,null,"","","","","","",null,null,"","","","","",""]
[1383,null,null,"",null," ",null,false,null,null,"",null,null,"",null,null,"","","","","","",null,null,"","","","","",""]
[1384,null,null,"",null," ",null,false,null,null,"",null,null,"",null,null,"","","","","","",null,null,"","","","","",""]
[1385,null,null,"",null," ",null,false,null,null,"",null,null,"",null,null,"","","","","","",null,null,"","","","","",""]
[1386,null,null,"",null," ",null,false,null,null,"",null,null,"",null,null,"","","","","","",null,null,"","","","","",""]
[1387,null,null,"",null," ",null,false,null,null,"",null,null,"",null,null,"","","","","","",null,null,"","","","","",""]
[1388,null,null,"",null," ",null,false,null,null,"",null,null,"",null,null,"","","","","","",null,null,"","","","","",""]
[1389,null,null,{"$f":"IF(H1406,IF(C1406=1,\"Red\",IF(C1406=2,\"Yellow\",IF(C1406=3,\"Green\",\"No Flag\"))),\"\")","v":""},null,{"$f":"B1406& \" \"&E1406","v":" "},null,{"$f":"AND(G1406>=2,J1406<>\"\",M1406<>\"\",NOT(OR(AND(G1406=1,G1407=2),AND(G1406=2,G1407=3))))","v":false},null,null,{"$f":"IF(J1406<>\"\",LocateDate(J1406),\"\")","v":""},null,null,{"$f":"LocateDate(M1406)","v":""},null,null,{"$f":"IF(H1406,IF(AND($P1406=0,$J1406>Baseline),1,0),\"\")","v":""},{"$f":"IF(H1406,IF(AND($P1406<1,$J1406<=Baseline, $M1406<Baseline),1,0),\"\")","v":""},{"$f":"IF(H1406,IF(AND($P1406<1,$P1406>=0,$M1406>=Baseline),1,0),\"\")","v":""},{"$f":"IF(H1406,IF($P1406>=1,1,0),\"\")","v":""},{"$f":"IF(H1406,IF(SUM(Q1406:T1406)=0,1,0),\"\")","v":""},{"$f":"IF(H1406,IF(Q1406,$Q$17,IF(R1406,$R$17,IF(S1406,$S$17,IF(T1406,$T$17,IF(U1406,$U$17,\"\"))))),\"\")","v":""},null,null,{"$f":"IF(H1406,W1406,\"\")","v":""},{"$f":"IF(H1406,X1406,\"\")","v":""},{"$f":"IF(H1406,IF(W1406<>\"\",X1406/W1406,\"\"),\"\")","v":""},{"$f":"IF(H1406,IF(AND(M1406>=Baseline,J1406<=Baseline),(Baseline-J1406)/(M1406-J1406+1),IF(M1406<=Baseline,1,0)),\"\")","v":""},{"$f":"IF(H1406,AB1406*W1406,\"\")","v":""},{"$f":"IF(H1406,IF(AND(X1406<=AC1406,AA1406>0),\"Under-Spending\",IF(X1406>AC1406,\"Over-Spending\",IF(AA1406=0,\"Not Started\",\"\"))),\"\")","v":""}]
[1390,null,null,"",null," ",null,false,null,null,"",null,null,"",null,null,"","","","","","",null,null,"","","","","",""]
[1391,null,null,"",null," ",null,false,null,null,"",null,null,"",null,null,"","","","","","",null,null,"","","","","",""]
[1392,null,null,"",null," ",null,false,null,null,"",null,null,"",null,null,"","","","","","",null,null,"","","","","",""]
[1393,null,null,"",null," ",null,false,null,null,"",null,null,"",null,null,"","","","","","",null,null,"","","","","",""]
[1394,null,null,"",null," ",null,false,null,null,"",null,null,"",null,null,"","","","","","",null,null,"","","","","",""]
[1395,null,null,"",null," ",null,false,null,null,"",null,null,"",null,null,"","","","","","",null,null,"","","","","",""]
[1396,null,null,"",null," ",null,false,null,null,"",null,null,"",null,null,"","","","","","",null,null,"","","","","",""]
[1397,null,null,"",null," ",null,false,null,null,"",null,null,"",null,null,"","","","","","",null,null,"","","","","",""]
[1398,null,null,"",null," ",null,false,null,null,"",null,null,"",null,null,"","","","","","",null,null,"","","","","",""]
[1399,null,null,"",null," ",null,false,null,null,"",null,null,"",null,null,"","","","","","",null,null,"","","","","",""]
[1400,null,null,"",null," ",null,false,null,null,"",null,null,"",null,null,"","","","","","",null,null,"","","","","",""]
[1401,null,null,"",null," ",null,false,null,null,"",null,null,"",null,null,"","","","","","",null,null,"","","","","",""]
[1402,null,null,"",null," ",null,false,null,null,"",null,null,"",null,null,"","","","","","",null,null,"","","","","",""]
[1403,null,null,"",null," ",null,false,null,null,"",null,null,"",null,null,"","","","","","",null,null,"","","","","",""]
[1404,null,null,"",null," ",null,false,null,null,"",null,null,"",null,null,"","","","","","",null,null,"","","","","",""]
[1405,null,null,"",null," ",null,false,null,null,"",null,null,"",null,null,"","","","","","",null,null,"","","","","",""]
[1406,null,null,"",null," ",null,false,null,null,"",null,null,"",null,null,"","","","","","",null,null,"","","","","",""]
[1407,null,null,"",null," ",null,false,null,null,"",null,null,"",null,null,"","","","","","",null,null,"","","","","",""]
[1408,null,null,"",null," ",null,false,null,null,"",null,null,"",null,null,"","","","","","",null,null,"","","","","",""]
[1409,null,null,"",null," ",null,false,null,null,"",null,null,"",null,null,"","","","","","",null,null,"","","","","",""]
[1410,null,null,"",null," ",null,false,null,null,"",null,null,"",null,null,"","","","","","",null,null,"","","","","",""]
[1411,null,null,"",null," ",null,false,null,null,"",null,null,"",null,null,"","","","","","",null,null,"","","","","",""]
[1412,null,null,"",null," ",null,false,null,null,"",null,null,"",null,null,"","","","","","",null,null,"","","","","",""]
[1413,null,null,"",null," ",null,false,null,null,"",null,null,"",null,null,"","","","","","",null,null,"","","","","",""]
[1414,null,null,"",null," ",null,false,null,null,"",null,null,"",null,null,"","","","","","",null,null,"","","","","",""]
[1415,null,null,"",null," ",null,false,null,null,"",null,null,"",null,null,"","","","","","",null,null,"","","","","",""]
[1416,null,null,"",null," ",null,false,null,null,"",null,null,"",null,null,"","","","","","",null,null,"","","","","",""]
[1417,null,null,"",null," ",null,false,null,null,"",null,null,"",null,null,"","","","","","",null,null,"","","","","",""]
[1418,null,null,"",null," ",null,false,null,null,"",null,null,"",null,null,"","","","","","",null,null,"","","","","",""]
[1419,null,null,"",null," ",null,false,null,null,"",null,null,"",null,null,"","","","","","",null,null,"","","","","",""]
[1420,null,null,"",null," ",null,false,null,null,"",null,null,"",null,null,"","","","","","",null,null,"","","","","",""]
[1421,null,null,"",null," ",null,false,null,null,"",null,null,"",null,null,"","","","","","",null,null,"","","","","",""]
[1422,null,null,"",null," ",null,false,null,null,"",null,null,"",null,null,"","","","","","",null,null,"","","","","",""]
[1423,null,null,"",null," ",null,false,null,null,"",null,null,"",null,null,"","","","","","",null,null,"","","","","",""]
[1424,null,null,"",null," ",null,false,null,null,"",null,null,"",null,null,"","","","","","",null,null,"","","","","",""]
[1425,null,null,"",null," ",null,false,null,null,"",null,null,"",null,null,"","","","","","",null,null,"","","","","",""]
[1426,null,null,"",null," ",null,false,null,null,"",null,null,"",null,null,"","","","","","",null,null,"","","","","",""]
[1427,null,null,"",null," ",null,false,null,null,"",null,null,"",null,null,"","","","","","",null,null,"","","","","",""]
[1428,null,null,"",null," ",null,false,null,null,"",null,null,"",null,null,"","","","","","",null,null,"","","","","",""]
[1429,null,null,"",null," ",null,false,null,null,"",null,null,"",null,null,"","","","","","",null,null,"","","","","",""]
[1430,null,null,"",null," ",null,false,null,null,"",null,null,"",null,null,"","","","","","",null,null,"","","","","",""]
[1431,null,null,"",null," ",null,false,null,null,"",null,null,"",null,null,"","","","","","",null,null,"","","","","",""]
[1432,null,null,"",null," ",null,false,null,null,"",null,null,"",null,null,"","","","","","",null,null,"","","","","",""]
[1433,null,null,"",null," ",null,false,null,null,"",null,null,"",null,null,"","","","","","",null,null,"","","","","",""]
[1434,null,null,"",null," ",null,false,null,null,"",null,null,"",null,null,"","","","","","",null,null,"","","","","",""]
[1435,null,null,"",null," ",null,false,null,null,"",null,null,"",null,null,"","","","","","",null,null,"","","","","",""]
[1436,null,null,"",null," ",null,false,null,null,"",null,null,"",null,null,"","","","","","",null,null,"","","","","",""]
[1437,null,null,"",null," ",null,false,null,null,"",null,null,"",null,null,"","","","","","",null,null,"","","","","",""]
[1438,null,null,"",null," ",null,false,null,null,"",null,null,"",null,null,"","","","","","",null,null,"","","","","",""]
[1439,null,null,"",null," ",null,false,null,null,"",null,null,"",null,null,"","","","","","",null,null,"","","","","",""]
[1440,null,null,"",null," ",null,false,null,null,"",null,null,"",null,null,"","","","","","",null,null,"","","","","",""]
[1441,null,null,"",null," ",null,false,null,null,"",null,null,"",null,null,"","","","","","",null,null,"","","","","",""]
[1442,null,null,"",null," ",null,false,null,null,"",null,null,"",null,null,"","","","","","",null,null,"","","","","",""]
[1443,null,null,"",null," ",null,false,null,null,"",null,null,"",null,null,"","","","","","",null,null,"","","","","",""]
[1444,null,null,"",null," ",null,false,null,null,"",null,null,"",null,null,"","","","","","",null,null,"","","","","",""]
[1445,null,null,"",null," ",null,false,null,null,"",null,null,"",null,null,"","","","","","",null,null,"","","","","",""]
[1446,null,null,"",null," ",null,false,null,null,"",null,null,"",null,null,"","","","","","",null,null,"","","","","",""]
[1447,null,null,"",null," ",null,false,null,null,"",null,null,"",null,null,"","","","","","",null,null,"","","","","",""]
[1448,null,null,"",null," ",null,false,null,null,"",null,null,"",null,null,"","","","","","",null,null,"","","","","",""]
[1449,null,null,"",null," ",null,false,null,null,"",null,null,"",null,null,"","","","","","",null,null,"","","","","",""]
[1450,null,null,"",null," ",null,false,null,null,"",null,null,"",null,null,"","","","","","",null,null,"","","","","",""]
[1451,null,null,"",null," ",null,false,null,null,"",null,null,"",null,null,"","","","","","",null,null,"","","","","",""]
[1452,null,null,"",null," ",null,false,null,null,"",null,null,"",null,null,"","","","","","",null,null,"","","","","",""]
[1453,null,null,{"$f":"IF(H1470,IF(C1470=1,\"Red\",IF(C1470=2,\"Yellow\",IF(C1470=3,\"Green\",\"No Flag\"))),\"\")","v":""},null,{"$f":"B1470& \" \"&E1470","v":" "},null,{"$f":"AND(G1470>=2,J1470<>\"\",M1470<>\"\",NOT(OR(AND(G1470=1,G1471=2),AND(G1470=2,G1471=3))))","v":false},null,null,{"$f":"IF(J1470<>\"\",LocateDate(J1470),\"\")","v":""},null,null,{"$f":"LocateDate(M1470)","v":""},null,null,{"$f":"IF(H1470,IF(AND($P1470=0,$J1470>Baseline),1,0),\"\")","v":""},{"$f":"IF(H1470,IF(AND($P1470<1,$J1470<=Baseline, $M1470<Baseline),1,0),\"\")","v":""},{"$f":"IF(H1470,IF(AND($P1470<1,$P1470>=0,$M1470>=Baseline),1,0),\"\")","v":""},{"$f":"IF(H1470,IF($P1470>=1,1,0),\"\")","v":""},{"$f":"IF(H1470,IF(SUM(Q1470:T1470)=0,1,0),\"\")","v":""},{"$f":"IF(H1470,IF(Q1470,$Q$17,IF(R1470,$R$17,IF(S1470,$S$17,IF(T1470,$T$17,IF(U1470,$U$17,\"\"))))),\"\")","v":""},null,null,{"$f":"IF(H1470,W1470,\"\")","v":""},{"$f":"IF(H1470,X1470,\"\")","v":""},{"$f":"IF(H1470,IF(W1470<>\"\",X1470/W1470,\"\"),\"\")","v":""},{"$f":"IF(H1470,IF(AND(M1470>=Baseline,J1470<=Baseline),(Baseline-J1470)/(M1470-J1470+1),IF(M1470<=Baseline,1,0)),\"\")","v":""},{"$f":"IF(H1470,AB1470*W1470,\"\")","v":""},{"$f":"IF(H1470,IF(AND(X1470<=AC1470,AA1470>0),\"Under-Spending\",IF(X1470>AC1470,\"Over-Spending\",IF(AA1470=0,\"Not Started\",\"\"))),\"\")","v":""}]
[1454,null,null,"",null," ",null,false,null,null,"",null,null,"",null,null,"","","","","","",null,null,"","","","","",""]
[1455,null,null,"",null," ",null,false,null,null,"",null,null,"",null,null,"","","","","","",null,null,"","","","","",""]
[1456,null,null,"",null," ",null,false,null,null,"",null,null,"",null,null,"","","","","","",null,null,"","","","","",""]
[1457,null,null,"",null," ",null,false,null,null,"",null,null,"",null,null,"","","","","","",null,null,"","","","","",""]
[1458,null,null,"",null," ",null,false,null,null,"",null,null,"",null,null,"","","","","","",null,null,"","","","","",""]
[1459,null,null,"",null," ",null,false,null,null,"",null,null,"",null,null,"","","","","","",null,null,"","","","","",""]
[1460,null,null,"",null," ",null,false,null,null,"",null,null,"",null,null,"","","","","","",null,null,"","","","","",""]
[1461,null,null,"",null," ",null,false,null,null,"",null,null,"",null,null,"","","","","","",null,null,"","","","","",""]
[1462,null,null,"",null," ",null,false,null,null,"",null,null,"",null,null,"","","","","","",null,null,"","","","","",""]
[1463,null,null,"",null," ",null,false,null,null,"",null,null,"",null,null,"","","","","","",null,null,"","","","","",""]
[1464,null,null,"",null," ",null,false,null,null,"",null,null,"",null,null,"","","","","","",null,null,"","","","","",""]
[1465,null,null,"",null," ",null,false,null,null,"",null,null,"",null,null,"","","","","","",null,null,"","","","","",""]
[1466,null,null,"",null," ",null,false,null,null,"",null,null,"",null,null,"","","","","","",null,null,"","","","","",""]
[1467,null,null,"",null," ",null,false,null,null,"",null,null,"",null,null,"","","","","","",null,null,"","","","","",""]
[1468,null,null,"",null," ",null,false,null,null,"",null,null,"",null,null,"","","","","","",null,null,"","","","","",""]
[1469,null,null,"",null," ",null,false,null,null,"",null,null,"",null,null,"","","","","","",null,null,"","","","","",""]
[1470,null,null,"",null," ",null,false,null,null,"",null,null,"",null,null,"","","","","","",null,null,"","","","","",""]
[1471,null,null,"",null," ",null,false,null,null,"",null,null,"",null,null,"","","","","","",null,null,"","","","","",""]
[1472,null,null,"",null," ",null,false,null,null,"",null,null,"",null,null,"","","","","","",null,null,"","","","","",""]
[1473,null,null,"",null," ",null,false,null,null,"",null,null,"",null,null,"","","","","","",null,null,"","","","","",""]
[1474,null,null,"",null," ",null,false,null,null,"",null,null,"",null,null,"","","","","","",null,null,"","","","","",""]
[1475,null,null,"",null," ",null,false,null,null,"",null,null,"",null,null,"","","","","","",null,null,"","","","","",""]
[1476,null,null,"",null," ",null,false,null,null,"",null,null,"",null,null,"","","","","","",null,null,"","","","","",""]
[1477,null,null,"",null," ",null,false,null,null,"",null,null,"",null,null,"","","","","","",null,null,"","","","","",""]
[1478,null,null,"",null," ",null,false,null,null,"",null,null,"",null,null,"","","","","","",null,null,"","","","","",""]
[1479,null,null,"",null," ",null,false,null,null,"",null,null,"",null,null,"","","","","","",null,null,"","","","","",""]
[1480,null,null,"",null," ",null,false,null,null,"",null,null,"",null,null,"","","","","","",null,null,"","","","","",""]
[1481,null,null,"",null," ",null,false,null,null,"",null,null,"",null,null,"","","","","","",null,null,"","","","","",""]
[1482,null,null,"",null," ",null,false,null,null,"",null,null,"",null,null,"","","","","","",null,null,"","","","","",""]
[1483,null,null,"",null," ",null,false,null,null,"",null,null,"",null,null,"","","","","","",null,null,"","","","","",""]
[1484,null,null,"",null," ",null,false,null,null,"",null,null,"",null,null,"","","","","","",null,null,"","","","","",""]
[1485,null,null,"",null," ",null,false,null,null,"",null,null,"",null,null,"","","","","","",null,null,"","","","","",""]
[1486,null,null,"",null," ",null,false,null,null,"",null,null,"",null,null,"","","","","","",null,null,"","","","","",""]
[1487,null,null,"",null," ",null,false,null,null,"",null,null,"",null,null,"","","","","","",null,null,"","","","","",""]
[1488,null,null,"",null," ",null,false,null,null,"",null,null,"",null,null,"","","","","","",null,null,"","","","","",""]
[1489,null,null,"",null," ",null,false,null,null,"",null,null,"",null,null,"","","","","","",null,null,"","","","","",""]
[1490,null,null,"",null," ",null,false,null,null,"",null,null,"",null,null,"","","","","","",null,null,"","","","","",""]
[1491,null,null,"",null," ",null,false,null,null,"",null,null,"",null,null,"","","","","","",null,null,"","","","","",""]
[1492,null,null,"",null," ",null,false,null,null,"",null,null,"",null,null,"","","","","","",null,null,"","","","","",""]
[1493,null,null,"",null," ",null,false,null,null,"",null,null,"",null,null,"","","","","","",null,null,"","","","","",""]
[1494,null,null,"",null," ",null,false,null,null,"",null,null,"",null,null,"","","","","","",null,null,"","","","","",""]
[1495,null,null,"",null," ",null,false,null,null,"",null,null,"",null,null,"","","","","","",null,null,"","","","","",""]
[1496,null,null,"",null," ",null,false,null,null,"",null,null,"",null,null,"","","","","","",null,null,"","","","","",""]
[1497,null,null,"",null," ",null,false,null,null,"",null,null,"",null,null,"","","","","","",null,null,"","","","","",""]
[1498,null,null,"",null," ",null,false,null,null,"",null,null,"",null,null,"","","","","","",null,null,"","","","","",""]
[1499,null,null,"",null," ",null,false,null,null,"",null,null,"",null,null,"","","","","","",null,null,"","","","","",""]
[1500,null,null,"",null," ",null,false,null,null,"",null,null,"",null,null,"","","","","","",null,null,"","","","","",""]
[1501,null,null,"",null," ",null,false,null,null,"",null,null,"",null,null,"","","","","","",null,null,"","","","","",""]
[1502,null,null,"",null," ",null,false,null,null,"",null,null,"",null,null,"","","","","","",null,null,"","","","","",""]
[1503,null,null,"",null," ",null,false,null,null,"",null,null,"",null,null,"","","","","","",null,null,"","","","","",""]
[1504,null,null,"",null," ",null,false,null,null,"",null,null,"",null,null,"","","","","","",null,null,"","","","","",""]
[1505,null,null,"",null," ",null,false,null,null,"",null,null,"",null,null,"","","","","","",null,null,"","","","","",""]
[1506,null,null,"",null," ",null,false,null,null,"",null,null,"",null,null,"","","","","","",null,null,"","","","","",""]
[1507,null,null,"",null," ",null,false,null,null,"",null,null,"",null,null,"","","","","","",null,null,"","","","","",""]
[1508,null,null,"",null," ",null,false,null,null,"",null,null,"",null,null,"","","","","","",null,null,"","","","","",""]
[1509,null,null,"",null," ",null,false,null,null,"",null,null,"",null,null,"","","","","","",null,null,"","","","","",""]
[1510,null,null,"",null," ",null,false,null,null,"",null,null,"",null,null,"","","","","","",null,null,"","","","","",""]
[1511,null,null,"",null," ",null,false,null,null,"",null,null,"",null,null,"","","","","","",null,null,"","","","","",""]
[1512,null,null,"",null," ",null,false,null,null,"",null,null,"",null,null,"","","","","","",null,null,"","","","","",""]
[1513,null,null,"",null," ",null,false,null,null,"",null,null,"",null,null,"","","","","","",null,null,"","","","","",""]
[1514,null,null,"",null," ",null,false,null,null,"",null,null,"",null,null,"","","","","","",null,null,"","","","","",""]
[1515,null,null,"",null," ",null,false,null,null,"",null,null,"",null,null,"","","","","","",null,null,"","","","","",""]
[1516,null,null,"",null," ",null,false,null,null,"",null,null,"",null,null,"","","","","","",null,null,"","","","","",""]
[1517,null,null,{"$f":"IF(H1534,IF(C1534=1,\"Red\",IF(C1534=2,\"Yellow\",IF(C1534=3,\"Green\",\"No Flag\"))),\"\")","v":""},null,{"$f":"B1534& \" \"&E1534","v":" "},null,{"$f":"AND(G1534>=2,J1534<>\"\",M1534<>\"\",NOT(OR(AND(G1534=1,G1535=2),AND(G1534=2,G1535=3))))","v":false},null,null,{"$f":"IF(J1534<>\"\",LocateDate(J1534),\"\")","v":""},null,null,{"$f":"LocateDate(M1534)","v":""},null,null,{"$f":"IF(H1534,IF(AND($P1534=0,$J1534>Baseline),1,0),\"\")","v":""},{"$f":"IF(H1534,IF(AND($P1534<1,$J1534<=Baseline, $M1534<Baseline),1,0),\"\")","v":""},{"$f":"IF(H1534,IF(AND($P1534<1,$P1534>=0,$M1534>=Baseline),1,0),\"\")","v":""},{"$f":"IF(H1534,IF($P1534>=1,1,0),\"\")","v":""},{"$f":"IF(H1534,IF(SUM(Q1534:T1534)=0,1,0),\"\")","v":""},{"$f":"IF(H1534,IF(Q1534,$Q$17,IF(R1534,$R$17,IF(S1534,$S$17,IF(T1534,$T$17,IF(U1534,$U$17,\"\"))))),\"\")","v":""},null,null,{"$f":"IF(H1534,W1534,\"\")","v":""},{"$f":"IF(H1534,X1534,\"\")","v":""},{"$f":"IF(H1534,IF(W1534<>\"\",X1534/W1534,\"\"),\"\")","v":""},{"$f":"IF(H1534,IF(AND(M1534>=Baseline,J1534<=Baseline),(Baseline-J1534)/(M1534-J1534+1),IF(M1534<=Baseline,1,0)),\"\")","v":""},{"$f":"IF(H1534,AB1534*W1534,\"\")","v":""},{"$f":"IF(H1534,IF(AND(X1534<=AC1534,AA1534>0),\"Under-Spending\",IF(X1534>AC1534,\"Over-Spending\",IF(AA1534=0,\"Not Started\",\"\"))),\"\")","v":""}]
[1518,null,null,"",null," ",null,false,null,null,"",null,null,"",null,null,"","","","","","",null,null,"","","","","",""]
[1519,null,null,"",null," ",null,false,null,null,"",null,null,"",null,null,"","","","","","",null,null,"","","","","",""]
[1520,null,null,"",null," ",null,false,null,null,"",null,null,"",null,null,"","","","","","",null,null,"","","","","",""]
[1521,null,null,"",null," ",null,false,null,null,"",null,null,"",null,null,"","","","","","",null,null,"","","","","",""]
[1522,null,null,"",null," ",null,false,null,null,"",null,null,"",null,null,"","","","","","",null,null,"","","","","",""]
[1523,null,null,"",null," ",null,false,null,null,"",null,null,"",null,null,"","","","","","",null,null,"","","","","",""]
[1524,null,null,"",null," ",null,false,null,null,"",null,null,"",null,null,"","","","","","",null,null,"","","","","",""]
[1525,null,null,"",null," ",null,false,null,null,"",null,null,"",null,null,"","","","","","",null,null,"","","","","",""]
[1526,null,null,"",null," ",null,false,null,null,"",null,null,"",null,null,"","","","","","",null,null,"","","","","",""]
[1527,null,null,"",null," ",null,false,null,null,"",null,null,"",null,null,"","","","","","",null,null,"","","","","",""]
[1528,null,null,"",null," ",null,false,null,null,"",null,null,"",null,null,"","","","","","",null,null,"","","","","",""]
[1529,null,null,"",null," ",null,false,null,null,"",null,null,"",null,null,"","","","","","",null,null,"","","","","",""]
[1530,null,null,"",null," ",null,false,null,null,"",null,null,"",null,null,"","","","","","",null,null,"","","","","",""]
[1531,null,null,"",null," ",null,false,null,null,"",null,null,"",null,null,"","","","","","",null,null,"","","","","",""]
[1532,null,null,"",null," ",null,false,null,null,"",null,null,"",null,null,"","","","","","",null,null,"","","","","",""]
[1533,null,null,"",null," ",null,false,null,null,"",null,null,"",null,null,"","","","","","",null,null,"","","","","",""]
[1534,null,null,"",null," ",null,false,null,null,"",null,null,"",null,null,"","","","","","",null,null,"","","","","",""]
[1535,null,null,"",null," ",null,false,null,null,"",null,null,"",null,null,"","","","","","",null,null,"","","","","",""]
[1536,null,null,"",null," ",null,false,null,null,"",null,null,"",null,null,"","","","","","",null,null,"","","","","",""]
[1537,null,null,"",null," ",null,false,null,null,"",null,null,"",null,null,"","","","","","",null,null,"","","","","",""]
[1538,null,null,"",null," ",null,false,null,null,"",null,null,"",null,null,"","","","","","",null,null,"","","","","",""]
[1539,null,null,"",null," ",null,false,null,null,"",null,null,"",null,null,"","","","","","",null,null,"","","","","",""]
[1540,null,null,"",null," ",null,false,null,null,"",null,null,"",null,null,"","","","","","",null,null,"","","","","",""]
[1541,null,null,"",null," ",null,false,null,null,"",null,null,"",null,null,"","","","","","",null,null,"","","","","",""]
[1542,null,null,"",null," ",null,false,null,null,"",null,null,"",null,null,"","","","","","",null,null,"","","","","",""]
[1543,null,null,"",null," ",null,false,null,null,"",null,null,"",null,null,"","","","","","",null,null,"","","","","",""]
[1544,null,null,"",null," ",null,false,null,null,"",null,null,"",null,null,"","","","","","",null,null,"","","","","",""]
[1545,null,null,"",null," ",null,false,null,null,"",null,null,"",null,null,"","","","","","",null,null,"","","","","",""]
[1546,null,null,"",null," ",null,false,null,null,"",null,null,"",null,null,"","","","","","",null,null,"","","","","",""]
[1547,null,null,"",null," ",null,false,null,null,"",null,null,"",null,null,"","","","","","",null,null,"","","","","",""]
[1548,null,null,"",null," ",null,false,null,null,"",null,null,"",null,null,"","","","","","",null,null,"","","","","",""]
[1549,null,null,"",null," ",null,false,null,null,"",null,null,"",null,null,"","","","","","",null,null,"","","","","",""]
[1550,null,null,"",null," ",null,false,null,null,"",null,null,"",null,null,"","","","","","",null,null,"","","","","",""]
[1551,null,null,"",null," ",null,false,null,null,"",null,null,"",null,null,"","","","","","",null,null,"","","","","",""]
[1552,null,null,"",null," ",null,false,null,null,"",null,null,"",null,null,"","","","","","",null,null,"","","","","",""]
[1553,null,null,"",null," ",null,false,null,null,"",null,null,"",null,null,"","","","","","",null,null,"","","","","",""]
[1554,null,null,"",null," ",null,false,null,null,"",null,null,"",null,null,"","","","","","",null,null,"","","","","",""]
[1555,null,null,"",null," ",null,false,null,null,"",null,null,"",null,null,"","","","","","",null,null,"","","","","",""]
[1556,null,null,"",null," ",null,false,null,null,"",null,null,"",null,null,"","","","","","",null,null,"","","","","",""]
[1557,null,null,"",null," ",null,false,null,null,"",null,null,"",null,null,"","","","","","",null,null,"","","","","",""]
[1558,null,null,"",null," ",null,false,null,null,"",null,null,"",null,null,"","","","","","",null,null,"","","","","",""]
[1559,null,null,"",null," ",null,false,null,null,"",null,null,"",null,null,"","","","","","",null,null,"","","","","",""]
[1560,null,null,"",null," ",null,false,null,null,"",null,null,"",null,null,"","","","","","",null,null,"","","","","",""]
[1561,null,null,"",null," ",null,false,null,null,"",null,null,"",null,null,"","","","","","",null,null,"","","","","",""]
[1562,null,null,"",null," ",null,false,null,null,"",null,null,"",null,null,"","","","","","",null,null,"","","","","",""]
[1563,null,null,"",null," ",null,false,null,null,"",null,null,"",null,null,"","","","","","",null,null,"","","","","",""]
[1564,null,null,"",null," ",null,false,null,null,"",null,null,"",null,null,"","","","","","",null,null,"","","","","",""]
[1565,null,null,"",null," ",null,false,null,null,"",null,null,"",null,null,"","","","","","",null,null,"","","","","",""]
[1566,null,null,"",null," ",null,false,null,null,"",null,null,"",null,null,"","","","","","",null,null,"","","","","",""]
[1567,null,null,"",null," ",null,false,null,null,"",null,null,"",null,null,"","","","","","",null,null,"","","","","",""]
[1568,null,null,"",null," ",null,false,null,null,"",null,null,"",null,null,"","","","","","",null,null,"","","","","",""]
[1569,null,null,"",null," ",null,false,null,null,"",null,null,"",null,null,"","","","","","",null,null,"","","","","",""]
[1570,null,null,"",null," ",null,false,null,null,"",null,null,"",null,null,"","","","","","",null,null,"","","","","",""]
[1571,null,null,"",null," ",null,false,null,null,"",null,null,"",null,null,"","","","","","",null,null,"","","","","",""]
[1572,null,null,"",null," ",null,false,null,null,"",null,null,"",null,null,"","","","","","",null,null,"","","","","",""]
[1573,null,null,"",null," ",null,false,null,null,"",null,null,"",null,null,"","","","","","",null,null,"","","","","",""]
[1574,null,null,"",null," ",null,false,null,null,"",null,null,"",null,null,"","","","","","",null,null,"","","","","",""]
[1575,null,null,"",null," ",null,false,null,null,"",null,null,"",null,null,"","","","","","",null,null,"","","","","",""]
[1576,null,null,"",null," ",null,false,null,null,"",null,null,"",null,null,"","","","","","",null,null,"","","","","",""]
[1577,null,null,"",null," ",null,false,null,null,"",null,null,"",null,null,"","","","","","",null,null,"","","","","",""]
[1578,null,null,"",null," ",null,false,null,null,"",null,null,"",null,null,"","","","","","",null,null,"","","","","",""]
[1579,null,null,"",null," ",null,false,null,null,"",null,null,"",null,null,"","","","","","",null,null,"","","","","",""]
[1580,null,null,"",null," ",null,false,null,null,"",null,null,"",null,null,"","","","","","",null,null,"","","","","",""]
[1581,null,null,{"$f":"IF(H1598,IF(C1598=1,\"Red\",IF(C1598=2,\"Yellow\",IF(C1598=3,\"Green\",\"No Flag\"))),\"\")","v":""},null,{"$f":"B1598& \" \"&E1598","v":" "},null,{"$f":"AND(G1598>=2,J1598<>\"\",M1598<>\"\",NOT(OR(AND(G1598=1,G1599=2),AND(G1598=2,G1599=3))))","v":false},null,null,{"$f":"IF(J1598<>\"\",LocateDate(J1598),\"\")","v":""},null,null,{"$f":"LocateDate(M1598)","v":""},null,null,{"$f":"IF(H1598,IF(AND($P1598=0,$J1598>Baseline),1,0),\"\")","v":""},{"$f":"IF(H1598,IF(AND($P1598<1,$J1598<=Baseline, $M1598<Baseline),1,0),\"\")","v":""},{"$f":"IF(H1598,IF(AND($P1598<1,$P1598>=0,$M1598>=Baseline),1,0),\"\")","v":""},{"$f":"IF(H1598,IF($P1598>=1,1,0),\"\")","v":""},{"$f":"IF(H1598,IF(SUM(Q1598:T1598)=0,1,0),\"\")","v":""},{"$f":"IF(H1598,IF(Q1598,$Q$17,IF(R1598,$R$17,IF(S1598,$S$17,IF(T1598,$T$17,IF(U1598,$U$17,\"\"))))),\"\")","v":""},null,null,{"$f":"IF(H1598,W1598,\"\")","v":""},{"$f":"IF(H1598,X1598,\"\")","v":""},{"$f":"IF(H1598,IF(W1598<>\"\",X1598/W1598,\"\"),\"\")","v":""},{"$f":"IF(H1598,IF(AND(M1598>=Baseline,J1598<=Baseline),(Baseline-J1598)/(M1598-J1598+1),IF(M1598<=Baseline,1,0)),\"\")","v":""},{"$f":"IF(H1598,AB1598*W1598,\"\")","v":""},{"$f":"IF(H1598,IF(AND(X1598<=AC1598,AA1598>0),\"Under-Spending\",IF(X1598>AC1598,\"Over-Spending\",IF(AA1598=0,\"Not Started\",\"\"))),\"\")","v":""}]
[1582,null,null,"",null," ",null,false,null,null,"",null,null,"",null,null,"","","","","","",null,null,"","","","","",""]
[1583,null,null,"",null," ",null,false,null,null,"",null,null,"",null,null,"","","","","","",null,null,"","","","","",""]
[1584,null,null,"",null," ",null,false,null,null,"",null,null,"",null,null,"","","","","","",null,null,"","","","","",""]
[1585,null,null,"",null," ",null,false,null,null,"",null,null,"",null,null,"","","","","","",null,null,"","","","","",""]
[1586,null,null,"",null," ",null,false,null,null,"",null,null,"",null,null,"","","","","","",null,null,"","","","","",""]
[1587,null,null,"",null," ",null,false,null,null,"",null,null,"",null,null,"","","","","","",null,null,"","","","","",""]
[1588,null,null,"",null," ",null,false,null,null,"",null,null,"",null,null,"","","","","","",null,null,"","","","","",""]
[1589,null,null,"",null," ",null,false,null,null,"",null,null,"",null,null,"","","","","","",null,null,"","","","","",""]
[1590,null,null,"",null," ",null,false,null,null,"",null,null,"",null,null,"","","","","","",null,null,"","","","","",""]
[1591,null,null,"",null," ",null,false,null,null,"",null,null,"",null,null,"","","","","","",null,null,"","","","","",""]
[1592,null,null,"",null," ",null,false,null,null,"",null,null,"",null,null,"","","","","","",null,null,"","","","","",""]
[1593,null,null,"",null," ",null,false,null,null,"",null,null,"",null,null,"","","","","","",null,null,"","","","","",""]
[1594,null,null,"",null," ",null,false,null,null,"",null,null,"",null,null,"","","","","","",null,null,"","","","","",""]
[1595,null,null,"",null," ",null,false,null,null,"",null,null,"",null,null,"","","","","","",null,null,"","","","","",""]
[1596,null,null,"",null," ",null,false,null,null,"",null,null,"",null,null,"","","","","","",null,null,"","","","","",""]
[1597,null,null,"",null," ",null,false,null,null,"",null,null,"",null,null,"","","","","","",null,null,"","","","","",""]
[1598,null,null,"",null," ",null,false,null,null,"",null,null,"",null,null,"","","","","","",null,null,"","","","","",""]
[1599,null,null,"",null," ",null,false,null,null,"",null,null,"",null,null,"","","","","","",null,null,"","","","","",""]
[1600,null,null,"",null," ",null,false,null,null,"",null,null,"",null,null,"","","","","","",null,null,"","","","","",""]
[1601,null,null,"",null," ",null,false,null,null,"",null,null,"",null,null,"","","","","","",null,null,"","","","","",""]
[1602,null,null,"",null," ",null,false,null,null,"",null,null,"",null,null,"","","","","","",null,null,"","","","","",""]
[1603,null,null,"",null," ",null,false,null,null,"",null,null,"",null,null,"","","","","","",null,null,"","","","","",""]
[1604,null,null,"",null," ",null,false,null,null,"",null,null,"",null,null,"","","","","","",null,null,"","","","","",""]
[1605,null,null,"",null," ",null,false,null,null,"",null,null,"",null,null,"","","","","","",null,null,"","","","","",""]
[1606,null,null,"",null," ",null,false,null,null,"",null,null,"",null,null,"","","","","","",null,null,"","","","","",""]
[1607,null,null,"",null," ",null,false,null,null,"",null,null,"",null,null,"","","","","","",null,null,"","","","","",""]
[1608,null,null,"",null," ",null,false,null,null,"",null,null,"",null,null,"","","","","","",null,null,"","","","","",""]
[1609,null,null,"",null," ",null,false,null,null,"",null,null,"",null,null,"","","","","","",null,null,"","","","","",""]
[1610,null,null,"",null," ",null,false,null,null,"",null,null,"",null,null,"","","","","","",null,null,"","","","","",""]
[1611,null,null,"",null," ",null,false,null,null,"",null,null,"",null,null,"","","","","","",null,null,"","","","","",""]
[1612,null,null,"",null," ",null,false,null,null,"",null,null,"",null,null,"","","","","","",null,null,"","","","","",""]
[1613,null,null,"",null," ",null,false,null,null,"",null,null,"",null,null,"","","","","","",null,null,"","","","","",""]
[1614,null,null,"",null," ",null,false,null,null,"",null,null,"",null,null,"","","","","","",null,null,"","","","","",""]
[1615,null,null,"",null," ",null,false,null,null,"",null,null,"",null,null,"","","","","","",null,null,"","","","","",""]
[1616,null,null,"",null," ",null,false,null,null,"",null,null,"",null,null,"","","","","","",null,null,"","","","","",""]
[1617,null,null,"",null," ",null,false,null,null,"",null,null,"",null,null,"","","","","","",null,null,"","","","","",""]
[1618,null,null,"",null," ",null,false,null,null,"",null,null,"",null,null,"","","","","","",null,null,"","","","","",""]
[1619,null,null,"",null," ",null,false,null,null,"",null,null,"",null,null,"","","","","","",null,null,"","","","","",""]
[1620,null,null,"",null," ",null,false,null,null,"",null,null,"",null,null,"","","","","","",null,null,"","","","","",""]
[1621,null,null,"",null," ",null,false,null,null,"",null,null,"",null,null,"","","","","","",null,null,"","","","","",""]
[1622,null,null,"",null," ",null,false,null,null,"",null,null,"",null,null,"","","","","","",null,null,"","","","","",""]
[1623,null,null,"",null," ",null,false,null,null,"",null,null,"",null,null,"","","","","","",null,null,"","","","","",""]
[1624,null,null,"",null," ",null,false,null,null,"",null,null,"",null,null,"","","","","","",null,null,"","","","","",""]
[1625,null,null,"",null," ",null,false,null,null,"",null,null,"",null,null,"","","","","","",null,null,"","","","","",""]
[1626,null,null,"",null," ",null,false,null,null,"",null,null,"",null,null,"","","","","","",null,null,"","","","","",""]
[1627,null,null,"",null," ",null,false,null,null,"",null,null,"",null,null,"","","","","","",null,null,"","","","","",""]
[1628,null,null,"",null," ",null,false,null,null,"",null,null,"",null,null,"","","","","","",null,null,"","","","","",""]
[1629,null,null,"",null," ",null,false,null,null,"",null,null,"",null,null,"","","","","","",null,null,"","","","","",""]
[1630,null,null,"",null," ",null,false,null,null,"",null,null,"",null,null,"","","","","","",null,null,"","","","","",""]
[1631,null,null,"",null," ",null,false,null,null,"",null,null,"",null,null,"","","","","","",null,null,"","","","","",""]
[1632,null,null,"",null," ",null,false,null,null,"",null,null,"",null,null,"","","","","","",null,null,"","","","","",""]
[1633,null,null,"",null," ",null,false,null,null,"",null,null,"",null,null,"","","","","","",null,null,"","","","","",""]
[1634,null,null,"",null," ",null,false,null,null,"",null,null,"",null,null,"","","","","","",null,null,"","","","","",""]
[1635,null,null,"",null," ",null,false,null,null,"",null,null,"",null,null,"","","","","","",null,null,"","","","","",""]
[1636,null,null,"",null," ",null,false,null,null,"",null,null,"",null,null,"","","","","","",null,null,"","","","","",""]
[1637,null,null,"",null," ",null,false,null,null,"",null,null,"",null,null,"","","","","","",null,null,"","","","","",""]
[1638,null,null,"",null," ",null,false,null,null,"",null,null,"",null,null,"","","","","","",null,null,"","","","","",""]
[1639,null,null,"",null," ",null,false,null,null,"",null,null,"",null,null,"","","","","","",null,null,"","","","","",""]
[1640,null,null,"",null," ",null,false,null,null,"",null,null,"",null,null,"","","","","","",null,null,"","","","","",""]
[1641,null,null,"",null," ",null,false,null,null,"",null,null,"",null,null,"","","","","","",null,null,"","","","","",""]
[1642,null,null,"",null," ",null,false,null,null,"",null,null,"",null,null,"","","","","","",null,null,"","","","","",""]
[1643,null,null,"",null," ",null,false,null,null,"",null,null,"",null,null,"","","","","","",null,null,"","","","","",""]
[1644,null,null,"",null," ",null,false,null,null,"",null,null,"",null,null,"","","","","","",null,null,"","","","","",""]
[1645,null,null,{"$f":"IF(H1662,IF(C1662=1,\"Red\",IF(C1662=2,\"Yellow\",IF(C1662=3,\"Green\",\"No Flag\"))),\"\")","v":""},null,{"$f":"B1662& \" \"&E1662","v":" "},null,{"$f":"AND(G1662>=2,J1662<>\"\",M1662<>\"\",NOT(OR(AND(G1662=1,G1663=2),AND(G1662=2,G1663=3))))","v":false},null,null,{"$f":"IF(J1662<>\"\",LocateDate(J1662),\"\")","v":""},null,null,{"$f":"LocateDate(M1662)","v":""},null,null,{"$f":"IF(H1662,IF(AND($P1662=0,$J1662>Baseline),1,0),\"\")","v":""},{"$f":"IF(H1662,IF(AND($P1662<1,$J1662<=Baseline, $M1662<Baseline),1,0),\"\")","v":""},{"$f":"IF(H1662,IF(AND($P1662<1,$P1662>=0,$M1662>=Baseline),1,0),\"\")","v":""},{"$f":"IF(H1662,IF($P1662>=1,1,0),\"\")","v":""},{"$f":"IF(H1662,IF(SUM(Q1662:T1662)=0,1,0),\"\")","v":""},{"$f":"IF(H1662,IF(Q1662,$Q$17,IF(R1662,$R$17,IF(S1662,$S$17,IF(T1662,$T$17,IF(U1662,$U$17,\"\"))))),\"\")","v":""},null,null,{"$f":"IF(H1662,W1662,\"\")","v":""},{"$f":"IF(H1662,X1662,\"\")","v":""},{"$f":"IF(H1662,IF(W1662<>\"\",X1662/W1662,\"\"),\"\")","v":""},{"$f":"IF(H1662,IF(AND(M1662>=Baseline,J1662<=Baseline),(Baseline-J1662)/(M1662-J1662+1),IF(M1662<=Baseline,1,0)),\"\")","v":""},{"$f":"IF(H1662,AB1662*W1662,\"\")","v":""},{"$f":"IF(H1662,IF(AND(X1662<=AC1662,AA1662>0),\"Under-Spending\",IF(X1662>AC1662,\"Over-Spending\",IF(AA1662=0,\"Not Started\",\"\"))),\"\")","v":""}]
[1646,null,null,"",null," ",null,false,null,null,"",null,null,"",null,null,"","","","","","",null,null,"","","","","",""]
[1647,null,null,"",null," ",null,false,null,null,"",null,null,"",null,null,"","","","","","",null,null,"","","","","",""]
[1648,null,null,"",null," ",null,false,null,null,"",null,null,"",null,null,"","","","","","",null,null,"","","","","",""]
[1649,null,null,"",null," ",null,false,null,null,"",null,null,"",null,null,"","","","","","",null,null,"","","","","",""]
[1650,null,null,"",null," ",null,false,null,null,"",null,null,"",null,null,"","","","","","",null,null,"","","","","",""]
[1651,null,null,"",null," ",null,false,null,null,"",null,null,"",null,null,"","","","","","",null,null,"","","","","",""]
[1652,null,null,"",null," ",null,false,null,null,"",null,null,"",null,null,"","","","","","",null,null,"","","","","",""]
[1653,null,null,"",null," ",null,false,null,null,"",null,null,"",null,null,"","","","","","",null,null,"","","","","",""]
[1654,null,null,"",null," ",null,false,null,null,"",null,null,"",null,null,"","","","","","",null,null,"","","","","",""]
[1655,null,null,"",null," ",null,false,null,null,"",null,null,"",null,null,"","","","","","",null,null,"","","","","",""]
[1656,null,null,"",null," ",null,false,null,null,"",null,null,"",null,null,"","","","","","",null,null,"","","","","",""]
[1657,null,null,"",null," ",null,false,null,null,"",null,null,"",null,null,"","","","","","",null,null,"","","","","",""]
[1658,null,null,"",null," ",null,false,null,null,"",null,null,"",null,null,"","","","","","",null,null,"","","","","",""]
[1659,null,null,"",null," ",null,false,null,null,"",null,null,"",null,null,"","","","","","",null,null,"","","","","",""]
[1660,null,null,"",null," ",null,false,null,null,"",null,null,"",null,null,"","","","","","",null,null,"","","","","",""]
[1661,null,null,"",null," ",null,false,null,null,"",null,null,"",null,null,"","","","","","",null,null,"","","","","",""]
[1662,null,null,"",null," ",null,false,null,null,"",null,null,"",null,null,"","","","","","",null,null,"","","","","",""]
[1663,null,null,"",null," ",null,false,null,null,"",null,null,"",null,null,"","","","","","",null,null,"","","","","",""]
[1664,null,null,"",null," ",null,false,null,null,"",null,null,"",null,null,"","","","","","",null,null,"","","","","",""]
[1665,null,null,"",null," ",null,false,null,null,"",null,null,"",null,null,"","","","","","",null,null,"","","","","",""]
[1666,null,null,"",null," ",null,false,null,null,"",null,null,"",null,null,"","","","","","",null,null,"","","","","",""]
[1667,null,null,"",null," ",null,false,null,null,"",null,null,"",null,null,"","","","","","",null,null,"","","","","",""]
[1668,null,null,"",null," ",null,false,null,null,"",null,null,"",null,null,"","","","","","",null,null,"","","","","",""]
[1669,null,null,"",null," ",null,false,null,null,"",null,null,"",null,null,"","","","","","",null,null,"","","","","",""]
[1670,null,null,"",null," ",null,false,null,null,"",null,null,"",null,null,"","","","","","",null,null,"","","","","",""]
[1671,null,null,"",null," ",null,false,null,null,"",null,null,"",null,null,"","","","","","",null,null,"","","","","",""]
[1672,null,null,"",null," ",null,false,null,null,"",null,null,"",null,null,"","","","","","",null,null,"","","","","",""]
[1673,null,null,"",null," ",null,false,null,null,"",null,null,"",null,null,"","","","","","",null,null,"","","","","",""]
[1674,null,null,"",null," ",null,false,null,null,"",null,null,"",null,null,"","","","","","",null,null,"","","","","",""]
[1675,null,null,"",null," ",null,false,null,null,"",null,null,"",null,null,"","","","","","",null,null,"","","","","",""]
[1676,null,null,"",null," ",null,false,null,null,"",null,null,"",null,null,"","","","","","",null,null,"","","","","",""]
[1677,null,null,"",null," ",null,false,null,null,"",null,null,"",null,null,"","","","","","",null,null,"","","","","",""]
[1678,null,null,"",null," ",null,false,null,null,"",null,null,"",null,null,"","","","","","",null,null,"","","","","",""]
[1679,null,null,"",null," ",null,false,null,null,"",null,null,"",null,null,"","","","","","",null,null,"","","","","",""]
[1680,null,null,"",null," ",null,false,null,null,"",null,null,"",null,null,"","","","","","",null,null,"","","","","",""]
[1681,null,null,"",null," ",null,false,null,null,"",null,null,"",null,null,"","","","","","",null,null,"","","","","",""]
[1682,null,null,"",null," ",null,false,null,null,"",null,null,"",null,null,"","","","","","",null,null,"","","","","",""]
[1683,null,null,"",null," ",null,false,null,null,"",null,null,"",null,null,"","","","","","",null,null,"","","","","",""]
[1684,null,null,"",null," ",null,false,null,null,"",null,null,"",null,null,"","","","","","",null,null,"","","","","",""]
[1685,null,null,"",null," ",null,false,null,null,"",null,null,"",null,null,"","","","","","",null,null,"","","","","",""]
[1686,null,null,"",null," ",null,false,null,null,"",null,null,"",null,null,"","","","","","",null,null,"","","","","",""]
[1687,null,null,"",null," ",null,false,null,null,"",null,null,"",null,null,"","","","","","",null,null,"","","","","",""]
[1688,null,null,"",null," ",null,false,null,null,"",null,null,"",null,null,"","","","","","",null,null,"","","","","",""]
[1689,null,null,"",null," ",null,false,null,null,"",null,null,"",null,null,"","","","","","",null,null,"","","","","",""]
[1690,null,null,"",null," ",null,false,null,null,"",null,null,"",null,null,"","","","","","",null,null,"","","","","",""]
[1691,null,null,"",null," ",null,false,null,null,"",null,null,"",null,null,"","","","","","",null,null,"","","","","",""]
[1692,null,null,"",null," ",null,false,null,null,"",null,null,"",null,null,"","","","","","",null,null,"","","","","",""]
[1693,null,null,"",null," ",null,false,null,null,"",null,null,"",null,null,"","","","","","",null,null,"","","","","",""]
[1694,null,null,"",null," ",null,false,null,null,"",null,null,"",null,null,"","","","","","",null,null,"","","","","",""]
[1695,null,null,"",null," ",null,false,null,null,"",null,null,"",null,null,"","","","","","",null,null,"","","","","",""]
[1696,null,null,"",null," ",null,false,null,null,"",null,null,"",null,null,"","","","","","",null,null,"","","","","",""]
[1697,null,null,"",null," ",null,false,null,null,"",null,null,"",null,null,"","","","","","",null,null,"","","","","",""]
[1698,null,null,"",null," ",null,false,null,null,"",null,null,"",null,null,"","","","","","",null,null,"","","","","",""]
[1699,null,null,"",null," ",null,false,null,null,"",null,null,"",null,null,"","","","","","",null,null,"","","","","",""]
[1700,null,null,"",null," ",null,false,null,null,"",null,null,"",null,null,"","","","","","",null,null,"","","","","",""]
[1701,null,null,"",null," ",null,false,null,null,"",null,null,"",null,null,"","","","","","",null,null,"","","","","",""]
[1702,null,null,"",null," ",null,false,null,null,"",null,null,"",null,null,"","","","","","",null,null,"","","","","",""]
[1703,null,null,"",null," ",null,false,null,null,"",null,null,"",null,null,"","","","","","",null,null,"","","","","",""]
[1704,null,null,"",null," ",null,false,null,null,"",null,null,"",null,null,"","","","","","",null,null,"","","","","",""]
[1705,null,null,"",null," ",null,false,null,null,"",null,null,"",null,null,"","","","","","",null,null,"","","","","",""]
[1706,null,null,"",null," ",null,false,null,null,"",null,null,"",null,null,"","","","","","",null,null,"","","","","",""]
[1707,null,null,"",null," ",null,false,null,null,"",null,null,"",null,null,"","","","","","",null,null,"","","","","",""]
[1708,null,null,"",null," ",null,false,null,null,"",null,null,"",null,null,"","","","","","",null,null,"","","","","",""]
[1709,null,null,{"$f":"IF(H1726,IF(C1726=1,\"Red\",IF(C1726=2,\"Yellow\",IF(C1726=3,\"Green\",\"No Flag\"))),\"\")","v":""},null,{"$f":"B1726& \" \"&E1726","v":" "},null,{"$f":"AND(G1726>=2,J1726<>\"\",M1726<>\"\",NOT(OR(AND(G1726=1,G1727=2),AND(G1726=2,G1727=3))))","v":false},null,null,{"$f":"IF(J1726<>\"\",LocateDate(J1726),\"\")","v":""},null,null,{"$f":"LocateDate(M1726)","v":""},null,null,{"$f":"IF(H1726,IF(AND($P1726=0,$J1726>Baseline),1,0),\"\")","v":""},{"$f":"IF(H1726,IF(AND($P1726<1,$J1726<=Baseline, $M1726<Baseline),1,0),\"\")","v":""},{"$f":"IF(H1726,IF(AND($P1726<1,$P1726>=0,$M1726>=Baseline),1,0),\"\")","v":""},{"$f":"IF(H1726,IF($P1726>=1,1,0),\"\")","v":""},{"$f":"IF(H1726,IF(SUM(Q1726:T1726)=0,1,0),\"\")","v":""},{"$f":"IF(H1726,IF(Q1726,$Q$17,IF(R1726,$R$17,IF(S1726,$S$17,IF(T1726,$T$17,IF(U1726,$U$17,\"\"))))),\"\")","v":""},null,null,{"$f":"IF(H1726,W1726,\"\")","v":""},{"$f":"IF(H1726,X1726,\"\")","v":""},{"$f":"IF(H1726,IF(W1726<>\"\",X1726/W1726,\"\"),\"\")","v":""},{"$f":"IF(H1726,IF(AND(M1726>=Baseline,J1726<=Baseline),(Baseline-J1726)/(M1726-J1726+1),IF(M1726<=Baseline,1,0)),\"\")","v":""},{"$f":"IF(H1726,AB1726*W1726,\"\")","v":""},{"$f":"IF(H1726,IF(AND(X1726<=AC1726,AA1726>0),\"Under-Spending\",IF(X1726>AC1726,\"Over-Spending\",IF(AA1726=0,\"Not Started\",\"\"))),\"\")","v":""}]
[1710,null,null,"",null," ",null,false,null,null,"",null,null,"",null,null,"","","","","","",null,null,"","","","","",""]
[1711,null,null,"",null," ",null,false,null,null,"",null,null,"",null,null,"","","","","","",null,null,"","","","","",""]
[1712,null,null,"",null," ",null,false,null,null,"",null,null,"",null,null,"","","","","","",null,null,"","","","","",""]
[1713,null,null,"",null," ",null,false,null,null,"",null,null,"",null,null,"","","","","","",null,null,"","","","","",""]
[1714,null,null,"",null," ",null,false,null,null,"",null,null,"",null,null,"","","","","","",null,null,"","","","","",""]
[1715,null,null,"",null," ",null,false,null,null,"",null,null,"",null,null,"","","","","","",null,null,"","","","","",""]
[1716,null,null,"",null," ",null,false,null,null,"",null,null,"",null,null,"","","","","","",null,null,"","","","","",""]
[1717,null,null,"",null," ",null,false,null,null,"",null,null,"",null,null,"","","","","","",null,null,"","","","","",""]
[1718,null,null,"",null," ",null,false,null,null,"",null,null,"",null,null,"","","","","","",null,null,"","","","","",""]
[1719,null,null,"",null," ",null,false,null,null,"",null,null,"",null,null,"","","","","","",null,null,"","","","","",""]
[1720,null,null,"",null," ",null,false,null,null,"",null,null,"",null,null,"","","","","","",null,null,"","","","","",""]
[1721,null,null,"",null," ",null,false,null,null,"",null,null,"",null,null,"","","","","","",null,null,"","","","","",""]
[1722,null,null,"",null," ",null,false,null,null,"",null,null,"",null,null,"","","","","","",null,null,"","","","","",""]
[1723,null,null,"",null," ",null,false,null,null,"",null,null,"",null,null,"","","","","","",null,null,"","","","","",""]
[1724,null,null,"",null," ",null,false,null,null,"",null,null,"",null,null,"","","","","","",null,null,"","","","","",""]
[1725,null,null,"",null," ",null,false,null,null,"",null,null,"",null,null,"","","","","","",null,null,"","","","","",""]
[1726,null,null,"",null," ",null,false,null,null,"",null,null,"",null,null,"","","","","","",null,null,"","","","","",""]
[1727,null,null,"",null," ",null,false,null,null,"",null,null,"",null,null,"","","","","","",null,null,"","","","","",""]
[1728,null,null,"",null," ",null,false,null,null,"",null,null,"",null,null,"","","","","","",null,null,"","","","","",""]
[1729,null,null,"",null," ",null,false,null,null,"",null,null,"",null,null,"","","","","","",null,null,"","","","","",""]
[1730,null,null,"",null," ",null,false,null,null,"",null,null,"",null,null,"","","","","","",null,null,"","","","","",""]
[1731,null,null,"",null," ",null,false,null,null,"",null,null,"",null,null,"","","","","","",null,null,"","","","","",""]
[1732,null,null,"",null," ",null,false,null,null,"",null,null,"",null,null,"","","","","","",null,null,"","","","","",""]
[1733,null,null,"",null," ",null,false,null,null,"",null,null,"",null,null,"","","","","","",null,null,"","","","","",""]
[1734,null,null,"",null," ",null,false,null,null,"",null,null,"",null,null,"","","","","","",null,null,"","","","","",""]
[1735,null,null,"",null," ",null,false,null,null,"",null,null,"",null,null,"","","","","","",null,null,"","","","","",""]
[1736,null,null,"",null," ",null,false,null,null,"",null,null,"",null,null,"","","","","","",null,null,"","","","","",""]
[1737,null,null,"",null," ",null,false,null,null,"",null,null,"",null,null,"","","","","","",null,null,"","","","","",""]
[1738,null,null,"",null," ",null,false,null,null,"",null,null,"",null,null,"","","","","","",null,null,"","","","","",""]
[1739,null,null,"",null," ",null,false,null,null,"",null,null,"",null,null,"","","","","","",null,null,"","","","","",""]
[1740,null,null,"",null," ",null,false,null,null,"",null,null,"",null,null,"","","","","","",null,null,"","","","","",""]
[1741,null,null,"",null," ",null,false,null,null,"",null,null,"",null,null,"","","","","","",null,null,"","","","","",""]
[1742,null,null,"",null," ",null,false,null,null,"",null,null,"",null,null,"","","","","","",null,null,"","","","","",""]
[1743,null,null,"",null," ",null,false,null,null,"",null,null,"",null,null,"","","","","","",null,null,"","","","","",""]
[1744,null,null,"",null," ",null,false,null,null,"",null,null,"",null,null,"","","","","","",null,null,"","","","","",""]
[1745,null,null,"",null," ",null,false,null,null,"",null,null,"",null,null,"","","","","","",null,null,"","","","","",""]
[1746,null,null,"",null," ",null,false,null,null,"",null,null,"",null,null,"","","","","","",null,null,"","","","","",""]
[1747,null,null,"",null," ",null,false,null,null,"",null,null,"",null,null,"","","","","","",null,null,"","","","","",""]
[1748,null,null,"",null," ",null,false,null,null,"",null,null,"",null,null,"","","","","","",null,null,"","","","","",""]
[1749,null,null,"",null," ",null,false,null,null,"",null,null,"",null,null,"","","","","","",null,null,"","","","","",""]
[1750,null,null,"",null," ",null,false,null,null,"",null,null,"",null,null,"","","","","","",null,null,"","","","","",""]
[1751,null,null,"",null," ",null,false,null,null,"",null,null,"",null,null,"","","","","","",null,null,"","","","","",""]
[1752,null,null,"",null," ",null,false,null,null,"",null,null,"",null,null,"","","","","","",null,null,"","","","","",""]
[1753,null,null,"",null," ",null,false,null,null,"",null,null,"",null,null,"","","","","","",null,null,"","","","","",""]
[1754,null,null,"",null," ",null,false,null,null,"",null,null,"",null,null,"","","","","","",null,null,"","","","","",""]
[1755,null,null,"",null," ",null,false,null,null,"",null,null,"",null,null,"","","","","","",null,null,"","","","","",""]
[1756,null,null,"",null," ",null,false,null,null,"",null,null,"",null,null,"","","","","","",null,null,"","","","","",""]
[1757,null,null,"",null," ",null,false,null,null,"",null,null,"",null,null,"","","","","","",null,null,"","","","","",""]
[1758,null,null,"",null," ",null,false,null,null,"",null,null,"",null,null,"","","","","","",null,null,"","","","","",""]
[1759,null,null,"",null," ",null,false,null,null,"",null,null,"",null,null,"","","","","","",null,null,"","","","","",""]
[1760,null,null,"",null," ",null,false,null,null,"",null,null,"",null,null,"","","","","","",null,null,"","","","","",""]
[1761,null,null,"",null," ",null,false,null,null,"",null,null,"",null,null,"","","","","","",null,null,"","","","","",""]
[1762,null,null,"",null," ",null,false,null,null,"",null,null,"",null,null,"","","","","","",null,null,"","","","","",""]
[1763,null,null,"",null," ",null,false,null,null,"",null,null,"",null,null,"","","","","","",null,null,"","","","","",""]
[1764,null,null,"",null," ",null,false,null,null,"",null,null,"",null,null,"","","","","","",null,null,"","","","","",""]
[1765,null,null,"",null," ",null,false,null,null,"",null,null,"",null,null,"","","","","","",null,null,"","","","","",""]
[1766,null,null,"",null," ",null,false,null,null,"",null,null,"",null,null,"","","","","","",null,null,"","","","","",""]
[1767,null,null,"",null," ",null,false,null,null,"",null,null,"",null,null,"","","","","","",null,null,"","","","","",""]
[1768,null,null,"",null," ",null,false,null,null,"",null,null,"",null,null,"","","","","","",null,null,"","","","","",""]
[1769,null,null,"",null," ",null,false,null,null,"",null,null,"",null,null,"","","","","","",null,null,"","","","","",""]
[1770,null,null,"",null," ",null,false,null,null,"",null,null,"",null,null,"","","","","","",null,null,"","","","","",""]
[1771,null,null,"",null," ",null,false,null,null,"",null,null,"",null,null,"","","","","","",null,null,"","","","","",""]
[1772,null,null,"",null," ",null,false,null,null,"",null,null,"",null,null,"","","","","","",null,null,"","","","","",""]
[1773,null,null,{"$f":"IF(H1790,IF(C1790=1,\"Red\",IF(C1790=2,\"Yellow\",IF(C1790=3,\"Green\",\"No Flag\"))),\"\")","v":""},null,{"$f":"B1790& \" \"&E1790","v":" "},null,{"$f":"AND(G1790>=2,J1790<>\"\",M1790<>\"\",NOT(OR(AND(G1790=1,G1791=2),AND(G1790=2,G1791=3))))","v":false},null,null,{"$f":"IF(J1790<>\"\",LocateDate(J1790),\"\")","v":""},null,null,{"$f":"LocateDate(M1790)","v":""},null,null,{"$f":"IF(H1790,IF(AND($P1790=0,$J1790>Baseline),1,0),\"\")","v":""},{"$f":"IF(H1790,IF(AND($P1790<1,$J1790<=Baseline, $M1790<Baseline),1,0),\"\")","v":""},{"$f":"IF(H1790,IF(AND($P1790<1,$P1790>=0,$M1790>=Baseline),1,0),\"\")","v":""},{"$f":"IF(H1790,IF($P1790>=1,1,0),\"\")","v":""},{"$f":"IF(H1790,IF(SUM(Q1790:T1790)=0,1,0),\"\")","v":""},{"$f":"IF(H1790,IF(Q1790,$Q$17,IF(R1790,$R$17,IF(S1790,$S$17,IF(T1790,$T$17,IF(U1790,$U$17,\"\"))))),\"\")","v":""},null,null,{"$f":"IF(H1790,W1790,\"\")","v":""},{"$f":"IF(H1790,X1790,\"\")","v":""},{"$f":"IF(H1790,IF(W1790<>\"\",X1790/W1790,\"\"),\"\")","v":""},{"$f":"IF(H1790,IF(AND(M1790>=Baseline,J1790<=Baseline),(Baseline-J1790)/(M1790-J1790+1),IF(M1790<=Baseline,1,0)),\"\")","v":""},{"$f":"IF(H1790,AB1790*W1790,\"\")","v":""},{"$f":"IF(H1790,IF(AND(X1790<=AC1790,AA1790>0),\"Under-Spending\",IF(X1790>AC1790,\"Over-Spending\",IF(AA1790=0,\"Not Started\",\"\"))),\"\")","v":""}]
[1774,null,null,"",null," ",null,false,null,null,"",null,null,"",null,null,"","","","","","",null,null,"","","","","",""]
[1775,null,null,"",null," ",null,false,null,null,"",null,null,"",null,null,"","","","","","",null,null,"","","","","",""]
[1776,null,null,"",null," ",null,false,null,null,"",null,null,"",null,null,"","","","","","",null,null,"","","","","",""]
[1777,null,null,"",null," ",null,false,null,null,"",null,null,"",null,null,"","","","","","",null,null,"","","","","",""]
[1778,null,null,"",null," ",null,false,null,null,"",null,null,"",null,null,"","","","","","",null,null,"","","","","",""]
[1779,null,null,"",null," ",null,false,null,null,"",null,null,"",null,null,"","","","","","",null,null,"","","","","",""]
[1780,null,null,"",null," ",null,false,null,null,"",null,null,"",null,null,"","","","","","",null,null,"","","","","",""]
[1781,null,null,"",null," ",null,false,null,null,"",null,null,"",null,null,"","","","","","",null,null,"","","","","",""]
[1782,null,null,"",null," ",null,false,null,null,"",null,null,"",null,null,"","","","","","",null,null,"","","","","",""]
[1783,null,null,"",null," ",null,false,null,null,"",null,null,"",null,null,"","","","","","",null,null,"","","","","",""]
[1784,null,null,"",null," ",null,false,null,null,"",null,null,"",null,null,"","","","","","",null,null,"","","","","",""]
[1785,null,null,"",null," ",null,false,null,null,"",null,null,"",null,null,"","","","","","",null,null,"","","","","",""]
[1786,null,null,"",null," ",null,false,null,null,"",null,null,"",null,null,"","","","","","",null,null,"","","","","",""]
[1787,null,null,"",null," ",null,false,null,null,"",null,null,"",null,null,"","","","","","",null,null,"","","","","",""]
[1788,null,null,"",null," ",null,false,null,null,"",null,null,"",null,null,"","","","","","",null,null,"","","","","",""]
[1789,null,null,"",null," ",null,false,null,null,"",null,null,"",null,null,"","","","","","",null,null,"","","","","",""]
[1790,null,null,"",null," ",null,false,null,null,"",null,null,"",null,null,"","","","","","",null,null,"","","","","",""]
[1791,null,null,"",null," ",null,false,null,null,"",null,null,"",null,null,"","","","","","",null,null,"","","","","",""]
[1792,null,null,"",null," ",null,false,null,null,"",null,null,"",null,null,"","","","","","",null,null,"","","","","",""]
[1793,null,null,"",null," ",null,false,null,null,"",null,null,"",null,null,"","","","","","",null,null,"","","","","",""]
[1794,null,null,"",null," ",null,false,null,null,"",null,null,"",null,null,"","","","","","",null,null,"","","","","",""]
[1795,null,null,"",null," ",null,false,null,null,"",null,null,"",null,null,"","","","","","",null,null,"","","","","",""]
[1796,null,null,"",null," ",null,false,null,null,"",null,null,"",null,null,"","","","","","",null,null,"","","","","",""]
[1797,null,null,"",null," ",null,false,null,null,"",null,null,"",null,null,"","","","","","",null,null,"","","","","",""]
[1798,null,null,"",null," ",null,false,null,null,"",null,null,"",null,null,"","","","","","",null,null,"","","","","",""]
[1799,null,null,"",null," ",null,false,null,null,"",null,null,"",null,null,"","","","","","",null,null,"","","","","",""]
[1800,null,null,"",null," ",null,false,null,null,"",null,null,"",null,null,"","","","","","",null,null,"","","","","",""]
[1801,null,null,"",null," ",null,false,null,null,"",null,null,"",null,null,"","","","","","",null,null,"","","","","",""]
[1802,null,null,"",null," ",null,false,null,null,"",null,null,"",null,null,"","","","","","",null,null,"","","","","",""]
[1803,null,null,"",null," ",null,false,null,null,"",null,null,"",null,null,"","","","","","",null,null,"","","","","",""]
[1804,null,null,"",null," ",null,false,null,null,"",null,null,"",null,null,"","","","","","",null,null,"","","","","",""]
[1805,null,null,"",null," ",null,false,null,null,"",null,null,"",null,null,"","","","","","",null,null,"","","","","",""]
[1806,null,null,"",null," ",null,false,null,null,"",null,null,"",null,null,"","","","","","",null,null,"","","","","",""]
[1807,null,null,"",null," ",null,false,null,null,"",null,null,"",null,null,"","","","","","",null,null,"","","","","",""]
[1808,null,null,"",null," ",null,false,null,null,"",null,null,"",null,null,"","","","","","",null,null,"","","","","",""]
[1809,null,null,"",null," ",null,false,null,null,"",null,null,"",null,null,"","","","","","",null,null,"","","","","",""]
[1810,null,null,"",null," ",null,false,null,null,"",null,null,"",null,null,"","","","","","",null,null,"","","","","",""]
[1811,null,null,"",null," ",null,false,null,null,"",null,null,"",null,null,"","","","","","",null,null,"","","","","",""]
[1812,null,null,"",null," ",null,false,null,null,"",null,null,"",null,null,"","","","","","",null,null,"","","","","",""]
[1813,null,null,"",null," ",null,false,null,null,"",null,null,"",null,null,"","","","","","",null,null,"","","","","",""]
[1814,null,null,"",null," ",null,false,null,null,"",null,null,"",null,null,"","","","","","",null,null,"","","","","",""]
[1815,null,null,"",null," ",null,false,null,null,"",null,null,"",null,null,"","","","","","",null,null,"","","","","",""]
[1816,null,null,"",null," ",null,false,null,null,"",null,null,"",null,null,"","","","","","",null,null,"","","","","",""]
[1817,null,null,"",null," ",null,false,null,null,"",null,null,"",null,null,"","","","","","",null,null,"","","","","",""]
[1818,null,null,"",null," ",null,false,null,null,"",null,null,"",null,null,"","","","","","",null,null,"","","","","",""]
[1819,null,null,"",null," ",null,false,null,null,"",null,null,"",null,null,"","","","","","",null,null,"","","","","",""]
[1820,null,null,"",null," ",null,false,null,null,"",null,null,"",null,null,"","","","","","",null,null,"","","","","",""]
[1821,null,null,"",null," ",null,false,null,null,"",null,null,"",null,null,"","","","","","",null,null,"","","","","",""]
[1822,null,null,"",null," ",null,false,null,null,"",null,null,"",null,null,"","","","","","",null,null,"","","","","",""]
[1823,null,null,"",null," ",null,false,null,null,"",null,null,"",null,null,"","","","","","",null,null,"","","","","",""]
[1824,null,null,"",null," ",null,false,null,null,"",null,null,"",null,null,"","","","","","",null,null,"","","","","",""]
[1825,null,null,"",null," ",null,false,null,null,"",null,null,"",null,null,"","","","","","",null,null,"","","","","",""]
[1826,null,null,"",null," ",null,false,null,null,"",null,null,"",null,null,"","","","","","",null,null,"","","","","",""]
[1827,null,null,"",null," ",null,false,null,null,"",null,null,"",null,null,"","","","","","",null,null,"","","","","",""]
[1828,null,null,"",null," ",null,false,null,null,"",null,null,"",null,null,"","","","","","",null,null,"","","","","",""]
[1829,null,null,"",null," ",null,false,null,null,"",null,null,"",null,null,"","","","","","",null,null,"","","","","",""]
[1830,null,null,"",null," ",null,false,null,null,"",null,null,"",null,null,"","","","","","",null,null,"","","","","",""]
[1831,null,null,"",null," ",null,false,null,null,"",null,null,"",null,null,"","","","","","",null,null,"","","","","",""]
[1832,null,null,"",null," ",null,false,null,null,"",null,null,"",null,null,"","","","","","",null,null,"","","","","",""]
[1833,null,null,"",null," ",null,false,null,null,"",null,null,"",null,null,"","","","","","",null,null,"","","","","",""]
[1834,null,null,"",null," ",null,false,null,null,"",null,null,"",null,null,"","","","","","",null,null,"","","","","",""]
[1835,null,null,"",null," ",null,false,null,null,"",null,null,"",null,null,"","","","","","",null,null,"","","","","",""]
[1836,null,null,"",null," ",null,false,null,null,"",null,null,"",null,null,"","","","","","",null,null,"","","","","",""]
[1837,null,null,{"$f":"IF(H1854,IF(C1854=1,\"Red\",IF(C1854=2,\"Yellow\",IF(C1854=3,\"Green\",\"No Flag\"))),\"\")","v":""},null,{"$f":"B1854& \" \"&E1854","v":" "},null,{"$f":"AND(G1854>=2,J1854<>\"\",M1854<>\"\",NOT(OR(AND(G1854=1,G1855=2),AND(G1854=2,G1855=3))))","v":false},null,null,{"$f":"IF(J1854<>\"\",LocateDate(J1854),\"\")","v":""},null,null,{"$f":"LocateDate(M1854)","v":""},null,null,{"$f":"IF(H1854,IF(AND($P1854=0,$J1854>Baseline),1,0),\"\")","v":""},{"$f":"IF(H1854,IF(AND($P1854<1,$J1854<=Baseline, $M1854<Baseline),1,0),\"\")","v":""},{"$f":"IF(H1854,IF(AND($P1854<1,$P1854>=0,$M1854>=Baseline),1,0),\"\")","v":""},{"$f":"IF(H1854,IF($P1854>=1,1,0),\"\")","v":""},{"$f":"IF(H1854,IF(SUM(Q1854:T1854)=0,1,0),\"\")","v":""},{"$f":"IF(H1854,IF(Q1854,$Q$17,IF(R1854,$R$17,IF(S1854,$S$17,IF(T1854,$T$17,IF(U1854,$U$17,\"\"))))),\"\")","v":""},null,null,{"$f":"IF(H1854,W1854,\"\")","v":""},{"$f":"IF(H1854,X1854,\"\")","v":""},{"$f":"IF(H1854,IF(W1854<>\"\",X1854/W1854,\"\"),\"\")","v":""},{"$f":"IF(H1854,IF(AND(M1854>=Baseline,J1854<=Baseline),(Baseline-J1854)/(M1854-J1854+1),IF(M1854<=Baseline,1,0)),\"\")","v":""},{"$f":"IF(H1854,AB1854*W1854,\"\")","v":""},{"$f":"IF(H1854,IF(AND(X1854<=AC1854,AA1854>0),\"Under-Spending\",IF(X1854>AC1854,\"Over-Spending\",IF(AA1854=0,\"Not Started\",\"\"))),\"\")","v":""}]
[1838,null,null,"",null," ",null,false,null,null,"",null,null,"",null,null,"","","","","","",null,null,"","","","","",""]
[1839,null,null,"",null," ",null,false,null,null,"",null,null,"",null,null,"","","","","","",null,null,"","","","","",""]
[1840,null,null,"",null," ",null,false,null,null,"",null,null,"",null,null,"","","","","","",null,null,"","","","","",""]
[1841,null,null,"",null," ",null,false,null,null,"",null,null,"",null,null,"","","","","","",null,null,"","","","","",""]
[1842,null,null,"",null," ",null,false,null,null,"",null,null,"",null,null,"","","","","","",null,null,"","","","","",""]
[1843,null,null,"",null," ",null,false,null,null,"",null,null,"",null,null,"","","","","","",null,null,"","","","","",""]
[1844,null,null,"",null," ",null,false,null,null,"",null,null,"",null,null,"","","","","","",null,null,"","","","","",""]
[1845,null,null,"",null," ",null,false,null,null,"",null,null,"",null,null,"","","","","","",null,null,"","","","","",""]
[1846,null,null,"",null," ",null,false,null,null,"",null,null,"",null,null,"","","","","","",null,null,"","","","","",""]
[1847,null,null,"",null," ",null,false,null,null,"",null,null,"",null,null,"","","","","","",null,null,"","","","","",""]
[1848,null,null,"",null," ",null,false,null,null,"",null,null,"",null,null,"","","","","","",null,null,"","","","","",""]
[1849,null,null,"",null," ",null,false,null,null,"",null,null,"",null,null,"","","","","","",null,null,"","","","","",""]
[1850,null,null,"",null," ",null,false,null,null,"",null,null,"",null,null,"","","","","","",null,null,"","","","","",""]
[1851,null,null,"",null," ",null,false,null,null,"",null,null,"",null,null,"","","","","","",null,null,"","","","","",""]
[1852,null,null,"",null," ",null,false,null,null,"",null,null,"",null,null,"","","","","","",null,null,"","","","","",""]
[1853,null,null,"",null," ",null,false,null,null,"",null,null,"",null,null,"","","","","","",null,null,"","","","","",""]
[1854,null,null,"",null," ",null,false,null,null,"",null,null,"",null,null,"","","","","","",null,null,"","","","","",""]
[1855,null,null,"",null," ",null,false,null,null,"",null,null,"",null,null,"","","","","","",null,null,"","","","","",""]
[1856,null,null,"",null," ",null,false,null,null,"",null,null,"",null,null,"","","","","","",null,null,"","","","","",""]
[1857,null,null,"",null," ",null,false,null,null,"",null,null,"",null,null,"","","","","","",null,null,"","","","","",""]
[1858,null,null,"",null," ",null,false,null,null,"",null,null,"",null,null,"","","","","","",null,null,"","","","","",""]
[1859,null,null,"",null," ",null,false,null,null,"",null,null,"",null,null,"","","","","","",null,null,"","","","","",""]
[1860,null,null,"",null," ",null,false,null,null,"",null,null,"",null,null,"","","","","","",null,null,"","","","","",""]
[1861,null,null,"",null," ",null,false,null,null,"",null,null,"",null,null,"","","","","","",null,null,"","","","","",""]
[1862,null,null,"",null," ",null,false,null,null,"",null,null,"",null,null,"","","","","","",null,null,"","","","","",""]
[1863,null,null,"",null," ",null,false,null,null,"",null,null,"",null,null,"","","","","","",null,null,"","","","","",""]
[1864,null,null,"",null," ",null,false,null,null,"",null,null,"",null,null,"","","","","","",null,null,"","","","","",""]
[1865,null,null,"",null," ",null,false,null,null,"",null,null,"",null,null,"","","","","","",null,null,"","","","","",""]
[1866,null,null,"",null," ",null,false,null,null,"",null,null,"",null,null,"","","","","","",null,null,"","","","","",""]
[1867,null,null,"",null," ",null,false,null,null,"",null,null,"",null,null,"","","","","","",null,null,"","","","","",""]
[1868,null,null,"",null," ",null,false,null,null,"",null,null,"",null,null,"","","","","","",null,null,"","","","","",""]
[1869,null,null,"",null," ",null,false,null,null,"",null,null,"",null,null,"","","","","","",null,null,"","","","","",""]
[1870,null,null,"",null," ",null,false,null,null,"",null,null,"",null,null,"","","","","","",null,null,"","","","","",""]
[1871,null,null,"",null," ",null,false,null,null,"",null,null,"",null,null,"","","","","","",null,null,"","","","","",""]
[1872,null,null,"",null," ",null,false,null,null,"",null,null,"",null,null,"","","","","","",null,null,"","","","","",""]
[1873,null,null,"",null," ",null,false,null,null,"",null,null,"",null,null,"","","","","","",null,null,"","","","","",""]
[1874,null,null,"",null," ",null,false,null,null,"",null,null,"",null,null,"","","","","","",null,null,"","","","","",""]
[1875,null,null,"",null," ",null,false,null,null,"",null,null,"",null,null,"","","","","","",null,null,"","","","","",""]
[1876,null,null,"",null," ",null,false,null,null,"",null,null,"",null,null,"","","","","","",null,null,"","","","","",""]
[1877,null,null,"",null," ",null,false,null,null,"",null,null,"",null,null,"","","","","","",null,null,"","","","","",""]
[1878,null,null,"",null," ",null,false,null,null,"",null,null,"",null,null,"","","","","","",null,null,"","","","","",""]
[1879,null,null,"",null," ",null,false,null,null,"",null,null,"",null,null,"","","","","","",null,null,"","","","","",""]
[1880,null,null,"",null," ",null,false,null,null,"",null,null,"",null,null,"","","","","","",null,null,"","","","","",""]
[1881,null,null,"",null," ",null,false,null,null,"",null,null,"",null,null,"","","","","","",null,null,"","","","","",""]
[1882,null,null,"",null," ",null,false,null,null,"",null,null,"",null,null,"","","","","","",null,null,"","","","","",""]
[1883,null,null,"",null," ",null,false,null,null,"",null,null,"",null,null,"","","","","","",null,null,"","","","","",""]
[1884,null,null,"",null," ",null,false,null,null,"",null,null,"",null,null,"","","","","","",null,null,"","","","","",""]
[1885,null,null,"",null," ",null,false,null,null,"",null,null,"",null,null,"","","","","","",null,null,"","","","","",""]
[1886,null,null,"",null," ",null,false,null,null,"",null,null,"",null,null,"","","","","","",null,null,"","","","","",""]
[1887,null,null,"",null," ",null,false,null,null,"",null,null,"",null,null,"","","","","","",null,null,"","","","","",""]
[1888,null,null,"",null," ",null,false,null,null,"",null,null,"",null,null,"","","","","","",null,null,"","","","","",""]
[1889,null,null,"",null," ",null,false,null,null,"",null,null,"",null,null,"","","","","","",null,null,"","","","","",""]
[1890,null,null,"",null," ",null,false,null,null,"",null,null,"",null,null,"","","","","","",null,null,"","","","","",""]
[1891,null,null,"",null," ",null,false,null,null,"",null,null,"",null,null,"","","","","","",null,null,"","","","","",""]
[1892,null,null,"",null," ",null,false,null,null,"",null,null,"",null,null,"","","","","","",null,null,"","","","","",""]
[1893,null,null,"",null," ",null,false,null,null,"",null,null,"",null,null,"","","","","","",null,null,"","","","","",""]
[1894,null,null,"",null," ",null,false,null,null,"",null,null,"",null,null,"","","","","","",null,null,"","","","","",""]
[1895,null,null,"",null," ",null,false,null,null,"",null,null,"",null,null,"","","","","","",null,null,"","","","","",""]
[1896,null,null,"",null," ",null,false,null,null,"",null,null,"",null,null,"","","","","","",null,null,"","","","","",""]
[1897,null,null,"",null," ",null,false,null,null,"",null,null,"",null,null,"","","","","","",null,null,"","","","","",""]
[1898,null,null,"",null," ",null,false,null,null,"",null,null,"",null,null,"","","","","","",null,null,"","","","","",""]
[1899,null,null,"",null," ",null,false,null,null,"",null,null,"",null,null,"","","","","","",null,null,"","","","","",""]
[1900,null,null,"",null," ",null,false,null,null,"",null,null,"",null,null,"","","","","","",null,null,"","","","","",""]
[1901,null,null,{"$f":"IF(H1918,IF(C1918=1,\"Red\",IF(C1918=2,\"Yellow\",IF(C1918=3,\"Green\",\"No Flag\"))),\"\")","v":""},null,{"$f":"B1918& \" \"&E1918","v":" "},null,{"$f":"AND(G1918>=2,J1918<>\"\",M1918<>\"\",NOT(OR(AND(G1918=1,G1919=2),AND(G1918=2,G1919=3))))","v":false},null,null,{"$f":"IF(J1918<>\"\",LocateDate(J1918),\"\")","v":""},null,null,{"$f":"LocateDate(M1918)","v":""},null,null,{"$f":"IF(H1918,IF(AND($P1918=0,$J1918>Baseline),1,0),\"\")","v":""},{"$f":"IF(H1918,IF(AND($P1918<1,$J1918<=Baseline, $M1918<Baseline),1,0),\"\")","v":""},{"$f":"IF(H1918,IF(AND($P1918<1,$P1918>=0,$M1918>=Baseline),1,0),\"\")","v":""},{"$f":"IF(H1918,IF($P1918>=1,1,0),\"\")","v":""},{"$f":"IF(H1918,IF(SUM(Q1918:T1918)=0,1,0),\"\")","v":""},{"$f":"IF(H1918,IF(Q1918,$Q$17,IF(R1918,$R$17,IF(S1918,$S$17,IF(T1918,$T$17,IF(U1918,$U$17,\"\"))))),\"\")","v":""},null,null,{"$f":"IF(H1918,W1918,\"\")","v":""},{"$f":"IF(H1918,X1918,\"\")","v":""},{"$f":"IF(H1918,IF(W1918<>\"\",X1918/W1918,\"\"),\"\")","v":""},{"$f":"IF(H1918,IF(AND(M1918>=Baseline,J1918<=Baseline),(Baseline-J1918)/(M1918-J1918+1),IF(M1918<=Baseline,1,0)),\"\")","v":""},{"$f":"IF(H1918,AB1918*W1918,\"\")","v":""},{"$f":"IF(H1918,IF(AND(X1918<=AC1918,AA1918>0),\"Under-Spending\",IF(X1918>AC1918,\"Over-Spending\",IF(AA1918=0,\"Not Started\",\"\"))),\"\")","v":""}]
[1902,null,null,"",null," ",null,false,null,null,"",null,null,"",null,null,"","","","","","",null,null,"","","","","",""]
[1903,null,null,"",null," ",null,false,null,null,"",null,null,"",null,null,"","","","","","",null,null,"","","","","",""]
[1904,null,null,"",null," ",null,false,null,null,"",null,null,"",null,null,"","","","","","",null,null,"","","","","",""]
[1905,null,null,"",null," ",null,false,null,null,"",null,null,"",null,null,"","","","","","",null,null,"","","","","",""]
[1906,null,null,"",null," ",null,false,null,null,"",null,null,"",null,null,"","","","","","",null,null,"","","","","",""]
[1907,null,null,"",null," ",null,false,null,null,"",null,null,"",null,null,"","","","","","",null,null,"","","","","",""]
[1908,null,null,"",null," ",null,false,null,null,"",null,null,"",null,null,"","","","","","",null,null,"","","","","",""]
[1909,null,null,"",null," ",null,false,null,null,"",null,null,"",null,null,"","","","","","",null,null,"","","","","",""]
[1910,null,null,"",null," ",null,false,null,null,"",null,null,"",null,null,"","","","","","",null,null,"","","","","",""]
[1911,null,null,"",null," ",null,false,null,null,"",null,null,"",null,null,"","","","","","",null,null,"","","","","",""]
[1912,null,null,"",null," ",null,false,null,null,"",null,null,"",null,null,"","","","","","",null,null,"","","","","",""]
[1913,null,null,"",null," ",null,false,null,null,"",null,null,"",null,null,"","","","","","",null,null,"","","","","",""]
[1914,null,null,"",null," ",null,false,null,null,"",null,null,"",null,null,"","","","","","",null,null,"","","","","",""]
[1915,null,null,"",null," ",null,false,null,null,"",null,null,"",null,null,"","","","","","",null,null,"","","","","",""]
[1916,null,null,"",null," ",null,false,null,null,"",null,null,"",null,null,"","","","","","",null,null,"","","","","",""]
[1917,null,null,"",null," ",null,false,null,null,"",null,null,"",null,null,"","","","","","",null,null,"","","","","",""]
[1918,null,null,"",null," ",null,false,null,null,"",null,null,"",null,null,"","","","","","",null,null,"","","","","",""]
[1919,null,null,"",null," ",null,false,null,null,"",null,null,"",null,null,"","","","","","",null,null,"","","","","",""]
[1920,null,null,"",null," ",null,false,null,null,"",null,null,"",null,null,"","","","","","",null,null,"","","","","",""]
[1921,null,null,"",null," ",null,false,null,null,"",null,null,"",null,null,"","","","","","",null,null,"","","","","",""]
[1922,null,null,"",null," ",null,false,null,null,"",null,null,"",null,null,"","","","","","",null,null,"","","","","",""]
[1923,null,null,"",null," ",null,false,null,null,"",null,null,"",null,null,"","","","","","",null,null,"","","","","",""]
[1924,null,null,"",null," ",null,false,null,null,"",null,null,"",null,null,"","","","","","",null,null,"","","","","",""]
[1925,null,null,"",null," ",null,false,null,null,"",null,null,"",null,null,"","","","","","",null,null,"","","","","",""]
[1926,null,null,"",null," ",null,false,null,null,"",null,null,"",null,null,"","","","","","",null,null,"","","","","",""]
[1927,null,null,"",null," ",null,false,null,null,"",null,null,"",null,null,"","","","","","",null,null,"","","","","",""]
[1928,null,null,"",null," ",null,false,null,null,"",null,null,"",null,null,"","","","","","",null,null,"","","","","",""]
[1929,null,null,"",null," ",null,false,null,null,"",null,null,"",null,null,"","","","","","",null,null,"","","","","",""]
[1930,null,null,"",null," ",null,false,null,null,"",null,null,"",null,null,"","","","","","",null,null,"","","","","",""]
[1931,null,null,"",null," ",null,false,null,null,"",null,null,"",null,null,"","","","","","",null,null,"","","","","",""]
[1932,null,null,"",null," ",null,false,null,null,"",null,null,"",null,null,"","","","","","",null,null,"","","","","",""]
[1933,null,null,"",null," ",null,false,null,null,"",null,null,"",null,null,"","","","","","",null,null,"","","","","",""]
[1934,null,null,"",null," ",null,false,null,null,"",null,null,"",null,null,"","","","","","",null,null,"","","","","",""]
[1935,null,null,"",null," ",null,false,null,null,"",null,null,"",null,null,"","","","","","",null,null,"","","","","",""]
[1936,null,null,"",null," ",null,false,null,null,"",null,null,"",null,null,"","","","","","",null,null,"","","","","",""]
[1937,null,null,"",null," ",null,false,null,null,"",null,null,"",null,null,"","","","","","",null,null,"","","","","",""]
[1938,null,null,"",null," ",null,false,null,null,"",null,null,"",null,null,"","","","","","",null,null,"","","","","",""]
[1939,null,null,"",null," ",null,false,null,null,"",null,null,"",null,null,"","","","","","",null,null,"","","","","",""]
[1940,null,null,"",null," ",null,false,null,null,"",null,null,"",null,null,"","","","","","",null,null,"","","","","",""]
[1941,null,null,"",null," ",null,false,null,null,"",null,null,"",null,null,"","","","","","",null,null,"","","","","",""]
[1942,null,null,"",null," ",null,false,null,null,"",null,null,"",null,null,"","","","","","",null,null,"","","","","",""]
[1943,null,null,"",null," ",null,false,null,null,"",null,null,"",null,null,"","","","","","",null,null,"","","","","",""]
[1944,null,null,"",null," ",null,false,null,null,"",null,null,"",null,null,"","","","","","",null,null,"","","","","",""]
[1945,null,null,"",null," ",null,false,null,null,"",null,null,"",null,null,"","","","","","",null,null,"","","","","",""]
[1946,null,null,"",null," ",null,false,null,null,"",null,null,"",null,null,"","","","","","",null,null,"","","","","",""]
[1947,null,null,"",null," ",null,false,null,null,"",null,null,"",null,null,"","","","","","",null,null,"","","","","",""]
[1948,null,null,"",null," ",null,false,null,null,"",null,null,"",null,null,"","","","","","",null,null,"","","","","",""]
[1949,null,null,"",null," ",null,false,null,null,"",null,null,"",null,null,"","","","","","",null,null,"","","","","",""]
[1950,null,null,"",null," ",null,false,null,null,"",null,null,"",null,null,"","","","","","",null,null,"","","","","",""]
[1951,null,null,"",null," ",null,false,null,null,"",null,null,"",null,null,"","","","","","",null,null,"","","","","",""]
[1952,null,null,"",null," ",null,false,null,null,"",null,null,"",null,null,"","","","","","",null,null,"","","","","",""]
[1953,null,null,"",null," ",null,false,null,null,"",null,null,"",null,null,"","","","","","",null,null,"","","","","",""]
[1954,null,null,"",null," ",null,false,null,null,"",null,null,"",null,null,"","","","","","",null,null,"","","","","",""]
[1955,null,null,"",null," ",null,false,null,null,"",null,null,"",null,null,"","","","","","",null,null,"","","","","",""]
[1956,null,null,"",null," ",null,false,null,null,"",null,null,"",null,null,"","","","","","",null,null,"","","","","",""]
[1957,null,null,"",null," ",null,false,null,null,"",null,null,"",null,null,"","","","","","",null,null,"","","","","",""]
[1958,null,null,"",null," ",null,false,null,null,"",null,null,"",null,null,"","","","","","",null,null,"","","","","",""]
[1959,null,null,"",null," ",null,false,null,null,"",null,null,"",null,null,"","","","","","",null,null,"","","","","",""]
[1960,null,null,"",null," ",null,false,null,null,"",null,null,"",null,null,"","","","","","",null,null,"","","","","",""]
[1961,null,null,"",null," ",null,false,null,null,"",null,null,"",null,null,"","","","","","",null,null,"","","","","",""]
[1962,null,null,"",null," ",null,false,null,null,"",null,null,"",null,null,"","","","","","",null,null,"","","","","",""]
[1963,null,null,"",null," ",null,false,null,null,"",null,null,"",null,null,"","","","","","",null,null,"","","","","",""]
[1964,null,null,"",null," ",null,false,null,null,"",null,null,"",null,null,"","","","","","",null,null,"","","","","",""]
[1965,null,null,{"$f":"IF(H1982,IF(C1982=1,\"Red\",IF(C1982=2,\"Yellow\",IF(C1982=3,\"Green\",\"No Flag\"))),\"\")","v":""},null,{"$f":"B1982& \" \"&E1982","v":" "},null,{"$f":"AND(G1982>=2,J1982<>\"\",M1982<>\"\",NOT(OR(AND(G1982=1,G1983=2),AND(G1982=2,G1983=3))))","v":false},null,null,{"$f":"IF(J1982<>\"\",LocateDate(J1982),\"\")","v":""},null,null,{"$f":"LocateDate(M1982)","v":""},null,null,{"$f":"IF(H1982,IF(AND($P1982=0,$J1982>Baseline),1,0),\"\")","v":""},{"$f":"IF(H1982,IF(AND($P1982<1,$J1982<=Baseline, $M1982<Baseline),1,0),\"\")","v":""},{"$f":"IF(H1982,IF(AND($P1982<1,$P1982>=0,$M1982>=Baseline),1,0),\"\")","v":""},{"$f":"IF(H1982,IF($P1982>=1,1,0),\"\")","v":""},{"$f":"IF(H1982,IF(SUM(Q1982:T1982)=0,1,0),\"\")","v":""},{"$f":"IF(H1982,IF(Q1982,$Q$17,IF(R1982,$R$17,IF(S1982,$S$17,IF(T1982,$T$17,IF(U1982,$U$17,\"\"))))),\"\")","v":""},null,null,{"$f":"IF(H1982,W1982,\"\")","v":""},{"$f":"IF(H1982,X1982,\"\")","v":""},{"$f":"IF(H1982,IF(W1982<>\"\",X1982/W1982,\"\"),\"\")","v":""},{"$f":"IF(H1982,IF(AND(M1982>=Baseline,J1982<=Baseline),(Baseline-J1982)/(M1982-J1982+1),IF(M1982<=Baseline,1,0)),\"\")","v":""},{"$f":"IF(H1982,AB1982*W1982,\"\")","v":""},{"$f":"IF(H1982,IF(AND(X1982<=AC1982,AA1982>0),\"Under-Spending\",IF(X1982>AC1982,\"Over-Spending\",IF(AA1982=0,\"Not Started\",\"\"))),\"\")","v":""}]
[1966,null,null,"",null," ",null,false,null,null,"",null,null,"",null,null,"","","","","","",null,null,"","","","","",""]
[1967,null,null,"",null," ",null,false,null,null,"",null,null,"",null,null,"","","","","","",null,null,"","","","","",""]
[1968,null,null,"",null," ",null,false,null,null,"",null,null,"",null,null,"","","","","","",null,null,"","","","","",""]
[1969,null,null,"",null," ",null,false,null,null,"",null,null,"",null,null,"","","","","","",null,null,"","","","","",""]
[1970,null,null,"",null," ",null,false,null,null,"",null,null,"",null,null,"","","","","","",null,null,"","","","","",""]
[1971,null,null,"",null," ",null,false,null,null,"",null,null,"",null,null,"","","","","","",null,null,"","","","","",""]
[1972,null,null,"",null," ",null,false,null,null,"",null,null,"",null,null,"","","","","","",null,null,"","","","","",""]
[1973,null,null,"",null," ",null,false,null,null,"",null,null,"",null,null,"","","","","","",null,null,"","","","","",""]
[1974,null,null,"",null," ",null,false,null,null,"",null,null,"",null,null,"","","","","","",null,null,"","","","","",""]
[1975,null,null,"",null," ",null,false,null,null,"",null,null,"",null,null,"","","","","","",null,null,"","","","","",""]
[1976,null,null,"",null," ",null,false,null,null,"",null,null,"",null,null,"","","","","","",null,null,"","","","","",""]
[1977,null,null,"",null," ",null,false,null,null,"",null,null,"",null,null,"","","","","","",null,null,"","","","","",""]
[1978,null,null,"",null," ",null,false,null,null,"",null,null,"",null,null,"","","","","","",null,null,"","","","","",""]
[1979,null,null,"",null," ",null,false,null,null,"",null,null,"",null,null,"","","","","","",null,null,"","","","","",""]
[1980,null,null,"",null," ",null,false,null,null,"",null,null,"",null,null,"","","","","","",null,null,"","","","","",""]
[1981,null,null,"",null," ",null,false,null,null,"",null,null,"",null,null,"","","","","","",null,null,"","","","","",""]
[1982,null,null,"",null," ",null,false,null,null,"",null,null,"",null,null,"","","","","","",null,null,"","","","","",""]
[1983,null,null,"",null," ",null,false,null,null,"",null,null,"",null,null,"","","","","","",null,null,"","","","","",""]
[1984,null,null,"",null," ",null,false,null,null,"",null,null,"",null,null,"","","","","","",null,null,"","","","","",""]
[1985,null,null,"",null," ",null,false,null,null,"",null,null,"",null,null,"","","","","","",null,null,"","","","","",""]
[1986,null,null,"",null," ",null,false,null,null,"",null,null,"",null,null,"","","","","","",null,null,"","","","","",""]
[1987,null,null,"",null," ",null,false,null,null,"",null,null,"",null,null,"","","","","","",null,null,"","","","","",""]
[1988,null,null,"",null," ",null,false,null,null,"",null,null,"",null,null,"","","","","","",null,null,"","","","","",""]
[1989,null,null,"",null," ",null,false,null,null,"",null,null,"",null,null,"","","","","","",null,null,"","","","","",""]
[1990,null,null,"",null," ",null,false,null,null,"",null,null,"",null,null,"","","","","","",null,null,"","","","","",""]
[1991,null,null,"",null," ",null,false,null,null,"",null,null,"",null,null,"","","","","","",null,null,"","","","","",""]
[1992,null,null,"",null," ",null,false,null,null,"",null,null,"",null,null,"","","","","","",null,null,"","","","","",""]
[1993,null,null,"",null," ",null,false,null,null,"",null,null,"",null,null,"","","","","","",null,null,"","","","","",""]
[1994,null,null,"",null," ",null,false,null,null,"",null,null,"",null,null,"","","","","","",null,null,"","","","","",""]
[1995,null,null,"",null," ",null,false,null,null,"",null,null,"",null,null,"","","","","","",null,null,"","","","","",""]
[1996,null,null,"",null," ",null,false,null,null,"",null,null,"",null,null,"","","","","","",null,null,"","","","","",""]
[1997,null,null,"",null," ",null,false,null,null,"",null,null,"",null,null,"","","","","","",null,null,"","","","","",""]
[1998,null,null,"",null," ",null,false,null,null,"",null,null,"",null,null,"","","","","","",null,null,"","","","","",""]
[1999,null,null,"",null," ",null,false,null,null,"",null,null,"",null,null,"","","","","","",null,null,"","","","","",""]
[2000,null,null,"",null," ",null,false,null,null,"",null,null,"",null,null,"","","","","","",null,null,"","","","","",""]

{"sheet":"TranslationTable","index":5,"n_rows":371,"n_cols":19,"rows_kept":371,"cut":false,"hidden":true,"merged":[[17,4,17,5],[17,6,17,7],[17,14,17,18]]}
["Translation Table"]
[]
["Language Table"]
["English",9]
["French",10]
["Spanish",11]
["German",12]
["Portuguese",13]
["Dutch",14]
[]
[]
[]
[]
[]
["Current Language",10]
[]
[]
["Translation Table",null,null,null,"Dynamic",null,"Static",null,null,null,null,null,null,null,"Spell check"]
["Category","Object Type","Object Name","Sheet","Cell ROW","Cell Column","Cell ROW","Cell Column","English","French","Spanish","German","Portuguese","Dutch","ID","Spanish","German","Portuguese","Dutch"]
["Left Panel","Text Box","left_panel_1","Gantt",null,null,null,null,"Starting Date","Date de départ","Fecha de inicio","Anfangsdatum","Data de Início","Begindatum",1,"OK","OK","OK","OK"]
["Left Panel","Text Box","left_panel_2","Gantt",null,null,null,null,"Select the starting date of the gantt chart","Veuillez choisir la date à laquelle le diagramme doit démarrer","Seleccione la fecha de inicio del diagrama de Gantt","Wählen Sie das Startdatum des Gantt-Diagramms","Selecione a data de início do gráfico de Gantt","Kies de begindatum van de Gantt-grafiek",2,"OK","OK","OK","OK"]
["Left Panel","Text Box","left_panel_3","Gantt",null,null,null,null,"Today","Aujourd'hui","Hoy","Heute","Hoje","Vandaag",3,"OK","OK","OK","OK"]
["Left Panel","Text Box","left_panel_4","Gantt",null,null,null,null,"Auto ","Automatique","Automático","Auto ","Automático","Auto",4,"OK","OK","OK","OK"]
["Left Panel","Text Box","left_panel_5","Gantt",null,null,null,null,"Baseline","Baseline","Baseline","Baseline","Baseline","Baseline",5,"OK","OK","OK","OK"]
["Left Panel","Text Box","left_panel_6","Gantt",null,null,null,null,"Select the date that will be shown with a red line in the gantt chart","Veuillez choisir la date de la ligne rouge","Seleccione la fecha que se mostrará con una línea roja en el gráfico","Wählen Sie das Datum, das mit einer roten Linie in dem Gantt-Diagramm angezeigt wird","Selecione a data que será mostrado com uma linha vermelha no gráfico Gantt","Kies de datum die zal worden getoond met een rode lijn in de Gantt-grafiek",6,"OK","OK","OK","OK"]
["Left Panel","Text Box","left_panel_7","Gantt",null,null,null,null,"Working Days","Jours ouvrés","Días hábiles","Arbeitstage","Dias Úteis","Werkdagen",7,"OK","OK","OK","OK"]
["Left Panel","Text Box","left_panel_8","Gantt",null,null,null,null,"Select the working days that apply for your project","Veuillez choisir les jours ouvrés qui s'appliquent à votre projet","Seleccione los días hábiles que aplican para su proyecto","Wählen Sie die zutreffende Arbeitstage für Ihr Projekt","Selecione os dias úteis que se aplicam ao seu projeto","Kies de werkdagen die van toepassing zijn op je project",8,"OK","OK","OK","OK"]
["Left Panel","Text Box","left_panel_9","Gantt",null,null,null,null,"Week Symbol","Préfixe des semaines","Símbolo de semana","Woche Symbol","Símbolo da semana","Weeksymbool",9,"OK","OK","OK","OK"]
["Left Panel","Text Box","left_panel_10","Gantt",null,null,null,null,"Select how to display week numbers","Veuillez choisir le préfixe utilisé pour les numéros de semaines","Seleccione la presentación de números de la semana","Wählen Sie, wie die Wochennummern angezeigt werden sollen","Escolha como exibir os números da semana","Kies hoe je weeknummers wilt tonen",10,"OK","OK","OK","OK"]
["Left Panel","Text Box","left_panel_11","Gantt",null,null,null,null,"Optional","Optionnel","Opcional","Optional","Opcional","Optioneel",11,"OK","OK","OK","OK"]
["Left Panel","Text Box","left_panel_13","Gantt",null,null,null,null,"Show Budget","Afficher le budget","Mostrar Presupuesto","Budget anzeigen","Mostrar Orçamento","Toon budget",12,"OK","OK","OK","OK"]
["Left Panel","Text Box","left_panel_14","Gantt",null,null,null,null,"Show Flag","Afficher les drapeaux","Mostrar marcas","Flagge zeigen","Mostrar Bandeira","Toon vlag",13,"OK","OK","OK","OK"]
["Left Panel","Text Box","left_panel_15","Gantt",null,null,null,null,"Show Comments","Afficher les commentaires","Mostrar comentarios","Kommentare anzeigen","Mostrar Comentários","Toon opmerkingen",14,"OK","OK","OK","OK"]
["Left Panel","Text Box","left_panel_16","Gantt",null,null,null,null,"Reminder to enable macros at start-up ","Rappel à l'ouverture pour activer les macros","Recordatorio para habilitar las macros al comenzar","Erinnerung, Makros beim Start-up zu ermöglichen ","Lembrete para ativar macros ao iniciar","Herinnering om macro's in te schakelen bij het opstarten",15,"OK","OK","OK","OK"]
["Left Panel","Text Box","left_panel_17","Gantt",null,null,null,null,"Weekend days:","Jours de week-end:","Días de fin de semana:","Wochenendtage:","Dias de fim de semana:","Weekenddagen:",16,"OK","OK","OK","OK"]
["Left Panel","Text Box","left_panel_18","Gantt",null,null,null,null,"First day of the week:","Premier jour de semaine:","Primer día de la semana:","Erster Tag der Woche:","Primeiro dia da semana:","Eerste dag van de week:",17,"OK","OK","OK","OK"]
["Left Panel","Text Box","CF_panel_1","Gantt",null,null,null,null,"Gantt Style","Style du Gantt","Estilo de Gantt","Gantt-Stil","Estilo Gantt","Gantt-stijl",18,"OK","OK","OK","OK"]
["Left Panel","Text Box","CF_panel_2","Gantt",null,null,null,null,"Select the Gantt style you would like to use from the drop-down list","Choisissez le type de couleurs à utiliser pour le diagramme","Seleccione el estilo de Gantt que desea utilizar en la lista desplegable","Wählen Sie das Gantt-Stil aus der Drop-down-Liste, das Sie verwenden möchten","Selecione o estilo Gantt que você gostaria de usar a partir da lista suspensa.","Kies de Gantt-stijl die je wilt gebruiken uit de dropdownlijst",19,"OK","OK","OK","OK"]
["HideValues : Gantt Style","Cell",null,"HideValues",{"$f":"ROW(HideValues!B56)","v":56},{"$f":"COLUMN(HideValues!B56)","v":2},56,2,"Default Colors","Palette par défaut","Paleta predeterminada","Standardfarben","Cores Padrão","Standaardkleuren",20,"OK","OK","OK","OK"]
["HideValues : Gantt Style","Cell",null,"HideValues",{"$f":"ROW(HideValues!B57)","v":57},{"$f":"COLUMN(HideValues!B57)","v":2},57,2,"Blue set","Palette bleue","Paleta de color azul","Blau-Set","Conjunto azul","Blauwe set",21,"OK","OK","OK","OK"]
["HideValues : Gantt Style","Cell",null,"HideValues",{"$f":"ROW(HideValues!B58)","v":58},{"$f":"COLUMN(HideValues!B58)","v":2},58,2,"Purple set","Palette mauve","Paleta de color púrpura","Lila-Set","Conjunto roxo","Paarse set",22,"OK","OK","OK","OK"]
["HideValues : Gantt Style","Cell",null,"HideValues",{"$f":"ROW(HideValues!B59)","v":59},{"$f":"COLUMN(HideValues!B59)","v":2},59,2,"Orange set","Palette orange","Paleta de color naranja","Orange-Set","Conjunto laranja","Oranje set",23,"OK","OK","OK","OK"]
["HideValues : Gantt Style","Cell",null,"HideValues",{"$f":"ROW(HideValues!B60)","v":60},{"$f":"COLUMN(HideValues!B60)","v":2},60,2,"Pink set","Palette rose","Paleta de color rosa","Rosa-Set","Conjunto rosa","Roze set",24,"OK","OK","OK","OK"]
["HideValues : Gantt Style","Cell",null,"HideValues",{"$f":"ROW(HideValues!B61)","v":61},{"$f":"COLUMN(HideValues!B61)","v":2},61,2,"One color per person","Une couleur par personne","Un color por persona","Eine Farbe pro Person","Uma cor por pessoa","Een kleur per persoon",25,"OK","OK","OK","OK"]
["Gantt Chart Titles","Named Range","Title_Planning","Gantt",null,null,null,null,"Schedule","Planning","Horario","Zeitplan","Agenda","Schema",26,"OK","OK","OK","OK"]
["Gantt Chart Titles","Named Range","Title_Leader","Gantt",null,null,null,null,"Leader","Resp.","Líder","Leiter","Líder","Leider",27,"OK","OK","OK","OK"]
["Gantt Chart Titles","Named Range","Title_Color","Gantt",null,null,null,null,"Color","Couleurs","Color","Farbe","Cor","Kleur",28,"OK","OK","OK","OK"]
["Gantt Chart Titles","Named Range","Title_Start","Gantt",null,null,null,null,"Start","Début","Comienzo","Start","Iniciar","Start",29,"OK","OK","OK","OK"]
["Gantt Chart Titles","Named Range","Title_Duration","Gantt",null,null,null,null,"Duration","Durée","Duración","Dauer","Duração","Duur",30,"OK","OK","OK","OK"]
["Gantt Chart Titles","Named Range","Title_Recal_Dur","Gantt",null,null,null,null,"Recal. Dur.","Recal. Dur.","Recal. Dur.","Rückrufe Dauer","Recal. Dur.","Duur herberekenen",31,"OK","OK","OK","OK"]
["Gantt Chart Titles","Named Range","Title_Wdays","Gantt",null,null,null,null,"W.Day","Jours ouvrés","Los días hábiles","W.Day","W.Day","W.Day",32,"OK","OK","OK","OK"]
["Gantt Chart Titles","Named Range","Title_AllDays","Gantt",null,null,null,null,"All.Days","Normal","Todos los Días","All.Days","All.Days","All.Days",33,"OK","OK","OK","OK"]
["Gantt Chart Titles","Named Range","Title_Due","Gantt",null,null,null,null,"Due","Échéance","Terminación ","Fällig","Previsão","Vervaldatum",34,"OK","OK","OK","OK"]
["Gantt Chart Titles","Named Range","Title_Progress","Gantt",null,null,null,null,"Progress","Statut","Estado","Fortschritt","Progresso","Voortgang",35,"OK","OK","OK","OK"]
["Gantt Chart Titles","Named Range","Title_Budget","Gantt",null,null,null,null,"Budget","Budget","Presupuesto","Budget","Orçamento","Budget",36,"OK","OK","OK","OK"]
["Gantt Chart Titles","Named Range","Title_Plan","Gantt",null,null,null,null,"Plan","Estim.","Estimado","Abonnement","Planejar","Schema",37,"OK","OK","OK","OK"]
["Gantt Chart Titles","Named Range","Title_Actual","Gantt",null,null,null,null,"Actual","Réel","Real","Aktuell","Atual","Actuele",38,"OK","OK","OK","OK"]
["Gantt Chart Titles","Named Range","Title_Budget_Perc","Gantt",null,null,null,null,"%","%","%","%","%","%",39,"OK","OK","OK","OK"]
["Gantt Chart Titles","Named Range","Title_Comments","Gantt",null,null,null,null,"Comments","Commentaires","Comentarios","Kommentare","Comentários","Opmerkingen",40,"OK","OK","OK","OK"]
["Gantt Chart Titles","Named Range","Title_Recal_Start","Gantt",null,null,null,null,"Recalculated start","Début Recalculé","Inicio recalculado","Neu berechneter Start","Início recalculado","Herberekend begin",41,"OK","OK","OK","OK"]
["Gantt Chart Titles","Named Range","Title_Recal_End","Gantt",null,null,null,null,"Recalculated end","Fin Recalculée","Final recalculado","Neu berechnete Ende","Final recalculado","Herberekend einde",42,"OK","OK","OK","OK"]
["Gantt Chart Titles (monthly view)","Named Range","Title_Start_W","Gantt",null,null,null,null,{"$f":"I48","v":"Start"},"Début","Comienzo","Start",{"$f":"M48","v":"Iniciar"},"Start",43,"OK","OK","OK","OK"]
["Gantt Chart Titles (monthly view)","Named Range","Title_Duration_W","Gantt",null,null,null,null,"Duration","Durée","Duración","Dauer",{"$f":"M49","v":"Duração"},"Duur",44,"OK","OK","OK","OK"]
["Gantt Chart Titles (monthly view)","Named Range","Title_Wdays_W","Gantt",null,null,null,null,{"$f":"I51","v":"W.Day"},"Jours ouvrés","Los días hábiles","W.Day",{"$f":"M51","v":"W.Day"},"W.Day",45,"OK","OK","OK","OK"]
["Gantt Chart Titles (monthly view)","Named Range","Title_AllDays_W","Gantt",null,null,null,null,"All.Days","Normal","Todos los Días","All.Days",{"$f":"M52","v":"All.Days"},"All.Days",46,"OK","OK","OK","OK"]
["Gantt Chart Titles (monthly view)","Named Range","Title_Due_W","Gantt",null,null,null,null,"Due","Échéance","Terminación ","Fällig",{"$f":"M53","v":"Previsão"},"Vervaldatum",47,"OK","OK","OK","OK"]
["Gantt Chart Titles (monthly view)","Named Range","Title_Progress_W","Gantt",null,null,null,null,"Progress","Statut","Estado","Fortschritt",{"$f":"M54","v":"Progresso"},"Voortgang",48,"OK","OK","OK","OK"]
["Gantt Chart Titles (monthly view)","Named Range","Title_Plan_W","Gantt",null,null,null,null,{"$f":"I56","v":"Plan"},"Estim.","Estimado","Abonnement",{"$f":"M56","v":"Planejar"},"Schema",49,"OK","OK","OK","OK"]
["Gantt Chart Titles (monthly view)","Named Range","Title_Actual_W","Gantt",null,null,null,null,"Actual","Réel","Real","Aktuell",{"$f":"M57","v":"Atual"},"Actuele",50,"OK","OK","OK","OK"]
["Gantt Chart Titles (monthly view)","Named Range","Title_Comments_W","Gantt",null,null,null,null,{"$f":"I59","v":"Comments"},"Commentaires","Comentarios","Kommentare","Comentários","Opmerkingen",51,"OK","OK","OK","OK"]
["Gantt Chart Titles (monthly view)","Named Range","Title_Leader_W","Gantt",null,null,null,null,{"$f":"I46","v":"Leader"},"Resp.","Líder","Leiter",{"$f":"M46","v":"Líder"},"Leider",52,"OK","OK","OK","OK"]
["Gantt Chart Titles (monthly view)","Named Range","Title_Color_W","Gantt",null,null,null,null,"Color","Couleurs","Color","Farbe",{"$f":"M47","v":"Cor"},"Kleur",53,"OK","OK","OK","OK"]
["Duration Type","Named Range","dur_type_d","HideValues",null,null,null,null,"d","j","d","t","d","d",54,"OK","OK","OK","OK"]
["Duration Type","Named Range","dur_type_w","HideValues",null,null,null,null,"w","s","s","w","w","s",55,"OK","OK","OK","OK"]
["Duration Type","Named Range","dur_type_m","HideValues",null,null,null,null,"m","m","m","m","m","m",56,"OK","OK","OK","OK"]
["Gantt Chart Titles","Named Range","Title_Task_Level","Gantt",null,null,null,null,"Task Level","Niv. Taches","Nivel de tareas","Task-Ebene","Nível da Tarefa","Taakniveau",57,"OK","OK","OK","OK"]
["Gantt Chart Titles (monthly view)","Named Range","Title_Task_Level_W","Gantt",null,null,null,null,{"$f":"I76","v":"Task Level"},{"$f":"J76","v":"Niv. Taches"},"Nivel de tareas","Task-Ebene",{"$f":"M76","v":"Nível da Tarefa"},"Taakniveau",58,"OK","OK","OK","OK"]
["Gantt Chart Titles (monthly view)","Named Range","Title_Recal_Dur_W","Gantt",null,null,null,null,{"$f":"I50","v":"Recal. Dur."},{"$f":"J50","v":"Recal. Dur."},"Recal. Dur.","Rückrufe Dauer",{"$f":"M50","v":"Recal. Dur."},"Duur herberekenen",59,"OK","OK","OK","OK"]
["Gantt Chart Titles","Text Box","Gantt_Title1","Gantt",null,null,null,null,"Project Title","Nom du projet","Nombre del proyecto","Projekttitel","Título do projeto","Projecttitel",60,"OK","OK","OK","OK"]
["Gantt Chart Titles","Text Box","Gantt_Title2","Gantt",null,null,null,null,"Subtitle for additional details","Sous-titre pour plus de détails","Subtítulos para detalles adicionales ","Untertitel für weitere Details","Legenda para obter detalhes adicionais","Subtitel voor aanvullende details",61,"OK","OK","OK","OK"]
["Left Menu","Text Box","menu_txt1","Gantt",null,null,null,null,"View","Affichage","Vista","Ansehen","Visão","Bekijken",62,"OK","OK","OK","OK"]
["Left Menu","Text Box","menu_txt5","Gantt",null,null,null,null,"Language","Langue","Idioma","Sprache","Idioma","Taal",63,"OK","OK","OK","OK"]
["View Left Menu","Text Box","expand4_txt","Gantt",null,null,null,null,"Type of view","Type de vue","Tipo de visualización","Art der Ansicht","Tipo de visão","Type weergave",64,"OK","OK","OK","OK"]
["View Left Menu","Text Box","view1_txt","Gantt",null,null,null,null,"Daily","Quotidien","Diario","Täglich","Diário","Dagelijks",65,"OK","OK","OK","OK"]
["View Left Menu","Text Box","view2_txt","Gantt",null,null,null,null,"Weekly","Hebdo.","Semanal","Wöchentlich","Semanal","Wekelijks",66,"OK","OK","OK","OK"]
["View Left Menu","Text Box","view3_txt","Gantt",null,null,null,null,"Monthly","Mensuel","Mensual","Monatlich","Mensal","Maandelijks",67,"OK","OK","OK","OK"]
["Exit Full Screen","Text Box","cancel_full_scr1","Gantt",null,null,null,null,"Exit Full Screen","Quitter le plein écran","Salir de pantalla completa","Vollbild-Modus verlassen","Sair da Tela Cheia","Volledig scherm sluiten",68,"OK","OK","OK","OK"]
["Tools Sheet : Holidays","Cell",null,"Tools",{"$f":"ROW(Tools!$B$9)","v":9},{"$f":"COLUMN(Tools!$B$9)","v":2},9,2,"Bank Holidays & Vacations","Jours de congé","Días feriados y vacaciones","Feiertage & Urlaub","Banco de Feriados e Férias","Bank-feestdagen en vakanties",70,"OK","OK","OK","OK"]
["Tools Sheet : Members","Cell",null,"Tools",{"$f":"ROW(Tools!$D$9)","v":9},{"$f":"COLUMN(Tools!$D$9)","v":4},9,4,"Team Members","Equipe projet","Equipo del proyecto","Team-Mitglieder","Membros da Equipe","Teamleden",71,"OK","OK","OK","OK"]
["Tools Sheet : Members","Cell",null,"Tools",{"$f":"ROW(Tools!$D$10)","v":10},{"$f":"COLUMN(Tools!$D$10)","v":4},10,4,"Short Name","Diminutif","Nombre corto","Kurzname","Abreviação","Korte naam",72,"OK","OK","OK","OK"]
["Tools Sheet : Members","Cell",null,"Tools",{"$f":"ROW(Tools!$E$10)","v":10},{"$f":"COLUMN(Tools!$E$10)","v":5},10,5,"Full Name","Nom complet","Nombre completo","Vollständiger Name","Nome Completo","Volledige naam",73,"OK","OK","OK","OK"]
["Tools Sheet : Members","Cell",null,"Tools",{"$f":"ROW(Tools!$F$10)","v":10},{"$f":"COLUMN(Tools!$F$10)","v":6},10,6,"Company","Entreprise","Empresa","Firma","Empresa","Bedrijf",74,"OK","OK","OK","OK"]
["Tools Sheet : Members","Cell",null,"Tools",{"$f":"ROW(Tools!$G$10)","v":10},{"$f":"COLUMN(Tools!$G$10)","v":7},10,7,"Division","Division","División","Bereich","Divisão","Afdeling",75,"OK","OK","OK","OK"]
["Tools Sheet : Members","Cell",null,"Tools",{"$f":"ROW(Tools!$I$10)","v":10},{"$f":"COLUMN(Tools!$I$10)","v":9},10,9,"Phone","Téléphone","Teléfono","Telefon","Telefone","Telefoon",76,"OK","OK","OK","OK"]
["Tools Sheet : Members","Cell",null,"Tools",{"$f":"ROW(Tools!$J$10)","v":10},{"$f":"COLUMN(Tools!$J$10)","v":10},10,10,{"$f":"I47","v":"Color"},"Couleurs","Color","Farbe","Cor","Kleur",77,"OK","OK","OK","OK"]
["HideValues : First Gantt Date","Cell",null,"HideValues",{"$f":"ROW(HideValues!$B8)","v":8},{"$f":"COLUMN(HideValues!$B8)","v":2},8,2,"January","Janvier","Enero","Januar","Janeiro","Januari",78,"OK","OK","OK","OK"]
["HideValues : First Gantt Date","Cell",null,"HideValues",{"$f":"ROW(HideValues!$B9)","v":9},{"$f":"COLUMN(HideValues!$B9)","v":2},9,2,"February","Février","Febrero","Februar","Fevereiro","Februari",79,"OK","OK","OK","OK"]
["HideValues : First Gantt Date","Cell",null,"HideValues",{"$f":"ROW(HideValues!$B10)","v":10},{"$f":"COLUMN(HideValues!$B10)","v":2},10,2,"March","Mars","Marzo","März","Março","Maart",80,"OK","OK","OK","OK"]
["HideValues : First Gantt Date","Cell",null,"HideValues",{"$f":"ROW(HideValues!$B11)","v":11},{"$f":"COLUMN(HideValues!$B11)","v":2},11,2,"April","Avril","Abril","April","Abril","April",81,"OK","OK","OK","OK"]
["HideValues : First Gantt Date","Cell",null,"HideValues",{"$f":"ROW(HideValues!$B12)","v":12},{"$f":"COLUMN(HideValues!$B12)","v":2},12,2,"May","Mai","Mayo","Mai","Maio","Mei",82,"OK","OK","OK","OK"]
["HideValues : First Gantt Date","Cell",null,"HideValues",{"$f":"ROW(HideValues!$B13)","v":13},{"$f":"COLUMN(HideValues!$B13)","v":2},13,2,"June","Juin","Junio","Juni","Junho","Juni",83,"OK","OK","OK","OK"]
["HideValues : First Gantt Date","Cell",null,"HideValues",{"$f":"ROW(HideValues!$B14)","v":14},{"$f":"COLUMN(HideValues!$B14)","v":2},14,2,"July","Juillet","Julio","Juli","Julho","Juli",84,"OK","OK","OK","OK"]
["HideValues : First Gantt Date","Cell",null,"HideValues",{"$f":"ROW(HideValues!$B15)","v":15},{"$f":"COLUMN(HideValues!$B15)","v":2},15,2,"August","Août","Agosto","August","Agosto","Augustus",85,"OK","OK","OK","OK"]
["HideValues : First Gantt Date","Cell",null,"HideValues",{"$f":"ROW(HideValues!$B16)","v":16},{"$f":"COLUMN(HideValues!$B16)","v":2},16,2,"September","Septembre","Septiembre","September","Setembro","September",86,"OK","OK","OK","OK"]
["HideValues : First Gantt Date","Cell",null,"HideValues",{"$f":"ROW(HideValues!$B17)","v":17},{"$f":"COLUMN(HideValues!$B17)","v":2},17,2,"October","Octobre","Octubre","Oktober","Outubro","Oktober",87,"OK","OK","OK","OK"]
["HideValues : First Gantt Date","Cell",null,"HideValues",{"$f":"ROW(HideValues!$B18)","v":18},{"$f":"COLUMN(HideValues!$B18)","v":2},18,2,"November","Novembre","Noviembre","November","Novembro","November",88,"OK","OK","OK","OK"]
["HideValues : First Gantt Date","Cell",null,"HideValues",{"$f":"ROW(HideValues!$B19)","v":19},{"$f":"COLUMN(HideValues!$B19)","v":2},19,2,"December","Décembre","Diciembre","Dezember","Dezembro","December",89,"OK","OK","OK","OK"]
["HideValues : Working Days","Cell",null,"HideValues",{"$f":"ROW(HideValues!$B45)","v":45},{"$f":"COLUMN(HideValues!$B45)","v":2},45,2,"Working Days Only","Jours ouvrés uniquement","Sólo días hábiles","Nur Arbeitstage","Dias Úteis Apenas","Alleen werkdagen",90,"OK","OK","OK","OK"]
["HideValues : Working Days","Cell",null,"HideValues",{"$f":"ROW(HideValues!$D46)","v":46},{"$f":"COLUMN(HideValues!$B46)","v":2},46,2,"All days worked","Weekend travaillé","todos los días","Alle Arbeitstage","Todos os dias trabalhados","Alle dagen gewerkt",91,"OK","OK","OK","OK"]
["HideValues : Working Days","Cell",null,"HideValues",{"$f":"ROW(HideValues!$D45)","v":45},{"$f":"COLUMN(HideValues!$D45)","v":4},45,4,"Saturday, Sunday","Samedi, dimanche","Sábado, Domingo","Samstag, Sonntag","Sábado, Domingo","Zaterdag, Zondag",92,"OK","OK","OK","OK"]
["HideValues : Working Days","Cell",null,"HideValues",{"$f":"ROW(HideValues!$D46)","v":46},{"$f":"COLUMN(HideValues!$D46)","v":4},46,4,"Sunday, Monday","Dimanche, lundi","Domingo, Lunes","Sonntag, Montag","Domingo, Segunda-feira","Zondag, Maandag",93,"OK","OK","OK","OK"]
["HideValues : Working Days","Cell",null,"HideValues",{"$f":"ROW(HideValues!$D47)","v":47},{"$f":"COLUMN(HideValues!$D47)","v":4},47,4,"Monday, Tuesday","Lundi, mardi","Lunes, Martes","Montag, Dienstag","Segunda-feira, Terça-feira","Maandag, Dinsdag",94,"OK","OK","OK","OK"]
["HideValues : Working Days","Cell",null,"HideValues",{"$f":"ROW(HideValues!$D48)","v":48},{"$f":"COLUMN(HideValues!$D48)","v":4},48,4,"Tuesday, Wednesday","Mardi, mercredi","Martes, Miércoles","Dienstag, Mittwoch","Terça-feira, Quarta-feira","Dinsdag, Woensdag",95,"OK","OK","OK","OK"]
["HideValues : Working Days","Cell",null,"HideValues",{"$f":"ROW(HideValues!$D49)","v":49},{"$f":"COLUMN(HideValues!$D49)","v":4},49,4,"Wednesday, Thursday","Mercredi, jeudi","Miércoles, Jueves","Mittwoch, Donnerstag","Quarta-feira, Quinta-feira","Woensdag, Donderdag",96,"OK","OK","OK","OK"]
["HideValues : Working Days","Cell",null,"HideValues",{"$f":"ROW(HideValues!$D50)","v":50},{"$f":"COLUMN(HideValues!$D50)","v":4},50,4,"Thursday, Friday","Jeudi, vendredi","Jueves, Viernes","Donnerstag, Freitag","Quinta-feira, Sexta-feira","Donderdag, Vrijdag",97,"OK","OK","OK","OK"]
["HideValues : Working Days","Cell",null,"HideValues",{"$f":"ROW(HideValues!$D51)","v":51},{"$f":"COLUMN(HideValues!$D51)","v":4},51,4,"Friday, Saturday","Vendredi, samedi","Viernes, Sábado","Freitag, Samstag","Sexta-feira, Sabado","Vrijdag, Zaterdag",98,"OK","OK","OK","OK"]
["HideValues : Working Days","Cell",null,"HideValues",{"$f":"ROW(HideValues!$D52)","v":52},{"$f":"COLUMN(HideValues!$D52)","v":4},52,4,"Sunday only","Dimanche uniquement","Sólo el Domingo","Nur Sonntag","Apenas domingo","Alleen zondag",99,"OK","OK","OK","OK"]
["HideValues : Working Days","Cell",null,"HideValues",{"$f":"ROW(HideValues!$D53)","v":53},{"$f":"COLUMN(HideValues!$D53)","v":4},53,4,"Monday only","Lundi uniquement","sólo de Lunes","Nur Montag","Apenas segunda-feira","Alleen maandag",100,"OK","OK","OK","OK"]
["HideValues : Working Days","Cell",null,"HideValues",{"$f":"ROW(HideValues!$D54)","v":54},{"$f":"COLUMN(HideValues!$D54)","v":4},54,4,"Tuesday only","Mardi uniquement","Sólo el Martes","Nur Dienstag","Apenas terça-feira","Alleen dinsdag",101,"OK","OK","OK","OK"]
["HideValues : Working Days","Cell",null,"HideValues",{"$f":"ROW(HideValues!$D55)","v":55},{"$f":"COLUMN(HideValues!$D55)","v":4},55,4,"Wednesday only","Mercredi uniquement","Sólo el Miércoles","Nur Mittwoch","Apenas quarta-feira","Alleen woensdag",102,"OK","OK","OK","OK"]
["HideValues : Working Days","Cell",null,"HideValues",{"$f":"ROW(HideValues!$D56)","v":56},{"$f":"COLUMN(HideValues!$D56)","v":4},56,4,"Thursday only","Jeudi uniquement","Sólo el Jueves","Nur Donnerstag","Apenas quinta-feira","Alleen donderdag",103,"OK","OK","OK","OK"]
["HideValues : Working Days","Cell",null,"HideValues",{"$f":"ROW(HideValues!$D57)","v":57},{"$f":"COLUMN(HideValues!$D57)","v":4},57,4,"Friday only","Vendredi uniquement","Sólo el Viernes","Nur Freitag","Apenas sexta-feira","Alleen vrijdag",104,"OK","OK","OK","OK"]
["HideValues : Working Days","Cell",null,"HideValues",{"$f":"ROW(HideValues!$D58)","v":58},{"$f":"COLUMN(HideValues!$D58)","v":4},58,4,"Saturday only","Samedi uniquement","Sólo el Sábado","Nur Samstag","Apenas sábado","Alleen zaterdag",105,"OK","OK","OK","OK"]
["HideValues : Working Days","Cell",null,"HideValues",{"$f":"ROW(HideValues!$H45)","v":45},{"$f":"COLUMN(HideValues!$H45)","v":8},45,8,"Monday (ISO 8601)","Lundi (ISO 8601)","Lunes (ISO 8601)","Montag (ISO 8601)","Segunda-feira (ISO 8601)","Maandag (ISO 8601)",106,"OK","OK","OK","OK"]
["HideValues : Working Days","Cell",null,"HideValues",{"$f":"ROW(HideValues!$H46)","v":46},{"$f":"COLUMN(HideValues!$H46)","v":8},46,8,"Monday","Lundi","Lunes","Montag","Segunda-feira","Maandag",107,"OK","OK","OK","OK"]
["HideValues : Working Days","Cell",null,"HideValues",{"$f":"ROW(HideValues!$H47)","v":47},{"$f":"COLUMN(HideValues!$H47)","v":8},47,8,"Tuesday","Mardi","Martes","Dienstag","Terça-feira","Dinsdag",108,"OK","OK","OK","OK"]
["HideValues : Working Days","Cell",null,"HideValues",{"$f":"ROW(HideValues!$H48)","v":48},{"$f":"COLUMN(HideValues!$H48)","v":8},48,8,"Wednesday","Mercredi","Miércoles","Mittwoch","Quarta-feira","Woensdag",109,"OK","OK","OK","OK"]
["HideValues : Working Days","Cell",null,"HideValues",{"$f":"ROW(HideValues!$H49)","v":49},{"$f":"COLUMN(HideValues!$H49)","v":8},49,8,"Thursday","Jeudi","Jueves","Donnerstag","Quinta-feira","Donderdag",110,"OK","OK","OK","OK"]
["HideValues : Working Days","Cell",null,"HideValues",{"$f":"ROW(HideValues!$H50)","v":50},{"$f":"COLUMN(HideValues!$H50)","v":8},50,8,"Friday","Vendredi","Viernes","Freitag","Sexta-feira","Vrijdag",111,"OK","OK","OK","OK"]
["HideValues : Working Days","Cell",null,"HideValues",{"$f":"ROW(HideValues!$H51)","v":51},{"$f":"COLUMN(HideValues!$H51)","v":8},51,8,"Saturday","Samedi","Sábado","Samstag","Sábado","Zaterdag",112,"OK","OK","OK","OK"]
["HideValues : Working Days","Cell",null,"HideValues",{"$f":"ROW(HideValues!$H52)","v":52},{"$f":"COLUMN(HideValues!$H52)","v":8},52,8,"Sunday","Dimanche","Domingo","Sonntag","Domingo","Zondag",113,"OK","OK","OK","OK"]
["HideValues : VBA Budget Warning","Cell",null,"HideValues",{"$f":"ROW(HideValues!$B77)","v":77},{"$f":"COLUMN(HideValues!$B77)","v":2},77,2,"This operation will only hides the budget columns.","Cette opération ne fera que masquer les colonnes liées au budget.","Esta operación sólo oculta las columnas relacionadas con el presupuesto.","Dieser Vorgang wird nur die Budget-Spalten verstecken.","Esta operação só esconde as colunas de orçamento.","Deze handeling zal alleen de budget-kolommen verbergen.",114,"OK","OK","OK","OK"]
["HideValues : VBA Budget Warning","Cell",null,"HideValues",{"$f":"ROW(HideValues!$B78)","v":78},{"$f":"COLUMN(HideValues!$B78)","v":2},78,2,"Please clear all related fields according to your confidentiality policy.","Veuillez supprimer toutes les informations sensibles afin de respecter votre politique de confidentialité interne.","Por favor, elimine toda la información sensible para cumplir con su política de privacidad interna.","Bitte löschen Sie alle verwandten Bereichen entsprechend Ihrer Datenschutzerklärung.","Por favor, limpe todos os campos relacionados de acordo com sua política de confidencialidade.","Gelieve alle gerelateerde velden volgens jouw vertrouwensbeleid te wissen.",115,"OK","OK","OK","OK"]
["HideValues : VBA Budget Warning","Cell",null,"HideValues",{"$f":"ROW(HideValues!$B79)","v":79},{"$f":"COLUMN(HideValues!$B79)","v":2},79,2,"Confidentiality Warning","Message de confidentialité","Advertencia de privacidad","Vertraulichkeit","Aviso de Confidencialidade","Waarschuwing vertrouwelijkheid",116,"OK","OK","OK","OK"]
["HideValues : Delete Warning","Cell",null,"HideValues",{"$f":"ROW(HideValues!$B69)","v":69},{"$f":"COLUMN(HideValues!$B64)","v":2},69,2,"Deleting task(s) ","Suppression de tâches","Eliminación de tareas","Aufgabe(n) löschen ","Excluir tarefa(s)","Taak/taken verwijderen",117,"OK","OK","OK","OK"]
["HideValues : Delete Warning","Cell",null,"HideValues",{"$f":"ROW(HideValues!$B70)","v":70},{"$f":"COLUMN(HideValues!$B70)","v":2},70,2,"Deleting task(s) cannot be cancelled","La suppression de tâche(s) ne peut être annulée","La eliminación de tareas no puede ser cancelada","Gelöschte Aufgaben können nicht storniert werden","Excluir tarefa(s) não pode ser cancelada","Taak/taken verwijderen kan niet worden geannuleerd",118,"OK","OK","OK","OK"]
["HideValues : VBA Send by email","Cell",null,"HideValues",{"$f":"ROW(HideValues!$B64)","v":64},{"$f":"COLUMN(HideValues!$B64)","v":2},64,2,"Pre-fill the recipients","Pré-remplir les destinataires","Completar automaticamente los destinatarios","Die Empfänger vorfüllen","Pré-preencher os destinatários","Ontvangers vooraf invoeren",119,"OK","OK","OK","OK"]
["HideValues : VBA Send by email","Cell",null,"HideValues",{"$f":"ROW(HideValues!$B65)","v":65},{"$f":"COLUMN(HideValues!$B65)","v":2},65,2,"Would you like to pre-fill the recipients from the Project Members List ?","Souhaiteriez-vous pré-remplir les destinataires depuis la liste des membres du projet ?","¿Quiere completar automaticamente los destinatarios de la lista de los miembros del proyecto ?","Möchten Sie die Empfänger aus dem Projekt-Benutzerliste vorfüllen?","Você gostaria de pré-preencher os destinatários da lista de membros do projeto?","Wil je dat de ontvangers uit de ledenlijst van het project vooraf worden ingevuld?",120,"OK","OK","OK","OK"]
["HideValues : VBA Send by email","Cell",null,"HideValues",{"$f":"ROW(HideValues!$B66)","v":66},{"$f":"COLUMN(HideValues!$B66)","v":2},66,2,"[Confidential] Latest update of project schedule","[Confidentiel ] Dernière mise à jour du planning projet","[ Confidencial ] Última actualización del cronograma del proyecto","[Vertraulich] Die neueste Aktualisierung von Projektplan","[Confidencial] Última atualização do cronograma do projeto","[Vertrouwelijk] Nieuwste update van projectschema",121,"OK","OK","OK","OK"]
["Gantt : Get Pro","Text Box","get_pro_txt1","Gantt",null,null,null,null,"Free Version","Version Gratuite","Versión gratuita","Kostenlose Version","Versão Gratuita","Gratis versie",122,"OK","OK","OK","OK"]
["Gantt : Get Pro","Text Box","get_pro_txt2","Gantt",null,null,null,null,"This feature is not available in the free version of the Excel Gantt Chart Maker.","Cette fonctionnalité n'est pas disponible dans la version gratuite du Excel Gantt Chart Maker.","Esta característica no se ofrece en la versión gratuita del Excel Gantt Chart Maker.","Diese Funktion ist in der kostenlosen Version des Excel Gantt Chart Makers nicht verfügbar.","Este recurso não está disponível na versão gratuita do Excel Gantt Chart Maker.","Deze functie is niet beschikbaar in de gratis versie van de Excel Gantt Chart Maker.",123,"OK","OK","OK","OK"]
["Gantt : Get Pro","Text Box","get_pro_txt3","Gantt",null,null,null,null,"Download the PRO version and discover exclusive features.","Téléchargez la version PRO et découvrez une multitudes de fonctions exclusives.","Descargue la versión PRO y descubra las características exclusivas.","Laden Sie die PRO-Version herunter und entdecken Sie exklusive Features.","Faça download da versão PRO e descubra recursos exclusivos.","Download de PRO-versie en ontdek exclusieve functies.",124,"OK","OK","OK","OK"]
["Gantt : Get Pro","Text Box","get_pro_txt4","Gantt",null,null,null,null,"Upgrade to PRO  today !","Téléchargez la version PRO !","Actualice a la versión PRO hoy","Heute auf PRO aktualisieren!","Atualize para PRO  hoje !","Upgrade vandaag nog naar PRO !",125,"OK","OK","OK","OK"]
["Gantt : Get Pro","Text Box","get_pro_txt5","Gantt",null,null,null,null,"Later","Plus tard","Más tarde","Später","Mais tarde","Later",126,"OK","OK","OK","OK"]
["Gantt : rows Limit","Text Box","get_pro_txt6","Gantt",null,null,null,null,"With the STARTER version, you cannot exceed 100 rowss.","Avec la version STARTER, vous ne pouvez pas dépasser 100 lignes.","Con la versión beta gratuita, no puede exceder las 100 filas.","Mit der STARTER-Version können Sie nicht 100 Zeilen überschreiten.","Com a versão de INICIANTE, você não pode exceder 100 linhas.","Met de STARTER-versie heb je niet meer dan 100 rijen tot je beschikking.",127,"OK","OK","OK","OK"]
["Gantt : rows Limit","Text Box","get_pro_txt7","Gantt",null,null,null,null,"Download the PRO version in order to remove this limitation and discover other exclusive features.","Téléchargez la version PRO pour lever cette limitation et découvrir une multitudes d'autres  fonctions exclusives.","Descargue la versión PRO con el fin de eliminar esta limitación y descubrir otras características exclusivas.","Laden Sie die PRO-Version herunter, um diese Einschränkung zu entfernen, und andere exklusive Features zu entdecken.","Faça download da versão PRO, para remover essa limitação e descobrir outros recursos exclusivos.","Download de PRO-versie om deze beperking te verwijderen en ontdek andere exclusieve functies.",128,"OK","OK","OK","OK"]
["Gantt : rows Limit","Text Box","get_pro_txt8","Gantt",null,null,null,null,"Later","Plus tard","Más tarde","Später","Mais tarde","Later",129,"OK","OK","OK","OK"]
["Hyper Link: About - Blog","Hyperlink","about_txt5","Gantt",null,null,null,null,"http://project-lead.eu/gantt-chart-maker/","http://project-lead.eu/diagramme-de-gantt/",{"$f":"I148","v":"http://project-lead.eu/gantt-chart-maker/"},{"$f":"I148","v":"http://project-lead.eu/gantt-chart-maker/"},{"$f":"I148","v":"http://project-lead.eu/gantt-chart-maker/"},{"$f":"I148","v":"http://project-lead.eu/gantt-chart-maker/"},136,"OK","OK","OK","OK"]
["Link to survey","Cell",null,"HideValues",{"$f":"ROW(HideValues!$M106)","v":106},{"$f":"COLUMN(HideValues!$M106)","v":13},106,13,"http://ammaranass.polldaddy.com/s/satisfactionsurvey","http://ammaranass.polldaddy.com/s/enquete-de-satisfaction","http://ammaranass.polldaddy.com/s/satisfactionsurvey","http://ammaranass.polldaddy.com/s/satisfactionsurvey",{"$f":"I149","v":"http://ammaranass.polldaddy.com/s/satisfactionsurvey"},{"$f":"I149","v":"http://ammaranass.polldaddy.com/s/satisfactionsurvey"},137,"OK","OK","OK","OK"]
["Hyper Link: Link to survey (from menu)","Hyperlink","help_txt7","Gantt",null,null,null,null,{"$f":"I149","v":"http://ammaranass.polldaddy.com/s/satisfactionsurvey"},{"$f":"J149","v":"http://ammaranass.polldaddy.com/s/enquete-de-satisfaction"},"http://ammaranass.polldaddy.com/s/satisfactionsurvey","http://ammaranass.polldaddy.com/s/satisfactionsurvey","http://ammaranass.polldaddy.com/s/satisfactionsurvey","http://ammaranass.polldaddy.com/s/satisfactionsurvey",138,"OK","OK","OK","OK"]
["Hyper Link: About - Get your copy","Hyperlink","about_txt10","Gantt",null,null,null,null,{"$f":"$I$148","v":"http://project-lead.eu/gantt-chart-maker/"},{"$f":"$J$148","v":"http://project-lead.eu/diagramme-de-gantt/"},{"$f":"I151","v":"http://project-lead.eu/gantt-chart-maker/"},{"$f":"I151","v":"http://project-lead.eu/gantt-chart-maker/"},"http://project-lead.eu/gantt-chart-maker/","http://project-lead.eu/gantt-chart-maker/",139,"OK","OK","OK","OK"]
["Hyper Link: Help - Support","Hyperlink","help_txt3","Gantt",null,null,null,null,"http://project-lead.eu/support-excel-gantt-chart-maker","http://project-lead.eu/support-diagramme-de-gantt",{"$f":"I152","v":"http://project-lead.eu/support-excel-gantt-chart-maker"},{"$f":"I152","v":"http://project-lead.eu/support-excel-gantt-chart-maker"},"http://project-lead.eu/support-excel-gantt-chart-maker","http://project-lead.eu/support-excel-gantt-chart-maker",140,"OK","OK","OK","OK"]
["Hyper Link: Upgrade to pro pop up - Upgrade","Hyperlink","get_pro_txt4","Gantt",null,null,null,null,{"$f":"$I$148","v":"http://project-lead.eu/gantt-chart-maker/"},{"$f":"$J$148","v":"http://project-lead.eu/diagramme-de-gantt/"},{"$f":"I153","v":"http://project-lead.eu/gantt-chart-maker/"},{"$f":"I153","v":"http://project-lead.eu/gantt-chart-maker/"},"http://project-lead.eu/gantt-chart-maker/","http://project-lead.eu/gantt-chart-maker/",141,"OK","OK","OK","OK"]
["Hyper Link: About - Upgrade to pro","Hyperlink","about_txt9","Gantt",null,null,null,null,{"$f":"$I$148","v":"http://project-lead.eu/gantt-chart-maker/"},{"$f":"$J$148","v":"http://project-lead.eu/diagramme-de-gantt/"},{"$f":"I154","v":"http://project-lead.eu/gantt-chart-maker/"},{"$f":"I154","v":"http://project-lead.eu/gantt-chart-maker/"},"http://project-lead.eu/gantt-chart-maker/","http://project-lead.eu/gantt-chart-maker/",142,"OK","OK","OK","OK"]
["UserForm : Add Tasks","Cell",null,"HideValues",{"$f":"ROW(HideValues!C126)","v":126},{"$f":"COLUMN(HideValues!C126)","v":3},126,3,"Add New Tasks","Ajouter des tâches","Añadir tareas","Fügen Sie neue Aufgaben hinzu","Adicionar Novas Tarefas","Nieuwe taken toevoegen",143,"OK","OK","OK","OK"]
["UserForm : Add Tasks","Cell",null,"HideValues",{"$f":"ROW(HideValues!C127)","v":127},{"$f":"COLUMN(HideValues!C127)","v":3},127,3,"Number of rows: ","Nombre de lignes:","Número de filas:","Anzahl der Zeilen: ","Número de linhas:","Aantal rijen:",144,"OK","OK","OK","OK"]
["UserForm : Add Tasks","Cell",null,"HideValues",{"$f":"ROW(HideValues!C128)","v":128},{"$f":"COLUMN(HideValues!C128)","v":3},128,3,"Location:","Position:","Ubicación:","Position:","Localização:","Locatie:",145,"OK","OK","OK","OK"]
["UserForm : Add Tasks","Cell",null,"HideValues",{"$f":"ROW(HideValues!C129)","v":129},{"$f":"COLUMN(HideValues!C129)","v":3},129,3,"Options:","Options:","Opciones:","Optionen:","Opções:","Opties:",146,"OK","OK","OK","OK"]
["UserForm : Add Tasks","Cell",null,"HideValues",{"$f":"ROW(HideValues!C130)","v":130},{"$f":"COLUMN(HideValues!C130)","v":3},130,3,"Cancel","Annuler","Cancelar","Abbrechen","Cancelar","Annuleren",147,"OK","OK","OK","OK"]
["UserForm : Add Tasks","Cell",null,"HideValues",{"$f":"ROW(HideValues!C131)","v":131},{"$f":"COLUMN(HideValues!C131)","v":3},131,3,"ADD","AJOUTER","ADD","Hinzufügen","ADICIONAR","TOEVOEGEN",148,"OK","OK","OK","OK"]
["UserForm : Add Tasks","Cell",null,"HideValues",{"$f":"ROW(HideValues!C132)","v":132},{"$f":"COLUMN(HideValues!C132)","v":3},132,3,"Below the last row","Après la dernière ligne","Después de la última fila","Unterhalb der letzten Reihe","Abaixo da última linha","Onder de laatste rij",149,"OK","OK","OK","OK"]
["UserForm : Add Tasks","Cell",null,"HideValues",{"$f":"ROW(HideValues!C133)","v":133},{"$f":"COLUMN(HideValues!C133)","v":3},133,3,"Below the selected row","En-dessous de la sélection","Por debajo de la selección","Unterhalb der ausgewählten Zeile","Abaixo da linha selecionada","Onder de geselecteerde rij",150,"OK","OK","OK","OK"]
["UserForm : Add Tasks","Cell",null,"HideValues",{"$f":"ROW(HideValues!C134)","v":134},{"$f":"COLUMN(HideValues!C134)","v":3},134,3,"Above the selected row","Au-dessus de la sélection","Por encima de la selección","Oberhalb der ausgewählten Zeile","Acima da linha selecionada","Boven de geselecteerde rij",151,"OK","OK","OK","OK"]
["UserForm : Add Tasks","Cell",null,"HideValues",{"$f":"ROW(HideValues!C135)","v":135},{"$f":"COLUMN(HideValues!C135)","v":3},135,3,"Include task header","Inclure l'en-tête","Incluir un encabezado","Plankopf einfügen","Incluir cabeçalho na tarefa","Taak-koptekst invoegen",152,"OK","OK","OK","OK"]
["UserForm : Add Tasks","Cell",null,"HideValues",{"$f":"ROW(HideValues!C136)","v":136},{"$f":"COLUMN(HideValues!C136)","v":3},136,3,"Number all the serie","Numéroter la série","Numerar las series","Alle Serien nummerieren","Número de toda a serie","De gehele serie nummeren",153,"OK","OK","OK","OK"]
["UserForm : About","Cell",null,"HideValues",{"$f":"ROW(HideValues!C137)","v":137},{"$f":"COLUMN(HideValues!C137)","v":3},137,3,"About","À propos","Acerca de","Über","Sobre","Over",154,"OK","OK","OK","OK"]
["UserForm : About","Cell",null,"HideValues",{"$f":"ROW(HideValues!C138)","v":138},{"$f":"COLUMN(HideValues!C138)","v":3},138,3,{"$f":"\"You have the version \" & HideValues!$M$114","v":"You have the version 8.4 PRO"},{"$f":"\"Vous avez la version \" & HideValues!$M$114","v":"Vous avez la version 8.4 PRO"},{"$f":"\"Usted tiene la versión \" & HideValues!$M$114","v":"Usted tiene la versión 8.4 PRO"},{"$f":"\"Sie haben die Version \" & HideValues!$M$114","v":"Sie haben die Version 8.4 PRO"},"Você tem a versão 8.2 PRO","Je hebt versie 8.2 PRO",155,"OK","OK","OK","OK"]
["UserForm : About","Cell",null,"HideValues",{"$f":"ROW(HideValues!C139)","v":139},{"$f":"COLUMN(HideValues!C139)","v":3},139,3,"If you received this file from a third party and would like to use it for your own projects, we invite you to purchase your personal copy.","Si vous avez reçu ce fichier d'une tierce personne et souhaitez l'utiliser pour vos projets, nous vous invitons à acquérir votre copie personnelle.\n","Si ha recibido este archivo de alguien y quiere usarlo para sus propios proyectos, puede comprar su copia personal.","Wenn Sie diese Datei von einem Dritten erhalten haben und möchten sie für Ihre eigenen Projekte nutzen, laden wir Sie ein, Ihr persönliches Exemplar zu erwerben.","Se você recebeu este arquivo de um terceiro e gostaria de usá-lo para seus próprios projetos, convidamos a comprar a sua cópia pessoal.","Als je dit bestand hebt ontvangen van een derde partij en het wilt gebruiken voor je eigen projecten, nodigen wij je uit om jouw persoonlijke kopie te kopen.",156,"OK","OK","OK","OK"]
["UserForm : About","Cell",null,"HideValues",{"$f":"ROW(HideValues!C140)","v":140},{"$f":"COLUMN(HideValues!C140)","v":3},140,3,"Upgrade to PRO  today !","Téléchargez la version PRO !","Actualice a la versión PRO hoy","Heute auf PRO aktualisieren!","Atualize para PRO  hoje !","Upgrade vandaag nog naar PRO !",157,"OK","OK","OK","OK"]
["UserForm : About","Cell",null,"HideValues",{"$f":"ROW(HideValues!C141)","v":141},{"$f":"COLUMN(HideValues!C141)","v":3},141,3,"Purchase your own copy","Obtenez votre copie personnelle","Compre su propia copia","Kaufen Sie Ihre eigenen Kopie","Comprar sua própria cópia","Koop je eigen kopie",158,"OK","OK","OK","OK"]
["UserForm : About","Cell",null,"HideValues",{"$f":"ROW(HideValues!C142)","v":142},{"$f":"COLUMN(HideValues!C142)","v":3},142,3,{"$f":"I148","v":"http://project-lead.eu/gantt-chart-maker/"},{"$f":"J148","v":"http://project-lead.eu/diagramme-de-gantt/"},{"$f":"I171","v":"http://project-lead.eu/gantt-chart-maker/"},{"$f":"I171","v":"http://project-lead.eu/gantt-chart-maker/"},{"$f":"I171","v":"http://project-lead.eu/gantt-chart-maker/"},{"$f":"I171","v":"http://project-lead.eu/gantt-chart-maker/"},159,"OK","OK","OK","OK"]
["UserForm : About","Cell",null,"HideValues",{"$f":"ROW(HideValues!C143)","v":143},{"$f":"COLUMN(HideValues!C143)","v":3},143,3,"http://project-lead-eu","http://project-lead-eu","http://project-lead-eu","http://project-lead-eu","Comprar sua própria cópia","Koop je eigen kopie",160,"OK","OK","OK","OK"]
["UserForm : About","Cell",null,"HideValues",{"$f":"ROW(HideValues!C144)","v":144},{"$f":"COLUMN(HideValues!C144)","v":3},144,3,"Add a dependency","Ajouter une dépendance","Agregar dependencia","Abhängigkeit definieren","Adicionar uma dependência","Afhankelijkheid toevoegen",161,"OK","OK","OK","OK"]
["UserForm : About","Cell",null,"HideValues",{"$f":"ROW(HideValues!C145)","v":145},{"$f":"COLUMN(HideValues!C145)","v":3},145,3,"Task 1 (selected task):","Tâche 1 (tâche sélectionnée):","Tarea 1 (tarea seleccionada):","Aufgabe 1 (ausgewählte Aufgabe):","Tarefa 1 (tarefa selecionada):","Taak 1 (geselecteerde taak):",162,"OK","OK","OK","OK"]
["UserForm : About","Cell",null,"HideValues",{"$f":"ROW(HideValues!C146)","v":146},{"$f":"COLUMN(HideValues!C146)","v":3},146,3,"Task 2:","Tâche 2 :","Tarea 2:","Aufgabe 2:","Tarefa 2:","Taak 2:",163,"OK","OK","OK","OK"]
["UserForm : About","Cell",null,"HideValues",{"$f":"ROW(HideValues!C147)","v":147},{"$f":"COLUMN(HideValues!C147)","v":3},147,3,"Type of dependency:","Type de dépendance:","Tipo de dependencia:","Art der Abhängigkeit:","Tipo de dependência:","Soort afhankelijkheid:",164,"OK","OK","OK","OK"]
["UserForm : About","Cell",null,"HideValues",{"$f":"ROW(HideValues!C148)","v":148},{"$f":"COLUMN(HideValues!C148)","v":3},148,3,"Cancel",{"$f":"INDIRECT(ADDRESS(MATCH(I177,$I$20:$I$502,0)+19,10))","v":"Annuler"},{"$f":"INDIRECT(ADDRESS(MATCH(I177,$I$20:$I$502,0)+19,11))","v":"Cancelar"},{"$f":"INDIRECT(ADDRESS(MATCH(I177,$I$20:$I$502,0)+19,12))","v":"Abbrechen"},{"$f":"INDIRECT(ADDRESS(MATCH(I177,$I$20:$I$502,0)+19,13))","v":"Cancelar"},{"$f":"INDIRECT(ADDRESS(MATCH(I177,$I$20:$I$502,0)+19,14))","v":"Annuleren"},165,"OK","OK","OK","OK"]
["UserForm : About","Cell",null,"HideValues",{"$f":"ROW(HideValues!C149)","v":149},{"$f":"COLUMN(HideValues!C149)","v":3},149,3,"Add",{"$f":"INDIRECT(ADDRESS(MATCH(I178,$I$20:$I$502,0)+19,10))","v":"AJOUTER"},{"$f":"INDIRECT(ADDRESS(MATCH(I178,$I$20:$I$502,0)+19,11))","v":"ADD"},{"$f":"INDIRECT(ADDRESS(MATCH(I178,$I$20:$I$502,0)+19,12))","v":"Hinzufügen"},{"$f":"INDIRECT(ADDRESS(MATCH(I178,$I$20:$I$502,0)+19,13))","v":"ADICIONAR"},{"$f":"INDIRECT(ADDRESS(MATCH(I178,$I$20:$I$502,0)+19,14))","v":"TOEVOEGEN"},166,"OK","OK","OK","OK"]
["UserForm : About","Cell",null,"HideValues",{"$f":"ROW(HideValues!C150)","v":150},{"$f":"COLUMN(HideValues!C150)","v":3},150,3,"Task 1 begins after task 2","Tâche 1 commence après la tâche 2","Tarea 1 inicia después de tarea 2","Aufgabe 1 beginnt nach Aufgabe 2","Tarefa 1 começa depois da tarefa 2","Taak 1 begint na taak 2",167,"OK","OK","OK","OK"]
["UserForm : About","Cell",null,"HideValues",{"$f":"ROW(HideValues!C151)","v":151},{"$f":"COLUMN(HideValues!C151)","v":3},151,3,"Task 1 begins with Task 2","Tâche 1 commence avec la tâche 2","Tarea 1 comienza con tarea 2 ","Aufgabe 1 beginnt mit Aufgabe 2","Tarefa 1 começa com Tarefa 2","Taak 1 begint met taak 2",168,"OK","OK","OK","OK"]
["UserForm : About","Cell",null,"HideValues",{"$f":"ROW(HideValues!C152)","v":152},{"$f":"COLUMN(HideValues!C152)","v":3},152,3,"Task 2 begins after task 1","Tâche 2 commence après la tâche 1","Tarea 2 comienza después de tarea 1","Aufgabe 2 beginnt nach Aufgabe 1","Tarefa 2 começa depois da tarefa 1","Taak 2 begint na taak 1",169,"OK","OK","OK","OK"]
["UserForm : About","Cell",null,"HideValues",{"$f":"ROW(HideValues!C153)","v":153},{"$f":"COLUMN(HideValues!C153)","v":3},153,3,"Task 1 in retroplanning with task 2","Tâche 1 en retroplanning avec la tâche 2","Tarea 1 en retroplaneación con tarea 2","Aufgabe 1 in Retroplanning mit Aufgabe 2","Tarefa 1 em planejamento com a tarefa 2","Taak 1 in retroplanning met taak 2",170,"OK","OK","OK","OK"]
["UserForm : About","Cell",null,"HideValues",{"$f":"ROW(HideValues!C154)","v":154},{"$f":"COLUMN(HideValues!C154)","v":3},154,3,"Task 2 in retroplanning with task 1","Tâche 2 en retroplanning avec la tâche 1","Tarea 2 en retroplaneación con tarea 1","Aufgabe 2 in Retroplanning mit Aufgabe 1","Tarefa 2 em planejamento com a tarefa 1","Taak 2 in retroplanning met taak 1",171,"OK","OK","OK","OK"]
["Contextual Menu","Cell",null,"HideValues",{"$f":"ROW(HideValues!$G87)","v":87},{"$f":"COLUMN(HideValues!$G87)","v":7},87,7,"GANTT MENU","MENU GANTT","MENÚ DE GANTT ","GANTT-MENÜ","MENU GANTT","GANTT-MENU",172,"OK","OK","OK","OK"]
["Contextual Menu","Cell",null,"HideValues",{"$f":"ROW(HideValues!$G88)","v":88},{"$f":"COLUMN(HideValues!$G88)","v":7},88,7,"Insert...","Insérer…","Insertar ...","Einfügen...","Inserir...","Invoegen...",173,"OK","OK","OK","OK"]
["Contextual Menu","Cell",null,"HideValues",{"$f":"ROW(HideValues!$G89)","v":89},{"$f":"COLUMN(HideValues!$G89)","v":7},89,7,"Above the selected row","Au-dessus de la sélection","Por encima de la selección","Oberhalb der ausgewählten Zeile","Acima da linha selecionada","Boven de geselecteerde rij",174,"OK","OK","OK","OK"]
["Contextual Menu","Cell",null,"HideValues",{"$f":"ROW(HideValues!$G90)","v":90},{"$f":"COLUMN(HideValues!$G90)","v":7},90,7,"Below the selected row","En-dessous de la sélection","Por debajo de la selección","Unterhalb der ausgewählten Zeile","Abaixo da linha selecionada","Onder de geselecteerde rij",175,"OK","OK","OK","OK"]
["Contextual Menu","Cell",null,"HideValues",{"$f":"ROW(HideValues!$G91)","v":91},{"$f":"COLUMN(HideValues!$G91)","v":7},91,7,"Last in this serie","Après la dernière ligne","Última en esta serie","Zuletzt in dieser Serie","Último desta série","Laatste in deze serie",176,"OK","OK","OK","OK"]
["Contextual Menu","Cell",null,"HideValues",{"$f":"ROW(HideValues!$G92)","v":92},{"$f":"COLUMN(HideValues!$G92)","v":7},92,7,"Delete...","Supprimer…","Eliminar ...","Löschen...","Excluir...","Verwijderen...",177,"OK","OK","OK","OK"]
["Contextual Menu","Cell",null,"HideValues",{"$f":"ROW(HideValues!$G93)","v":93},{"$f":"COLUMN(HideValues!$G93)","v":7},93,7,"Delete the task","Supprimer la tâche","Eliminar tarea","Aufgabenliste löschen","Excluir a tarefa","Verwijder de taak",178,"OK","OK","OK","OK"]
["Contextual Menu","Cell",null,"HideValues",{"$f":"ROW(HideValues!$G94)","v":94},{"$f":"COLUMN(HideValues!$G94)","v":7},94,7,"Delete the serie","Supprimer la série","Eliminar serie","Löschen Sie die Serie","Excluir a série","Verwijder de serie",179,"OK","OK","OK","OK"]
["Contextual Menu","Cell",null,"HideValues",{"$f":"ROW(HideValues!$G95)","v":95},{"$f":"COLUMN(HideValues!$G95)","v":7},95,7,"Modify...","Modifier…","Editar ...","Ändern...","Modificar...","Bewerken...",180,"OK","OK","OK","OK"]
["Contextual Menu","Cell",null,"HideValues",{"$f":"ROW(HideValues!$G96)","v":96},{"$f":"COLUMN(HideValues!$G96)","v":7},96,7,"Demote","Baisser d'un niveau","Bajar","Herabstufen","Rebaixar","Degraderen",181,"OK","OK","OK","OK"]
["Contextual Menu","Cell",null,"HideValues",{"$f":"ROW(HideValues!$G97)","v":97},{"$f":"COLUMN(HideValues!$G97)","v":7},97,7,"Promote","Relever d'un niveau","Elevar ","Werben","Promover","Promoveren",182,"OK","OK","OK","OK"]
["Contextual Menu","Cell",null,"HideValues",{"$f":"ROW(HideValues!$G98)","v":98},{"$f":"COLUMN(HideValues!$G98)","v":7},98,7,"Move up","Déplacer vers le haut","Mover hacia arriba","Aufwärts bewegen","Mover para cima","Omhoog verplaatsen",183,"OK","OK","OK","OK"]
["Contextual Menu","Cell",null,"HideValues",{"$f":"ROW(HideValues!$G99)","v":99},{"$f":"COLUMN(HideValues!$G99)","v":7},99,7,"Move down","Déplacer vers le bas","Mover hacia abajo","Abwärts bewegen","Mover para baixo","Omlaag verplaatsen",184,"OK","OK","OK","OK"]
["Contextual Menu","Cell",null,"HideValues",{"$f":"ROW(HideValues!$G100)","v":100},{"$f":"COLUMN(HideValues!$G100)","v":7},100,7,"Numbering","Numérotation","Numeración","Nummerierung","Numeração","Nummering",185,"OK","OK","OK","OK"]
["Contextual Menu","Cell",null,"HideValues",{"$f":"ROW(HideValues!$G101)","v":101},{"$f":"COLUMN(HideValues!$G101)","v":7},101,7,"View","Affichage","Visualización","Ansehen","Visão","Bekijken",186,"OK","OK","OK","OK"]
["Contextual Menu","Cell",null,"HideValues",{"$f":"ROW(HideValues!$G102)","v":102},{"$f":"COLUMN(HideValues!$G102)","v":7},102,7,"Show daily","Quotidien","Diario","Täglich zeigen","Mostrar diariamente","Toon dagelijks",187,"OK","OK","OK","OK"]
["Contextual Menu","Cell",null,"HideValues",{"$f":"ROW(HideValues!$G103)","v":103},{"$f":"COLUMN(HideValues!$G103)","v":7},103,7,"Show weekly","Hebdomadaire","Semanal","Wöchentlich zeigen","Mostrar semanalmente","Toon wekelijks",188,"OK","OK","OK","OK"]
["Contextual Menu","Cell",null,"HideValues",{"$f":"ROW(HideValues!$G104)","v":104},{"$f":"COLUMN(HideValues!$G104)","v":7},104,7,"Show monthly","Mensuel","Mensual","Monatlich zeigen","Mostrar mensalmente","Toon maandelijks",189,"OK","OK","OK","OK"]
["Contextual Menu","Cell",null,"HideValues",{"$f":"ROW(HideValues!$G105)","v":105},{"$f":"COLUMN(HideValues!$G105)","v":7},105,7,"Show budget","Montrer les budgets","Mostrar los presupuestos","Budget anzeigen","Mostrar Orçamento","Toon budget",190,"OK","OK","OK","OK"]
["Contextual Menu","Cell",null,"HideValues",{"$f":"ROW(HideValues!$G106)","v":106},{"$f":"COLUMN(HideValues!$G106)","v":7},106,7,"Show comments","Montrer les commentaires","Mostrar comentarios","Kommentare anzeigen","Mostrar Comentários","Toon opmerkingen",191,"OK","OK","OK","OK"]
["Contextual Menu","Cell",null,"HideValues",{"$f":"ROW(HideValues!$G107)","v":107},{"$f":"COLUMN(HideValues!$G107)","v":7},107,7,"Tools","Outils","Herramientas","Werkzeuge","Ferramentas","Hulpmiddelen",192,"OK","OK","OK","OK"]
["Contextual Menu","Cell",null,"HideValues",{"$f":"ROW(HideValues!$G108)","v":108},{"$f":"COLUMN(HideValues!$G108)","v":7},108,7,"Update project members","Liste des membres projet","Actualizar los miembros del proyecto","Projektmitglieder aktualisieren","Atualizar membros do projeto","Update projectleden",193,"OK","OK","OK","OK"]
["Contextual Menu","Cell",null,"HideValues",{"$f":"ROW(HideValues!$G109)","v":109},{"$f":"COLUMN(HideValues!$G109)","v":7},109,7,"Update holidays","Mettre à jour congés","Actualizar días de fiesta","Urlaub aktualisieren","Atualizar feriados","Update feestdagen",194,"OK","OK","OK","OK"]
["Contextual Menu","Cell",null,"HideValues",{"$f":"ROW(HideValues!$G110)","v":110},{"$f":"COLUMN(HideValues!$G110)","v":7},110,7,"Refresh Gantt Chart","Rafraîchir le diagramme","Refrescar diagrama de Gantt","Gantt-Diagramm aktualisieren","Atualizar o gráfico Gantt","Gantt-grafiek verversen",195,"OK","OK","OK","OK"]
["Contextual Menu","Cell",null,"HideValues",{"$f":"ROW(HideValues!$G111)","v":111},{"$f":"COLUMN(HideValues!$G111)","v":7},111,7,"Send by email","Envoyer par email","Enviar por correo electrónico","Per E-Mail senden","Enviar por e-mail","Sturen via e-mail",196,"OK","OK","OK","OK"]
["Contextual Menu","Cell",null,"HideValues",{"$f":"ROW(HideValues!$G112)","v":112},{"$f":"COLUMN(HideValues!$G112)","v":7},112,7,"Adjust print margins","Ajuster à l'impression","Ajuste para imprimir","Druckränder einstellen","Ajustar as margens de impressão","Afdrukmarges aanpassen",197,"OK","OK","OK","OK"]
["Contextual Menu","Cell",null,"HideValues",{"$f":"ROW(HideValues!$G113)","v":113},{"$f":"COLUMN(HideValues!$G113)","v":7},113,7,"Satisfaction survey","Enquête de satisfaction","Encuesta de satisfacción","Zufriedenheitsstudie","Pesquisa de satisfação","Tevredenheidsonderzoek",198,"OK","OK","OK","OK"]
["Contextual Menu","Cell",null,"HideValues",{"$f":"ROW(HideValues!$G114)","v":114},{"$f":"COLUMN(HideValues!$G114)","v":7},114,7,"Report an issue","Signaler un problème","Informar de un error","Ein Problem melden","Relatar um problema","Meld een probleem",199,"OK","OK","OK","OK"]
["Contextual Menu","Cell",null,"HideValues",{"$f":"ROW(HideValues!$G115)","v":115},{"$f":"COLUMN(HideValues!$G115)","v":7},115,7,"Help","Aide","Ayuda","Hilfe","Ajuda","Help",200,"OK","OK","OK","OK"]
["Contextual Menu","Cell",null,"HideValues",{"$f":"ROW(HideValues!$G116)","v":116},{"$f":"COLUMN(HideValues!$G116)","v":7},116,7,"About","À propos","Acerca de","Über","Sobre","Over",201,"OK","OK","OK","OK"]
["Contextual Menu","Cell",null,"HideValues",{"$f":"ROW(HideValues!$G117)","v":117},{"$f":"COLUMN(HideValues!$G117)","v":7},117,7,"Customized addition","Ajout personnalisé","Adición personalizada","Kundenspezifischer Zusatz","Adição personalizada","Aangepaste toevoeging",202,"OK","OK","OK","OK"]
["Contextual Menu","Cell",null,"HideValues",{"$f":"ROW(HideValues!$G118)","v":118},{"$f":"COLUMN(HideValues!$G118)","v":7},118,7,"Style","Style","Estilo","Stil","Estilo","Stijl",203,"OK","OK","OK","OK"]
["Contextual Menu","Cell",null,"HideValues",{"$f":"ROW(HideValues!$G119)","v":119},{"$f":"COLUMN(HideValues!$G119)","v":7},119,7,{"$f":"I39","v":"Default Colors"},"Palette par défaut","Paleta predeterminada","Standardfarben","Cores Padrão",{"$f":"INDIRECT(ADDRESS(MATCH(I216,$I$20:$I$502,0)+19,14))","v":"Standaardkleuren"},204,"OK","OK","OK","OK"]
["Contextual Menu","Cell",null,"HideValues",{"$f":"ROW(HideValues!$G120)","v":120},{"$f":"COLUMN(HideValues!$G120)","v":7},120,7,"Blue set","Palette bleue","Paleta de color azul","Blau-Set","Conjunto azul","Blauwe set",205,"OK","OK","OK","OK"]
["Contextual Menu","Cell",null,"HideValues",{"$f":"ROW(HideValues!$G121)","v":121},{"$f":"COLUMN(HideValues!$G121)","v":7},121,7,"Purple set","Palette mauve","Paleta de color púrpura","Lila-Set","Conjunto roxo","Paarse set",206,"OK","OK","OK","OK"]
["Contextual Menu","Cell",null,"HideValues",{"$f":"ROW(HideValues!$G122)","v":122},{"$f":"COLUMN(HideValues!$G122)","v":7},122,7,"Orange set","Palette orange","Paleta de color naranja","Orange-Set","Conjunto laranja","Oranje set",207,"OK","OK","OK","OK"]
["Contextual Menu","Cell",null,"HideValues",{"$f":"ROW(HideValues!$G123)","v":123},{"$f":"COLUMN(HideValues!$G123)","v":7},123,7,"Pink set","Palette rose","Paleta de color rosa","Rosa-Set","Conjunto rosa","Roze set",208,"OK","OK","OK","OK"]
["Contextual Menu","Cell",null,"HideValues",{"$f":"ROW(HideValues!$G124)","v":124},{"$f":"COLUMN(HideValues!$G124)","v":7},124,7,"One color per person","Une couleur par personne","Un color por persona","Eine Farbe pro Person","Uma cor por pessoa","Een kleur per persoon",209,"OK","OK","OK","OK"]
["Contextual Menu","Cell",null,"HideValues",{"$f":"ROW(HideValues!$G125)","v":125},{"$f":"COLUMN(HideValues!$G125)","v":7},125,7,"Dependencies","Dépendances","Dependencias","Abhängigkeiten","Dependências","Afhankelijkheden",210,"OK","OK","OK","OK"]
["Contextual Menu","Cell",null,"HideValues",{"$f":"ROW(HideValues!$G126)","v":126},{"$f":"COLUMN(HideValues!$G126)","v":7},126,7,"Start with previous","Débuter avec précédente","Comenzar con anterior","Beginnen Sie mit früheren","Comece com anterior","Begin met de vorige",211,"OK","OK","OK","OK"]
["Contextual Menu","Cell",null,"HideValues",{"$f":"ROW(HideValues!$G127)","v":127},{"$f":"COLUMN(HideValues!$G127)","v":7},127,7,"Start after previous","Débuter après précédente","Comenzar después de la anterior","Starten Sie nach vorheriger","Iniciar após anterior","Begin na de vorige",212,"OK","OK","OK","OK"]
["Contextual Menu","Cell",null,"HideValues",{"$f":"ROW(HideValues!$G128)","v":128},{"$f":"COLUMN(HideValues!$G128)","v":7},128,7,"Start with next","Débuter avec suivante","Comenzar con la siguiente","Beginnen Sie mit dem nächsten","Comece com o próximo","Begin met de volgende",213,"OK","OK","OK","OK"]
["Contextual Menu","Cell",null,"HideValues",{"$f":"ROW(HideValues!$G129)","v":129},{"$f":"COLUMN(HideValues!$G129)","v":7},129,7,"Start after next","Débuter après suivante","Comenzar después de la siguiente","Starten Sie nach dem nächsten","Comece após o próximo","Begin na de volgende",214,"OK","OK","OK","OK"]
["Contextual Menu","Cell",null,"HideValues",{"$f":"ROW(HideValues!$G130)","v":130},{"$f":"COLUMN(HideValues!$G130)","v":7},130,7,"Customized dependency","Dépendance personnalisée","Dependencia personalizada","Kundenspezifische Abhängigkeit","Dependência personalizada","Aangepaste afhankelijkheid",215,"OK","OK","OK","OK"]
["Contextual Menu","Cell",null,"HideValues",{"$f":"ROW(HideValues!$G131)","v":131},{"$f":"COLUMN(HideValues!$G131)","v":7},131,7,"Retroplanning with previous","Retroplanning avec précédente","Retroplaneación con anterior","Retroplanning mit früheren","Planejar novamente com anterior","Retroplanning met vorige",216,"OK","OK","OK","OK"]
["Contextual Menu","Cell",null,"HideValues",{"$f":"ROW(HideValues!$G132)","v":132},{"$f":"COLUMN(HideValues!$G132)","v":7},132,7,"Retroplanning with next","Retroplanning avec suivante","Retroplaneación con siguiente","Retroplanning mit dem nächsten","Planejar novamente com o próximo","Retroplanning met volgende",217,"OK","OK","OK","OK"]
["Ribbon","Cell",null,"HideValues",{"$f":"ROW(HideValues!$G133)","v":133},{"$f":"COLUMN(HideValues!$G133)","v":7},133,7,"Help",{"$f":"INDIRECT(ADDRESS(MATCH(I230,$I$20:$I$233,0)+19,10))","v":"Aide"},{"$f":"INDIRECT(ADDRESS(MATCH(I230,$I$20:$I$319,0)+19,11))","v":"Ayuda"},{"$f":"INDIRECT(ADDRESS(MATCH(I230,$I$20:$I$330,0)+19,12))","v":"Hilfe"},{"$f":"INDIRECT(ADDRESS(MATCH(I230,$I$20:$I$502,0)+19,13))","v":"Ajuda"},{"$f":"INDIRECT(ADDRESS(MATCH(I230,$I$20:$I$502,0)+19,14))","v":"Help"},218,"OK","OK","OK","OK"]
["Ribbon","Cell",null,"HideValues",{"$f":"ROW(HideValues!K87)","v":87},{"$f":"COLUMN(HideValues!K87)","v":11},87,11,"Controls","Contrôles","Controles","Bedienelemente","Controles","Bediening",219,"OK","OK","OK","OK"]
["Ribbon","Cell",null,"HideValues",{"$f":"ROW(HideValues!K88)","v":88},{"$f":"COLUMN(HideValues!K88)","v":11},88,11,"New Gantt","Nouveau Gantt","Nuevo Gantt","Neues Gantt","Novo Gantt","Nieuwe Gantt",220,"OK","OK","OK","OK"]
["Ribbon","Cell",null,"HideValues",{"$f":"ROW(HideValues!K89)","v":89},{"$f":"COLUMN(HideValues!K89)","v":11},89,11,"Insert","Insérer","Insertar","Einfügen","Inserir","Invoegen",221,"OK","OK","OK","OK"]
["Ribbon","Cell",null,"HideValues",{"$f":"ROW(HideValues!K90)","v":90},{"$f":"COLUMN(HideValues!K90)","v":11},90,11,"Below the selected row","En-dessous de la sélection","Por debajo de la selección","Unterhalb der ausgewählten Zeile","Abaixo da linha selecionada","Onder de geselecteerde rij",222,"OK","OK","OK","OK"]
["Ribbon","Cell",null,"HideValues",{"$f":"ROW(HideValues!K91)","v":91},{"$f":"COLUMN(HideValues!K91)","v":11},91,11,"Above the selected row","Au-dessus de la sélection","Por encima de la selección","Oberhalb der ausgewählten Zeile","Acima da linha selecionada","Boven de geselecteerde rij",223,"OK","OK","OK","OK"]
["Ribbon","Cell",null,"HideValues",{"$f":"ROW(HideValues!K92)","v":92},{"$f":"COLUMN(HideValues!K92)","v":11},92,11,"Last in this serie",{"$f":"INDIRECT(ADDRESS(MATCH(I236,$I$20:$I$502,0)+19,10))","v":"Après la dernière ligne"},{"$f":"INDIRECT(ADDRESS(MATCH(I236,$I$20:$I$502,0)+19,11))","v":"Última en esta serie"},{"$f":"INDIRECT(ADDRESS(MATCH(I236,$I$20:$I$502,0)+19,12))","v":"Zuletzt in dieser Serie"},{"$f":"INDIRECT(ADDRESS(MATCH(I236,$I$20:$I$502,0)+19,13))","v":"Último desta série"},{"$f":"INDIRECT(ADDRESS(MATCH(I236,$I$20:$I$502,0)+19,14))","v":"Laatste in deze serie"},224,"OK","OK","OK","OK"]
["Ribbon","Cell",null,"HideValues",{"$f":"ROW(HideValues!K93)","v":93},{"$f":"COLUMN(HideValues!K93)","v":11},93,11,"Delete","Supprimer","Borrar","Löschen","Excluir","Verwijderen",225,"OK","OK","OK","OK"]
["Ribbon","Cell",null,"HideValues",{"$f":"ROW(HideValues!K94)","v":94},{"$f":"COLUMN(HideValues!K94)","v":11},94,11,"Delete the task",{"$f":"INDIRECT(ADDRESS(MATCH(I238,$I$20:$I$502,0)+19,10))","v":"Supprimer la tâche"},{"$f":"INDIRECT(ADDRESS(MATCH(I238,$I$20:$I$502,0)+19,11))","v":"Eliminar tarea"},{"$f":"INDIRECT(ADDRESS(MATCH(I238,$I$20:$I$502,0)+19,12))","v":"Aufgabenliste löschen"},{"$f":"INDIRECT(ADDRESS(MATCH(I238,$I$20:$I$502,0)+19,13))","v":"Excluir a tarefa"},{"$f":"INDIRECT(ADDRESS(MATCH(I238,$I$20:$I$502,0)+19,14))","v":"Verwijder de taak"},226,"OK","OK","OK","OK"]
["Ribbon","Cell",null,"HideValues",{"$f":"ROW(HideValues!K95)","v":95},{"$f":"COLUMN(HideValues!K95)","v":11},95,11,"Delete the serie",{"$f":"INDIRECT(ADDRESS(MATCH(I239,$I$20:$I$502,0)+19,10))","v":"Supprimer la série"},{"$f":"INDIRECT(ADDRESS(MATCH(I239,$I$20:$I$502,0)+19,11))","v":"Eliminar serie"},{"$f":"INDIRECT(ADDRESS(MATCH(I239,$I$20:$I$502,0)+19,12))","v":"Löschen Sie die Serie"},{"$f":"INDIRECT(ADDRESS(MATCH(I239,$I$20:$I$502,0)+19,13))","v":"Excluir a série"},{"$f":"INDIRECT(ADDRESS(MATCH(I239,$I$20:$I$502,0)+19,14))","v":"Verwijder de serie"},227,"OK","OK","OK","OK"]
["Ribbon","Cell",null,"HideValues",{"$f":"ROW(HideValues!K96)","v":96},{"$f":"COLUMN(HideValues!K96)","v":11},96,11,"Modify","Modifier","Modificar","Ändern","Modificar","Bewerken",228,"OK","OK","OK","OK"]
["Ribbon","Cell",null,"HideValues",{"$f":"ROW(HideValues!K97)","v":97},{"$f":"COLUMN(HideValues!K97)","v":11},97,11,"Demote",{"$f":"INDIRECT(ADDRESS(MATCH(I241,$I$20:$I$502,0)+19,10))","v":"Baisser d'un niveau"},{"$f":"INDIRECT(ADDRESS(MATCH(I241,$I$20:$I$502,0)+19,11))","v":"Bajar"},{"$f":"INDIRECT(ADDRESS(MATCH(I241,$I$20:$I$502,0)+19,12))","v":"Herabstufen"},{"$f":"INDIRECT(ADDRESS(MATCH(I241,$I$20:$I$502,0)+19,13))","v":"Rebaixar"},{"$f":"INDIRECT(ADDRESS(MATCH(I241,$I$20:$I$502,0)+19,14))","v":"Degraderen"},229,"OK","OK","OK","OK"]
["Ribbon","Cell",null,"HideValues",{"$f":"ROW(HideValues!K98)","v":98},{"$f":"COLUMN(HideValues!K98)","v":11},98,11,"Promote",{"$f":"INDIRECT(ADDRESS(MATCH(I242,$I$20:$I$502,0)+19,10))","v":"Relever d'un niveau"},{"$f":"INDIRECT(ADDRESS(MATCH(I242,$I$20:$I$502,0)+19,11))","v":"Elevar "},{"$f":"INDIRECT(ADDRESS(MATCH(I242,$I$20:$I$502,0)+19,12))","v":"Werben"},{"$f":"INDIRECT(ADDRESS(MATCH(I242,$I$20:$I$502,0)+19,13))","v":"Promover"},{"$f":"INDIRECT(ADDRESS(MATCH(I242,$I$20:$I$502,0)+19,14))","v":"Promoveren"},230,"OK","OK","OK","OK"]
["Ribbon","Cell",null,"HideValues",{"$f":"ROW(HideValues!K99)","v":99},{"$f":"COLUMN(HideValues!K99)","v":11},99,11,"Move Up",{"$f":"INDIRECT(ADDRESS(MATCH(I243,$I$20:$I$502,0)+19,10))","v":"Déplacer vers le haut"},{"$f":"INDIRECT(ADDRESS(MATCH(I243,$I$20:$I$502,0)+19,11))","v":"Mover hacia arriba"},{"$f":"INDIRECT(ADDRESS(MATCH(I243,$I$20:$I$502,0)+19,12))","v":"Aufwärts bewegen"},{"$f":"INDIRECT(ADDRESS(MATCH(I243,$I$20:$I$502,0)+19,13))","v":"Mover para cima"},{"$f":"INDIRECT(ADDRESS(MATCH(I243,$I$20:$I$502,0)+19,14))","v":"Omhoog verplaatsen"},231,"OK","OK","OK","OK"]
["Ribbon","Cell",null,"HideValues",{"$f":"ROW(HideValues!K100)","v":100},{"$f":"COLUMN(HideValues!K100)","v":11},100,11,"Move Down",{"$f":"INDIRECT(ADDRESS(MATCH(I244,$I$20:$I$502,0)+19,10))","v":"Déplacer vers le bas"},{"$f":"INDIRECT(ADDRESS(MATCH(I244,$I$20:$I$502,0)+19,11))","v":"Mover hacia abajo"},{"$f":"INDIRECT(ADDRESS(MATCH(I244,$I$20:$I$502,0)+19,12))","v":"Abwärts bewegen"},{"$f":"INDIRECT(ADDRESS(MATCH(I244,$I$20:$I$502,0)+19,13))","v":"Mover para baixo"},{"$f":"INDIRECT(ADDRESS(MATCH(I244,$I$20:$I$502,0)+19,14))","v":"Omlaag verplaatsen"},232,"OK","OK","OK","OK"]
["Ribbon","Cell",null,"HideValues",{"$f":"ROW(HideValues!K101)","v":101},{"$f":"COLUMN(HideValues!K101)","v":11},101,11,"Re-number sub-tasks","Renumérotation des sous-tâches","Numeración de las subtareas","Teilaufgaben erneut nummerieren","Renumerar sub-tarefas","Subtaken opnieuw nummeren",233,"OK","OK","OK","OK"]
["Ribbon","Cell",null,"HideValues",{"$f":"ROW(HideValues!K102)","v":102},{"$f":"COLUMN(HideValues!K102)","v":11},102,11,"View",{"$f":"INDIRECT(ADDRESS(MATCH(I246,$I$20:$I$502,0)+19,10))","v":"Affichage"},{"$f":"INDIRECT(ADDRESS(MATCH(I246,$I$20:$I$502,0)+19,11))","v":"Vista"},{"$f":"INDIRECT(ADDRESS(MATCH(I246,$I$20:$I$502,0)+19,12))","v":"Ansehen"},{"$f":"INDIRECT(ADDRESS(MATCH(I246,$I$20:$I$502,0)+19,13))","v":"Visão"},{"$f":"INDIRECT(ADDRESS(MATCH(I246,$I$20:$I$502,0)+19,14))","v":"Bekijken"},234,"OK","OK","OK","OK"]
["Ribbon","Cell",null,"HideValues",{"$f":"ROW(HideValues!K103)","v":103},{"$f":"COLUMN(HideValues!K103)","v":11},103,11,"Daily","Quotidien","Diario","Täglich","Diário","Dagelijks",235,"OK","OK","OK","OK"]
["Ribbon","Cell",null,"HideValues",{"$f":"ROW(HideValues!K104)","v":104},{"$f":"COLUMN(HideValues!K104)","v":11},104,11,"Weekly","Hebdo.","Semanal","Wöchentlich","Semanal","Wekelijks",236,"OK","OK","OK","OK"]
["Ribbon","Cell",null,"HideValues",{"$f":"ROW(HideValues!K105)","v":105},{"$f":"COLUMN(HideValues!K105)","v":11},105,11,"Monthly","Mensuel","Mensual","Monatlich","Mensal","Maandelijks",237,"OK","OK","OK","OK"]
["Ribbon","Cell",null,"HideValues",{"$f":"ROW(HideValues!K106)","v":106},{"$f":"COLUMN(HideValues!K106)","v":11},106,11,"Starting Date","Date de départ","Fecha de inicio","Anfangsdatum","Data de Início","Begindatum",238,"OK","OK","OK","OK"]
["Ribbon","Cell",null,"HideValues",{"$f":"ROW(HideValues!K107)","v":107},{"$f":"COLUMN(HideValues!K107)","v":11},107,11,"Auto ","Automatique","Automático","Auto ","Automático","Auto",239,"OK","OK","OK","OK"]
["Ribbon","Cell",null,"HideValues",{"$f":"ROW(HideValues!K108)","v":108},{"$f":"COLUMN(HideValues!K108)","v":11},108,11,"Today","Aujourd'hui","Hoy","Heute","Hoje","Vandaag",240,"OK","OK","OK","OK"]
["Ribbon","Cell",null,"HideValues",{"$f":"ROW(HideValues!K109)","v":109},{"$f":"COLUMN(HideValues!K109)","v":11},109,11,"Options","Options","Opciones","Optionen","Opções","Opties",241,"OK","OK","OK","OK"]
["Ribbon","Cell",null,"HideValues",{"$f":"ROW(HideValues!K110)","v":110},{"$f":"COLUMN(HideValues!K110)","v":11},110,11,"Working Days",{"$f":"INDIRECT(ADDRESS(MATCH(I254,$I$20:$I$502,0)+19,10))","v":"Jours ouvrés"},{"$f":"INDIRECT(ADDRESS(MATCH(I254,$I$20:$I$502,0)+19,11))","v":"Días hábiles"},{"$f":"INDIRECT(ADDRESS(MATCH(I254,$I$20:$I$502,0)+19,12))","v":"Arbeitstage"},{"$f":"INDIRECT(ADDRESS(MATCH(I254,$I$20:$I$502,0)+19,13))","v":"Dias Úteis"},{"$f":"INDIRECT(ADDRESS(MATCH(I254,$I$20:$I$502,0)+19,14))","v":"Werkdagen"},242,"OK","OK","OK","OK"]
["Ribbon","Cell",null,"HideValues",{"$f":"ROW(HideValues!K111)","v":111},{"$f":"COLUMN(HideValues!K111)","v":11},111,11,"Working days only",{"$f":"INDIRECT(ADDRESS(MATCH(I255,$I$20:$I$502,0)+19,10))","v":"Jours ouvrés uniquement"},{"$f":"INDIRECT(ADDRESS(MATCH(I255,$I$20:$I$502,0)+19,11))","v":"Sólo días hábiles"},{"$f":"INDIRECT(ADDRESS(MATCH(I255,$I$20:$I$502,0)+19,12))","v":"Nur Arbeitstage"},{"$f":"INDIRECT(ADDRESS(MATCH(I255,$I$20:$I$502,0)+19,13))","v":"Dias Úteis Apenas"},{"$f":"INDIRECT(ADDRESS(MATCH(I255,$I$20:$I$502,0)+19,14))","v":"Alleen werkdagen"},243,"OK","OK","OK","OK"]
["Ribbon","Cell",null,"HideValues",{"$f":"ROW(HideValues!K112)","v":112},{"$f":"COLUMN(HideValues!K112)","v":11},112,11,"All days worked",{"$f":"INDIRECT(ADDRESS(MATCH(I256,$I$20:$I$502,0)+19,10))","v":"Weekend travaillé"},{"$f":"INDIRECT(ADDRESS(MATCH(I256,$I$20:$I$502,0)+19,11))","v":"todos los días"},{"$f":"INDIRECT(ADDRESS(MATCH(I256,$I$20:$I$502,0)+19,12))","v":"Alle Arbeitstage"},{"$f":"INDIRECT(ADDRESS(MATCH(I256,$I$20:$I$502,0)+19,13))","v":"Todos os dias trabalhados"},{"$f":"INDIRECT(ADDRESS(MATCH(I256,$I$20:$I$502,0)+19,14))","v":"Alle dagen gewerkt"},244,"OK","OK","OK","OK"]
["Ribbon","Cell",null,"HideValues",{"$f":"ROW(HideValues!K113)","v":113},{"$f":"COLUMN(HideValues!K113)","v":11},113,11,"Week Symbol",{"$f":"INDIRECT(ADDRESS(MATCH(I257,$I$20:$I$502,0)+19,10))","v":"Préfixe des semaines"},{"$f":"INDIRECT(ADDRESS(MATCH(I257,$I$20:$I$502,0)+19,11))","v":"Símbolo de semana"},{"$f":"INDIRECT(ADDRESS(MATCH(I257,$I$20:$I$502,0)+19,12))","v":"Woche Symbol"},{"$f":"INDIRECT(ADDRESS(MATCH(I257,$I$20:$I$502,0)+19,13))","v":"Símbolo da semana"},{"$f":"INDIRECT(ADDRESS(MATCH(I257,$I$20:$I$502,0)+19,14))","v":"Weeksymbool"},245,"OK","OK","OK","OK"]
["Ribbon","Cell",null,"HideValues",{"$f":"ROW(HideValues!K114)","v":114},{"$f":"COLUMN(HideValues!K114)","v":11},114,11,"Weekend days","Jours de week-end","Días de fin de semana","Wochenendtage","Dias de fim de semana","Weekenddagen",246,"OK","OK","OK","OK"]
["Ribbon","Cell",null,"HideValues",{"$f":"ROW(HideValues!K115)","v":115},{"$f":"COLUMN(HideValues!K115)","v":11},115,11,"Saturday, Sunday",{"$f":"INDIRECT(ADDRESS(MATCH(I259,$I$20:$I$502,0)+19,10))","v":"Samedi, dimanche"},{"$f":"INDIRECT(ADDRESS(MATCH(I259,$I$20:$I$502,0)+19,11))","v":"Sábado, Domingo"},{"$f":"INDIRECT(ADDRESS(MATCH(I259,$I$20:$I$502,0)+19,12))","v":"Samstag, Sonntag"},{"$f":"INDIRECT(ADDRESS(MATCH(I259,$I$20:$I$502,0)+19,13))","v":"Sábado, Domingo"},{"$f":"INDIRECT(ADDRESS(MATCH(I259,$I$20:$I$502,0)+19,14))","v":"Zaterdag, Zondag"},247,"OK","OK","OK","OK"]
["Ribbon","Cell",null,"HideValues",{"$f":"ROW(HideValues!K116)","v":116},{"$f":"COLUMN(HideValues!K116)","v":11},116,11,"Sunday, Monday","Dimanche, lundi","Domingo, Lunes","Sonntag, Montag","Domingo, Segunda-feira","Zondag, Maandag",248,"OK","OK","OK","OK"]
["Ribbon","Cell",null,"HideValues",{"$f":"ROW(HideValues!K117)","v":117},{"$f":"COLUMN(HideValues!K117)","v":11},117,11,"Monday, Tuesday","Lundi, mardi","Lunes, Martes","Montag, Dienstag","Segunda-feira, Terça-feira","Maandag, Dinsdag",249,"OK","OK","OK","OK"]
["Ribbon","Cell",null,"HideValues",{"$f":"ROW(HideValues!K118)","v":118},{"$f":"COLUMN(HideValues!K118)","v":11},118,11,"Tuesday, Wednesday","Mardi, mercredi","Martes, Miércoles","Dienstag, Mittwoch","Terça-feira, Quarta-feira","Dinsdag, Woensdag",250,"OK","OK","OK","OK"]
["Ribbon","Cell",null,"HideValues",{"$f":"ROW(HideValues!K119)","v":119},{"$f":"COLUMN(HideValues!K119)","v":11},119,11,"Wednesday, Thursday","Mercredi, jeudi","Miércoles, Jueves","Mittwoch, Donnerstag","Quarta-feira, Quinta-feira","Woensdag, Donderdag",251,"OK","OK","OK","OK"]
["Ribbon","Cell",null,"HideValues",{"$f":"ROW(HideValues!K120)","v":120},{"$f":"COLUMN(HideValues!K120)","v":11},120,11,"Thursday, Friday","Jeudi, vendredi","Jueves, Viernes","Donnerstag, Freitag","Quinta-feira, Sexta-feira","Donderdag, Vrijdag",252,"OK","OK","OK","OK"]
["Ribbon","Cell",null,"HideValues",{"$f":"ROW(HideValues!K121)","v":121},{"$f":"COLUMN(HideValues!K121)","v":11},121,11,"Friday, Saturday","Vendredi, samedi","Viernes, Sábado","Freitag, Samstag","Sexta-feira, Sabado","Vrijdag, Zaterdag",253,"OK","OK","OK","OK"]
["Ribbon","Cell",null,"HideValues",{"$f":"ROW(HideValues!K122)","v":122},{"$f":"COLUMN(HideValues!K122)","v":11},122,11,"Sunday only","Dimanche uniquement","Sólo el Domingo","Nur Sonntag","Apenas domingo","Alleen zondag",254,"OK","OK","OK","OK"]
["Ribbon","Cell",null,"HideValues",{"$f":"ROW(HideValues!K123)","v":123},{"$f":"COLUMN(HideValues!K123)","v":11},123,11,"Monday only","Lundi uniquement","sólo de Lunes","Nur Montag","Apenas segunda-feira","Alleen maandag",255,"OK","OK","OK","OK"]
["Ribbon","Cell",null,"HideValues",{"$f":"ROW(HideValues!K124)","v":124},{"$f":"COLUMN(HideValues!K124)","v":11},124,11,"Tuesday only","Mardi uniquement","Sólo el Martes","Nur Dienstag","Apenas terça-feira","Alleen dinsdag",256,"OK","OK","OK","OK"]
["Ribbon","Cell",null,"HideValues",{"$f":"ROW(HideValues!K125)","v":125},{"$f":"COLUMN(HideValues!K125)","v":11},125,11,"Wednesday only","Mercredi uniquement","Sólo el Miércoles","Nur Mittwoch","Apenas quarta-feira","Alleen woensdag",257,"OK","OK","OK","OK"]
["Ribbon","Cell",null,"HideValues",{"$f":"ROW(HideValues!K126)","v":126},{"$f":"COLUMN(HideValues!K126)","v":11},126,11,"Thursday only","Jeudi uniquement","Sólo el Jueves","Nur Donnerstag","Apenas quinta-feira","Alleen donderdag",258,"OK","OK","OK","OK"]
["Ribbon","Cell",null,"HideValues",{"$f":"ROW(HideValues!K127)","v":127},{"$f":"COLUMN(HideValues!K127)","v":11},127,11,"Friday only","Vendredi uniquement","Sólo el Viernes","Nur Freitag","Apenas sexta-feira","Alleen vrijdag",259,"OK","OK","OK","OK"]
["Ribbon","Cell",null,"HideValues",{"$f":"ROW(HideValues!K128)","v":128},{"$f":"COLUMN(HideValues!K128)","v":11},128,11,"Saturday only","Samedi uniquement","Sólo el Sábado","Nur Samstag","Apenas sábado","Alleen zaterdag",260,"OK","OK","OK","OK"]
["Ribbon","Cell",null,"HideValues",{"$f":"ROW(HideValues!K129)","v":129},{"$f":"COLUMN(HideValues!K129)","v":11},129,11,"First day of the week","Premier jour de semaine","Primer día de la semana","Erster Tag der Woche","Primeiro dia da semana","Eerste dag van de week",261,"OK","OK","OK","OK"]
["Ribbon","Cell",null,"HideValues",{"$f":"ROW(HideValues!K130)","v":130},{"$f":"COLUMN(HideValues!K130)","v":11},130,11,"Monday (ISO 8601)",{"$f":"INDIRECT(ADDRESS(MATCH(I274,$I$20:$I$502,0)+19,10))","v":"Lundi (ISO 8601)"},{"$f":"INDIRECT(ADDRESS(MATCH(I274,$I$20:$I$502,0)+19,11))","v":"Lunes (ISO 8601)"},{"$f":"INDIRECT(ADDRESS(MATCH(I274,$I$20:$I$502,0)+19,12))","v":"Montag (ISO 8601)"},{"$f":"INDIRECT(ADDRESS(MATCH(I274,$I$20:$I$502,0)+19,13))","v":"Segunda-feira (ISO 8601)"},{"$f":"INDIRECT(ADDRESS(MATCH(I274,$I$20:$I$502,0)+19,14))","v":"Maandag (ISO 8601)"},262,"OK","OK","OK","OK"]
["Ribbon","Cell",null,"HideValues",{"$f":"ROW(HideValues!K131)","v":131},{"$f":"COLUMN(HideValues!K131)","v":11},131,11,"Monday","Lundi","Lunes","Montag","Segunda-feira","Maandag",263,"OK","OK","OK","OK"]
["Ribbon","Cell",null,"HideValues",{"$f":"ROW(HideValues!K132)","v":132},{"$f":"COLUMN(HideValues!K132)","v":11},132,11,"Tuesday","Mardi","Martes","Dienstag","Terça-feira","Dinsdag",264,"OK","OK","OK","OK"]
["Ribbon","Cell",null,"HideValues",{"$f":"ROW(HideValues!K133)","v":133},{"$f":"COLUMN(HideValues!K133)","v":11},133,11,"Wednesday","Mercredi","Miércoles","Mittwoch","Quarta-feira","Woensdag",265,"OK","OK","OK","OK"]
["Ribbon","Cell",null,"HideValues",{"$f":"ROW(HideValues!K134)","v":134},{"$f":"COLUMN(HideValues!K134)","v":11},134,11,"Thursday","Jeudi","Jueves","Donnerstag","Quinta-feira","Donderdag",266,"OK","OK","OK","OK"]
["Ribbon","Cell",null,"HideValues",{"$f":"ROW(HideValues!K135)","v":135},{"$f":"COLUMN(HideValues!K135)","v":11},135,11,"Friday","Vendredi","Viernes","Freitag","Sexta-feira","Vrijdag",267,"OK","OK","OK","OK"]
["Ribbon","Cell",null,"HideValues",{"$f":"ROW(HideValues!K136)","v":136},{"$f":"COLUMN(HideValues!K136)","v":11},136,11,"Saturday","Samedi","Sábado","Samstag","Sábado","Zaterdag",268,"OK","OK","OK","OK"]
["Ribbon","Cell",null,"HideValues",{"$f":"ROW(HideValues!K137)","v":137},{"$f":"COLUMN(HideValues!K137)","v":11},137,11,"Sunday","Dimanche","Domingo","Sonntag","Domingo","Zondag",269,"OK","OK","OK","OK"]
["Ribbon","Cell",null,"HideValues",{"$f":"ROW(HideValues!K138)","v":138},{"$f":"COLUMN(HideValues!K138)","v":11},138,11,"Tools","Outils","Herramientas","Werkzeuge","Ferramentas","Hulpmiddelen",270,"OK","OK","OK","OK"]
["Ribbon","Cell",null,"HideValues",{"$f":"ROW(HideValues!K139)","v":139},{"$f":"COLUMN(HideValues!K139)","v":11},139,11,"Tools","Outils","Herramientas","Werkzeuge","Ferramentas","Hulpmiddelen",271,"OK","OK","OK","OK"]
["Ribbon","Cell",null,"HideValues",{"$f":"ROW(HideValues!K140)","v":140},{"$f":"COLUMN(HideValues!K140)","v":11},140,11,"Update holidays","Mettre à jour congés","Actualizar días de fiesta","Urlaub aktualisieren","Atualizar feriados","Update feestdagen",272,"OK","OK","OK","OK"]
["Ribbon","Cell",null,"HideValues",{"$f":"ROW(HideValues!K141)","v":141},{"$f":"COLUMN(HideValues!K141)","v":11},141,11,"Update members list","Mettre à jour membres","Actualizar lista de miembros","Mitglieder-Liste aktualisieren","Atualizar lista de membros","Ledenlijst bijwerken",273,"OK","OK","OK","OK"]
["Ribbon","Cell",null,"HideValues",{"$f":"ROW(HideValues!K142)","v":142},{"$f":"COLUMN(HideValues!K142)","v":11},142,11,"Show/Hide Budget","Afficher/Masquer le budget","Mostrar / Ocultar Presupuesto","Budget anzeigen/verstecken","Orçamento Mostrar/Ocultar","Toon/Verberg budget",274,"OK","OK","OK","OK"]
["Ribbon","Cell",null,"HideValues",{"$f":"ROW(HideValues!K143)","v":143},{"$f":"COLUMN(HideValues!K143)","v":11},143,11,"Show/Hide Comments","Afficher/Masquer les commentaires","Mostrar / Ocultar Comentarios","Kommentare ein-/ausblenden","Comentários Mostrar/Ocultar","Toon/Verberg opmerkingen",275,"OK","OK","OK","OK"]
["Ribbon","Cell",null,"HideValues",{"$f":"ROW(HideValues!K144)","v":144},{"$f":"COLUMN(HideValues!K144)","v":11},144,11,"Send by email",{"$f":"INDIRECT(ADDRESS(MATCH(I288,$I$20:$I$502,0)+19,10))","v":"Envoyer par email"},{"$f":"INDIRECT(ADDRESS(MATCH(I288,$I$20:$I$502,0)+19,11))","v":"Enviar por correo electrónico"},{"$f":"INDIRECT(ADDRESS(MATCH(I288,$I$20:$I$502,0)+19,12))","v":"Per E-Mail senden"},{"$f":"INDIRECT(ADDRESS(MATCH(I288,$I$20:$I$502,0)+19,13))","v":"Enviar por e-mail"},{"$f":"INDIRECT(ADDRESS(MATCH(I288,$I$20:$I$502,0)+19,14))","v":"Sturen via e-mail"},276,"OK","OK","OK","OK"]
["Ribbon","Cell",null,"HideValues",{"$f":"ROW(HideValues!K145)","v":145},{"$f":"COLUMN(HideValues!K145)","v":11},145,11,"Adjust print margins",{"$f":"INDIRECT(ADDRESS(MATCH(I289,$I$20:$I$502,0)+19,10))","v":"Ajuster à l'impression"},{"$f":"INDIRECT(ADDRESS(MATCH(I289,$I$20:$I$502,0)+19,11))","v":"Ajuste para imprimir"},{"$f":"INDIRECT(ADDRESS(MATCH(I289,$I$20:$I$502,0)+19,12))","v":"Druckränder einstellen"},{"$f":"INDIRECT(ADDRESS(MATCH(I289,$I$20:$I$502,0)+19,13))","v":"Ajustar as margens de impressão"},{"$f":"INDIRECT(ADDRESS(MATCH(I289,$I$20:$I$502,0)+19,14))","v":"Afdrukmarges aanpassen"},277,"OK","OK","OK","OK"]
["Ribbon","Cell",null,"HideValues",{"$f":"ROW(HideValues!K146)","v":146},{"$f":"COLUMN(HideValues!K146)","v":11},146,11,"Full screen","Plein écran","Pantalla completa","Vollbild","Tela Cheia","Volledig scherm",278,"OK","OK","OK","OK"]
["Ribbon","Cell",null,"HideValues",{"$f":"ROW(HideValues!K147)","v":147},{"$f":"COLUMN(HideValues!K147)","v":11},147,11,"Disable/Enable Macro Reminder","Activer/Désactiver le rappel des macros","Habilitar / Deshabilitar recordar macros ","Makro-Erinnerung deaktivieren / aktivieren","Ativar/Desativar Lembrete da Macro","Macro-herinnering uitschakelen/inschakelen",279,"OK","OK","OK","OK"]
["Ribbon","Cell",null,"HideValues",{"$f":"ROW(HideValues!K148)","v":148},{"$f":"COLUMN(HideValues!K148)","v":11},148,11,"Report an issue",{"$f":"INDIRECT(ADDRESS(MATCH(I292,$I$20:$I$502,0)+19,10))","v":"Signaler un problème"},{"$f":"INDIRECT(ADDRESS(MATCH(I292,$I$20:$I$502,0)+19,11))","v":"Informar de un error"},{"$f":"INDIRECT(ADDRESS(MATCH(I292,$I$20:$I$502,0)+19,12))","v":"Ein Problem melden"},{"$f":"INDIRECT(ADDRESS(MATCH(I292,$I$20:$I$502,0)+19,13))","v":"Relatar um problema"},{"$f":"INDIRECT(ADDRESS(MATCH(I292,$I$20:$I$502,0)+19,14))","v":"Meld een probleem"},280,"OK","OK","OK","OK"]
["Ribbon","Cell",null,"HideValues",{"$f":"ROW(HideValues!K149)","v":149},{"$f":"COLUMN(HideValues!K149)","v":11},149,11,"Language","Langue",{"$f":"INDIRECT(ADDRESS(MATCH(I293,$I$20:$I$502,0)+19,11))","v":"Idioma"},"Sprache","Idioma","Taal",281,"OK","OK","OK","OK"]
["Ribbon","Cell",null,"HideValues",{"$f":"ROW(HideValues!K150)","v":150},{"$f":"COLUMN(HideValues!K150)","v":11},150,11,"About","À propos",{"$f":"INDIRECT(ADDRESS(MATCH(I294,$I$20:$I$502,0)+19,11))","v":"Acerca de"},"Über","Sobre","Over",282,"OK","OK","OK","OK"]
["Ribbon","Cell",null,"HideValues",{"$f":"ROW(HideValues!K151)","v":151},{"$f":"COLUMN(HideValues!K151)","v":11},151,11,"Satisfaction survey","Enquête de satisfaction",{"$f":"INDIRECT(ADDRESS(MATCH(I295,$I$20:$I$502,0)+19,11))","v":"Encuesta de satisfacción"},"Zufriedenheitsstudie","Pesquisa de satisfação","Tevredenheidsonderzoek",283,"OK","OK","OK","OK"]
["Ribbon","Cell",null,"HideValues",{"$f":"ROW(HideValues!K152)","v":152},{"$f":"COLUMN(HideValues!K152)","v":11},152,11,"Help","Aide",{"$f":"INDIRECT(ADDRESS(MATCH(I296,$I$20:$I$502,0)+19,11))","v":"Ayuda"},"Hilfe","Ajuda","Help",284,"OK","OK","OK","OK"]
["Ribbon","Cell",null,"HideValues",{"$f":"ROW(HideValues!K153)","v":153},{"$f":"COLUMN(HideValues!K153)","v":11},153,11,"About","À propos",{"$f":"INDIRECT(ADDRESS(MATCH(I297,$I$20:$I$319,0)+19,11))","v":"Acerca de"},"Über","Sobre","Over",285,"OK","OK","OK","OK"]
["Ribbon","Cell",null,"HideValues",{"$f":"ROW(HideValues!K154)","v":154},{"$f":"COLUMN(HideValues!K154)","v":11},154,11,"Refresh","Rafraichir","Refrescar","Aktualisieren","Atualizar","Verversen",286,"OK","OK","OK","OK"]
["Ribbon","Cell",null,"HideValues",{"$f":"ROW(HideValues!K155)","v":155},{"$f":"COLUMN(HideValues!K155)","v":11},155,11,"Customized addition",{"$f":"INDIRECT(ADDRESS(MATCH(I299,$I$20:$I$233,0)+19,10))","v":"Ajout personnalisé"},{"$f":"INDIRECT(ADDRESS(MATCH(I299,$I$20:$I$319,0)+19,11))","v":"Adición personalizada"},{"$f":"INDIRECT(ADDRESS(MATCH(I299,$I$20:$I$330,0)+19,12))","v":"Kundenspezifischer Zusatz"},{"$f":"INDIRECT(ADDRESS(MATCH(I299,$I$20:$I$502,0)+19,13))","v":"Adição personalizada"},{"$f":"INDIRECT(ADDRESS(MATCH(I299,$I$20:$I$502,0)+19,14))","v":"Aangepaste toevoeging"},287,"OK","OK","OK","OK"]
["Ribbon","Cell",null,"HideValues",{"$f":"ROW(HideValues!K156)","v":156},{"$f":"COLUMN(HideValues!K156)","v":11},156,11,"Style","Style","Estilo","Stil","Estilo","Stijl",288,"OK","OK","OK","OK"]
["Ribbon","Cell",null,"HideValues",{"$f":"ROW(HideValues!K157)","v":157},{"$f":"COLUMN(HideValues!K157)","v":11},157,11,"Default Colors","Palette par défaut","Paleta predeterminada","Standardfarben","Cores Padrão","Standaardkleuren",289,"OK","OK","OK","OK"]
["Ribbon","Cell",null,"HideValues",{"$f":"ROW(HideValues!K158)","v":158},{"$f":"COLUMN(HideValues!K158)","v":11},158,11,"Blue set","Palette bleue","Paleta de color azul","Blau-Set","Conjunto azul","Blauwe set",290,"OK","OK","OK","OK"]
["Ribbon","Cell",null,"HideValues",{"$f":"ROW(HideValues!K159)","v":159},{"$f":"COLUMN(HideValues!K159)","v":11},159,11,"Purple set","Palette mauve","Paleta de color púrpura","Lila-Set","Conjunto roxo","Paarse set",291,"OK","OK","OK","OK"]
["Ribbon","Cell",null,"HideValues",{"$f":"ROW(HideValues!K160)","v":160},{"$f":"COLUMN(HideValues!K160)","v":11},160,11,"Orange set","Palette orange","Paleta de color naranja","Orange-Set","Conjunto laranja","Oranje set",292,"OK","OK","OK","OK"]
["Ribbon","Cell",null,"HideValues",{"$f":"ROW(HideValues!K161)","v":161},{"$f":"COLUMN(HideValues!K161)","v":11},161,11,"Pink set","Palette rose","Paleta de color rosa","Rosa-Set","Conjunto rosa","Roze set",293,"OK","OK","OK","OK"]
["Ribbon","Cell",null,"HideValues",{"$f":"ROW(HideValues!K162)","v":162},{"$f":"COLUMN(HideValues!K162)","v":11},162,11,"One color per person","Une couleur par personne","Un color por persona","Eine Farbe pro Person","Uma cor por pessoa","Een kleur per persoon",294,"OK","OK","OK","OK"]
["Ribbon","Cell",null,"HideValues",{"$f":"ROW(HideValues!K163)","v":163},{"$f":"COLUMN(HideValues!K163)","v":11},163,11,"Dependencies","Dépendances","Dependencias","Abhängigkeiten","Dependências","Afhankelijkheden",295,"OK","OK","OK","OK"]
["Ribbon","Cell",null,"HideValues",{"$f":"ROW(HideValues!K164)","v":164},{"$f":"COLUMN(HideValues!K164)","v":11},164,11,"Start with previous","Débuter avec précédente","Comenzar con anterior","Beginnen Sie mit früheren","Comece com anterior","Begin met de vorige",296,"OK","OK","OK","OK"]
["Ribbon","Cell",null,"HideValues",{"$f":"ROW(HideValues!K165)","v":165},{"$f":"COLUMN(HideValues!K165)","v":11},165,11,"Start after previous","Débuter après précédente","Comenzar después de la anterior","Starten Sie nach vorheriger","Iniciar após anterior","Begin na de vorige",297,"OK","OK","OK","OK"]
["Ribbon","Cell",null,"HideValues",{"$f":"ROW(HideValues!K166)","v":166},{"$f":"COLUMN(HideValues!K166)","v":11},166,11,"Start with next","Débuter avec suivante","Comenzar con la siguiente","Beginnen Sie mit dem nächsten","Comece com o próximo","Begin met de volgende",298,"OK","OK","OK","OK"]
["Ribbon","Cell",null,"HideValues",{"$f":"ROW(HideValues!K167)","v":167},{"$f":"COLUMN(HideValues!K167)","v":11},167,11,"Start after next","Débuter après suivante","Comenzar después de la siguiente","Starten Sie nach dem nächsten","Comece após o próximo","Begin na de volgende",299,"OK","OK","OK","OK"]
["Ribbon","Cell",null,"HideValues",{"$f":"ROW(HideValues!K168)","v":168},{"$f":"COLUMN(HideValues!K168)","v":11},168,11,"Customized dependency","Dépendance personnalisée","Dependencia personalizada","Kundenspezifische Abhängigkeit","Dependência personalizada","Aangepaste afhankelijkheid",300,"OK","OK","OK","OK"]
["Ribbon","Cell",null,"HideValues",{"$f":"ROW(HideValues!K169)","v":169},{"$f":"COLUMN(HideValues!K169)","v":11},169,11,"Retroplanning with previous","Retroplanning avec précédente","Retroplaneación con anterior","Retroplanning mit früheren","Planejar novamente com anterior","Retroplanning met vorige",301,"OK","OK","OK","OK"]
["Ribbon","Cell",null,"HideValues",{"$f":"ROW(HideValues!K170)","v":170},{"$f":"COLUMN(HideValues!K170)","v":11},170,11,"Retroplanning with next","Retroplanning avec suivante","Retroplaneación con siguiente","Retroplanning mit dem nächsten","Planejar novamente com o próximo","Retroplanning met volgende",302,"OK","OK","OK","OK"]
["Ribbon","Cell",null,"HideValues",{"$f":"ROW(HideValues!K171)","v":171},{"$f":"COLUMN(HideValues!K171)","v":11},171,11,"Help","Aide","Ayuda","Hilfe","Ajuda","Help",303,"OK","OK","OK","OK"]
["Ribbon","Cell",null,"HideValues",{"$f":"ROW(HideValues!B73)","v":73},{"$f":"COLUMN(HideValues!B73)","v":2},73,2,"Dependency Error","Erreur de dépendance","Error de dependencia","Abhängigkeitsfehler","Erro de Dependência","Afhankelijkheidsfout",304,"OK","OK","OK","OK"]
["Ribbon","Cell",null,"HideValues",{"$f":"ROW(HideValues!B74)","v":74},{"$f":"COLUMN(HideValues!B74)","v":2},74,2,"This dependency cannot be created","Cette dépendance ne peut être créée","Esta dependencia no se puede crear","Diese Abhängigkeit kann nicht erstellt werden","Esta dependência não pode ser criada","Deze afhankelijkheid kan niet worden aangemaakt",305,"OK","OK","OK","OK"]
["Ribbon","Cell",null,"HideValues",{"$f":"ROW(HideValues!K172)","v":172},{"$f":"COLUMN(HideValues!K172)","v":11},172,11,"Pick from a calendar","Choisir depuis calendrier","Seleccione de calendario","Wählen Sie aus einem Kalender","Escolher a partir de um calendário","Kies uit een kalender",306,"OK","OK","OK","OK"]
["Ribbon","Cell",null,"HideValues",{"$f":"ROW(HideValues!K173)","v":173},{"$f":"COLUMN(HideValues!K173)","v":11},173,11,"Baseline",{"$f":"INDIRECT(ADDRESS(MATCH(I319,$I$20:$I$233,0)+19,10))","v":"Baseline"},{"$f":"INDIRECT(ADDRESS(MATCH(I319,$I$20:$I$319,0)+19,11))","v":"Baseline"},{"$f":"INDIRECT(ADDRESS(MATCH(I319,$I$20:$I$330,0)+19,12))","v":"Baseline"},{"$f":"INDIRECT(ADDRESS(MATCH(I319,$I$20:$I$502,0)+19,13))","v":"Baseline"},{"$f":"INDIRECT(ADDRESS(MATCH(I319,$I$20:$I$502,0)+19,14))","v":"Baseline"},307,"OK","OK","OK","OK"]
["Userform","Cell",null,"HideValues",{"$f":"ROW(HideValues!C155)","v":155},{"$f":"COLUMN(HideValues!C155)","v":3},155,3,"Go to today:","Aujourd'hui:","Ir a hoy:","Zum heute:","Ir para hoje:","Ga naar vandaag:",308,"OK","OK","OK","OK"]
["Userform","Cell",null,"HideValues",{"$f":"ROW(HideValues!C156)","v":156},{"$f":"COLUMN(HideValues!C156)","v":3},156,3,"Picked date:","Date sélectionnée:","Fecha seleccionada:","Ausgewähltes Datum:","Data escolhida:","Gekozen datum:",309,"OK","OK","OK","OK"]
["Userform","Cell",null,"HideValues",{"$f":"ROW(HideValues!C157)","v":157},{"$f":"COLUMN(HideValues!C157)","v":3},157,3,"Cancel",{"$f":"INDIRECT(ADDRESS(MATCH(I322,$I$20:$I$502,0)+19,10))","v":"Annuler"},{"$f":"INDIRECT(ADDRESS(MATCH(I322,$I$20:$I$502,0)+19,11))","v":"Cancelar"},{"$f":"INDIRECT(ADDRESS(MATCH(I322,$I$20:$I$502,0)+19,12))","v":"Abbrechen"},{"$f":"INDIRECT(ADDRESS(MATCH(I322,$I$20:$I$502,0)+19,13))","v":"Cancelar"},{"$f":"INDIRECT(ADDRESS(MATCH(I322,$I$20:$I$502,0)+19,14))","v":"Annuleren"},310,"OK","OK","OK","OK"]
["Ribbon","Cell",null,"HideValues",{"$f":"ROW(HideValues!K174)","v":174},{"$f":"COLUMN(HideValues!K174)","v":11},174,11,"Filter by member","Filtrer par personne","Filtrar por miembro","Filtern nach Mitglied","Filtrar por membro","Filter op lid",311,"OK","OK","OK","OK"]
["Ribbon","Cell",null,"HideValues",{"$f":"ROW(HideValues!K175)","v":175},{"$f":"COLUMN(HideValues!K175)","v":11},175,11,"Filter by progress","Filtrer par progrès","Filtrar por el progreso","Filtern nach Fortschritt","Filtrar por progresso","Filter op voortgang",312,"OK","OK","OK","OK"]
["Ribbon","Cell",null,"HideValues",{"$f":"ROW(HideValues!K176)","v":176},{"$f":"COLUMN(HideValues!K176)","v":11},176,11,"Not started","Tâches non-entamées","No iniciado","Nicht begonnen","Não iniciado","Niet gestart",313,"OK","OK","OK","OK"]
["Ribbon","Cell",null,"HideValues",{"$f":"ROW(HideValues!K177)","v":177},{"$f":"COLUMN(HideValues!K177)","v":11},177,11,"Not completed","Tâches non-terminées","No completado","Nicht vervollständigt","Não concluído","Niet voltooid",314,"OK","OK","OK","OK"]
["Ribbon","Cell",null,"HideValues",{"$f":"ROW(HideValues!K178)","v":178},{"$f":"COLUMN(HideValues!K178)","v":11},178,11,"Delay","Tâches en retard","Con retraso","Verzögerung","Atraso","Vertraging",315,"OK","OK","OK","OK"]
["Ribbon","Cell",null,"HideValues",{"$f":"ROW(HideValues!K179)","v":179},{"$f":"COLUMN(HideValues!K179)","v":11},179,11,"Completed","Tâches terminées","Completado ","Abgeschlossen","Concluído","Voltooid",316,"OK","OK","OK","OK"]
["Ribbon","Cell",null,"HideValues",{"$f":"ROW(HideValues!K180)","v":180},{"$f":"COLUMN(HideValues!K180)","v":11},180,11,"All","Toutes les tâches","Todas las tareas","Alle","Todos","Alles",317,"OK","OK","OK","OK"]
["Ribbon","Cell",null,"HideValues",{"$f":"ROW(HideValues!K181)","v":181},{"$f":"COLUMN(HideValues!K181)","v":11},181,11,"Clear all filters","Supprimer les filtres","Borrar filtros","Alle Filter löschen","Limpar todos os filtros","Wis alle filters",318,"OK","OK","OK","OK"]
["Ribbon","Cell",null,"HideValues",{"$f":"ROW(HideValues!K182)","v":182},{"$f":"COLUMN(HideValues!K182)","v":11},182,11,"Filters","Filtres","Filtros","Filter","Filtros","Filters",319,"OK","OK","OK","OK"]
["Ribbon","Cell",null,"HideValues",{"$f":"ROW(HideValues!K183)","v":183},{"$f":"COLUMN(HideValues!K183)","v":11},183,11,"Milestones","Jalons","Hito","Meilensteine","Etapas","Mijlpalen",320,"OK","OK","OK","OK"]
["Ribbon","Cell",null,"HideValues",{"$f":"ROW(HideValues!K184)","v":184},{"$f":"COLUMN(HideValues!K184)","v":11},184,11,"Below the selected row",{"$f":"INDIRECT(ADDRESS(MATCH(I333,$I$20:$I$233,0)+19,10))","v":"En-dessous de la sélection"},{"$f":"INDIRECT(ADDRESS(MATCH(I333,$I$20:$I$319,0)+19,11))","v":"Por debajo de la selección"},{"$f":"INDIRECT(ADDRESS(MATCH(I333,$I$20:$I$330,0)+19,12))","v":"Unterhalb der ausgewählten Zeile"},{"$f":"INDIRECT(ADDRESS(MATCH(I333,$I$20:$I$502,0)+19,13))","v":"Abaixo da linha selecionada"},{"$f":"INDIRECT(ADDRESS(MATCH(I333,$I$20:$I$502,0)+19,14))","v":"Onder de geselecteerde rij"},321,"OK","OK","OK","OK"]
["Ribbon","Cell",null,"HideValues",{"$f":"ROW(HideValues!K185)","v":185},{"$f":"COLUMN(HideValues!K185)","v":11},185,11,"Above the selected row",{"$f":"INDIRECT(ADDRESS(MATCH(I334,$I$20:$I$233,0)+19,10))","v":"Au-dessus de la sélection"},{"$f":"INDIRECT(ADDRESS(MATCH(I334,$I$20:$I$319,0)+19,11))","v":"Por encima de la selección"},{"$f":"INDIRECT(ADDRESS(MATCH(I334,$I$20:$I$330,0)+19,12))","v":"Oberhalb der ausgewählten Zeile"},{"$f":"INDIRECT(ADDRESS(MATCH(I334,$I$20:$I$502,0)+19,13))","v":"Acima da linha selecionada"},{"$f":"INDIRECT(ADDRESS(MATCH(I334,$I$20:$I$502,0)+19,14))","v":"Boven de geselecteerde rij"},322,"OK","OK","OK","OK"]
["Ribbon","Cell",null,"HideValues",{"$f":"ROW(HideValues!K186)","v":186},{"$f":"COLUMN(HideValues!K186)","v":11},186,11,"Re-number fully","Renumérotation complète","Numeración completa","Vollständig erneut nummerieren","Renumerar totalmente","Volledig opnieuw nummeren",323,"OK","OK","OK","OK"]
["Ribbon","Cell",null,"HideValues",{"$f":"ROW(HideValues!K187)","v":187},{"$f":"COLUMN(HideValues!K187)","v":11},187,11,"Re-number sub-tasks","Renumérotation des sous-tâches","Numeración de las subtareas","Teilaufgaben erneut nummerieren","Renumerar sub-tarefas","Subtaken opnieuw nummeren",324,"OK","OK","OK","OK"]
["Ribbon","Cell",null,"HideValues",{"$f":"ROW(HideValues!K188)","v":188},{"$f":"COLUMN(HideValues!K184)","v":11},188,11,"Zoom in","Agrandir","Agrandar","Vergrößern","Ampliar","Vergroten",325,"Not Yet","Not Yet","Not Yet","Not Yet"]
["Ribbon","Cell",null,"HideValues",{"$f":"ROW(HideValues!K189)","v":189},{"$f":"COLUMN(HideValues!K185)","v":11},189,11,"Zoom out","Réduire","Reducir","Reduzieren","Reduzir","Verminderen",326,"Not Yet","Not Yet","Not Yet","Not Yet"]
["Ribbon","Cell",null,"HideValues",{"$f":"ROW(HideValues!K190)","v":190},{"$f":"COLUMN(HideValues!K186)","v":11},190,11,"Fav. Zoom","Personnalisé","Costumbre","Brauch","Personalizado","Gewoonte",327,"Not Yet","Not Yet","Not Yet","Not Yet"]
["Ribbon","Cell",null,"HideValues",{"$f":"ROW(HideValues!K191)","v":191},{"$f":"COLUMN(HideValues!K187)","v":11},191,11,"Save the current zoom","Enregistrer zoom actuel","Salvar","Sparen","Registro","Opnemen",328,"Not Yet","Not Yet","Not Yet","Not Yet"]
["Ribbon","Cell",null,"HideValues",{"$f":"ROW(HideValues!K192)","v":192},{"$f":"COLUMN(HideValues!K188)","v":11},192,11,"Apply favourite zoom","Appliquer zoom favoris","Aplicar zoom favorito","Anwenden Favoriten","Aplicar favoritos zoom","Solliciteer zoom favorieten",329,"Not Yet","Not Yet","Not Yet","Not Yet"]
["Ribbon","Cell",null,"HideValues",{"$f":"ROW(HideValues!K193)","v":193},{"$f":"COLUMN(HideValues!K189)","v":11},193,11,"Quarter","Trimestre","trimestre","Quartal","Trimestre","Kwartaal",330,"Not Yet","Not Yet","Not Yet","Not Yet"]
["Ribbon","Cell",null,"HideValues",{"$f":"ROW(HideValues!K194)","v":194},{"$f":"COLUMN(HideValues!K190)","v":11},194,11,"Progress Line","Ligne de progrès","Progress Line","Progress Line","Progress Line","Progress Line",331,"Not Yet","Not Yet","Not Yet","Not Yet"]
["Ribbon","Cell",null,"HideValues",{"$f":"ROW(HideValues!K195)","v":195},{"$f":"COLUMN(HideValues!K191)","v":11},195,11,"Dashboard","Dashboard","Dashboard","Dashboard","Dashboard","Dashboard",332,"Not Yet","Not Yet","Not Yet","Not Yet"]
["Ribbon","Cell",null,"HideValues",{"$f":"ROW(HideValues!K196)","v":196},{"$f":"COLUMN(HideValues!K192)","v":11},196,11,"Repair Formulas","Réparer les formules","Reparar fórmulas","Reparaturformeln","Reparar fórmulas","Reparatie Formules",333,"Not Yet","Not Yet","Not Yet","Not Yet"]
["Ribbon","Cell",null,"HideValues",{"$f":"ROW(HideValues!K197)","v":197},{"$f":"COLUMN(HideValues!K193)","v":11},197,11,"Grouping","Grouper","Grupo","Gruppe","Grupo","Groep",334,"Not Yet","Not Yet","Not Yet","Not Yet"]
["Ribbon","Cell",null,"HideValues",{"$f":"ROW(HideValues!K198)","v":198},{"$f":"COLUMN(HideValues!K194)","v":11},198,11,"Group","Grouper les tâches","Grupo","Gruppe","Grupo","Groep",335,"Not Yet","Not Yet","Not Yet","Not Yet"]
["Ribbon","Cell",null,"HideValues",{"$f":"ROW(HideValues!K199)","v":199},{"$f":"COLUMN(HideValues!K195)","v":11},199,11,"Ungroup","Dissocier les tâches","Desagrupar","Gruppieren","Desagrupar","Ungroup",336,"Not Yet","Not Yet","Not Yet","Not Yet"]
["Ribbon","Cell",null,"HideValues",{"$f":"ROW(HideValues!K200)","v":200},{"$f":"COLUMN(HideValues!K196)","v":11},200,11,"Filter on level 1","Filtrer niv. 1","Filtrar en el nivel 1","Filter auf Stufe 1","Filtrar no nível 1","Filter op niveau 1",337,"Not Yet","Not Yet","Not Yet","Not Yet"]
["Ribbon","Cell",null,"HideValues",{"$f":"ROW(HideValues!K201)","v":201},{"$f":"COLUMN(HideValues!K197)","v":11},201,11,"Filter on level 2","Filtrer niv. 2","Filtrar en el nivel 2","Filter auf Stufe 2","Filtrar no nível 2","Filter op level 2",338,"Not Yet","Not Yet","Not Yet","Not Yet"]
["Ribbon","Cell",null,"HideValues",{"$f":"ROW(HideValues!K202)","v":202},{"$f":"COLUMN(HideValues!K198)","v":11},202,11,"Filter on level 3","Filtrer niv. 3","Filtrar en el nivel 3","Filter auf Stufe 3","Filtrar no nível 3","Filter op niveau 3",339,"Not Yet","Not Yet","Not Yet","Not Yet"]
["Gantt Chart Task Title","Named Range","Task_Trans","Gantt",null,null,null,null,"Task","Tache","Tarea","Aufgabe","Tarefa","Taak",340,"OK","OK","OK","OK"]
["Gantt Chart Task Title","Named Range","Sub_Task_Trans","Gantt",null,null,null,null,"Sub-Task","Sous-tache","Sub-tarea","Unteraufgabe","Sub-Tarefa","Subtaak",341,"OK","OK","OK","OK"]
["Gantt Chart Task Title","Named Range","MS_Trans","Gantt",null,null,null,null,"Milestone","Jalon","Hito","Meilenstein","Etapa","Mijlpaal",342,"OK","OK","OK","OK"]
[]
[]
[]
[]
[]
[]
[]
[]
[]
[]
[]
[]
[]
[]
[]
[]
["Consider the Macro (ends at 370)"]

{"sheet":"HideValues","index":6,"n_rows":226,"n_cols":19,"rows_kept":226,"cut":false,"hidden":true,"merged":[[176,0,176,1],[6,1,6,2],[49,0,49,1],[43,7,43,9],[50,7,50,8],[43,0,43,1],[44,7,44,8],[43,3,43,5],[44,3,44,4],[45,3,45,4],[46,3,46,4],[47,3,47,4],[48,3,48,4],[45,7,45,8],[46,7,46,8],[47,7,47,8],[48,7,48,8],[77,1,77,5],[78,1,78,5],[76,1,76,5],[85,5,85,6],[80,0,80,1],[80,3,80,4],[62,0,62,5],[54,3,54,4],[57,3,57,4],[52,3,52,4],[53,3,53,4],[49,3,49,4],[50,3,50,4],[51,3,51,4],[55,3,55,4],[56,3,56,4],[105,12,106,13],[90,12,91,13],[92,12,92,13],[94,12,95,13],[96,12,96,13],[103,12,104,13],[49,7,49,8],[84,12,84,13],[51,7,51,8],[63,1,63,5],[64,1,64,5],[65,1,65,5],[75,0,75,5],[67,0,67,5],[68,1,68,5],[69,1,69,5],[54,0,54,1],[71,0,71,5],[72,1,72,5],[73,1,73,5],[81,0,81,1],[81,3,81,4],[124,0,124,2],[85,9,85,10],[109,15,109,16],[115,12,115,13],[115,15,116,16],[117,15,117,16],[111,15,112,16],[113,15,113,16],[117,12,118,13],[86,12,87,13],[119,12,119,13],[111,12,112,13],[113,12,113,13],[109,12,109,13],[88,12,88,13],[85,0,85,2]]}
["Start Date And Bookmark",null,null,null,null,null,null,null,null,null,null,null,null,null,null,null,null,1,2]
[]
["Macro Reminder",false]
[]
[]
[]
["Days","Months",null,"Years"]
[1,"Janvier","2001-01-01",2010]
[2,"Février","2001-02-01",2011]
[3,"Mars","2001-03-01",2012]
[4,"Avril","2001-04-01",2013]
[5,"Mai","2001-05-01",2014]
[6,"Juin","2001-06-01",2015]
[7,"Juillet","2001-07-01",2016]
[8,"Août","2001-08-01",2017]
[9,"Septembre","2001-09-01",2018]
[10,"Octobre","2001-10-01",2019]
[11,"Novembre","2001-11-01",2020]
[12,"Décembre","2001-12-01",2021]
[13,null,null,2022]
[14,null,null,2023]
[15,null,null,2024]
[16,null,null,2025]
[17,null,null,2026]
[18]
[19]
[20]
[21]
[22]
[23]
[24]
[25]
[26]
[27]
[28]
[29]
[30]
[31]
[]
[]
[]
[]
[]
["Working Days",null,null,"Week-End Days",null,null,null,"First Day of the Week"]
["Option 1","Jours ouvrés uniquement",null,"Samedi, dimanche",null,1,null,"Lundi (ISO 8601)",null,21]
["Option 2","Weekend travaillé",null,"Dimanche, lundi",null,2,null,"Lundi",null,11]
[null,null,null,"Lundi, mardi",null,3,null,"Mardi",null,12]
[null,null,null,"Mardi, mercredi",null,4,null,"Mercredi",null,13]
[null,null,null,"Mercredi, jeudi",null,5,null,"Jeudi",null,14]
["Weeks Name",null,null,"Jeudi, vendredi",null,6,null,"Vendredi",null,15]
["Option 1","CW",null,"Vendredi, samedi",null,7,null,"Samedi",null,16]
["Option 2","W",null,"Dimanche uniquement",null,11,null,"Dimanche",null,17]
["Option 3","S",null,"Lundi uniquement",null,12]
[null,null,null,"Mardi uniquement",null,13,null,null,null,"Duration Type"]
["View Type",null,null,"Mercredi uniquement",null,14,null,null,null,"j"]
["Option 1","Palette par défaut",null,"Jeudi uniquement",null,15,null,null,null,"s"]
["Option 2","Palette bleue",null,"Vendredi uniquement",null,16,null,null,null,"m"]
["Option 3","Palette mauve",null,"Samedi uniquement",null,17]
["Option 4","Palette orange"]
["Option 5","Palette rose"]
["Option 6","Une couleur par personne"]
[]
["Send By Email Warning Message (VBA)"]
["Tile","Pré-remplir les destinataires"]
["Warning","Souhaiteriez-vous pré-remplir les destinataires depuis la liste des membres du projet ?"]
["Email Subject","[Confidentiel ] Dernière mise à jour du planning projet"]
[]
["Deleting Tasks Warning (VBA)"]
["Tile","Suppression de tâches"]
["Warning","La suppression de tâche(s) ne peut être annulée"]
[]
["Dependance Impossible (VBA)"]
["Tile","Erreur de dépendance"]
["Warning","Cette dépendance ne peut être créée"]
[]
["Budget Warning Message (VBA)"]
["Line 1","Cette opération ne fera que masquer les colonnes liées au budget."]
["Line 2","Veuillez supprimer toutes les informations sensibles afin de respecter votre politique de confidentialité interne."]
["Title","Message de confidentialité"]
[]
["Favourite Zoom Size",null,null,"Criss Cross"]
[1.6,null,null,false]
[]
[]
[null,null,null,null,null,null,null,null,null,null,null,null,"Fields for stats"]
["Pictures to adapt between PC and MAC",null,null,null,null,"Context menu",null,"Count",null,"Ribbon Menu"]
["Sheet","PC","MAC",null,null,1,"MENU GANTT",{"$f":"COUNTA(ctx_menu_titles)","v":47},null,"customGroup1","Contrôles",null,"First Time Tag"]
["Gantt","PC-start","mac-start",null,null,2,"Insérer…",null,null,"New_Gantt","Nouveau Gantt"]
["Gantt","PC-bookmark","mac-bookmark",null,null,3,"Au-dessus de la sélection",null,null,"AddMenu","Insérer",null,1]
["Gantt","PC-today","mac-today",null,null,4,"En-dessous de la sélection",null,null,"Insert_Below","En-dessous de la sélection"]
["Gantt","PC-auto","mac-auto",null,null,5,"Après la dernière ligne",null,null,"Insert_Above","Au-dessus de la sélection",null,"First Time Used"]
["Gantt","PC-workingdays","mac-workingdays",null,null,6,"Supprimer…",null,null,"Insert_Last","Après la dernière ligne"]
["Gantt","PC-weeksymbol","mac-weeksymbol",null,null,7,"Supprimer la tâche",null,null,"DeleteMenu","Supprimer"]
["Gantt","PC-optional","mac-optional",null,null,8,"Supprimer la série",null,null,"Delete_Task","Supprimer la tâche"]
["Gantt","PC-title","mac-title",null,null,9,"Modifier…",null,null,"Delete_Serie","Supprimer la série",null,"Counter"]
["Gantt","PC-view","mac-view",null,null,10,"Baisser d'un niveau",null,null,"ModifyMenu","Modifier"]
["Gantt","PC-view_1","mac-view_1",null,null,11,"Relever d'un niveau",null,null,"Make_Child","Baisser d'un niveau"]
["Gantt","PC-view_2","mac-view_2",null,null,12,"Déplacer vers le haut",null,null,"Make_Parent","Relever d'un niveau"]
["Gantt","PC-view_3","mac-view_3",null,null,13,"Déplacer vers le bas",null,null,"Move_Up","Déplacer vers le haut"]
["Gantt","PC-tools","mac-tools",null,null,14,"Numérotation",null,null,"Move_Down","Déplacer vers le bas"]
["Gantt","PC-languages","mac-languages",null,null,15,"Affichage",null,null,"Renumber","Renumérotation des sous-tâches"]
["Gantt","PC-lang_img1","mac-lang_img1",null,null,16,"Quotidien",null,null,"ViewGroup","Affichage"]
["Gantt","PC-lang_img2","mac-lang_img2",null,null,17,"Hebdomadaire",null,null,"View_Daily","Quotidien"]
["Gantt","PC-lang_img3","mac-lang_img3",null,null,18,"Mensuel",null,null,"View_Weekly","Hebdo.",null,"Lien vers survey"]
["Gantt","PC-lang_img4","mac-lang_img4",null,null,19,"Montrer les budgets",null,null,"View_Monthly","Mensuel"]
["Gantt","PC-lang_img5","mac-lang_img5",null,null,20,"Montrer les commentaires",null,null,"Start_Date","Date de départ",null,"http://ammaranass.polldaddy.com/s/enquete-de-satisfaction"]
["Gantt","PC-lang_img6","mac-lang_img6",null,null,21,"Outils",null,null,"Start_Auto","Automatique"]
["Tools","PC-vacations","mac-vacations",null,null,22,"Liste des membres projet",null,null,"Start_Today","Aujourd'hui"]
["Tools","PC-team","mac-team",null,null,23,"Mettre à jour congés",null,null,"GroupOptions","Options"]
["Start","PC-macro","mac-macro",null,null,24,"Rafraîchir le diagramme",null,null,"Work-D","Jours ouvrés",null,"Version",null,null,"Note interne"]
["Start","PC-start","mac-start",null,null,25,"Envoyer par email",null,null,"Work_Days","Jours ouvrés uniquement"]
["Gantt","PC-style","mac-style",null,null,26,"Ajuster à l'impression",null,null,"Work_Days_All","Weekend travaillé",null,"Version",null,null,"Build"]
[null,null,null,null,null,27,"Enquête de satisfaction",null,null,"Week-Symbol","Préfixe des semaines"]
[null,null,null,null,null,28,"Signaler un problème",null,null,"WE-Days","Jours de week-end",null,"8.4 PRO",null,null,"8.4.2"]
[null,null,null,null,null,29,"Aide",null,null,"Week_End_Days_01","Samedi, dimanche"]
[null,null,null,null,null,30,"À propos",null,null,"Week_End_Days_02","Dimanche, lundi",null,"Simulate MAC",null,null,"Date"]
[null,null,null,null,null,31,"Ajout personnalisé",null,null,"Week_End_Days_03","Lundi, mardi"]
[null,null,null,null,null,32,"Style",null,null,"Week_End_Days_04","Mardi, mercredi",null,"MAC = 1\nPC or AUTO = 0",null,null,"2017-06-06"]
[null,null,null,null,null,33,"Palette par défaut",null,null,"Week_End_Days_05","Mercredi, jeudi"]
[null,null,null,null,null,34,"Palette bleue",null,null,"Week_End_Days_06","Jeudi, vendredi",null,0]
[null,null,null,null,null,35,"Palette mauve",null,null,"Week_End_Days_07","Vendredi, samedi"]
[null,null,null,null,null,36,"Palette orange",null,null,"Week_End_Days_08","Dimanche uniquement"]
[null,null,null,null,null,37,"Palette rose",null,null,"Week_End_Days_09","Lundi uniquement"]
[null,null,null,null,null,38,"Une couleur par personne",null,null,"Week_End_Days_10","Mardi uniquement"]
["UserForm Add Tasks",null,null,null,null,39,"Dépendances",null,null,"Week_End_Days_11","Mercredi uniquement"]
["Add_Tasks_Form","Form_Add_Title0","Ajouter des tâches",null,null,40,"Débuter avec précédente",null,null,"Week_End_Days_12","Jeudi uniquement"]
["Add_Tasks_Form","Form_Add_Title1","Nombre de lignes:",null,null,41,"Débuter après précédente",null,null,"Week_End_Days_13","Vendredi uniquement"]
["Add_Tasks_Form","Form_Add_Title2","Position:",null,null,42,"Débuter avec suivante",null,null,"Week_End_Days_14","Samedi uniquement"]
["Add_Tasks_Form","Form_Add_Title3","Options:",null,null,43,"Débuter après suivante",null,null,"first-day","Premier jour de semaine"]
["Add_Tasks_Form","Form_Add_Cancel","Annuler",null,null,44,"Dépendance personnalisée",null,null,"First_Day_1","Lundi (ISO 8601)"]
["Add_Tasks_Form","Form_Add_OK","AJOUTER",null,null,45,"Retroplanning avec précédente",null,null,"First_Day_2","Lundi"]
["Add_Tasks_Form","Form_Add_Last","Après la dernière ligne",null,null,46,"Retroplanning avec suivante",null,null,"First_Day_3","Mardi"]
["Add_Tasks_Form","Form_Add_Below","En-dessous de la sélection",null,null,47,"Aide",null,null,"First_Day_4","Mercredi"]
["Add_Tasks_Form","Form_Add_Above","Au-dessus de la sélection",null,null,48,null,null,null,"First_Day_5","Jeudi"]
["Add_Tasks_Form","Form_Add_Header","Inclure l'en-tête",null,null,null,null,null,null,"First_Day_6","Vendredi"]
["Add_Tasks_Form","Form_Add_Number","Numéroter la série",null,null,null,null,null,null,"First_Day_7","Samedi"]
["About_Form","Form_About_Title","À propos",null,null,null,null,null,null,"First_Day_8","Dimanche"]
["About_Form","Form_About_Ver_Text","Vous avez la version 8.4 PRO",null,null,null,null,null,null,"RefreshGroup","Outils"]
["About_Form","Form_About_Copy_Text","Si vous avez reçu ce fichier d'une tierce personne et souhaitez l'utiliser pour vos projets, nous vous invitons à acquérir votre copie personnelle.\n",null,null,null,null,null,null,"ToolsMenu","Outils"]
["About_Form","Form_About_Upgrade_Today","Téléchargez la version PRO !",null,null,null,null,null,null,"Update_Holidays","Mettre à jour congés"]
["About_Form","Form_About_Purchase_Today","Obtenez votre copie personnelle",null,null,null,null,null,null,"Update_Members","Mettre à jour membres"]
["About_Form","Hyperlink 1","http://project-lead.eu/diagramme-de-gantt/",null,null,null,null,null,null,"Show_Budget","Afficher/Masquer le budget"]
["About_Form","Hyperlink 2","http://project-lead-eu",null,null,null,null,null,null,"Show_Comments","Afficher/Masquer les commentaires"]
["Form_Dependencies","Form_Dep_Title0","Ajouter une dépendance",null,null,null,null,null,null,"Send_Email","Envoyer par email"]
["About_Form","Form_Dep_Title1","Tâche 1 (tâche sélectionnée):",null,null,null,null,null,null,"Adjust_Print","Ajuster à l'impression"]
["About_Form","Form_Dep_Title2","Tâche 2 :",null,null,null,null,null,null,"Full_Screen","Plein écran"]
["About_Form","Form_Dep_Title3","Type de dépendance:",null,null,null,null,null,null,"Macro_Reminder","Activer/Désactiver le rappel des macros"]
["About_Form","Form_Add_Cancel","Annuler",null,null,null,null,null,null,"Report_Concern","Signaler un problème"]
["About_Form","Form_Add_OK","AJOUTER",null,null,null,null,null,null,"TraslateMenu","Langue"]
["About_Form","Form_Dep_Type","Tâche 1 commence après la tâche 2",null,null,null,null,null,null,"GroupAbout","À propos"]
["About_Form","Form_Dep_Type","Tâche 1 commence avec la tâche 2",null,null,null,null,null,null,"Survey","Enquête de satisfaction"]
["About_Form","Form_Dep_Type","Tâche 2 commence après la tâche 1",null,null,null,null,null,null,"Help","Aide"]
["About_Form","Form_Dep_Type","Tâche 1 en retroplanning avec la tâche 2",null,null,null,null,null,null,"About","À propos"]
["About_Form","Form_Dep_Type","Tâche 2 en retroplanning avec la tâche 1",null,null,null,null,null,null,"Refresh","Rafraichir"]
["Date_Picker","Label1","Aujourd'hui:",null,null,null,null,null,null,"Insert_Custom","Ajout personnalisé"]
["Date_Picker","Label2","Date sélectionnée:",null,null,null,null,null,null,"StyleMenu","Style"]
["Date_Picker","CommandButton1","Annuler",null,null,null,null,null,null,"Style_Default","Palette par défaut"]
[null,null,null,null,null,null,null,null,null,"Style_1","Palette bleue"]
[null,null,null,null,null,null,null,null,null,"Style_2","Palette mauve"]
[null,null,null,null,null,null,null,null,null,"Style_3","Palette orange"]
[null,null,null,null,null,null,null,null,null,"Style_4","Palette rose"]
[null,null,null,null,null,null,null,null,null,"Style_PIC","Une couleur par personne"]
[null,null,null,null,null,null,null,null,null,"Dep_Menu","Dépendances"]
[null,null,null,null,null,null,null,null,null,"Dep_With_Prev","Débuter avec précédente"]
[null,null,null,null,null,null,null,null,null,"Dep_After_Prev","Débuter après précédente"]
[null,null,null,null,null,null,null,null,null,"Dep_With_Next","Débuter avec suivante"]
[null,null,null,null,null,null,null,null,null,"Dep_After_Next","Débuter après suivante"]
[null,null,null,null,null,null,null,null,null,"Dep_Special","Dépendance personnalisée"]
[null,null,null,null,null,null,null,null,null,"Dep_Retro_Prev","Retroplanning avec précédente"]
[null,null,null,null,null,null,null,null,null,"Dep_Retro_Next","Retroplanning avec suivante"]
[null,null,null,null,null,null,null,null,null,"Dep_Help","Aide"]
[null,null,null,null,null,null,null,null,null,"Start_Picker","Choisir depuis calendrier"]
[null,null,null,null,null,null,null,null,null,"BkMark","Baseline"]
[null,null,null,null,null,null,null,null,null,"filter_member","Filtrer par personne"]
[null,null,null,null,null,null,null,null,null,"filter_progress","Filtrer par progrès"]
[null,null,null,null,null,null,null,null,null,"Progress_1","Tâches non-entamées"]
["Pictures left menu",null,null,null,null,null,null,null,null,"Progress_2","Tâches non-terminées"]
["expand4_txt","Text",null,null,null,null,null,null,null,"Progress_5","Tâches en retard"]
["view1_txt","Text",null,null,null,null,null,null,null,"Progress_3","Tâches terminées"]
["view2_txt","Text",null,null,null,null,null,null,null,"Progress_4","Toutes les tâches"]
["view3_txt","Text",null,null,null,null,null,null,null,"Cancel_Filter","Supprimer les filtres"]
["left_panel_1","Text",null,null,null,null,null,null,null,"GroupFilter","Filtres"]
["left_panel_2","Text",null,null,null,null,null,null,null,"Insert_Milestone","Jalons"]
["left_panel_3","Text",null,null,null,null,null,null,null,"MS_Below","En-dessous de la sélection"]
["left_panel_4","Text",null,null,null,null,null,null,null,"MS_Above","Au-dessus de la sélection"]
["left_panel_5","Text",null,null,null,null,null,null,null,"renumber_full","Renumérotation complète"]
["left_panel_6","Text",null,null,null,null,null,null,null,"renumber_subs","Renumérotation des sous-tâches"]
["CF_panel_1","Text",null,null,null,null,null,null,null,"Zoom_In","Agrandir"]
["CF_panel_2","Text",null,null,null,null,null,null,null,"Zoom_Out","Réduire"]
["left_panel_9","Text",null,null,null,null,null,null,null,"Zoom_Fav","Personnalisé"]
["left_panel_10","Text",null,null,null,null,null,null,null,"Zoom_Set","Enregistrer zoom actuel"]
["left_panel_11","Text",null,null,null,null,null,null,null,"Zoom_Fav2","Appliquer zoom favoris"]
["left_panel_13","Text",null,null,null,null,null,null,null,"View_Quarter","Trimestre"]
["left_panel_15","Text",null,null,null,null,null,null,null,"Criss_Cross","Ligne de progrès"]
["left_panel_16","Text",null,null,null,null,null,null,null,"Dashboard","Dashboard"]
["left_panel_17","Text",null,null,null,null,null,null,null,"Repair_Gantt","Réparer les formules"]
["menu_txt5","Text",null,null,null,null,null,null,null,"GroupMenu","Grouper"]
["left_panel_7","Text",null,null,null,null,null,null,null,"Group_1","Grouper les tâches"]
["left_panel_8","Text",null,null,null,null,null,null,null,"Group_2","Dissocier les tâches"]
["left_panel_18","Text",null,null,null,null,null,null,null,"Group_3","Filtrer niv. 1"]
["forme72","Shape",null,null,null,null,null,null,null,"Group_4","Filtrer niv. 2"]
["forme55","Shape",null,null,null,null,null,null,null,"Group_5","Filtrer niv. 3"]
["forme48","Shape"]
["forme3","Shape"]
["forme56","Shape"]
["forme57","Shape"]
["forme44","Shape"]
["forme54","Shape"]
["forme58","Shape"]
["forme59","Shape"]
["ComboBox1","Box"]
["ComboBox2","Box"]
["ComboBox3","Box"]
["ComboBox5","Box"]
["ComboBox50","Box"]
["ComboBox51","Box"]
["StartDay","Box"]
["StartMonth","Box"]
["StartYear","Box"]
["Drop Down 14","Box"]
["ComboBox4","Box"]
["Check Box 1","Box"]
["Check Box 2","Box"]
["Check Box 3","Box"]
[]
["Consider macro, ends at 225"]

{"sheet":"2007","index":7,"n_rows":0,"n_cols":0,"rows_kept":0,"cut":false,"hidden":true,"merged":[]}

{"sheet":"Start","index":8,"n_rows":0,"n_cols":0,"rows_kept":0,"cut":false,"hidden":true,"merged":[]}

{"sheet":"Introduction","index":9,"n_rows":0,"n_cols":0,"rows_kept":0,"cut":false,"hidden":false,"merged":[]}